{"text_format":"3","workbook":"xlsx","n_sheets":5,"sheets":["Sheet1","remote_zone","ceva_base_rate","ceva_zone","Sheet2"],"not_rendered":{"defined_names":3},"read":"whole","date_system":"1900"}

{"sheet":"Sheet1","index":0,"n_rows":113,"n_cols":24,"rows_kept":113}
["Order_number","From_Zip","Zip","Weight","Length","Width","Height","Order&From_Zip","Longest Side","Billed Weight","Total Billed Weight","From_State","To_State","Remote_From","Remote_To","Rate_Zone","Freight","CA_Surcharge","NYC_Metro","Remote_From","Remote_To","Extra Man","Over Length Surcharge","Total"]
[703301,"91702",78504,117,81,35,8,{"$f":"A2&\"_\"&TEXT(B2,\"00000\")&\"_\"&TEXT(C2,\"00000\")","v":"703301_91702_78504"},{"$f":"MAX(E2:G2)","v":81},{"$f":"ROUND(MAX(D2,ROUND(E2,0)*ROUND(F2,0)*ROUND(G2,0)/250),0)","v":117},{"$f":"IF(COUNTIF($H$2:H2,H2)=1,SUMIF(H:H,H2,J:J),\"\")","v":247},{"$f":"VLOOKUP(TEXT(B2,\"00000\"),remote_zone!A:B,2,FALSE)","v":"CA"},{"$f":"VLOOKUP(TEXT(C2,\"00000\"),remote_zone!A:B,2,FALSE)","v":"TX"},{"$f":"IF(K2=\"\",\"\",VLOOKUP(TEXT(B2,\"00000\"),remote_zone!$A:$D,4,FALSE))","v":"standard"},{"$f":"IF(K2=\"\",\"\",VLOOKUP(TEXT(C2,\"00000\"),remote_zone!$A:$D,4,FALSE))","v":"standard"},{"$f":"VLOOKUP(M2,ceva_zone!$A:$E,MATCH(Sheet1!L2,ceva_zone!$A$1:$E$1,0),FALSE)","v":"D"},{"$f":"IF(K2=\"\",\"\",IF(K2<1000,VLOOKUP(MAX(101,K2),ceva_base_rate!A:H,MATCH(Sheet1!P2,ceva_base_rate!$A$1:$H$1,0),FALSE),ROUND(VLOOKUP(1000,ceva_base_rate!$A$901:$H$901,MATCH(Sheet1!P2,ceva_base_rate!$A$1:$H$1,0),FALSE)+VLOOKUP(\"1000+\",ceva_base_rate!$A$902:$H$902,MATCH(Sheet1!P2,ceva_base_rate!$A$1:$H$1,0),FALSE)*(K2-1000),2)))","v":195},{"$f":"IF(K2=\"\",\"\",IF(OR(L2=\"CA\",M2=\"CA\"),ceva_base_rate!$N$1,0))","v":18.24},{"$f":"IF(K2=\"\",\"\",IF(OR(AND(VALUE(LEFT(C2,3))>=110,VALUE(LEFT(C2,3))<=114),AND(VALUE(LEFT(C2,3))>=100,VALUE(LEFT(C2,3))<=104),AND(VALUE(LEFT(B2,3))>=110,VALUE(LEFT(B2,3))<=114),AND(VALUE(LEFT(B2,3))>=100,VALUE(LEFT(B2,3))<=104)),ceva_base_rate!$N$2,0))","v":0},{"$f":"IF(N2=\"\",\"\",IF(N2=\"standard\",0,IF(K2<1000,VLOOKUP(MAX(101,K2),ceva_base_rate!A:H,8,FALSE),ROUND(VLOOKUP(1000,ceva_base_rate!$A$901:$H$901,8,FALSE)+VLOOKUP(\"1000+\",ceva_base_rate!$A$902:$H$902,8,FALSE)*(K2-1000),2))))","v":0},{"$f":"IF(O2=\"\",\"\",IF(O2=\"standard\",0,IF(K2<1000,VLOOKUP(MAX(101,K2),ceva_base_rate!A:H,8,FALSE),ROUND(VLOOKUP(1000,ceva_base_rate!$A$901:$H$901,8,FALSE)+VLOOKUP(\"1000+\",ceva_base_rate!$A$902:$H$902,8,FALSE)*(K2-1000),2))))","v":0},{"$f":"IF(OR(D2>=250,I2>=75),ceva_base_rate!$N$3,0)","v":30},{"$f":"IF(I2<96,0,IF(I2<120,ceva_base_rate!$N$4,IF(I2<192,ceva_base_rate!$N$5,IF(I2<240,ceva_base_rate!$N$6,ceva_base_rate!$N$7))))","v":0},{"$f":"IF(COUNTIF($H$2:H2,H2)=1,SUMIF(H:H,H2,Q:Q)+SUMIF(H:H,H2,R:R)+SUMIF(H:H,H2,S:S)+SUMIF(H:H,H2,T:T)+SUMIF(H:H,H2,U:U)+SUMIF(H:H,H2,V:V)+SUMIF(H:H,H2,W:W),\"\")","v":243.24}]
[703301,"91702",78504,111,64,21,5,"703301_91702_78504",{"$f":"MAX(E3:G3)","v":64},{"$f":"ROUND(MAX(D3,ROUND(E3,0)*ROUND(F3,0)*ROUND(G3,0)/250),0)","v":111},{"$f":"IF(COUNTIF($H$2:H3,H3)=1,SUMIF(H:H,H3,J:J),\"\")","v":""},{"$f":"VLOOKUP(TEXT(B3,\"00000\"),remote_zone!A:B,2,FALSE)","v":"CA"},{"$f":"VLOOKUP(TEXT(C3,\"00000\"),remote_zone!A:B,2,FALSE)","v":"TX"},{"$f":"IF(K3=\"\",\"\",VLOOKUP(TEXT(B3,\"00000\"),remote_zone!$A:$D,4,FALSE))","v":""},{"$f":"IF(K3=\"\",\"\",VLOOKUP(TEXT(C3,\"00000\"),remote_zone!$A:$D,4,FALSE))","v":""},{"$f":"VLOOKUP(M3,ceva_zone!$A:$E,MATCH(Sheet1!L3,ceva_zone!$A$1:$E$1,0),FALSE)","v":"D"},{"$f":"IF(K3=\"\",\"\",IF(K3<1000,VLOOKUP(MAX(101,K3),ceva_base_rate!A:H,MATCH(Sheet1!P3,ceva_base_rate!$A$1:$H$1,0),FALSE),ROUND(VLOOKUP(1000,ceva_base_rate!$A$901:$H$901,MATCH(Sheet1!P3,ceva_base_rate!$A$1:$H$1,0),FALSE)+VLOOKUP(\"1000+\",ceva_base_rate!$A$902:$H$902,MATCH(Sheet1!P3,ceva_base_rate!$A$1:$H$1,0),FALSE)*(K3-1000),2)))","v":""},{"$f":"IF(K3=\"\",\"\",IF(OR(L3=\"CA\",M3=\"CA\"),ceva_base_rate!$N$1,0))","v":""},{"$f":"IF(K3=\"\",\"\",IF(OR(AND(VALUE(LEFT(C3,3))>=110,VALUE(LEFT(C3,3))<=114),AND(VALUE(LEFT(C3,3))>=100,VALUE(LEFT(C3,3))<=104),AND(VALUE(LEFT(B3,3))>=110,VALUE(LEFT(B3,3))<=114),AND(VALUE(LEFT(B3,3))>=100,VALUE(LEFT(B3,3))<=104)),ceva_base_rate!$N$2,0))","v":""},{"$f":"IF(N3=\"\",\"\",IF(N3=\"standard\",0,IF(K3<1000,VLOOKUP(MAX(101,K3),ceva_base_rate!A:H,8,FALSE),ROUND(VLOOKUP(1000,ceva_base_rate!$A$901:$H$901,8,FALSE)+VLOOKUP(\"1000+\",ceva_base_rate!$A$902:$H$902,8,FALSE)*(K3-1000),2))))","v":""},{"$f":"IF(O3=\"\",\"\",IF(O3=\"standard\",0,IF(K3<1000,VLOOKUP(MAX(101,K3),ceva_base_rate!A:H,8,FALSE),ROUND(VLOOKUP(1000,ceva_base_rate!$A$901:$H$901,8,FALSE)+VLOOKUP(\"1000+\",ceva_base_rate!$A$902:$H$902,8,FALSE)*(K3-1000),2))))","v":""},{"$f":"IF(OR(D3>=250,I3>=75),ceva_base_rate!$N$3,0)","v":0},{"$f":"IF(I3<96,0,IF(I3<120,ceva_base_rate!$N$4,IF(I3<192,ceva_base_rate!$N$5,IF(I3<240,ceva_base_rate!$N$6,ceva_base_rate!$N$7))))","v":0},{"$f":"IF(COUNTIF($H$2:H3,H3)=1,SUMIF(H:H,H3,Q:Q)+SUMIF(H:H,H3,R:R)+SUMIF(H:H,H3,S:S)+SUMIF(H:H,H3,T:T)+SUMIF(H:H,H3,U:U)+SUMIF(H:H,H3,V:V)+SUMIF(H:H,H3,W:W),\"\")","v":""}]
[703301,"91702",78504,19,33,29,3,"703301_91702_78504",{"$f":"MAX(E4:G4)","v":33},{"$f":"ROUND(MAX(D4,ROUND(E4,0)*ROUND(F4,0)*ROUND(G4,0)/250),0)","v":19},{"$f":"IF(COUNTIF($H$2:H4,H4)=1,SUMIF(H:H,H4,J:J),\"\")","v":""},{"$f":"VLOOKUP(TEXT(B4,\"00000\"),remote_zone!A:B,2,FALSE)","v":"CA"},{"$f":"VLOOKUP(TEXT(C4,\"00000\"),remote_zone!A:B,2,FALSE)","v":"TX"},{"$f":"IF(K4=\"\",\"\",VLOOKUP(TEXT(B4,\"00000\"),remote_zone!$A:$D,4,FALSE))","v":""},{"$f":"IF(K4=\"\",\"\",VLOOKUP(TEXT(C4,\"00000\"),remote_zone!$A:$D,4,FALSE))","v":""},{"$f":"VLOOKUP(M4,ceva_zone!$A:$E,MATCH(Sheet1!L4,ceva_zone!$A$1:$E$1,0),FALSE)","v":"D"},{"$f":"IF(K4=\"\",\"\",IF(K4<1000,VLOOKUP(MAX(101,K4),ceva_base_rate!A:H,MATCH(Sheet1!P4,ceva_base_rate!$A$1:$H$1,0),FALSE),ROUND(VLOOKUP(1000,ceva_base_rate!$A$901:$H$901,MATCH(Sheet1!P4,ceva_base_rate!$A$1:$H$1,0),FALSE)+VLOOKUP(\"1000+\",ceva_base_rate!$A$902:$H$902,MATCH(Sheet1!P4,ceva_base_rate!$A$1:$H$1,0),FALSE)*(K4-1000),2)))","v":""},{"$f":"IF(K4=\"\",\"\",IF(OR(L4=\"CA\",M4=\"CA\"),ceva_base_rate!$N$1,0))","v":""},{"$f":"IF(K4=\"\",\"\",IF(OR(AND(VALUE(LEFT(C4,3))>=110,VALUE(LEFT(C4,3))<=114),AND(VALUE(LEFT(C4,3))>=100,VALUE(LEFT(C4,3))<=104),AND(VALUE(LEFT(B4,3))>=110,VALUE(LEFT(B4,3))<=114),AND(VALUE(LEFT(B4,3))>=100,VALUE(LEFT(B4,3))<=104)),ceva_base_rate!$N$2,0))","v":""},{"$f":"IF(N4=\"\",\"\",IF(N4=\"standard\",0,IF(K4<1000,VLOOKUP(MAX(101,K4),ceva_base_rate!A:H,8,FALSE),ROUND(VLOOKUP(1000,ceva_base_rate!$A$901:$H$901,8,FALSE)+VLOOKUP(\"1000+\",ceva_base_rate!$A$902:$H$902,8,FALSE)*(K4-1000),2))))","v":""},{"$f":"IF(O4=\"\",\"\",IF(O4=\"standard\",0,IF(K4<1000,VLOOKUP(MAX(101,K4),ceva_base_rate!A:H,8,FALSE),ROUND(VLOOKUP(1000,ceva_base_rate!$A$901:$H$901,8,FALSE)+VLOOKUP(\"1000+\",ceva_base_rate!$A$902:$H$902,8,FALSE)*(K4-1000),2))))","v":""},{"$f":"IF(OR(D4>=250,I4>=75),ceva_base_rate!$N$3,0)","v":0},{"$f":"IF(I4<96,0,IF(I4<120,ceva_base_rate!$N$4,IF(I4<192,ceva_base_rate!$N$5,IF(I4<240,ceva_base_rate!$N$6,ceva_base_rate!$N$7))))","v":0},{"$f":"IF(COUNTIF($H$2:H4,H4)=1,SUMIF(H:H,H4,Q:Q)+SUMIF(H:H,H4,R:R)+SUMIF(H:H,H4,S:S)+SUMIF(H:H,H4,T:T)+SUMIF(H:H,H4,U:U)+SUMIF(H:H,H4,V:V)+SUMIF(H:H,H4,W:W),\"\")","v":""}]
[743790,"91702",48059,111,75,40,26,"743790_91702_48059",{"$f":"MAX(E5:G5)","v":75},{"$f":"ROUND(MAX(D5,ROUND(E5,0)*ROUND(F5,0)*ROUND(G5,0)/250),0)","v":312},{"$f":"IF(COUNTIF($H$2:H5,H5)=1,SUMIF(H:H,H5,J:J),\"\")","v":312},{"$f":"VLOOKUP(TEXT(B5,\"00000\"),remote_zone!A:B,2,FALSE)","v":"CA"},{"$f":"VLOOKUP(TEXT(C5,\"00000\"),remote_zone!A:B,2,FALSE)","v":"MI"},{"$f":"IF(K5=\"\",\"\",VLOOKUP(TEXT(B5,\"00000\"),remote_zone!$A:$D,4,FALSE))","v":"standard"},{"$f":"IF(K5=\"\",\"\",VLOOKUP(TEXT(C5,\"00000\"),remote_zone!$A:$D,4,FALSE))","v":"remote"},{"$f":"VLOOKUP(M5,ceva_zone!$A:$E,MATCH(Sheet1!L5,ceva_zone!$A$1:$E$1,0),FALSE)","v":"E"},{"$f":"IF(K5=\"\",\"\",IF(K5<1000,VLOOKUP(MAX(101,K5),ceva_base_rate!A:H,MATCH(Sheet1!P5,ceva_base_rate!$A$1:$H$1,0),FALSE),ROUND(VLOOKUP(1000,ceva_base_rate!$A$901:$H$901,MATCH(Sheet1!P5,ceva_base_rate!$A$1:$H$1,0),FALSE)+VLOOKUP(\"1000+\",ceva_base_rate!$A$902:$H$902,MATCH(Sheet1!P5,ceva_base_rate!$A$1:$H$1,0),FALSE)*(K5-1000),2)))","v":247},{"$f":"IF(K5=\"\",\"\",IF(OR(L5=\"CA\",M5=\"CA\"),ceva_base_rate!$N$1,0))","v":18.24},{"$f":"IF(K5=\"\",\"\",IF(OR(AND(VALUE(LEFT(C5,3))>=110,VALUE(LEFT(C5,3))<=114),AND(VALUE(LEFT(C5,3))>=100,VALUE(LEFT(C5,3))<=104),AND(VALUE(LEFT(B5,3))>=110,VALUE(LEFT(B5,3))<=114),AND(VALUE(LEFT(B5,3))>=100,VALUE(LEFT(B5,3))<=104)),ceva_base_rate!$N$2,0))","v":0},{"$f":"IF(N5=\"\",\"\",IF(N5=\"standard\",0,IF(K5<1000,VLOOKUP(MAX(101,K5),ceva_base_rate!A:H,8,FALSE),ROUND(VLOOKUP(1000,ceva_base_rate!$A$901:$H$901,8,FALSE)+VLOOKUP(\"1000+\",ceva_base_rate!$A$902:$H$902,8,FALSE)*(K5-1000),2))))","v":0},{"$f":"IF(O5=\"\",\"\",IF(O5=\"standard\",0,IF(K5<1000,VLOOKUP(MAX(101,K5),ceva_base_rate!A:H,8,FALSE),ROUND(VLOOKUP(1000,ceva_base_rate!$A$901:$H$901,8,FALSE)+VLOOKUP(\"1000+\",ceva_base_rate!$A$902:$H$902,8,FALSE)*(K5-1000),2))))","v":128},{"$f":"IF(OR(D5>=250,I5>=75),ceva_base_rate!$N$3,0)","v":30},{"$f":"IF(I5<96,0,IF(I5<120,ceva_base_rate!$N$4,IF(I5<192,ceva_base_rate!$N$5,IF(I5<240,ceva_base_rate!$N$6,ceva_base_rate!$N$7))))","v":0},{"$f":"IF(COUNTIF($H$2:H5,H5)=1,SUMIF(H:H,H5,Q:Q)+SUMIF(H:H,H5,R:R)+SUMIF(H:H,H5,S:S)+SUMIF(H:H,H5,T:T)+SUMIF(H:H,H5,U:U)+SUMIF(H:H,H5,V:V)+SUMIF(H:H,H5,W:W),\"\")","v":423.24}]
[760901,"91702",3031,57,39,39,17,"760901_91702_03031",{"$f":"MAX(E6:G6)","v":39},{"$f":"ROUND(MAX(D6,ROUND(E6,0)*ROUND(F6,0)*ROUND(G6,0)/250),0)","v":103},{"$f":"IF(COUNTIF($H$2:H6,H6)=1,SUMIF(H:H,H6,J:J),\"\")","v":103},{"$f":"VLOOKUP(TEXT(B6,\"00000\"),remote_zone!A:B,2,FALSE)","v":"CA"},{"$f":"VLOOKUP(TEXT(C6,\"00000\"),remote_zone!A:B,2,FALSE)","v":"NH"},{"$f":"IF(K6=\"\",\"\",VLOOKUP(TEXT(B6,\"00000\"),remote_zone!$A:$D,4,FALSE))","v":"standard"},{"$f":"IF(K6=\"\",\"\",VLOOKUP(TEXT(C6,\"00000\"),remote_zone!$A:$D,4,FALSE))","v":"standard"},{"$f":"VLOOKUP(M6,ceva_zone!$A:$E,MATCH(Sheet1!L6,ceva_zone!$A$1:$E$1,0),FALSE)","v":"F"},{"$f":"IF(K6=\"\",\"\",IF(K6<1000,VLOOKUP(MAX(101,K6),ceva_base_rate!A:H,MATCH(Sheet1!P6,ceva_base_rate!$A$1:$H$1,0),FALSE),ROUND(VLOOKUP(1000,ceva_base_rate!$A$901:$H$901,MATCH(Sheet1!P6,ceva_base_rate!$A$1:$H$1,0),FALSE)+VLOOKUP(\"1000+\",ceva_base_rate!$A$902:$H$902,MATCH(Sheet1!P6,ceva_base_rate!$A$1:$H$1,0),FALSE)*(K6-1000),2)))","v":156},{"$f":"IF(K6=\"\",\"\",IF(OR(L6=\"CA\",M6=\"CA\"),ceva_base_rate!$N$1,0))","v":18.24},{"$f":"IF(K6=\"\",\"\",IF(OR(AND(VALUE(LEFT(C6,3))>=110,VALUE(LEFT(C6,3))<=114),AND(VALUE(LEFT(C6,3))>=100,VALUE(LEFT(C6,3))<=104),AND(VALUE(LEFT(B6,3))>=110,VALUE(LEFT(B6,3))<=114),AND(VALUE(LEFT(B6,3))>=100,VALUE(LEFT(B6,3))<=104)),ceva_base_rate!$N$2,0))","v":0},{"$f":"IF(N6=\"\",\"\",IF(N6=\"standard\",0,IF(K6<1000,VLOOKUP(MAX(101,K6),ceva_base_rate!A:H,8,FALSE),ROUND(VLOOKUP(1000,ceva_base_rate!$A$901:$H$901,8,FALSE)+VLOOKUP(\"1000+\",ceva_base_rate!$A$902:$H$902,8,FALSE)*(K6-1000),2))))","v":0},{"$f":"IF(O6=\"\",\"\",IF(O6=\"standard\",0,IF(K6<1000,VLOOKUP(MAX(101,K6),ceva_base_rate!A:H,8,FALSE),ROUND(VLOOKUP(1000,ceva_base_rate!$A$901:$H$901,8,FALSE)+VLOOKUP(\"1000+\",ceva_base_rate!$A$902:$H$902,8,FALSE)*(K6-1000),2))))","v":0},{"$f":"IF(OR(D6>=250,I6>=75),ceva_base_rate!$N$3,0)","v":0},{"$f":"IF(I6<96,0,IF(I6<120,ceva_base_rate!$N$4,IF(I6<192,ceva_base_rate!$N$5,IF(I6<240,ceva_base_rate!$N$6,ceva_base_rate!$N$7))))","v":0},{"$f":"IF(COUNTIF($H$2:H6,H6)=1,SUMIF(H:H,H6,Q:Q)+SUMIF(H:H,H6,R:R)+SUMIF(H:H,H6,S:S)+SUMIF(H:H,H6,T:T)+SUMIF(H:H,H6,U:U)+SUMIF(H:H,H6,V:V)+SUMIF(H:H,H6,W:W),\"\")","v":174.24}]
[767483,"91702",75254,133,38,38,26,"767483_91702_75254",38,150,{"$f":"IF(COUNTIF($H$2:H7,H7)=1,SUMIF(H:H,H7,J:J),\"\")","v":150},{"$f":"VLOOKUP(TEXT(B7,\"00000\"),remote_zone!A:B,2,FALSE)","v":"CA"},{"$f":"VLOOKUP(TEXT(C7,\"00000\"),remote_zone!A:B,2,FALSE)","v":"TX"},{"$f":"IF(K7=\"\",\"\",VLOOKUP(TEXT(B7,\"00000\"),remote_zone!$A:$D,4,FALSE))","v":"standard"},{"$f":"IF(K7=\"\",\"\",VLOOKUP(TEXT(C7,\"00000\"),remote_zone!$A:$D,4,FALSE))","v":"standard"},{"$f":"VLOOKUP(M7,ceva_zone!$A:$E,MATCH(Sheet1!L7,ceva_zone!$A$1:$E$1,0),FALSE)","v":"D"},{"$f":"IF(K7=\"\",\"\",IF(K7<1000,VLOOKUP(MAX(101,K7),ceva_base_rate!A:H,MATCH(Sheet1!P7,ceva_base_rate!$A$1:$H$1,0),FALSE),ROUND(VLOOKUP(1000,ceva_base_rate!$A$901:$H$901,MATCH(Sheet1!P7,ceva_base_rate!$A$1:$H$1,0),FALSE)+VLOOKUP(\"1000+\",ceva_base_rate!$A$902:$H$902,MATCH(Sheet1!P7,ceva_base_rate!$A$1:$H$1,0),FALSE)*(K7-1000),2)))","v":156},{"$f":"IF(K7=\"\",\"\",IF(OR(L7=\"CA\",M7=\"CA\"),ceva_base_rate!$N$1,0))","v":18.24},{"$f":"IF(K7=\"\",\"\",IF(OR(AND(VALUE(LEFT(C7,3))>=110,VALUE(LEFT(C7,3))<=114),AND(VALUE(LEFT(C7,3))>=100,VALUE(LEFT(C7,3))<=104),AND(VALUE(LEFT(B7,3))>=110,VALUE(LEFT(B7,3))<=114),AND(VALUE(LEFT(B7,3))>=100,VALUE(LEFT(B7,3))<=104)),ceva_base_rate!$N$2,0))","v":0},{"$f":"IF(N7=\"\",\"\",IF(N7=\"standard\",0,IF(K7<1000,VLOOKUP(MAX(101,K7),ceva_base_rate!A:H,8,FALSE),ROUND(VLOOKUP(1000,ceva_base_rate!$A$901:$H$901,8,FALSE)+VLOOKUP(\"1000+\",ceva_base_rate!$A$902:$H$902,8,FALSE)*(K7-1000),2))))","v":0},{"$f":"IF(O7=\"\",\"\",IF(O7=\"standard\",0,IF(K7<1000,VLOOKUP(MAX(101,K7),ceva_base_rate!A:H,8,FALSE),ROUND(VLOOKUP(1000,ceva_base_rate!$A$901:$H$901,8,FALSE)+VLOOKUP(\"1000+\",ceva_base_rate!$A$902:$H$902,8,FALSE)*(K7-1000),2))))","v":0},{"$f":"IF(OR(D7>=250,I7>=75),ceva_base_rate!$N$3,0)","v":0},{"$f":"IF(I7<96,0,IF(I7<120,ceva_base_rate!$N$4,IF(I7<192,ceva_base_rate!$N$5,IF(I7<240,ceva_base_rate!$N$6,ceva_base_rate!$N$7))))","v":0},{"$f":"IF(COUNTIF($H$2:H7,H7)=1,SUMIF(H:H,H7,Q:Q)+SUMIF(H:H,H7,R:R)+SUMIF(H:H,H7,S:S)+SUMIF(H:H,H7,T:T)+SUMIF(H:H,H7,U:U)+SUMIF(H:H,H7,V:V)+SUMIF(H:H,H7,W:W),\"\")","v":174.24}]
[771812,"91702",11361,23,82,7,7,"771812_91702_11361",82,23,{"$f":"IF(COUNTIF($H$2:H8,H8)=1,SUMIF(H:H,H8,J:J),\"\")","v":80},{"$f":"VLOOKUP(TEXT(B8,\"00000\"),remote_zone!A:B,2,FALSE)","v":"CA"},{"$f":"VLOOKUP(TEXT(C8,\"00000\"),remote_zone!A:B,2,FALSE)","v":"NY"},{"$f":"IF(K8=\"\",\"\",VLOOKUP(TEXT(B8,\"00000\"),remote_zone!$A:$D,4,FALSE))","v":"standard"},{"$f":"IF(K8=\"\",\"\",VLOOKUP(TEXT(C8,\"00000\"),remote_zone!$A:$D,4,FALSE))","v":"standard"},{"$f":"VLOOKUP(M8,ceva_zone!$A:$E,MATCH(Sheet1!L8,ceva_zone!$A$1:$E$1,0),FALSE)","v":"F"},{"$f":"IF(K8=\"\",\"\",IF(K8<1000,VLOOKUP(MAX(101,K8),ceva_base_rate!A:H,MATCH(Sheet1!P8,ceva_base_rate!$A$1:$H$1,0),FALSE),ROUND(VLOOKUP(1000,ceva_base_rate!$A$901:$H$901,MATCH(Sheet1!P8,ceva_base_rate!$A$1:$H$1,0),FALSE)+VLOOKUP(\"1000+\",ceva_base_rate!$A$902:$H$902,MATCH(Sheet1!P8,ceva_base_rate!$A$1:$H$1,0),FALSE)*(K8-1000),2)))","v":156},{"$f":"IF(K8=\"\",\"\",IF(OR(L8=\"CA\",M8=\"CA\"),ceva_base_rate!$N$1,0))","v":18.24},{"$f":"IF(K8=\"\",\"\",IF(OR(AND(VALUE(LEFT(C8,3))>=110,VALUE(LEFT(C8,3))<=114),AND(VALUE(LEFT(C8,3))>=100,VALUE(LEFT(C8,3))<=104),AND(VALUE(LEFT(B8,3))>=110,VALUE(LEFT(B8,3))<=114),AND(VALUE(LEFT(B8,3))>=100,VALUE(LEFT(B8,3))<=104)),ceva_base_rate!$N$2,0))","v":37.99},{"$f":"IF(N8=\"\",\"\",IF(N8=\"standard\",0,IF(K8<1000,VLOOKUP(MAX(101,K8),ceva_base_rate!A:H,8,FALSE),ROUND(VLOOKUP(1000,ceva_base_rate!$A$901:$H$901,8,FALSE)+VLOOKUP(\"1000+\",ceva_base_rate!$A$902:$H$902,8,FALSE)*(K8-1000),2))))","v":0},{"$f":"IF(O8=\"\",\"\",IF(O8=\"standard\",0,IF(K8<1000,VLOOKUP(MAX(101,K8),ceva_base_rate!A:H,8,FALSE),ROUND(VLOOKUP(1000,ceva_base_rate!$A$901:$H$901,8,FALSE)+VLOOKUP(\"1000+\",ceva_base_rate!$A$902:$H$902,8,FALSE)*(K8-1000),2))))","v":0},{"$f":"IF(OR(D8>=250,I8>=75),ceva_base_rate!$N$3,0)","v":30},{"$f":"IF(I8<96,0,IF(I8<120,ceva_base_rate!$N$4,IF(I8<192,ceva_base_rate!$N$5,IF(I8<240,ceva_base_rate!$N$6,ceva_base_rate!$N$7))))","v":0},{"$f":"IF(COUNTIF($H$2:H8,H8)=1,SUMIF(H:H,H8,Q:Q)+SUMIF(H:H,H8,R:R)+SUMIF(H:H,H8,S:S)+SUMIF(H:H,H8,T:T)+SUMIF(H:H,H8,U:U)+SUMIF(H:H,H8,V:V)+SUMIF(H:H,H8,W:W),\"\")","v":242.23}]
[771812,"91702",11361,57,58,42,5,"771812_91702_11361",58,57,{"$f":"IF(COUNTIF($H$2:H9,H9)=1,SUMIF(H:H,H9,J:J),\"\")","v":""},{"$f":"VLOOKUP(TEXT(B9,\"00000\"),remote_zone!A:B,2,FALSE)","v":"CA"},{"$f":"VLOOKUP(TEXT(C9,\"00000\"),remote_zone!A:B,2,FALSE)","v":"NY"},{"$f":"IF(K9=\"\",\"\",VLOOKUP(TEXT(B9,\"00000\"),remote_zone!$A:$D,4,FALSE))","v":""},{"$f":"IF(K9=\"\",\"\",VLOOKUP(TEXT(C9,\"00000\"),remote_zone!$A:$D,4,FALSE))","v":""},{"$f":"VLOOKUP(M9,ceva_zone!$A:$E,MATCH(Sheet1!L9,ceva_zone!$A$1:$E$1,0),FALSE)","v":"F"},{"$f":"IF(K9=\"\",\"\",IF(K9<1000,VLOOKUP(MAX(101,K9),ceva_base_rate!A:H,MATCH(Sheet1!P9,ceva_base_rate!$A$1:$H$1,0),FALSE),ROUND(VLOOKUP(1000,ceva_base_rate!$A$901:$H$901,MATCH(Sheet1!P9,ceva_base_rate!$A$1:$H$1,0),FALSE)+VLOOKUP(\"1000+\",ceva_base_rate!$A$902:$H$902,MATCH(Sheet1!P9,ceva_base_rate!$A$1:$H$1,0),FALSE)*(K9-1000),2)))","v":""},{"$f":"IF(K9=\"\",\"\",IF(OR(L9=\"CA\",M9=\"CA\"),ceva_base_rate!$N$1,0))","v":""},{"$f":"IF(K9=\"\",\"\",IF(OR(AND(VALUE(LEFT(C9,3))>=110,VALUE(LEFT(C9,3))<=114),AND(VALUE(LEFT(C9,3))>=100,VALUE(LEFT(C9,3))<=104),AND(VALUE(LEFT(B9,3))>=110,VALUE(LEFT(B9,3))<=114),AND(VALUE(LEFT(B9,3))>=100,VALUE(LEFT(B9,3))<=104)),ceva_base_rate!$N$2,0))","v":""},{"$f":"IF(N9=\"\",\"\",IF(N9=\"standard\",0,IF(K9<1000,VLOOKUP(MAX(101,K9),ceva_base_rate!A:H,8,FALSE),ROUND(VLOOKUP(1000,ceva_base_rate!$A$901:$H$901,8,FALSE)+VLOOKUP(\"1000+\",ceva_base_rate!$A$902:$H$902,8,FALSE)*(K9-1000),2))))","v":""},{"$f":"IF(O9=\"\",\"\",IF(O9=\"standard\",0,IF(K9<1000,VLOOKUP(MAX(101,K9),ceva_base_rate!A:H,8,FALSE),ROUND(VLOOKUP(1000,ceva_base_rate!$A$901:$H$901,8,FALSE)+VLOOKUP(\"1000+\",ceva_base_rate!$A$902:$H$902,8,FALSE)*(K9-1000),2))))","v":""},{"$f":"IF(OR(D9>=250,I9>=75),ceva_base_rate!$N$3,0)","v":0},{"$f":"IF(I9<96,0,IF(I9<120,ceva_base_rate!$N$4,IF(I9<192,ceva_base_rate!$N$5,IF(I9<240,ceva_base_rate!$N$6,ceva_base_rate!$N$7))))","v":0},{"$f":"IF(COUNTIF($H$2:H9,H9)=1,SUMIF(H:H,H9,Q:Q)+SUMIF(H:H,H9,R:R)+SUMIF(H:H,H9,S:S)+SUMIF(H:H,H9,T:T)+SUMIF(H:H,H9,U:U)+SUMIF(H:H,H9,V:V)+SUMIF(H:H,H9,W:W),\"\")","v":""}]
[771931,"91702",85016,175,75,20,17,"771931_91702_85016",75,175,{"$f":"IF(COUNTIF($H$2:H10,H10)=1,SUMIF(H:H,H10,J:J),\"\")","v":175},{"$f":"VLOOKUP(TEXT(B10,\"00000\"),remote_zone!A:B,2,FALSE)","v":"CA"},{"$f":"VLOOKUP(TEXT(C10,\"00000\"),remote_zone!A:B,2,FALSE)","v":"AZ"},{"$f":"IF(K10=\"\",\"\",VLOOKUP(TEXT(B10,\"00000\"),remote_zone!$A:$D,4,FALSE))","v":"standard"},{"$f":"IF(K10=\"\",\"\",VLOOKUP(TEXT(C10,\"00000\"),remote_zone!$A:$D,4,FALSE))","v":"standard"},{"$f":"VLOOKUP(M10,ceva_zone!$A:$E,MATCH(Sheet1!L10,ceva_zone!$A$1:$E$1,0),FALSE)","v":"C"},{"$f":"IF(K10=\"\",\"\",IF(K10<1000,VLOOKUP(MAX(101,K10),ceva_base_rate!A:H,MATCH(Sheet1!P10,ceva_base_rate!$A$1:$H$1,0),FALSE),ROUND(VLOOKUP(1000,ceva_base_rate!$A$901:$H$901,MATCH(Sheet1!P10,ceva_base_rate!$A$1:$H$1,0),FALSE)+VLOOKUP(\"1000+\",ceva_base_rate!$A$902:$H$902,MATCH(Sheet1!P10,ceva_base_rate!$A$1:$H$1,0),FALSE)*(K10-1000),2)))","v":148},{"$f":"IF(K10=\"\",\"\",IF(OR(L10=\"CA\",M10=\"CA\"),ceva_base_rate!$N$1,0))","v":18.24},{"$f":"IF(K10=\"\",\"\",IF(OR(AND(VALUE(LEFT(C10,3))>=110,VALUE(LEFT(C10,3))<=114),AND(VALUE(LEFT(C10,3))>=100,VALUE(LEFT(C10,3))<=104),AND(VALUE(LEFT(B10,3))>=110,VALUE(LEFT(B10,3))<=114),AND(VALUE(LEFT(B10,3))>=100,VALUE(LEFT(B10,3))<=104)),ceva_base_rate!$N$2,0))","v":0},{"$f":"IF(N10=\"\",\"\",IF(N10=\"standard\",0,IF(K10<1000,VLOOKUP(MAX(101,K10),ceva_base_rate!A:H,8,FALSE),ROUND(VLOOKUP(1000,ceva_base_rate!$A$901:$H$901,8,FALSE)+VLOOKUP(\"1000+\",ceva_base_rate!$A$902:$H$902,8,FALSE)*(K10-1000),2))))","v":0},{"$f":"IF(O10=\"\",\"\",IF(O10=\"standard\",0,IF(K10<1000,VLOOKUP(MAX(101,K10),ceva_base_rate!A:H,8,FALSE),ROUND(VLOOKUP(1000,ceva_base_rate!$A$901:$H$901,8,FALSE)+VLOOKUP(\"1000+\",ceva_base_rate!$A$902:$H$902,8,FALSE)*(K10-1000),2))))","v":0},{"$f":"IF(OR(D10>=250,I10>=75),ceva_base_rate!$N$3,0)","v":30},{"$f":"IF(I10<96,0,IF(I10<120,ceva_base_rate!$N$4,IF(I10<192,ceva_base_rate!$N$5,IF(I10<240,ceva_base_rate!$N$6,ceva_base_rate!$N$7))))","v":0},{"$f":"IF(COUNTIF($H$2:H10,H10)=1,SUMIF(H:H,H10,Q:Q)+SUMIF(H:H,H10,R:R)+SUMIF(H:H,H10,S:S)+SUMIF(H:H,H10,T:T)+SUMIF(H:H,H10,U:U)+SUMIF(H:H,H10,V:V)+SUMIF(H:H,H10,W:W),\"\")","v":196.24}]
[787871,"91702",35244,114,51,36,20,"787871_91702_35244",51,147,{"$f":"IF(COUNTIF($H$2:H11,H11)=1,SUMIF(H:H,H11,J:J),\"\")","v":147},{"$f":"VLOOKUP(TEXT(B11,\"00000\"),remote_zone!A:B,2,FALSE)","v":"CA"},{"$f":"VLOOKUP(TEXT(C11,\"00000\"),remote_zone!A:B,2,FALSE)","v":"AL"},{"$f":"IF(K11=\"\",\"\",VLOOKUP(TEXT(B11,\"00000\"),remote_zone!$A:$D,4,FALSE))","v":"standard"},{"$f":"IF(K11=\"\",\"\",VLOOKUP(TEXT(C11,\"00000\"),remote_zone!$A:$D,4,FALSE))","v":"remote"},{"$f":"VLOOKUP(M11,ceva_zone!$A:$E,MATCH(Sheet1!L11,ceva_zone!$A$1:$E$1,0),FALSE)","v":"F"},{"$f":"IF(K11=\"\",\"\",IF(K11<1000,VLOOKUP(MAX(101,K11),ceva_base_rate!A:H,MATCH(Sheet1!P11,ceva_base_rate!$A$1:$H$1,0),FALSE),ROUND(VLOOKUP(1000,ceva_base_rate!$A$901:$H$901,MATCH(Sheet1!P11,ceva_base_rate!$A$1:$H$1,0),FALSE)+VLOOKUP(\"1000+\",ceva_base_rate!$A$902:$H$902,MATCH(Sheet1!P11,ceva_base_rate!$A$1:$H$1,0),FALSE)*(K11-1000),2)))","v":156},{"$f":"IF(K11=\"\",\"\",IF(OR(L11=\"CA\",M11=\"CA\"),ceva_base_rate!$N$1,0))","v":18.24},{"$f":"IF(K11=\"\",\"\",IF(OR(AND(VALUE(LEFT(C11,3))>=110,VALUE(LEFT(C11,3))<=114),AND(VALUE(LEFT(C11,3))>=100,VALUE(LEFT(C11,3))<=104),AND(VALUE(LEFT(B11,3))>=110,VALUE(LEFT(B11,3))<=114),AND(VALUE(LEFT(B11,3))>=100,VALUE(LEFT(B11,3))<=104)),ceva_base_rate!$N$2,0))","v":0},{"$f":"IF(N11=\"\",\"\",IF(N11=\"standard\",0,IF(K11<1000,VLOOKUP(MAX(101,K11),ceva_base_rate!A:H,8,FALSE),ROUND(VLOOKUP(1000,ceva_base_rate!$A$901:$H$901,8,FALSE)+VLOOKUP(\"1000+\",ceva_base_rate!$A$902:$H$902,8,FALSE)*(K11-1000),2))))","v":0},{"$f":"IF(O11=\"\",\"\",IF(O11=\"standard\",0,IF(K11<1000,VLOOKUP(MAX(101,K11),ceva_base_rate!A:H,8,FALSE),ROUND(VLOOKUP(1000,ceva_base_rate!$A$901:$H$901,8,FALSE)+VLOOKUP(\"1000+\",ceva_base_rate!$A$902:$H$902,8,FALSE)*(K11-1000),2))))","v":123},{"$f":"IF(OR(D11>=250,I11>=75),ceva_base_rate!$N$3,0)","v":0},{"$f":"IF(I11<96,0,IF(I11<120,ceva_base_rate!$N$4,IF(I11<192,ceva_base_rate!$N$5,IF(I11<240,ceva_base_rate!$N$6,ceva_base_rate!$N$7))))","v":0},{"$f":"IF(COUNTIF($H$2:H11,H11)=1,SUMIF(H:H,H11,Q:Q)+SUMIF(H:H,H11,R:R)+SUMIF(H:H,H11,S:S)+SUMIF(H:H,H11,T:T)+SUMIF(H:H,H11,U:U)+SUMIF(H:H,H11,V:V)+SUMIF(H:H,H11,W:W),\"\")","v":297.24}]
[788332,"91702",53217,25,25,20,18,"788332_91702_53217",25,36,{"$f":"IF(COUNTIF($H$2:H12,H12)=1,SUMIF(H:H,H12,J:J),\"\")","v":445},{"$f":"VLOOKUP(TEXT(B12,\"00000\"),remote_zone!A:B,2,FALSE)","v":"CA"},{"$f":"VLOOKUP(TEXT(C12,\"00000\"),remote_zone!A:B,2,FALSE)","v":"WI"},{"$f":"IF(K12=\"\",\"\",VLOOKUP(TEXT(B12,\"00000\"),remote_zone!$A:$D,4,FALSE))","v":"standard"},{"$f":"IF(K12=\"\",\"\",VLOOKUP(TEXT(C12,\"00000\"),remote_zone!$A:$D,4,FALSE))","v":"standard"},{"$f":"VLOOKUP(M12,ceva_zone!$A:$E,MATCH(Sheet1!L12,ceva_zone!$A$1:$E$1,0),FALSE)","v":"E"},{"$f":"IF(K12=\"\",\"\",IF(K12<1000,VLOOKUP(MAX(101,K12),ceva_base_rate!A:H,MATCH(Sheet1!P12,ceva_base_rate!$A$1:$H$1,0),FALSE),ROUND(VLOOKUP(1000,ceva_base_rate!$A$901:$H$901,MATCH(Sheet1!P12,ceva_base_rate!$A$1:$H$1,0),FALSE)+VLOOKUP(\"1000+\",ceva_base_rate!$A$902:$H$902,MATCH(Sheet1!P12,ceva_base_rate!$A$1:$H$1,0),FALSE)*(K12-1000),2)))","v":301},{"$f":"IF(K12=\"\",\"\",IF(OR(L12=\"CA\",M12=\"CA\"),ceva_base_rate!$N$1,0))","v":18.24},{"$f":"IF(K12=\"\",\"\",IF(OR(AND(VALUE(LEFT(C12,3))>=110,VALUE(LEFT(C12,3))<=114),AND(VALUE(LEFT(C12,3))>=100,VALUE(LEFT(C12,3))<=104),AND(VALUE(LEFT(B12,3))>=110,VALUE(LEFT(B12,3))<=114),AND(VALUE(LEFT(B12,3))>=100,VALUE(LEFT(B12,3))<=104)),ceva_base_rate!$N$2,0))","v":0},{"$f":"IF(N12=\"\",\"\",IF(N12=\"standard\",0,IF(K12<1000,VLOOKUP(MAX(101,K12),ceva_base_rate!A:H,8,FALSE),ROUND(VLOOKUP(1000,ceva_base_rate!$A$901:$H$901,8,FALSE)+VLOOKUP(\"1000+\",ceva_base_rate!$A$902:$H$902,8,FALSE)*(K12-1000),2))))","v":0},{"$f":"IF(O12=\"\",\"\",IF(O12=\"standard\",0,IF(K12<1000,VLOOKUP(MAX(101,K12),ceva_base_rate!A:H,8,FALSE),ROUND(VLOOKUP(1000,ceva_base_rate!$A$901:$H$901,8,FALSE)+VLOOKUP(\"1000+\",ceva_base_rate!$A$902:$H$902,8,FALSE)*(K12-1000),2))))","v":0},{"$f":"IF(OR(D12>=250,I12>=75),ceva_base_rate!$N$3,0)","v":0},{"$f":"IF(I12<96,0,IF(I12<120,ceva_base_rate!$N$4,IF(I12<192,ceva_base_rate!$N$5,IF(I12<240,ceva_base_rate!$N$6,ceva_base_rate!$N$7))))","v":0},{"$f":"IF(COUNTIF($H$2:H12,H12)=1,SUMIF(H:H,H12,Q:Q)+SUMIF(H:H,H12,R:R)+SUMIF(H:H,H12,S:S)+SUMIF(H:H,H12,T:T)+SUMIF(H:H,H12,U:U)+SUMIF(H:H,H12,V:V)+SUMIF(H:H,H12,W:W),\"\")","v":319.24}]
[788332,"91702",53217,49,39,28,22,"788332_91702_53217",39,96,{"$f":"IF(COUNTIF($H$2:H13,H13)=1,SUMIF(H:H,H13,J:J),\"\")","v":""},{"$f":"VLOOKUP(TEXT(B13,\"00000\"),remote_zone!A:B,2,FALSE)","v":"CA"},{"$f":"VLOOKUP(TEXT(C13,\"00000\"),remote_zone!A:B,2,FALSE)","v":"WI"},{"$f":"IF(K13=\"\",\"\",VLOOKUP(TEXT(B13,\"00000\"),remote_zone!$A:$D,4,FALSE))","v":""},{"$f":"IF(K13=\"\",\"\",VLOOKUP(TEXT(C13,\"00000\"),remote_zone!$A:$D,4,FALSE))","v":""},{"$f":"VLOOKUP(M13,ceva_zone!$A:$E,MATCH(Sheet1!L13,ceva_zone!$A$1:$E$1,0),FALSE)","v":"E"},{"$f":"IF(K13=\"\",\"\",IF(K13<1000,VLOOKUP(MAX(101,K13),ceva_base_rate!A:H,MATCH(Sheet1!P13,ceva_base_rate!$A$1:$H$1,0),FALSE),ROUND(VLOOKUP(1000,ceva_base_rate!$A$901:$H$901,MATCH(Sheet1!P13,ceva_base_rate!$A$1:$H$1,0),FALSE)+VLOOKUP(\"1000+\",ceva_base_rate!$A$902:$H$902,MATCH(Sheet1!P13,ceva_base_rate!$A$1:$H$1,0),FALSE)*(K13-1000),2)))","v":""},{"$f":"IF(K13=\"\",\"\",IF(OR(L13=\"CA\",M13=\"CA\"),ceva_base_rate!$N$1,0))","v":""},{"$f":"IF(K13=\"\",\"\",IF(OR(AND(VALUE(LEFT(C13,3))>=110,VALUE(LEFT(C13,3))<=114),AND(VALUE(LEFT(C13,3))>=100,VALUE(LEFT(C13,3))<=104),AND(VALUE(LEFT(B13,3))>=110,VALUE(LEFT(B13,3))<=114),AND(VALUE(LEFT(B13,3))>=100,VALUE(LEFT(B13,3))<=104)),ceva_base_rate!$N$2,0))","v":""},{"$f":"IF(N13=\"\",\"\",IF(N13=\"standard\",0,IF(K13<1000,VLOOKUP(MAX(101,K13),ceva_base_rate!A:H,8,FALSE),ROUND(VLOOKUP(1000,ceva_base_rate!$A$901:$H$901,8,FALSE)+VLOOKUP(\"1000+\",ceva_base_rate!$A$902:$H$902,8,FALSE)*(K13-1000),2))))","v":""},{"$f":"IF(O13=\"\",\"\",IF(O13=\"standard\",0,IF(K13<1000,VLOOKUP(MAX(101,K13),ceva_base_rate!A:H,8,FALSE),ROUND(VLOOKUP(1000,ceva_base_rate!$A$901:$H$901,8,FALSE)+VLOOKUP(\"1000+\",ceva_base_rate!$A$902:$H$902,8,FALSE)*(K13-1000),2))))","v":""},{"$f":"IF(OR(D13>=250,I13>=75),ceva_base_rate!$N$3,0)","v":0},{"$f":"IF(I13<96,0,IF(I13<120,ceva_base_rate!$N$4,IF(I13<192,ceva_base_rate!$N$5,IF(I13<240,ceva_base_rate!$N$6,ceva_base_rate!$N$7))))","v":0},{"$f":"IF(COUNTIF($H$2:H13,H13)=1,SUMIF(H:H,H13,Q:Q)+SUMIF(H:H,H13,R:R)+SUMIF(H:H,H13,S:S)+SUMIF(H:H,H13,T:T)+SUMIF(H:H,H13,U:U)+SUMIF(H:H,H13,V:V)+SUMIF(H:H,H13,W:W),\"\")","v":""}]
[788332,"91702",53217,203,70,70,8,"788332_91702_53217",70,203,{"$f":"IF(COUNTIF($H$2:H14,H14)=1,SUMIF(H:H,H14,J:J),\"\")","v":""},{"$f":"VLOOKUP(TEXT(B14,\"00000\"),remote_zone!A:B,2,FALSE)","v":"CA"},{"$f":"VLOOKUP(TEXT(C14,\"00000\"),remote_zone!A:B,2,FALSE)","v":"WI"},{"$f":"IF(K14=\"\",\"\",VLOOKUP(TEXT(B14,\"00000\"),remote_zone!$A:$D,4,FALSE))","v":""},{"$f":"IF(K14=\"\",\"\",VLOOKUP(TEXT(C14,\"00000\"),remote_zone!$A:$D,4,FALSE))","v":""},{"$f":"VLOOKUP(M14,ceva_zone!$A:$E,MATCH(Sheet1!L14,ceva_zone!$A$1:$E$1,0),FALSE)","v":"E"},{"$f":"IF(K14=\"\",\"\",IF(K14<1000,VLOOKUP(MAX(101,K14),ceva_base_rate!A:H,MATCH(Sheet1!P14,ceva_base_rate!$A$1:$H$1,0),FALSE),ROUND(VLOOKUP(1000,ceva_base_rate!$A$901:$H$901,MATCH(Sheet1!P14,ceva_base_rate!$A$1:$H$1,0),FALSE)+VLOOKUP(\"1000+\",ceva_base_rate!$A$902:$H$902,MATCH(Sheet1!P14,ceva_base_rate!$A$1:$H$1,0),FALSE)*(K14-1000),2)))","v":""},{"$f":"IF(K14=\"\",\"\",IF(OR(L14=\"CA\",M14=\"CA\"),ceva_base_rate!$N$1,0))","v":""},{"$f":"IF(K14=\"\",\"\",IF(OR(AND(VALUE(LEFT(C14,3))>=110,VALUE(LEFT(C14,3))<=114),AND(VALUE(LEFT(C14,3))>=100,VALUE(LEFT(C14,3))<=104),AND(VALUE(LEFT(B14,3))>=110,VALUE(LEFT(B14,3))<=114),AND(VALUE(LEFT(B14,3))>=100,VALUE(LEFT(B14,3))<=104)),ceva_base_rate!$N$2,0))","v":""},{"$f":"IF(N14=\"\",\"\",IF(N14=\"standard\",0,IF(K14<1000,VLOOKUP(MAX(101,K14),ceva_base_rate!A:H,8,FALSE),ROUND(VLOOKUP(1000,ceva_base_rate!$A$901:$H$901,8,FALSE)+VLOOKUP(\"1000+\",ceva_base_rate!$A$902:$H$902,8,FALSE)*(K14-1000),2))))","v":""},{"$f":"IF(O14=\"\",\"\",IF(O14=\"standard\",0,IF(K14<1000,VLOOKUP(MAX(101,K14),ceva_base_rate!A:H,8,FALSE),ROUND(VLOOKUP(1000,ceva_base_rate!$A$901:$H$901,8,FALSE)+VLOOKUP(\"1000+\",ceva_base_rate!$A$902:$H$902,8,FALSE)*(K14-1000),2))))","v":""},{"$f":"IF(OR(D14>=250,I14>=75),ceva_base_rate!$N$3,0)","v":0},{"$f":"IF(I14<96,0,IF(I14<120,ceva_base_rate!$N$4,IF(I14<192,ceva_base_rate!$N$5,IF(I14<240,ceva_base_rate!$N$6,ceva_base_rate!$N$7))))","v":0},{"$f":"IF(COUNTIF($H$2:H14,H14)=1,SUMIF(H:H,H14,Q:Q)+SUMIF(H:H,H14,R:R)+SUMIF(H:H,H14,S:S)+SUMIF(H:H,H14,T:T)+SUMIF(H:H,H14,U:U)+SUMIF(H:H,H14,V:V)+SUMIF(H:H,H14,W:W),\"\")","v":""}]
[788332,"91702",53217,35,33,31,27,"788332_91702_53217",33,110,{"$f":"IF(COUNTIF($H$2:H15,H15)=1,SUMIF(H:H,H15,J:J),\"\")","v":""},{"$f":"VLOOKUP(TEXT(B15,\"00000\"),remote_zone!A:B,2,FALSE)","v":"CA"},{"$f":"VLOOKUP(TEXT(C15,\"00000\"),remote_zone!A:B,2,FALSE)","v":"WI"},{"$f":"IF(K15=\"\",\"\",VLOOKUP(TEXT(B15,\"00000\"),remote_zone!$A:$D,4,FALSE))","v":""},{"$f":"IF(K15=\"\",\"\",VLOOKUP(TEXT(C15,\"00000\"),remote_zone!$A:$D,4,FALSE))","v":""},{"$f":"VLOOKUP(M15,ceva_zone!$A:$E,MATCH(Sheet1!L15,ceva_zone!$A$1:$E$1,0),FALSE)","v":"E"},{"$f":"IF(K15=\"\",\"\",IF(K15<1000,VLOOKUP(MAX(101,K15),ceva_base_rate!A:H,MATCH(Sheet1!P15,ceva_base_rate!$A$1:$H$1,0),FALSE),ROUND(VLOOKUP(1000,ceva_base_rate!$A$901:$H$901,MATCH(Sheet1!P15,ceva_base_rate!$A$1:$H$1,0),FALSE)+VLOOKUP(\"1000+\",ceva_base_rate!$A$902:$H$902,MATCH(Sheet1!P15,ceva_base_rate!$A$1:$H$1,0),FALSE)*(K15-1000),2)))","v":""},{"$f":"IF(K15=\"\",\"\",IF(OR(L15=\"CA\",M15=\"CA\"),ceva_base_rate!$N$1,0))","v":""},{"$f":"IF(K15=\"\",\"\",IF(OR(AND(VALUE(LEFT(C15,3))>=110,VALUE(LEFT(C15,3))<=114),AND(VALUE(LEFT(C15,3))>=100,VALUE(LEFT(C15,3))<=104),AND(VALUE(LEFT(B15,3))>=110,VALUE(LEFT(B15,3))<=114),AND(VALUE(LEFT(B15,3))>=100,VALUE(LEFT(B15,3))<=104)),ceva_base_rate!$N$2,0))","v":""},{"$f":"IF(N15=\"\",\"\",IF(N15=\"standard\",0,IF(K15<1000,VLOOKUP(MAX(101,K15),ceva_base_rate!A:H,8,FALSE),ROUND(VLOOKUP(1000,ceva_base_rate!$A$901:$H$901,8,FALSE)+VLOOKUP(\"1000+\",ceva_base_rate!$A$902:$H$902,8,FALSE)*(K15-1000),2))))","v":""},{"$f":"IF(O15=\"\",\"\",IF(O15=\"standard\",0,IF(K15<1000,VLOOKUP(MAX(101,K15),ceva_base_rate!A:H,8,FALSE),ROUND(VLOOKUP(1000,ceva_base_rate!$A$901:$H$901,8,FALSE)+VLOOKUP(\"1000+\",ceva_base_rate!$A$902:$H$902,8,FALSE)*(K15-1000),2))))","v":""},{"$f":"IF(OR(D15>=250,I15>=75),ceva_base_rate!$N$3,0)","v":0},{"$f":"IF(I15<96,0,IF(I15<120,ceva_base_rate!$N$4,IF(I15<192,ceva_base_rate!$N$5,IF(I15<240,ceva_base_rate!$N$6,ceva_base_rate!$N$7))))","v":0},{"$f":"IF(COUNTIF($H$2:H15,H15)=1,SUMIF(H:H,H15,Q:Q)+SUMIF(H:H,H15,R:R)+SUMIF(H:H,H15,S:S)+SUMIF(H:H,H15,T:T)+SUMIF(H:H,H15,U:U)+SUMIF(H:H,H15,V:V)+SUMIF(H:H,H15,W:W),\"\")","v":""}]
[790412,"91702",44035,74,80,50,6,"790412_91702_44035",80,96,{"$f":"IF(COUNTIF($H$2:H16,H16)=1,SUMIF(H:H,H16,J:J),\"\")","v":96},{"$f":"VLOOKUP(TEXT(B16,\"00000\"),remote_zone!A:B,2,FALSE)","v":"CA"},{"$f":"VLOOKUP(TEXT(C16,\"00000\"),remote_zone!A:B,2,FALSE)","v":"OH"},{"$f":"IF(K16=\"\",\"\",VLOOKUP(TEXT(B16,\"00000\"),remote_zone!$A:$D,4,FALSE))","v":"standard"},{"$f":"IF(K16=\"\",\"\",VLOOKUP(TEXT(C16,\"00000\"),remote_zone!$A:$D,4,FALSE))","v":"standard"},{"$f":"VLOOKUP(M16,ceva_zone!$A:$E,MATCH(Sheet1!L16,ceva_zone!$A$1:$E$1,0),FALSE)","v":"E"},{"$f":"IF(K16=\"\",\"\",IF(K16<1000,VLOOKUP(MAX(101,K16),ceva_base_rate!A:H,MATCH(Sheet1!P16,ceva_base_rate!$A$1:$H$1,0),FALSE),ROUND(VLOOKUP(1000,ceva_base_rate!$A$901:$H$901,MATCH(Sheet1!P16,ceva_base_rate!$A$1:$H$1,0),FALSE)+VLOOKUP(\"1000+\",ceva_base_rate!$A$902:$H$902,MATCH(Sheet1!P16,ceva_base_rate!$A$1:$H$1,0),FALSE)*(K16-1000),2)))","v":156},{"$f":"IF(K16=\"\",\"\",IF(OR(L16=\"CA\",M16=\"CA\"),ceva_base_rate!$N$1,0))","v":18.24},{"$f":"IF(K16=\"\",\"\",IF(OR(AND(VALUE(LEFT(C16,3))>=110,VALUE(LEFT(C16,3))<=114),AND(VALUE(LEFT(C16,3))>=100,VALUE(LEFT(C16,3))<=104),AND(VALUE(LEFT(B16,3))>=110,VALUE(LEFT(B16,3))<=114),AND(VALUE(LEFT(B16,3))>=100,VALUE(LEFT(B16,3))<=104)),ceva_base_rate!$N$2,0))","v":0},{"$f":"IF(N16=\"\",\"\",IF(N16=\"standard\",0,IF(K16<1000,VLOOKUP(MAX(101,K16),ceva_base_rate!A:H,8,FALSE),ROUND(VLOOKUP(1000,ceva_base_rate!$A$901:$H$901,8,FALSE)+VLOOKUP(\"1000+\",ceva_base_rate!$A$902:$H$902,8,FALSE)*(K16-1000),2))))","v":0},{"$f":"IF(O16=\"\",\"\",IF(O16=\"standard\",0,IF(K16<1000,VLOOKUP(MAX(101,K16),ceva_base_rate!A:H,8,FALSE),ROUND(VLOOKUP(1000,ceva_base_rate!$A$901:$H$901,8,FALSE)+VLOOKUP(\"1000+\",ceva_base_rate!$A$902:$H$902,8,FALSE)*(K16-1000),2))))","v":0},{"$f":"IF(OR(D16>=250,I16>=75),ceva_base_rate!$N$3,0)","v":30},{"$f":"IF(I16<96,0,IF(I16<120,ceva_base_rate!$N$4,IF(I16<192,ceva_base_rate!$N$5,IF(I16<240,ceva_base_rate!$N$6,ceva_base_rate!$N$7))))","v":0},{"$f":"IF(COUNTIF($H$2:H16,H16)=1,SUMIF(H:H,H16,Q:Q)+SUMIF(H:H,H16,R:R)+SUMIF(H:H,H16,S:S)+SUMIF(H:H,H16,T:T)+SUMIF(H:H,H16,U:U)+SUMIF(H:H,H16,V:V)+SUMIF(H:H,H16,W:W),\"\")","v":204.24}]
[790652,"91702",11554,409,63,37,16,"790652_91702_11554",63,409,{"$f":"IF(COUNTIF($H$2:H17,H17)=1,SUMIF(H:H,H17,J:J),\"\")","v":409},{"$f":"VLOOKUP(TEXT(B17,\"00000\"),remote_zone!A:B,2,FALSE)","v":"CA"},{"$f":"VLOOKUP(TEXT(C17,\"00000\"),remote_zone!A:B,2,FALSE)","v":"NY"},{"$f":"IF(K17=\"\",\"\",VLOOKUP(TEXT(B17,\"00000\"),remote_zone!$A:$D,4,FALSE))","v":"standard"},{"$f":"IF(K17=\"\",\"\",VLOOKUP(TEXT(C17,\"00000\"),remote_zone!$A:$D,4,FALSE))","v":"standard"},{"$f":"VLOOKUP(M17,ceva_zone!$A:$E,MATCH(Sheet1!L17,ceva_zone!$A$1:$E$1,0),FALSE)","v":"F"},{"$f":"IF(K17=\"\",\"\",IF(K17<1000,VLOOKUP(MAX(101,K17),ceva_base_rate!A:H,MATCH(Sheet1!P17,ceva_base_rate!$A$1:$H$1,0),FALSE),ROUND(VLOOKUP(1000,ceva_base_rate!$A$901:$H$901,MATCH(Sheet1!P17,ceva_base_rate!$A$1:$H$1,0),FALSE)+VLOOKUP(\"1000+\",ceva_base_rate!$A$902:$H$902,MATCH(Sheet1!P17,ceva_base_rate!$A$1:$H$1,0),FALSE)*(K17-1000),2)))","v":316},{"$f":"IF(K17=\"\",\"\",IF(OR(L17=\"CA\",M17=\"CA\"),ceva_base_rate!$N$1,0))","v":18.24},{"$f":"IF(K17=\"\",\"\",IF(OR(AND(VALUE(LEFT(C17,3))>=110,VALUE(LEFT(C17,3))<=114),AND(VALUE(LEFT(C17,3))>=100,VALUE(LEFT(C17,3))<=104),AND(VALUE(LEFT(B17,3))>=110,VALUE(LEFT(B17,3))<=114),AND(VALUE(LEFT(B17,3))>=100,VALUE(LEFT(B17,3))<=104)),ceva_base_rate!$N$2,0))","v":0},{"$f":"IF(N17=\"\",\"\",IF(N17=\"standard\",0,IF(K17<1000,VLOOKUP(MAX(101,K17),ceva_base_rate!A:H,8,FALSE),ROUND(VLOOKUP(1000,ceva_base_rate!$A$901:$H$901,8,FALSE)+VLOOKUP(\"1000+\",ceva_base_rate!$A$902:$H$902,8,FALSE)*(K17-1000),2))))","v":0},{"$f":"IF(O17=\"\",\"\",IF(O17=\"standard\",0,IF(K17<1000,VLOOKUP(MAX(101,K17),ceva_base_rate!A:H,8,FALSE),ROUND(VLOOKUP(1000,ceva_base_rate!$A$901:$H$901,8,FALSE)+VLOOKUP(\"1000+\",ceva_base_rate!$A$902:$H$902,8,FALSE)*(K17-1000),2))))","v":0},{"$f":"IF(OR(D17>=250,I17>=75),ceva_base_rate!$N$3,0)","v":30},{"$f":"IF(I17<96,0,IF(I17<120,ceva_base_rate!$N$4,IF(I17<192,ceva_base_rate!$N$5,IF(I17<240,ceva_base_rate!$N$6,ceva_base_rate!$N$7))))","v":0},{"$f":"IF(COUNTIF($H$2:H17,H17)=1,SUMIF(H:H,H17,Q:Q)+SUMIF(H:H,H17,R:R)+SUMIF(H:H,H17,S:S)+SUMIF(H:H,H17,T:T)+SUMIF(H:H,H17,U:U)+SUMIF(H:H,H17,V:V)+SUMIF(H:H,H17,W:W),\"\")","v":364.24}]
[790930,"91702",60461,78,70,34,8,"790930_91702_60461",70,78,{"$f":"IF(COUNTIF($H$2:H18,H18)=1,SUMIF(H:H,H18,J:J),\"\")","v":189},{"$f":"VLOOKUP(TEXT(B18,\"00000\"),remote_zone!A:B,2,FALSE)","v":"CA"},{"$f":"VLOOKUP(TEXT(C18,\"00000\"),remote_zone!A:B,2,FALSE)","v":"IL"},{"$f":"IF(K18=\"\",\"\",VLOOKUP(TEXT(B18,\"00000\"),remote_zone!$A:$D,4,FALSE))","v":"standard"},{"$f":"IF(K18=\"\",\"\",VLOOKUP(TEXT(C18,\"00000\"),remote_zone!$A:$D,4,FALSE))","v":"standard"},{"$f":"VLOOKUP(M18,ceva_zone!$A:$E,MATCH(Sheet1!L18,ceva_zone!$A$1:$E$1,0),FALSE)","v":"E"},{"$f":"IF(K18=\"\",\"\",IF(K18<1000,VLOOKUP(MAX(101,K18),ceva_base_rate!A:H,MATCH(Sheet1!P18,ceva_base_rate!$A$1:$H$1,0),FALSE),ROUND(VLOOKUP(1000,ceva_base_rate!$A$901:$H$901,MATCH(Sheet1!P18,ceva_base_rate!$A$1:$H$1,0),FALSE)+VLOOKUP(\"1000+\",ceva_base_rate!$A$902:$H$902,MATCH(Sheet1!P18,ceva_base_rate!$A$1:$H$1,0),FALSE)*(K18-1000),2)))","v":168},{"$f":"IF(K18=\"\",\"\",IF(OR(L18=\"CA\",M18=\"CA\"),ceva_base_rate!$N$1,0))","v":18.24},{"$f":"IF(K18=\"\",\"\",IF(OR(AND(VALUE(LEFT(C18,3))>=110,VALUE(LEFT(C18,3))<=114),AND(VALUE(LEFT(C18,3))>=100,VALUE(LEFT(C18,3))<=104),AND(VALUE(LEFT(B18,3))>=110,VALUE(LEFT(B18,3))<=114),AND(VALUE(LEFT(B18,3))>=100,VALUE(LEFT(B18,3))<=104)),ceva_base_rate!$N$2,0))","v":0},{"$f":"IF(N18=\"\",\"\",IF(N18=\"standard\",0,IF(K18<1000,VLOOKUP(MAX(101,K18),ceva_base_rate!A:H,8,FALSE),ROUND(VLOOKUP(1000,ceva_base_rate!$A$901:$H$901,8,FALSE)+VLOOKUP(\"1000+\",ceva_base_rate!$A$902:$H$902,8,FALSE)*(K18-1000),2))))","v":0},{"$f":"IF(O18=\"\",\"\",IF(O18=\"standard\",0,IF(K18<1000,VLOOKUP(MAX(101,K18),ceva_base_rate!A:H,8,FALSE),ROUND(VLOOKUP(1000,ceva_base_rate!$A$901:$H$901,8,FALSE)+VLOOKUP(\"1000+\",ceva_base_rate!$A$902:$H$902,8,FALSE)*(K18-1000),2))))","v":0},{"$f":"IF(OR(D18>=250,I18>=75),ceva_base_rate!$N$3,0)","v":0},{"$f":"IF(I18<96,0,IF(I18<120,ceva_base_rate!$N$4,IF(I18<192,ceva_base_rate!$N$5,IF(I18<240,ceva_base_rate!$N$6,ceva_base_rate!$N$7))))","v":0},{"$f":"IF(COUNTIF($H$2:H18,H18)=1,SUMIF(H:H,H18,Q:Q)+SUMIF(H:H,H18,R:R)+SUMIF(H:H,H18,S:S)+SUMIF(H:H,H18,T:T)+SUMIF(H:H,H18,U:U)+SUMIF(H:H,H18,V:V)+SUMIF(H:H,H18,W:W),\"\")","v":186.24}]
[790930,"91702",60461,27,26,26,2,"790930_91702_60461",26,27,{"$f":"IF(COUNTIF($H$2:H19,H19)=1,SUMIF(H:H,H19,J:J),\"\")","v":""},{"$f":"VLOOKUP(TEXT(B19,\"00000\"),remote_zone!A:B,2,FALSE)","v":"CA"},{"$f":"VLOOKUP(TEXT(C19,\"00000\"),remote_zone!A:B,2,FALSE)","v":"IL"},{"$f":"IF(K19=\"\",\"\",VLOOKUP(TEXT(B19,\"00000\"),remote_zone!$A:$D,4,FALSE))","v":""},{"$f":"IF(K19=\"\",\"\",VLOOKUP(TEXT(C19,\"00000\"),remote_zone!$A:$D,4,FALSE))","v":""},{"$f":"VLOOKUP(M19,ceva_zone!$A:$E,MATCH(Sheet1!L19,ceva_zone!$A$1:$E$1,0),FALSE)","v":"E"},{"$f":"IF(K19=\"\",\"\",IF(K19<1000,VLOOKUP(MAX(101,K19),ceva_base_rate!A:H,MATCH(Sheet1!P19,ceva_base_rate!$A$1:$H$1,0),FALSE),ROUND(VLOOKUP(1000,ceva_base_rate!$A$901:$H$901,MATCH(Sheet1!P19,ceva_base_rate!$A$1:$H$1,0),FALSE)+VLOOKUP(\"1000+\",ceva_base_rate!$A$902:$H$902,MATCH(Sheet1!P19,ceva_base_rate!$A$1:$H$1,0),FALSE)*(K19-1000),2)))","v":""},{"$f":"IF(K19=\"\",\"\",IF(OR(L19=\"CA\",M19=\"CA\"),ceva_base_rate!$N$1,0))","v":""},{"$f":"IF(K19=\"\",\"\",IF(OR(AND(VALUE(LEFT(C19,3))>=110,VALUE(LEFT(C19,3))<=114),AND(VALUE(LEFT(C19,3))>=100,VALUE(LEFT(C19,3))<=104),AND(VALUE(LEFT(B19,3))>=110,VALUE(LEFT(B19,3))<=114),AND(VALUE(LEFT(B19,3))>=100,VALUE(LEFT(B19,3))<=104)),ceva_base_rate!$N$2,0))","v":""},{"$f":"IF(N19=\"\",\"\",IF(N19=\"standard\",0,IF(K19<1000,VLOOKUP(MAX(101,K19),ceva_base_rate!A:H,8,FALSE),ROUND(VLOOKUP(1000,ceva_base_rate!$A$901:$H$901,8,FALSE)+VLOOKUP(\"1000+\",ceva_base_rate!$A$902:$H$902,8,FALSE)*(K19-1000),2))))","v":""},{"$f":"IF(O19=\"\",\"\",IF(O19=\"standard\",0,IF(K19<1000,VLOOKUP(MAX(101,K19),ceva_base_rate!A:H,8,FALSE),ROUND(VLOOKUP(1000,ceva_base_rate!$A$901:$H$901,8,FALSE)+VLOOKUP(\"1000+\",ceva_base_rate!$A$902:$H$902,8,FALSE)*(K19-1000),2))))","v":""},{"$f":"IF(OR(D19>=250,I19>=75),ceva_base_rate!$N$3,0)","v":0},{"$f":"IF(I19<96,0,IF(I19<120,ceva_base_rate!$N$4,IF(I19<192,ceva_base_rate!$N$5,IF(I19<240,ceva_base_rate!$N$6,ceva_base_rate!$N$7))))","v":0},{"$f":"IF(COUNTIF($H$2:H19,H19)=1,SUMIF(H:H,H19,Q:Q)+SUMIF(H:H,H19,R:R)+SUMIF(H:H,H19,S:S)+SUMIF(H:H,H19,T:T)+SUMIF(H:H,H19,U:U)+SUMIF(H:H,H19,V:V)+SUMIF(H:H,H19,W:W),\"\")","v":""}]
[790930,"91702",60461,20,23,19,16,"790930_91702_60461",23,28,{"$f":"IF(COUNTIF($H$2:H20,H20)=1,SUMIF(H:H,H20,J:J),\"\")","v":""},{"$f":"VLOOKUP(TEXT(B20,\"00000\"),remote_zone!A:B,2,FALSE)","v":"CA"},{"$f":"VLOOKUP(TEXT(C20,\"00000\"),remote_zone!A:B,2,FALSE)","v":"IL"},{"$f":"IF(K20=\"\",\"\",VLOOKUP(TEXT(B20,\"00000\"),remote_zone!$A:$D,4,FALSE))","v":""},{"$f":"IF(K20=\"\",\"\",VLOOKUP(TEXT(C20,\"00000\"),remote_zone!$A:$D,4,FALSE))","v":""},{"$f":"VLOOKUP(M20,ceva_zone!$A:$E,MATCH(Sheet1!L20,ceva_zone!$A$1:$E$1,0),FALSE)","v":"E"},{"$f":"IF(K20=\"\",\"\",IF(K20<1000,VLOOKUP(MAX(101,K20),ceva_base_rate!A:H,MATCH(Sheet1!P20,ceva_base_rate!$A$1:$H$1,0),FALSE),ROUND(VLOOKUP(1000,ceva_base_rate!$A$901:$H$901,MATCH(Sheet1!P20,ceva_base_rate!$A$1:$H$1,0),FALSE)+VLOOKUP(\"1000+\",ceva_base_rate!$A$902:$H$902,MATCH(Sheet1!P20,ceva_base_rate!$A$1:$H$1,0),FALSE)*(K20-1000),2)))","v":""},{"$f":"IF(K20=\"\",\"\",IF(OR(L20=\"CA\",M20=\"CA\"),ceva_base_rate!$N$1,0))","v":""},{"$f":"IF(K20=\"\",\"\",IF(OR(AND(VALUE(LEFT(C20,3))>=110,VALUE(LEFT(C20,3))<=114),AND(VALUE(LEFT(C20,3))>=100,VALUE(LEFT(C20,3))<=104),AND(VALUE(LEFT(B20,3))>=110,VALUE(LEFT(B20,3))<=114),AND(VALUE(LEFT(B20,3))>=100,VALUE(LEFT(B20,3))<=104)),ceva_base_rate!$N$2,0))","v":""},{"$f":"IF(N20=\"\",\"\",IF(N20=\"standard\",0,IF(K20<1000,VLOOKUP(MAX(101,K20),ceva_base_rate!A:H,8,FALSE),ROUND(VLOOKUP(1000,ceva_base_rate!$A$901:$H$901,8,FALSE)+VLOOKUP(\"1000+\",ceva_base_rate!$A$902:$H$902,8,FALSE)*(K20-1000),2))))","v":""},{"$f":"IF(O20=\"\",\"\",IF(O20=\"standard\",0,IF(K20<1000,VLOOKUP(MAX(101,K20),ceva_base_rate!A:H,8,FALSE),ROUND(VLOOKUP(1000,ceva_base_rate!$A$901:$H$901,8,FALSE)+VLOOKUP(\"1000+\",ceva_base_rate!$A$902:$H$902,8,FALSE)*(K20-1000),2))))","v":""},{"$f":"IF(OR(D20>=250,I20>=75),ceva_base_rate!$N$3,0)","v":0},{"$f":"IF(I20<96,0,IF(I20<120,ceva_base_rate!$N$4,IF(I20<192,ceva_base_rate!$N$5,IF(I20<240,ceva_base_rate!$N$6,ceva_base_rate!$N$7))))","v":0},{"$f":"IF(COUNTIF($H$2:H20,H20)=1,SUMIF(H:H,H20,Q:Q)+SUMIF(H:H,H20,R:R)+SUMIF(H:H,H20,S:S)+SUMIF(H:H,H20,T:T)+SUMIF(H:H,H20,U:U)+SUMIF(H:H,H20,V:V)+SUMIF(H:H,H20,W:W),\"\")","v":""}]
[790930,"91702",60461,56,28,28,11,"790930_91702_60461",28,56,{"$f":"IF(COUNTIF($H$2:H21,H21)=1,SUMIF(H:H,H21,J:J),\"\")","v":""},{"$f":"VLOOKUP(TEXT(B21,\"00000\"),remote_zone!A:B,2,FALSE)","v":"CA"},{"$f":"VLOOKUP(TEXT(C21,\"00000\"),remote_zone!A:B,2,FALSE)","v":"IL"},{"$f":"IF(K21=\"\",\"\",VLOOKUP(TEXT(B21,\"00000\"),remote_zone!$A:$D,4,FALSE))","v":""},{"$f":"IF(K21=\"\",\"\",VLOOKUP(TEXT(C21,\"00000\"),remote_zone!$A:$D,4,FALSE))","v":""},{"$f":"VLOOKUP(M21,ceva_zone!$A:$E,MATCH(Sheet1!L21,ceva_zone!$A$1:$E$1,0),FALSE)","v":"E"},{"$f":"IF(K21=\"\",\"\",IF(K21<1000,VLOOKUP(MAX(101,K21),ceva_base_rate!A:H,MATCH(Sheet1!P21,ceva_base_rate!$A$1:$H$1,0),FALSE),ROUND(VLOOKUP(1000,ceva_base_rate!$A$901:$H$901,MATCH(Sheet1!P21,ceva_base_rate!$A$1:$H$1,0),FALSE)+VLOOKUP(\"1000+\",ceva_base_rate!$A$902:$H$902,MATCH(Sheet1!P21,ceva_base_rate!$A$1:$H$1,0),FALSE)*(K21-1000),2)))","v":""},{"$f":"IF(K21=\"\",\"\",IF(OR(L21=\"CA\",M21=\"CA\"),ceva_base_rate!$N$1,0))","v":""},{"$f":"IF(K21=\"\",\"\",IF(OR(AND(VALUE(LEFT(C21,3))>=110,VALUE(LEFT(C21,3))<=114),AND(VALUE(LEFT(C21,3))>=100,VALUE(LEFT(C21,3))<=104),AND(VALUE(LEFT(B21,3))>=110,VALUE(LEFT(B21,3))<=114),AND(VALUE(LEFT(B21,3))>=100,VALUE(LEFT(B21,3))<=104)),ceva_base_rate!$N$2,0))","v":""},{"$f":"IF(N21=\"\",\"\",IF(N21=\"standard\",0,IF(K21<1000,VLOOKUP(MAX(101,K21),ceva_base_rate!A:H,8,FALSE),ROUND(VLOOKUP(1000,ceva_base_rate!$A$901:$H$901,8,FALSE)+VLOOKUP(\"1000+\",ceva_base_rate!$A$902:$H$902,8,FALSE)*(K21-1000),2))))","v":""},{"$f":"IF(O21=\"\",\"\",IF(O21=\"standard\",0,IF(K21<1000,VLOOKUP(MAX(101,K21),ceva_base_rate!A:H,8,FALSE),ROUND(VLOOKUP(1000,ceva_base_rate!$A$901:$H$901,8,FALSE)+VLOOKUP(\"1000+\",ceva_base_rate!$A$902:$H$902,8,FALSE)*(K21-1000),2))))","v":""},{"$f":"IF(OR(D21>=250,I21>=75),ceva_base_rate!$N$3,0)","v":0},{"$f":"IF(I21<96,0,IF(I21<120,ceva_base_rate!$N$4,IF(I21<192,ceva_base_rate!$N$5,IF(I21<240,ceva_base_rate!$N$6,ceva_base_rate!$N$7))))","v":0},{"$f":"IF(COUNTIF($H$2:H21,H21)=1,SUMIF(H:H,H21,Q:Q)+SUMIF(H:H,H21,R:R)+SUMIF(H:H,H21,S:S)+SUMIF(H:H,H21,T:T)+SUMIF(H:H,H21,U:U)+SUMIF(H:H,H21,V:V)+SUMIF(H:H,H21,W:W),\"\")","v":""}]
[791206,"91702",7726,95,77,71,4,"791206_91702_07726",77,95,{"$f":"IF(COUNTIF($H$2:H22,H22)=1,SUMIF(H:H,H22,J:J),\"\")","v":236},{"$f":"VLOOKUP(TEXT(B22,\"00000\"),remote_zone!A:B,2,FALSE)","v":"CA"},{"$f":"VLOOKUP(TEXT(C22,\"00000\"),remote_zone!A:B,2,FALSE)","v":"NJ"},{"$f":"IF(K22=\"\",\"\",VLOOKUP(TEXT(B22,\"00000\"),remote_zone!$A:$D,4,FALSE))","v":"standard"},{"$f":"IF(K22=\"\",\"\",VLOOKUP(TEXT(C22,\"00000\"),remote_zone!$A:$D,4,FALSE))","v":"standard"},{"$f":"VLOOKUP(M22,ceva_zone!$A:$E,MATCH(Sheet1!L22,ceva_zone!$A$1:$E$1,0),FALSE)","v":"F"},{"$f":"IF(K22=\"\",\"\",IF(K22<1000,VLOOKUP(MAX(101,K22),ceva_base_rate!A:H,MATCH(Sheet1!P22,ceva_base_rate!$A$1:$H$1,0),FALSE),ROUND(VLOOKUP(1000,ceva_base_rate!$A$901:$H$901,MATCH(Sheet1!P22,ceva_base_rate!$A$1:$H$1,0),FALSE)+VLOOKUP(\"1000+\",ceva_base_rate!$A$902:$H$902,MATCH(Sheet1!P22,ceva_base_rate!$A$1:$H$1,0),FALSE)*(K22-1000),2)))","v":206},{"$f":"IF(K22=\"\",\"\",IF(OR(L22=\"CA\",M22=\"CA\"),ceva_base_rate!$N$1,0))","v":18.24},{"$f":"IF(K22=\"\",\"\",IF(OR(AND(VALUE(LEFT(C22,3))>=110,VALUE(LEFT(C22,3))<=114),AND(VALUE(LEFT(C22,3))>=100,VALUE(LEFT(C22,3))<=104),AND(VALUE(LEFT(B22,3))>=110,VALUE(LEFT(B22,3))<=114),AND(VALUE(LEFT(B22,3))>=100,VALUE(LEFT(B22,3))<=104)),ceva_base_rate!$N$2,0))","v":0},{"$f":"IF(N22=\"\",\"\",IF(N22=\"standard\",0,IF(K22<1000,VLOOKUP(MAX(101,K22),ceva_base_rate!A:H,8,FALSE),ROUND(VLOOKUP(1000,ceva_base_rate!$A$901:$H$901,8,FALSE)+VLOOKUP(\"1000+\",ceva_base_rate!$A$902:$H$902,8,FALSE)*(K22-1000),2))))","v":0},{"$f":"IF(O22=\"\",\"\",IF(O22=\"standard\",0,IF(K22<1000,VLOOKUP(MAX(101,K22),ceva_base_rate!A:H,8,FALSE),ROUND(VLOOKUP(1000,ceva_base_rate!$A$901:$H$901,8,FALSE)+VLOOKUP(\"1000+\",ceva_base_rate!$A$902:$H$902,8,FALSE)*(K22-1000),2))))","v":0},{"$f":"IF(OR(D22>=250,I22>=75),ceva_base_rate!$N$3,0)","v":30},{"$f":"IF(I22<96,0,IF(I22<120,ceva_base_rate!$N$4,IF(I22<192,ceva_base_rate!$N$5,IF(I22<240,ceva_base_rate!$N$6,ceva_base_rate!$N$7))))","v":0},{"$f":"IF(COUNTIF($H$2:H22,H22)=1,SUMIF(H:H,H22,Q:Q)+SUMIF(H:H,H22,R:R)+SUMIF(H:H,H22,S:S)+SUMIF(H:H,H22,T:T)+SUMIF(H:H,H22,U:U)+SUMIF(H:H,H22,V:V)+SUMIF(H:H,H22,W:W),\"\")","v":445.28}]
[791206,"91702",7726,14,101,23,7,"791206_91702_07726",101,65,{"$f":"IF(COUNTIF($H$2:H23,H23)=1,SUMIF(H:H,H23,J:J),\"\")","v":""},{"$f":"VLOOKUP(TEXT(B23,\"00000\"),remote_zone!A:B,2,FALSE)","v":"CA"},{"$f":"VLOOKUP(TEXT(C23,\"00000\"),remote_zone!A:B,2,FALSE)","v":"NJ"},{"$f":"IF(K23=\"\",\"\",VLOOKUP(TEXT(B23,\"00000\"),remote_zone!$A:$D,4,FALSE))","v":""},{"$f":"IF(K23=\"\",\"\",VLOOKUP(TEXT(C23,\"00000\"),remote_zone!$A:$D,4,FALSE))","v":""},{"$f":"VLOOKUP(M23,ceva_zone!$A:$E,MATCH(Sheet1!L23,ceva_zone!$A$1:$E$1,0),FALSE)","v":"F"},{"$f":"IF(K23=\"\",\"\",IF(K23<1000,VLOOKUP(MAX(101,K23),ceva_base_rate!A:H,MATCH(Sheet1!P23,ceva_base_rate!$A$1:$H$1,0),FALSE),ROUND(VLOOKUP(1000,ceva_base_rate!$A$901:$H$901,MATCH(Sheet1!P23,ceva_base_rate!$A$1:$H$1,0),FALSE)+VLOOKUP(\"1000+\",ceva_base_rate!$A$902:$H$902,MATCH(Sheet1!P23,ceva_base_rate!$A$1:$H$1,0),FALSE)*(K23-1000),2)))","v":""},{"$f":"IF(K23=\"\",\"\",IF(OR(L23=\"CA\",M23=\"CA\"),ceva_base_rate!$N$1,0))","v":""},{"$f":"IF(K23=\"\",\"\",IF(OR(AND(VALUE(LEFT(C23,3))>=110,VALUE(LEFT(C23,3))<=114),AND(VALUE(LEFT(C23,3))>=100,VALUE(LEFT(C23,3))<=104),AND(VALUE(LEFT(B23,3))>=110,VALUE(LEFT(B23,3))<=114),AND(VALUE(LEFT(B23,3))>=100,VALUE(LEFT(B23,3))<=104)),ceva_base_rate!$N$2,0))","v":""},{"$f":"IF(N23=\"\",\"\",IF(N23=\"standard\",0,IF(K23<1000,VLOOKUP(MAX(101,K23),ceva_base_rate!A:H,8,FALSE),ROUND(VLOOKUP(1000,ceva_base_rate!$A$901:$H$901,8,FALSE)+VLOOKUP(\"1000+\",ceva_base_rate!$A$902:$H$902,8,FALSE)*(K23-1000),2))))","v":""},{"$f":"IF(O23=\"\",\"\",IF(O23=\"standard\",0,IF(K23<1000,VLOOKUP(MAX(101,K23),ceva_base_rate!A:H,8,FALSE),ROUND(VLOOKUP(1000,ceva_base_rate!$A$901:$H$901,8,FALSE)+VLOOKUP(\"1000+\",ceva_base_rate!$A$902:$H$902,8,FALSE)*(K23-1000),2))))","v":""},{"$f":"IF(OR(D23>=250,I23>=75),ceva_base_rate!$N$3,0)","v":30},{"$f":"IF(I23<96,0,IF(I23<120,ceva_base_rate!$N$4,IF(I23<192,ceva_base_rate!$N$5,IF(I23<240,ceva_base_rate!$N$6,ceva_base_rate!$N$7))))","v":131.04},{"$f":"IF(COUNTIF($H$2:H23,H23)=1,SUMIF(H:H,H23,Q:Q)+SUMIF(H:H,H23,R:R)+SUMIF(H:H,H23,S:S)+SUMIF(H:H,H23,T:T)+SUMIF(H:H,H23,U:U)+SUMIF(H:H,H23,V:V)+SUMIF(H:H,H23,W:W),\"\")","v":""}]
[791206,"91702",7726,42,82,29,8,"791206_91702_07726",82,76,{"$f":"IF(COUNTIF($H$2:H24,H24)=1,SUMIF(H:H,H24,J:J),\"\")","v":""},{"$f":"VLOOKUP(TEXT(B24,\"00000\"),remote_zone!A:B,2,FALSE)","v":"CA"},{"$f":"VLOOKUP(TEXT(C24,\"00000\"),remote_zone!A:B,2,FALSE)","v":"NJ"},{"$f":"IF(K24=\"\",\"\",VLOOKUP(TEXT(B24,\"00000\"),remote_zone!$A:$D,4,FALSE))","v":""},{"$f":"IF(K24=\"\",\"\",VLOOKUP(TEXT(C24,\"00000\"),remote_zone!$A:$D,4,FALSE))","v":""},{"$f":"VLOOKUP(M24,ceva_zone!$A:$E,MATCH(Sheet1!L24,ceva_zone!$A$1:$E$1,0),FALSE)","v":"F"},{"$f":"IF(K24=\"\",\"\",IF(K24<1000,VLOOKUP(MAX(101,K24),ceva_base_rate!A:H,MATCH(Sheet1!P24,ceva_base_rate!$A$1:$H$1,0),FALSE),ROUND(VLOOKUP(1000,ceva_base_rate!$A$901:$H$901,MATCH(Sheet1!P24,ceva_base_rate!$A$1:$H$1,0),FALSE)+VLOOKUP(\"1000+\",ceva_base_rate!$A$902:$H$902,MATCH(Sheet1!P24,ceva_base_rate!$A$1:$H$1,0),FALSE)*(K24-1000),2)))","v":""},{"$f":"IF(K24=\"\",\"\",IF(OR(L24=\"CA\",M24=\"CA\"),ceva_base_rate!$N$1,0))","v":""},{"$f":"IF(K24=\"\",\"\",IF(OR(AND(VALUE(LEFT(C24,3))>=110,VALUE(LEFT(C24,3))<=114),AND(VALUE(LEFT(C24,3))>=100,VALUE(LEFT(C24,3))<=104),AND(VALUE(LEFT(B24,3))>=110,VALUE(LEFT(B24,3))<=114),AND(VALUE(LEFT(B24,3))>=100,VALUE(LEFT(B24,3))<=104)),ceva_base_rate!$N$2,0))","v":""},{"$f":"IF(N24=\"\",\"\",IF(N24=\"standard\",0,IF(K24<1000,VLOOKUP(MAX(101,K24),ceva_base_rate!A:H,8,FALSE),ROUND(VLOOKUP(1000,ceva_base_rate!$A$901:$H$901,8,FALSE)+VLOOKUP(\"1000+\",ceva_base_rate!$A$902:$H$902,8,FALSE)*(K24-1000),2))))","v":""},{"$f":"IF(O24=\"\",\"\",IF(O24=\"standard\",0,IF(K24<1000,VLOOKUP(MAX(101,K24),ceva_base_rate!A:H,8,FALSE),ROUND(VLOOKUP(1000,ceva_base_rate!$A$901:$H$901,8,FALSE)+VLOOKUP(\"1000+\",ceva_base_rate!$A$902:$H$902,8,FALSE)*(K24-1000),2))))","v":""},{"$f":"IF(OR(D24>=250,I24>=75),ceva_base_rate!$N$3,0)","v":30},{"$f":"IF(I24<96,0,IF(I24<120,ceva_base_rate!$N$4,IF(I24<192,ceva_base_rate!$N$5,IF(I24<240,ceva_base_rate!$N$6,ceva_base_rate!$N$7))))","v":0},{"$f":"IF(COUNTIF($H$2:H24,H24)=1,SUMIF(H:H,H24,Q:Q)+SUMIF(H:H,H24,R:R)+SUMIF(H:H,H24,S:S)+SUMIF(H:H,H24,T:T)+SUMIF(H:H,H24,U:U)+SUMIF(H:H,H24,V:V)+SUMIF(H:H,H24,W:W),\"\")","v":""}]
[791217,"91702",7005,138,52,21,12,"791217_91702_07005",52,138,{"$f":"IF(COUNTIF($H$2:H25,H25)=1,SUMIF(H:H,H25,J:J),\"\")","v":138},{"$f":"VLOOKUP(TEXT(B25,\"00000\"),remote_zone!A:B,2,FALSE)","v":"CA"},{"$f":"VLOOKUP(TEXT(C25,\"00000\"),remote_zone!A:B,2,FALSE)","v":"NJ"},{"$f":"IF(K25=\"\",\"\",VLOOKUP(TEXT(B25,\"00000\"),remote_zone!$A:$D,4,FALSE))","v":"standard"},{"$f":"IF(K25=\"\",\"\",VLOOKUP(TEXT(C25,\"00000\"),remote_zone!$A:$D,4,FALSE))","v":"standard"},{"$f":"VLOOKUP(M25,ceva_zone!$A:$E,MATCH(Sheet1!L25,ceva_zone!$A$1:$E$1,0),FALSE)","v":"F"},{"$f":"IF(K25=\"\",\"\",IF(K25<1000,VLOOKUP(MAX(101,K25),ceva_base_rate!A:H,MATCH(Sheet1!P25,ceva_base_rate!$A$1:$H$1,0),FALSE),ROUND(VLOOKUP(1000,ceva_base_rate!$A$901:$H$901,MATCH(Sheet1!P25,ceva_base_rate!$A$1:$H$1,0),FALSE)+VLOOKUP(\"1000+\",ceva_base_rate!$A$902:$H$902,MATCH(Sheet1!P25,ceva_base_rate!$A$1:$H$1,0),FALSE)*(K25-1000),2)))","v":156},{"$f":"IF(K25=\"\",\"\",IF(OR(L25=\"CA\",M25=\"CA\"),ceva_base_rate!$N$1,0))","v":18.24},{"$f":"IF(K25=\"\",\"\",IF(OR(AND(VALUE(LEFT(C25,3))>=110,VALUE(LEFT(C25,3))<=114),AND(VALUE(LEFT(C25,3))>=100,VALUE(LEFT(C25,3))<=104),AND(VALUE(LEFT(B25,3))>=110,VALUE(LEFT(B25,3))<=114),AND(VALUE(LEFT(B25,3))>=100,VALUE(LEFT(B25,3))<=104)),ceva_base_rate!$N$2,0))","v":0},{"$f":"IF(N25=\"\",\"\",IF(N25=\"standard\",0,IF(K25<1000,VLOOKUP(MAX(101,K25),ceva_base_rate!A:H,8,FALSE),ROUND(VLOOKUP(1000,ceva_base_rate!$A$901:$H$901,8,FALSE)+VLOOKUP(\"1000+\",ceva_base_rate!$A$902:$H$902,8,FALSE)*(K25-1000),2))))","v":0},{"$f":"IF(O25=\"\",\"\",IF(O25=\"standard\",0,IF(K25<1000,VLOOKUP(MAX(101,K25),ceva_base_rate!A:H,8,FALSE),ROUND(VLOOKUP(1000,ceva_base_rate!$A$901:$H$901,8,FALSE)+VLOOKUP(\"1000+\",ceva_base_rate!$A$902:$H$902,8,FALSE)*(K25-1000),2))))","v":0},{"$f":"IF(OR(D25>=250,I25>=75),ceva_base_rate!$N$3,0)","v":0},{"$f":"IF(I25<96,0,IF(I25<120,ceva_base_rate!$N$4,IF(I25<192,ceva_base_rate!$N$5,IF(I25<240,ceva_base_rate!$N$6,ceva_base_rate!$N$7))))","v":0},{"$f":"IF(COUNTIF($H$2:H25,H25)=1,SUMIF(H:H,H25,Q:Q)+SUMIF(H:H,H25,R:R)+SUMIF(H:H,H25,S:S)+SUMIF(H:H,H25,T:T)+SUMIF(H:H,H25,U:U)+SUMIF(H:H,H25,V:V)+SUMIF(H:H,H25,W:W),\"\")","v":174.24}]
[791517,"91702",10312,104,75,40,26,"791517_91702_10312",75,312,{"$f":"IF(COUNTIF($H$2:H26,H26)=1,SUMIF(H:H,H26,J:J),\"\")","v":312},{"$f":"VLOOKUP(TEXT(B26,\"00000\"),remote_zone!A:B,2,FALSE)","v":"CA"},{"$f":"VLOOKUP(TEXT(C26,\"00000\"),remote_zone!A:B,2,FALSE)","v":"NY"},{"$f":"IF(K26=\"\",\"\",VLOOKUP(TEXT(B26,\"00000\"),remote_zone!$A:$D,4,FALSE))","v":"standard"},{"$f":"IF(K26=\"\",\"\",VLOOKUP(TEXT(C26,\"00000\"),remote_zone!$A:$D,4,FALSE))","v":"standard"},{"$f":"VLOOKUP(M26,ceva_zone!$A:$E,MATCH(Sheet1!L26,ceva_zone!$A$1:$E$1,0),FALSE)","v":"F"},{"$f":"IF(K26=\"\",\"\",IF(K26<1000,VLOOKUP(MAX(101,K26),ceva_base_rate!A:H,MATCH(Sheet1!P26,ceva_base_rate!$A$1:$H$1,0),FALSE),ROUND(VLOOKUP(1000,ceva_base_rate!$A$901:$H$901,MATCH(Sheet1!P26,ceva_base_rate!$A$1:$H$1,0),FALSE)+VLOOKUP(\"1000+\",ceva_base_rate!$A$902:$H$902,MATCH(Sheet1!P26,ceva_base_rate!$A$1:$H$1,0),FALSE)*(K26-1000),2)))","v":262},{"$f":"IF(K26=\"\",\"\",IF(OR(L26=\"CA\",M26=\"CA\"),ceva_base_rate!$N$1,0))","v":18.24},{"$f":"IF(K26=\"\",\"\",IF(OR(AND(VALUE(LEFT(C26,3))>=110,VALUE(LEFT(C26,3))<=114),AND(VALUE(LEFT(C26,3))>=100,VALUE(LEFT(C26,3))<=104),AND(VALUE(LEFT(B26,3))>=110,VALUE(LEFT(B26,3))<=114),AND(VALUE(LEFT(B26,3))>=100,VALUE(LEFT(B26,3))<=104)),ceva_base_rate!$N$2,0))","v":37.99},{"$f":"IF(N26=\"\",\"\",IF(N26=\"standard\",0,IF(K26<1000,VLOOKUP(MAX(101,K26),ceva_base_rate!A:H,8,FALSE),ROUND(VLOOKUP(1000,ceva_base_rate!$A$901:$H$901,8,FALSE)+VLOOKUP(\"1000+\",ceva_base_rate!$A$902:$H$902,8,FALSE)*(K26-1000),2))))","v":0},{"$f":"IF(O26=\"\",\"\",IF(O26=\"standard\",0,IF(K26<1000,VLOOKUP(MAX(101,K26),ceva_base_rate!A:H,8,FALSE),ROUND(VLOOKUP(1000,ceva_base_rate!$A$901:$H$901,8,FALSE)+VLOOKUP(\"1000+\",ceva_base_rate!$A$902:$H$902,8,FALSE)*(K26-1000),2))))","v":0},{"$f":"IF(OR(D26>=250,I26>=75),ceva_base_rate!$N$3,0)","v":30},{"$f":"IF(I26<96,0,IF(I26<120,ceva_base_rate!$N$4,IF(I26<192,ceva_base_rate!$N$5,IF(I26<240,ceva_base_rate!$N$6,ceva_base_rate!$N$7))))","v":0},{"$f":"IF(COUNTIF($H$2:H26,H26)=1,SUMIF(H:H,H26,Q:Q)+SUMIF(H:H,H26,R:R)+SUMIF(H:H,H26,S:S)+SUMIF(H:H,H26,T:T)+SUMIF(H:H,H26,U:U)+SUMIF(H:H,H26,V:V)+SUMIF(H:H,H26,W:W),\"\")","v":348.23}]
[791538,"91702",75247,653,93,93,10,"791538_91702_75247",93,653,{"$f":"IF(COUNTIF($H$2:H27,H27)=1,SUMIF(H:H,H27,J:J),\"\")","v":680},{"$f":"VLOOKUP(TEXT(B27,\"00000\"),remote_zone!A:B,2,FALSE)","v":"CA"},{"$f":"VLOOKUP(TEXT(C27,\"00000\"),remote_zone!A:B,2,FALSE)","v":"TX"},{"$f":"IF(K27=\"\",\"\",VLOOKUP(TEXT(B27,\"00000\"),remote_zone!$A:$D,4,FALSE))","v":"standard"},{"$f":"IF(K27=\"\",\"\",VLOOKUP(TEXT(C27,\"00000\"),remote_zone!$A:$D,4,FALSE))","v":"standard"},{"$f":"VLOOKUP(M27,ceva_zone!$A:$E,MATCH(Sheet1!L27,ceva_zone!$A$1:$E$1,0),FALSE)","v":"D"},{"$f":"IF(K27=\"\",\"\",IF(K27<1000,VLOOKUP(MAX(101,K27),ceva_base_rate!A:H,MATCH(Sheet1!P27,ceva_base_rate!$A$1:$H$1,0),FALSE),ROUND(VLOOKUP(1000,ceva_base_rate!$A$901:$H$901,MATCH(Sheet1!P27,ceva_base_rate!$A$1:$H$1,0),FALSE)+VLOOKUP(\"1000+\",ceva_base_rate!$A$902:$H$902,MATCH(Sheet1!P27,ceva_base_rate!$A$1:$H$1,0),FALSE)*(K27-1000),2)))","v":359},{"$f":"IF(K27=\"\",\"\",IF(OR(L27=\"CA\",M27=\"CA\"),ceva_base_rate!$N$1,0))","v":18.24},{"$f":"IF(K27=\"\",\"\",IF(OR(AND(VALUE(LEFT(C27,3))>=110,VALUE(LEFT(C27,3))<=114),AND(VALUE(LEFT(C27,3))>=100,VALUE(LEFT(C27,3))<=104),AND(VALUE(LEFT(B27,3))>=110,VALUE(LEFT(B27,3))<=114),AND(VALUE(LEFT(B27,3))>=100,VALUE(LEFT(B27,3))<=104)),ceva_base_rate!$N$2,0))","v":0},{"$f":"IF(N27=\"\",\"\",IF(N27=\"standard\",0,IF(K27<1000,VLOOKUP(MAX(101,K27),ceva_base_rate!A:H,8,FALSE),ROUND(VLOOKUP(1000,ceva_base_rate!$A$901:$H$901,8,FALSE)+VLOOKUP(\"1000+\",ceva_base_rate!$A$902:$H$902,8,FALSE)*(K27-1000),2))))","v":0},{"$f":"IF(O27=\"\",\"\",IF(O27=\"standard\",0,IF(K27<1000,VLOOKUP(MAX(101,K27),ceva_base_rate!A:H,8,FALSE),ROUND(VLOOKUP(1000,ceva_base_rate!$A$901:$H$901,8,FALSE)+VLOOKUP(\"1000+\",ceva_base_rate!$A$902:$H$902,8,FALSE)*(K27-1000),2))))","v":0},{"$f":"IF(OR(D27>=250,I27>=75),ceva_base_rate!$N$3,0)","v":30},{"$f":"IF(I27<96,0,IF(I27<120,ceva_base_rate!$N$4,IF(I27<192,ceva_base_rate!$N$5,IF(I27<240,ceva_base_rate!$N$6,ceva_base_rate!$N$7))))","v":0},{"$f":"IF(COUNTIF($H$2:H27,H27)=1,SUMIF(H:H,H27,Q:Q)+SUMIF(H:H,H27,R:R)+SUMIF(H:H,H27,S:S)+SUMIF(H:H,H27,T:T)+SUMIF(H:H,H27,U:U)+SUMIF(H:H,H27,V:V)+SUMIF(H:H,H27,W:W),\"\")","v":407.24}]
[791538,"91702",75247,27,27,14,14,"791538_91702_75247",27,27,{"$f":"IF(COUNTIF($H$2:H28,H28)=1,SUMIF(H:H,H28,J:J),\"\")","v":""},{"$f":"VLOOKUP(TEXT(B28,\"00000\"),remote_zone!A:B,2,FALSE)","v":"CA"},{"$f":"VLOOKUP(TEXT(C28,\"00000\"),remote_zone!A:B,2,FALSE)","v":"TX"},{"$f":"IF(K28=\"\",\"\",VLOOKUP(TEXT(B28,\"00000\"),remote_zone!$A:$D,4,FALSE))","v":""},{"$f":"IF(K28=\"\",\"\",VLOOKUP(TEXT(C28,\"00000\"),remote_zone!$A:$D,4,FALSE))","v":""},{"$f":"VLOOKUP(M28,ceva_zone!$A:$E,MATCH(Sheet1!L28,ceva_zone!$A$1:$E$1,0),FALSE)","v":"D"},{"$f":"IF(K28=\"\",\"\",IF(K28<1000,VLOOKUP(MAX(101,K28),ceva_base_rate!A:H,MATCH(Sheet1!P28,ceva_base_rate!$A$1:$H$1,0),FALSE),ROUND(VLOOKUP(1000,ceva_base_rate!$A$901:$H$901,MATCH(Sheet1!P28,ceva_base_rate!$A$1:$H$1,0),FALSE)+VLOOKUP(\"1000+\",ceva_base_rate!$A$902:$H$902,MATCH(Sheet1!P28,ceva_base_rate!$A$1:$H$1,0),FALSE)*(K28-1000),2)))","v":""},{"$f":"IF(K28=\"\",\"\",IF(OR(L28=\"CA\",M28=\"CA\"),ceva_base_rate!$N$1,0))","v":""},{"$f":"IF(K28=\"\",\"\",IF(OR(AND(VALUE(LEFT(C28,3))>=110,VALUE(LEFT(C28,3))<=114),AND(VALUE(LEFT(C28,3))>=100,VALUE(LEFT(C28,3))<=104),AND(VALUE(LEFT(B28,3))>=110,VALUE(LEFT(B28,3))<=114),AND(VALUE(LEFT(B28,3))>=100,VALUE(LEFT(B28,3))<=104)),ceva_base_rate!$N$2,0))","v":""},{"$f":"IF(N28=\"\",\"\",IF(N28=\"standard\",0,IF(K28<1000,VLOOKUP(MAX(101,K28),ceva_base_rate!A:H,8,FALSE),ROUND(VLOOKUP(1000,ceva_base_rate!$A$901:$H$901,8,FALSE)+VLOOKUP(\"1000+\",ceva_base_rate!$A$902:$H$902,8,FALSE)*(K28-1000),2))))","v":""},{"$f":"IF(O28=\"\",\"\",IF(O28=\"standard\",0,IF(K28<1000,VLOOKUP(MAX(101,K28),ceva_base_rate!A:H,8,FALSE),ROUND(VLOOKUP(1000,ceva_base_rate!$A$901:$H$901,8,FALSE)+VLOOKUP(\"1000+\",ceva_base_rate!$A$902:$H$902,8,FALSE)*(K28-1000),2))))","v":""},{"$f":"IF(OR(D28>=250,I28>=75),ceva_base_rate!$N$3,0)","v":0},{"$f":"IF(I28<96,0,IF(I28<120,ceva_base_rate!$N$4,IF(I28<192,ceva_base_rate!$N$5,IF(I28<240,ceva_base_rate!$N$6,ceva_base_rate!$N$7))))","v":0},{"$f":"IF(COUNTIF($H$2:H28,H28)=1,SUMIF(H:H,H28,Q:Q)+SUMIF(H:H,H28,R:R)+SUMIF(H:H,H28,S:S)+SUMIF(H:H,H28,T:T)+SUMIF(H:H,H28,U:U)+SUMIF(H:H,H28,V:V)+SUMIF(H:H,H28,W:W),\"\")","v":""}]
[791920,"91702",65050,214,65,64,32,"791920_91702_65050",65,532,{"$f":"IF(COUNTIF($H$2:H29,H29)=1,SUMIF(H:H,H29,J:J),\"\")","v":532},{"$f":"VLOOKUP(TEXT(B29,\"00000\"),remote_zone!A:B,2,FALSE)","v":"CA"},{"$f":"VLOOKUP(TEXT(C29,\"00000\"),remote_zone!A:B,2,FALSE)","v":"MO"},{"$f":"IF(K29=\"\",\"\",VLOOKUP(TEXT(B29,\"00000\"),remote_zone!$A:$D,4,FALSE))","v":"standard"},{"$f":"IF(K29=\"\",\"\",VLOOKUP(TEXT(C29,\"00000\"),remote_zone!$A:$D,4,FALSE))","v":"remote"},{"$f":"VLOOKUP(M29,ceva_zone!$A:$E,MATCH(Sheet1!L29,ceva_zone!$A$1:$E$1,0),FALSE)","v":"E"},{"$f":"IF(K29=\"\",\"\",IF(K29<1000,VLOOKUP(MAX(101,K29),ceva_base_rate!A:H,MATCH(Sheet1!P29,ceva_base_rate!$A$1:$H$1,0),FALSE),ROUND(VLOOKUP(1000,ceva_base_rate!$A$901:$H$901,MATCH(Sheet1!P29,ceva_base_rate!$A$1:$H$1,0),FALSE)+VLOOKUP(\"1000+\",ceva_base_rate!$A$902:$H$902,MATCH(Sheet1!P29,ceva_base_rate!$A$1:$H$1,0),FALSE)*(K29-1000),2)))","v":338},{"$f":"IF(K29=\"\",\"\",IF(OR(L29=\"CA\",M29=\"CA\"),ceva_base_rate!$N$1,0))","v":18.24},{"$f":"IF(K29=\"\",\"\",IF(OR(AND(VALUE(LEFT(C29,3))>=110,VALUE(LEFT(C29,3))<=114),AND(VALUE(LEFT(C29,3))>=100,VALUE(LEFT(C29,3))<=104),AND(VALUE(LEFT(B29,3))>=110,VALUE(LEFT(B29,3))<=114),AND(VALUE(LEFT(B29,3))>=100,VALUE(LEFT(B29,3))<=104)),ceva_base_rate!$N$2,0))","v":0},{"$f":"IF(N29=\"\",\"\",IF(N29=\"standard\",0,IF(K29<1000,VLOOKUP(MAX(101,K29),ceva_base_rate!A:H,8,FALSE),ROUND(VLOOKUP(1000,ceva_base_rate!$A$901:$H$901,8,FALSE)+VLOOKUP(\"1000+\",ceva_base_rate!$A$902:$H$902,8,FALSE)*(K29-1000),2))))","v":0},{"$f":"IF(O29=\"\",\"\",IF(O29=\"standard\",0,IF(K29<1000,VLOOKUP(MAX(101,K29),ceva_base_rate!A:H,8,FALSE),ROUND(VLOOKUP(1000,ceva_base_rate!$A$901:$H$901,8,FALSE)+VLOOKUP(\"1000+\",ceva_base_rate!$A$902:$H$902,8,FALSE)*(K29-1000),2))))","v":218},{"$f":"IF(OR(D29>=250,I29>=75),ceva_base_rate!$N$3,0)","v":0},{"$f":"IF(I29<96,0,IF(I29<120,ceva_base_rate!$N$4,IF(I29<192,ceva_base_rate!$N$5,IF(I29<240,ceva_base_rate!$N$6,ceva_base_rate!$N$7))))","v":0},{"$f":"IF(COUNTIF($H$2:H29,H29)=1,SUMIF(H:H,H29,Q:Q)+SUMIF(H:H,H29,R:R)+SUMIF(H:H,H29,S:S)+SUMIF(H:H,H29,T:T)+SUMIF(H:H,H29,U:U)+SUMIF(H:H,H29,V:V)+SUMIF(H:H,H29,W:W),\"\")","v":574.24}]
[792006,"91702",53191,120,89,39,5,"792006_91702_53191",89,120,{"$f":"IF(COUNTIF($H$2:H30,H30)=1,SUMIF(H:H,H30,J:J),\"\")","v":165},{"$f":"VLOOKUP(TEXT(B30,\"00000\"),remote_zone!A:B,2,FALSE)","v":"CA"},{"$f":"VLOOKUP(TEXT(C30,\"00000\"),remote_zone!A:B,2,FALSE)","v":"WI"},{"$f":"IF(K30=\"\",\"\",VLOOKUP(TEXT(B30,\"00000\"),remote_zone!$A:$D,4,FALSE))","v":"standard"},{"$f":"IF(K30=\"\",\"\",VLOOKUP(TEXT(C30,\"00000\"),remote_zone!$A:$D,4,FALSE))","v":"standard"},{"$f":"VLOOKUP(M30,ceva_zone!$A:$E,MATCH(Sheet1!L30,ceva_zone!$A$1:$E$1,0),FALSE)","v":"E"},{"$f":"IF(K30=\"\",\"\",IF(K30<1000,VLOOKUP(MAX(101,K30),ceva_base_rate!A:H,MATCH(Sheet1!P30,ceva_base_rate!$A$1:$H$1,0),FALSE),ROUND(VLOOKUP(1000,ceva_base_rate!$A$901:$H$901,MATCH(Sheet1!P30,ceva_base_rate!$A$1:$H$1,0),FALSE)+VLOOKUP(\"1000+\",ceva_base_rate!$A$902:$H$902,MATCH(Sheet1!P30,ceva_base_rate!$A$1:$H$1,0),FALSE)*(K30-1000),2)))","v":156},{"$f":"IF(K30=\"\",\"\",IF(OR(L30=\"CA\",M30=\"CA\"),ceva_base_rate!$N$1,0))","v":18.24},{"$f":"IF(K30=\"\",\"\",IF(OR(AND(VALUE(LEFT(C30,3))>=110,VALUE(LEFT(C30,3))<=114),AND(VALUE(LEFT(C30,3))>=100,VALUE(LEFT(C30,3))<=104),AND(VALUE(LEFT(B30,3))>=110,VALUE(LEFT(B30,3))<=114),AND(VALUE(LEFT(B30,3))>=100,VALUE(LEFT(B30,3))<=104)),ceva_base_rate!$N$2,0))","v":0},{"$f":"IF(N30=\"\",\"\",IF(N30=\"standard\",0,IF(K30<1000,VLOOKUP(MAX(101,K30),ceva_base_rate!A:H,8,FALSE),ROUND(VLOOKUP(1000,ceva_base_rate!$A$901:$H$901,8,FALSE)+VLOOKUP(\"1000+\",ceva_base_rate!$A$902:$H$902,8,FALSE)*(K30-1000),2))))","v":0},{"$f":"IF(O30=\"\",\"\",IF(O30=\"standard\",0,IF(K30<1000,VLOOKUP(MAX(101,K30),ceva_base_rate!A:H,8,FALSE),ROUND(VLOOKUP(1000,ceva_base_rate!$A$901:$H$901,8,FALSE)+VLOOKUP(\"1000+\",ceva_base_rate!$A$902:$H$902,8,FALSE)*(K30-1000),2))))","v":0},{"$f":"IF(OR(D30>=250,I30>=75),ceva_base_rate!$N$3,0)","v":30},{"$f":"IF(I30<96,0,IF(I30<120,ceva_base_rate!$N$4,IF(I30<192,ceva_base_rate!$N$5,IF(I30<240,ceva_base_rate!$N$6,ceva_base_rate!$N$7))))","v":0},{"$f":"IF(COUNTIF($H$2:H30,H30)=1,SUMIF(H:H,H30,Q:Q)+SUMIF(H:H,H30,R:R)+SUMIF(H:H,H30,S:S)+SUMIF(H:H,H30,T:T)+SUMIF(H:H,H30,U:U)+SUMIF(H:H,H30,V:V)+SUMIF(H:H,H30,W:W),\"\")","v":204.24}]
[792006,"91702",53191,40,36,31,10,"792006_91702_53191",36,45,{"$f":"IF(COUNTIF($H$2:H31,H31)=1,SUMIF(H:H,H31,J:J),\"\")","v":""},{"$f":"VLOOKUP(TEXT(B31,\"00000\"),remote_zone!A:B,2,FALSE)","v":"CA"},{"$f":"VLOOKUP(TEXT(C31,\"00000\"),remote_zone!A:B,2,FALSE)","v":"WI"},{"$f":"IF(K31=\"\",\"\",VLOOKUP(TEXT(B31,\"00000\"),remote_zone!$A:$D,4,FALSE))","v":""},{"$f":"IF(K31=\"\",\"\",VLOOKUP(TEXT(C31,\"00000\"),remote_zone!$A:$D,4,FALSE))","v":""},{"$f":"VLOOKUP(M31,ceva_zone!$A:$E,MATCH(Sheet1!L31,ceva_zone!$A$1:$E$1,0),FALSE)","v":"E"},{"$f":"IF(K31=\"\",\"\",IF(K31<1000,VLOOKUP(MAX(101,K31),ceva_base_rate!A:H,MATCH(Sheet1!P31,ceva_base_rate!$A$1:$H$1,0),FALSE),ROUND(VLOOKUP(1000,ceva_base_rate!$A$901:$H$901,MATCH(Sheet1!P31,ceva_base_rate!$A$1:$H$1,0),FALSE)+VLOOKUP(\"1000+\",ceva_base_rate!$A$902:$H$902,MATCH(Sheet1!P31,ceva_base_rate!$A$1:$H$1,0),FALSE)*(K31-1000),2)))","v":""},{"$f":"IF(K31=\"\",\"\",IF(OR(L31=\"CA\",M31=\"CA\"),ceva_base_rate!$N$1,0))","v":""},{"$f":"IF(K31=\"\",\"\",IF(OR(AND(VALUE(LEFT(C31,3))>=110,VALUE(LEFT(C31,3))<=114),AND(VALUE(LEFT(C31,3))>=100,VALUE(LEFT(C31,3))<=104),AND(VALUE(LEFT(B31,3))>=110,VALUE(LEFT(B31,3))<=114),AND(VALUE(LEFT(B31,3))>=100,VALUE(LEFT(B31,3))<=104)),ceva_base_rate!$N$2,0))","v":""},{"$f":"IF(N31=\"\",\"\",IF(N31=\"standard\",0,IF(K31<1000,VLOOKUP(MAX(101,K31),ceva_base_rate!A:H,8,FALSE),ROUND(VLOOKUP(1000,ceva_base_rate!$A$901:$H$901,8,FALSE)+VLOOKUP(\"1000+\",ceva_base_rate!$A$902:$H$902,8,FALSE)*(K31-1000),2))))","v":""},{"$f":"IF(O31=\"\",\"\",IF(O31=\"standard\",0,IF(K31<1000,VLOOKUP(MAX(101,K31),ceva_base_rate!A:H,8,FALSE),ROUND(VLOOKUP(1000,ceva_base_rate!$A$901:$H$901,8,FALSE)+VLOOKUP(\"1000+\",ceva_base_rate!$A$902:$H$902,8,FALSE)*(K31-1000),2))))","v":""},{"$f":"IF(OR(D31>=250,I31>=75),ceva_base_rate!$N$3,0)","v":0},{"$f":"IF(I31<96,0,IF(I31<120,ceva_base_rate!$N$4,IF(I31<192,ceva_base_rate!$N$5,IF(I31<240,ceva_base_rate!$N$6,ceva_base_rate!$N$7))))","v":0},{"$f":"IF(COUNTIF($H$2:H31,H31)=1,SUMIF(H:H,H31,Q:Q)+SUMIF(H:H,H31,R:R)+SUMIF(H:H,H31,S:S)+SUMIF(H:H,H31,T:T)+SUMIF(H:H,H31,U:U)+SUMIF(H:H,H31,V:V)+SUMIF(H:H,H31,W:W),\"\")","v":""}]
[792159,"91702",33166,99,63,26,5,"792159_91702_33166",63,99,{"$f":"IF(COUNTIF($H$2:H32,H32)=1,SUMIF(H:H,H32,J:J),\"\")","v":643},{"$f":"VLOOKUP(TEXT(B32,\"00000\"),remote_zone!A:B,2,FALSE)","v":"CA"},{"$f":"VLOOKUP(TEXT(C32,\"00000\"),remote_zone!A:B,2,FALSE)","v":"FL"},{"$f":"IF(K32=\"\",\"\",VLOOKUP(TEXT(B32,\"00000\"),remote_zone!$A:$D,4,FALSE))","v":"standard"},{"$f":"IF(K32=\"\",\"\",VLOOKUP(TEXT(C32,\"00000\"),remote_zone!$A:$D,4,FALSE))","v":"standard"},{"$f":"VLOOKUP(M32,ceva_zone!$A:$E,MATCH(Sheet1!L32,ceva_zone!$A$1:$E$1,0),FALSE)","v":"F"},{"$f":"IF(K32=\"\",\"\",IF(K32<1000,VLOOKUP(MAX(101,K32),ceva_base_rate!A:H,MATCH(Sheet1!P32,ceva_base_rate!$A$1:$H$1,0),FALSE),ROUND(VLOOKUP(1000,ceva_base_rate!$A$901:$H$901,MATCH(Sheet1!P32,ceva_base_rate!$A$1:$H$1,0),FALSE)+VLOOKUP(\"1000+\",ceva_base_rate!$A$902:$H$902,MATCH(Sheet1!P32,ceva_base_rate!$A$1:$H$1,0),FALSE)*(K32-1000),2)))","v":392},{"$f":"IF(K32=\"\",\"\",IF(OR(L32=\"CA\",M32=\"CA\"),ceva_base_rate!$N$1,0))","v":18.24},{"$f":"IF(K32=\"\",\"\",IF(OR(AND(VALUE(LEFT(C32,3))>=110,VALUE(LEFT(C32,3))<=114),AND(VALUE(LEFT(C32,3))>=100,VALUE(LEFT(C32,3))<=104),AND(VALUE(LEFT(B32,3))>=110,VALUE(LEFT(B32,3))<=114),AND(VALUE(LEFT(B32,3))>=100,VALUE(LEFT(B32,3))<=104)),ceva_base_rate!$N$2,0))","v":0},{"$f":"IF(N32=\"\",\"\",IF(N32=\"standard\",0,IF(K32<1000,VLOOKUP(MAX(101,K32),ceva_base_rate!A:H,8,FALSE),ROUND(VLOOKUP(1000,ceva_base_rate!$A$901:$H$901,8,FALSE)+VLOOKUP(\"1000+\",ceva_base_rate!$A$902:$H$902,8,FALSE)*(K32-1000),2))))","v":0},{"$f":"IF(O32=\"\",\"\",IF(O32=\"standard\",0,IF(K32<1000,VLOOKUP(MAX(101,K32),ceva_base_rate!A:H,8,FALSE),ROUND(VLOOKUP(1000,ceva_base_rate!$A$901:$H$901,8,FALSE)+VLOOKUP(\"1000+\",ceva_base_rate!$A$902:$H$902,8,FALSE)*(K32-1000),2))))","v":0},{"$f":"IF(OR(D32>=250,I32>=75),ceva_base_rate!$N$3,0)","v":0},{"$f":"IF(I32<96,0,IF(I32<120,ceva_base_rate!$N$4,IF(I32<192,ceva_base_rate!$N$5,IF(I32<240,ceva_base_rate!$N$6,ceva_base_rate!$N$7))))","v":0},{"$f":"IF(COUNTIF($H$2:H32,H32)=1,SUMIF(H:H,H32,Q:Q)+SUMIF(H:H,H32,R:R)+SUMIF(H:H,H32,S:S)+SUMIF(H:H,H32,T:T)+SUMIF(H:H,H32,U:U)+SUMIF(H:H,H32,V:V)+SUMIF(H:H,H32,W:W),\"\")","v":571.28}]
[792159,"91702",33166,95,54,26,6,"792159_91702_33166",54,95,{"$f":"IF(COUNTIF($H$2:H33,H33)=1,SUMIF(H:H,H33,J:J),\"\")","v":""},{"$f":"VLOOKUP(TEXT(B33,\"00000\"),remote_zone!A:B,2,FALSE)","v":"CA"},{"$f":"VLOOKUP(TEXT(C33,\"00000\"),remote_zone!A:B,2,FALSE)","v":"FL"},{"$f":"IF(K33=\"\",\"\",VLOOKUP(TEXT(B33,\"00000\"),remote_zone!$A:$D,4,FALSE))","v":""},{"$f":"IF(K33=\"\",\"\",VLOOKUP(TEXT(C33,\"00000\"),remote_zone!$A:$D,4,FALSE))","v":""},{"$f":"VLOOKUP(M33,ceva_zone!$A:$E,MATCH(Sheet1!L33,ceva_zone!$A$1:$E$1,0),FALSE)","v":"F"},{"$f":"IF(K33=\"\",\"\",IF(K33<1000,VLOOKUP(MAX(101,K33),ceva_base_rate!A:H,MATCH(Sheet1!P33,ceva_base_rate!$A$1:$H$1,0),FALSE),ROUND(VLOOKUP(1000,ceva_base_rate!$A$901:$H$901,MATCH(Sheet1!P33,ceva_base_rate!$A$1:$H$1,0),FALSE)+VLOOKUP(\"1000+\",ceva_base_rate!$A$902:$H$902,MATCH(Sheet1!P33,ceva_base_rate!$A$1:$H$1,0),FALSE)*(K33-1000),2)))","v":""},{"$f":"IF(K33=\"\",\"\",IF(OR(L33=\"CA\",M33=\"CA\"),ceva_base_rate!$N$1,0))","v":""},{"$f":"IF(K33=\"\",\"\",IF(OR(AND(VALUE(LEFT(C33,3))>=110,VALUE(LEFT(C33,3))<=114),AND(VALUE(LEFT(C33,3))>=100,VALUE(LEFT(C33,3))<=104),AND(VALUE(LEFT(B33,3))>=110,VALUE(LEFT(B33,3))<=114),AND(VALUE(LEFT(B33,3))>=100,VALUE(LEFT(B33,3))<=104)),ceva_base_rate!$N$2,0))","v":""},{"$f":"IF(N33=\"\",\"\",IF(N33=\"standard\",0,IF(K33<1000,VLOOKUP(MAX(101,K33),ceva_base_rate!A:H,8,FALSE),ROUND(VLOOKUP(1000,ceva_base_rate!$A$901:$H$901,8,FALSE)+VLOOKUP(\"1000+\",ceva_base_rate!$A$902:$H$902,8,FALSE)*(K33-1000),2))))","v":""},{"$f":"IF(O33=\"\",\"\",IF(O33=\"standard\",0,IF(K33<1000,VLOOKUP(MAX(101,K33),ceva_base_rate!A:H,8,FALSE),ROUND(VLOOKUP(1000,ceva_base_rate!$A$901:$H$901,8,FALSE)+VLOOKUP(\"1000+\",ceva_base_rate!$A$902:$H$902,8,FALSE)*(K33-1000),2))))","v":""},{"$f":"IF(OR(D33>=250,I33>=75),ceva_base_rate!$N$3,0)","v":0},{"$f":"IF(I33<96,0,IF(I33<120,ceva_base_rate!$N$4,IF(I33<192,ceva_base_rate!$N$5,IF(I33<240,ceva_base_rate!$N$6,ceva_base_rate!$N$7))))","v":0},{"$f":"IF(COUNTIF($H$2:H33,H33)=1,SUMIF(H:H,H33,Q:Q)+SUMIF(H:H,H33,R:R)+SUMIF(H:H,H33,S:S)+SUMIF(H:H,H33,T:T)+SUMIF(H:H,H33,U:U)+SUMIF(H:H,H33,V:V)+SUMIF(H:H,H33,W:W),\"\")","v":""}]
[792159,"91702",33166,18,27,23,21,"792159_91702_33166",27,52,{"$f":"IF(COUNTIF($H$2:H34,H34)=1,SUMIF(H:H,H34,J:J),\"\")","v":""},{"$f":"VLOOKUP(TEXT(B34,\"00000\"),remote_zone!A:B,2,FALSE)","v":"CA"},{"$f":"VLOOKUP(TEXT(C34,\"00000\"),remote_zone!A:B,2,FALSE)","v":"FL"},{"$f":"IF(K34=\"\",\"\",VLOOKUP(TEXT(B34,\"00000\"),remote_zone!$A:$D,4,FALSE))","v":""},{"$f":"IF(K34=\"\",\"\",VLOOKUP(TEXT(C34,\"00000\"),remote_zone!$A:$D,4,FALSE))","v":""},{"$f":"VLOOKUP(M34,ceva_zone!$A:$E,MATCH(Sheet1!L34,ceva_zone!$A$1:$E$1,0),FALSE)","v":"F"},{"$f":"IF(K34=\"\",\"\",IF(K34<1000,VLOOKUP(MAX(101,K34),ceva_base_rate!A:H,MATCH(Sheet1!P34,ceva_base_rate!$A$1:$H$1,0),FALSE),ROUND(VLOOKUP(1000,ceva_base_rate!$A$901:$H$901,MATCH(Sheet1!P34,ceva_base_rate!$A$1:$H$1,0),FALSE)+VLOOKUP(\"1000+\",ceva_base_rate!$A$902:$H$902,MATCH(Sheet1!P34,ceva_base_rate!$A$1:$H$1,0),FALSE)*(K34-1000),2)))","v":""},{"$f":"IF(K34=\"\",\"\",IF(OR(L34=\"CA\",M34=\"CA\"),ceva_base_rate!$N$1,0))","v":""},{"$f":"IF(K34=\"\",\"\",IF(OR(AND(VALUE(LEFT(C34,3))>=110,VALUE(LEFT(C34,3))<=114),AND(VALUE(LEFT(C34,3))>=100,VALUE(LEFT(C34,3))<=104),AND(VALUE(LEFT(B34,3))>=110,VALUE(LEFT(B34,3))<=114),AND(VALUE(LEFT(B34,3))>=100,VALUE(LEFT(B34,3))<=104)),ceva_base_rate!$N$2,0))","v":""},{"$f":"IF(N34=\"\",\"\",IF(N34=\"standard\",0,IF(K34<1000,VLOOKUP(MAX(101,K34),ceva_base_rate!A:H,8,FALSE),ROUND(VLOOKUP(1000,ceva_base_rate!$A$901:$H$901,8,FALSE)+VLOOKUP(\"1000+\",ceva_base_rate!$A$902:$H$902,8,FALSE)*(K34-1000),2))))","v":""},{"$f":"IF(O34=\"\",\"\",IF(O34=\"standard\",0,IF(K34<1000,VLOOKUP(MAX(101,K34),ceva_base_rate!A:H,8,FALSE),ROUND(VLOOKUP(1000,ceva_base_rate!$A$901:$H$901,8,FALSE)+VLOOKUP(\"1000+\",ceva_base_rate!$A$902:$H$902,8,FALSE)*(K34-1000),2))))","v":""},{"$f":"IF(OR(D34>=250,I34>=75),ceva_base_rate!$N$3,0)","v":0},{"$f":"IF(I34<96,0,IF(I34<120,ceva_base_rate!$N$4,IF(I34<192,ceva_base_rate!$N$5,IF(I34<240,ceva_base_rate!$N$6,ceva_base_rate!$N$7))))","v":0},{"$f":"IF(COUNTIF($H$2:H34,H34)=1,SUMIF(H:H,H34,Q:Q)+SUMIF(H:H,H34,R:R)+SUMIF(H:H,H34,S:S)+SUMIF(H:H,H34,T:T)+SUMIF(H:H,H34,U:U)+SUMIF(H:H,H34,V:V)+SUMIF(H:H,H34,W:W),\"\")","v":""}]
[792159,"91702",33166,78,29,24,23,"792159_91702_33166",29,78,{"$f":"IF(COUNTIF($H$2:H35,H35)=1,SUMIF(H:H,H35,J:J),\"\")","v":""},{"$f":"VLOOKUP(TEXT(B35,\"00000\"),remote_zone!A:B,2,FALSE)","v":"CA"},{"$f":"VLOOKUP(TEXT(C35,\"00000\"),remote_zone!A:B,2,FALSE)","v":"FL"},{"$f":"IF(K35=\"\",\"\",VLOOKUP(TEXT(B35,\"00000\"),remote_zone!$A:$D,4,FALSE))","v":""},{"$f":"IF(K35=\"\",\"\",VLOOKUP(TEXT(C35,\"00000\"),remote_zone!$A:$D,4,FALSE))","v":""},{"$f":"VLOOKUP(M35,ceva_zone!$A:$E,MATCH(Sheet1!L35,ceva_zone!$A$1:$E$1,0),FALSE)","v":"F"},{"$f":"IF(K35=\"\",\"\",IF(K35<1000,VLOOKUP(MAX(101,K35),ceva_base_rate!A:H,MATCH(Sheet1!P35,ceva_base_rate!$A$1:$H$1,0),FALSE),ROUND(VLOOKUP(1000,ceva_base_rate!$A$901:$H$901,MATCH(Sheet1!P35,ceva_base_rate!$A$1:$H$1,0),FALSE)+VLOOKUP(\"1000+\",ceva_base_rate!$A$902:$H$902,MATCH(Sheet1!P35,ceva_base_rate!$A$1:$H$1,0),FALSE)*(K35-1000),2)))","v":""},{"$f":"IF(K35=\"\",\"\",IF(OR(L35=\"CA\",M35=\"CA\"),ceva_base_rate!$N$1,0))","v":""},{"$f":"IF(K35=\"\",\"\",IF(OR(AND(VALUE(LEFT(C35,3))>=110,VALUE(LEFT(C35,3))<=114),AND(VALUE(LEFT(C35,3))>=100,VALUE(LEFT(C35,3))<=104),AND(VALUE(LEFT(B35,3))>=110,VALUE(LEFT(B35,3))<=114),AND(VALUE(LEFT(B35,3))>=100,VALUE(LEFT(B35,3))<=104)),ceva_base_rate!$N$2,0))","v":""},{"$f":"IF(N35=\"\",\"\",IF(N35=\"standard\",0,IF(K35<1000,VLOOKUP(MAX(101,K35),ceva_base_rate!A:H,8,FALSE),ROUND(VLOOKUP(1000,ceva_base_rate!$A$901:$H$901,8,FALSE)+VLOOKUP(\"1000+\",ceva_base_rate!$A$902:$H$902,8,FALSE)*(K35-1000),2))))","v":""},{"$f":"IF(O35=\"\",\"\",IF(O35=\"standard\",0,IF(K35<1000,VLOOKUP(MAX(101,K35),ceva_base_rate!A:H,8,FALSE),ROUND(VLOOKUP(1000,ceva_base_rate!$A$901:$H$901,8,FALSE)+VLOOKUP(\"1000+\",ceva_base_rate!$A$902:$H$902,8,FALSE)*(K35-1000),2))))","v":""},{"$f":"IF(OR(D35>=250,I35>=75),ceva_base_rate!$N$3,0)","v":0},{"$f":"IF(I35<96,0,IF(I35<120,ceva_base_rate!$N$4,IF(I35<192,ceva_base_rate!$N$5,IF(I35<240,ceva_base_rate!$N$6,ceva_base_rate!$N$7))))","v":0},{"$f":"IF(COUNTIF($H$2:H35,H35)=1,SUMIF(H:H,H35,Q:Q)+SUMIF(H:H,H35,R:R)+SUMIF(H:H,H35,S:S)+SUMIF(H:H,H35,T:T)+SUMIF(H:H,H35,U:U)+SUMIF(H:H,H35,V:V)+SUMIF(H:H,H35,W:W),\"\")","v":""}]
[792159,"91702",33166,23,34,31,25,"792159_91702_33166",34,105,{"$f":"IF(COUNTIF($H$2:H36,H36)=1,SUMIF(H:H,H36,J:J),\"\")","v":""},{"$f":"VLOOKUP(TEXT(B36,\"00000\"),remote_zone!A:B,2,FALSE)","v":"CA"},{"$f":"VLOOKUP(TEXT(C36,\"00000\"),remote_zone!A:B,2,FALSE)","v":"FL"},{"$f":"IF(K36=\"\",\"\",VLOOKUP(TEXT(B36,\"00000\"),remote_zone!$A:$D,4,FALSE))","v":""},{"$f":"IF(K36=\"\",\"\",VLOOKUP(TEXT(C36,\"00000\"),remote_zone!$A:$D,4,FALSE))","v":""},{"$f":"VLOOKUP(M36,ceva_zone!$A:$E,MATCH(Sheet1!L36,ceva_zone!$A$1:$E$1,0),FALSE)","v":"F"},{"$f":"IF(K36=\"\",\"\",IF(K36<1000,VLOOKUP(MAX(101,K36),ceva_base_rate!A:H,MATCH(Sheet1!P36,ceva_base_rate!$A$1:$H$1,0),FALSE),ROUND(VLOOKUP(1000,ceva_base_rate!$A$901:$H$901,MATCH(Sheet1!P36,ceva_base_rate!$A$1:$H$1,0),FALSE)+VLOOKUP(\"1000+\",ceva_base_rate!$A$902:$H$902,MATCH(Sheet1!P36,ceva_base_rate!$A$1:$H$1,0),FALSE)*(K36-1000),2)))","v":""},{"$f":"IF(K36=\"\",\"\",IF(OR(L36=\"CA\",M36=\"CA\"),ceva_base_rate!$N$1,0))","v":""},{"$f":"IF(K36=\"\",\"\",IF(OR(AND(VALUE(LEFT(C36,3))>=110,VALUE(LEFT(C36,3))<=114),AND(VALUE(LEFT(C36,3))>=100,VALUE(LEFT(C36,3))<=104),AND(VALUE(LEFT(B36,3))>=110,VALUE(LEFT(B36,3))<=114),AND(VALUE(LEFT(B36,3))>=100,VALUE(LEFT(B36,3))<=104)),ceva_base_rate!$N$2,0))","v":""},{"$f":"IF(N36=\"\",\"\",IF(N36=\"standard\",0,IF(K36<1000,VLOOKUP(MAX(101,K36),ceva_base_rate!A:H,8,FALSE),ROUND(VLOOKUP(1000,ceva_base_rate!$A$901:$H$901,8,FALSE)+VLOOKUP(\"1000+\",ceva_base_rate!$A$902:$H$902,8,FALSE)*(K36-1000),2))))","v":""},{"$f":"IF(O36=\"\",\"\",IF(O36=\"standard\",0,IF(K36<1000,VLOOKUP(MAX(101,K36),ceva_base_rate!A:H,8,FALSE),ROUND(VLOOKUP(1000,ceva_base_rate!$A$901:$H$901,8,FALSE)+VLOOKUP(\"1000+\",ceva_base_rate!$A$902:$H$902,8,FALSE)*(K36-1000),2))))","v":""},{"$f":"IF(OR(D36>=250,I36>=75),ceva_base_rate!$N$3,0)","v":0},{"$f":"IF(I36<96,0,IF(I36<120,ceva_base_rate!$N$4,IF(I36<192,ceva_base_rate!$N$5,IF(I36<240,ceva_base_rate!$N$6,ceva_base_rate!$N$7))))","v":0},{"$f":"IF(COUNTIF($H$2:H36,H36)=1,SUMIF(H:H,H36,Q:Q)+SUMIF(H:H,H36,R:R)+SUMIF(H:H,H36,S:S)+SUMIF(H:H,H36,T:T)+SUMIF(H:H,H36,U:U)+SUMIF(H:H,H36,V:V)+SUMIF(H:H,H36,W:W),\"\")","v":""}]
[792159,"91702",33166,214,107,44,7,{"$f":"A37&\"_\"&TEXT(B37,\"00000\")&\"_\"&TEXT(C37,\"00000\")","v":"792159_91702_33166"},{"$f":"MAX(E37:G37)","v":107},{"$f":"ROUND(MAX(D37,ROUND(E37,0)*ROUND(F37,0)*ROUND(G37,0)/250),0)","v":214},{"$f":"IF(COUNTIF($H$2:H37,H37)=1,SUMIF(H:H,H37,J:J),\"\")","v":""},{"$f":"VLOOKUP(TEXT(B37,\"00000\"),remote_zone!A:B,2,FALSE)","v":"CA"},{"$f":"VLOOKUP(TEXT(C37,\"00000\"),remote_zone!A:B,2,FALSE)","v":"FL"},{"$f":"IF(K37=\"\",\"\",VLOOKUP(TEXT(B37,\"00000\"),remote_zone!$A:$D,4,FALSE))","v":""},{"$f":"IF(K37=\"\",\"\",VLOOKUP(TEXT(C37,\"00000\"),remote_zone!$A:$D,4,FALSE))","v":""},{"$f":"VLOOKUP(M37,ceva_zone!$A:$E,MATCH(Sheet1!L37,ceva_zone!$A$1:$E$1,0),FALSE)","v":"F"},{"$f":"IF(K37=\"\",\"\",IF(K37<1000,VLOOKUP(MAX(101,K37),ceva_base_rate!A:H,MATCH(Sheet1!P37,ceva_base_rate!$A$1:$H$1,0),FALSE),ROUND(VLOOKUP(1000,ceva_base_rate!$A$901:$H$901,MATCH(Sheet1!P37,ceva_base_rate!$A$1:$H$1,0),FALSE)+VLOOKUP(\"1000+\",ceva_base_rate!$A$902:$H$902,MATCH(Sheet1!P37,ceva_base_rate!$A$1:$H$1,0),FALSE)*(K37-1000),2)))","v":""},{"$f":"IF(K37=\"\",\"\",IF(OR(L37=\"CA\",M37=\"CA\"),ceva_base_rate!$N$1,0))","v":""},{"$f":"IF(K37=\"\",\"\",IF(OR(AND(VALUE(LEFT(C37,3))>=110,VALUE(LEFT(C37,3))<=114),AND(VALUE(LEFT(C37,3))>=100,VALUE(LEFT(C37,3))<=104),AND(VALUE(LEFT(B37,3))>=110,VALUE(LEFT(B37,3))<=114),AND(VALUE(LEFT(B37,3))>=100,VALUE(LEFT(B37,3))<=104)),ceva_base_rate!$N$2,0))","v":""},{"$f":"IF(N37=\"\",\"\",IF(N37=\"standard\",0,IF(K37<1000,VLOOKUP(MAX(101,K37),ceva_base_rate!A:H,8,FALSE),ROUND(VLOOKUP(1000,ceva_base_rate!$A$901:$H$901,8,FALSE)+VLOOKUP(\"1000+\",ceva_base_rate!$A$902:$H$902,8,FALSE)*(K37-1000),2))))","v":""},{"$f":"IF(O37=\"\",\"\",IF(O37=\"standard\",0,IF(K37<1000,VLOOKUP(MAX(101,K37),ceva_base_rate!A:H,8,FALSE),ROUND(VLOOKUP(1000,ceva_base_rate!$A$901:$H$901,8,FALSE)+VLOOKUP(\"1000+\",ceva_base_rate!$A$902:$H$902,8,FALSE)*(K37-1000),2))))","v":""},{"$f":"IF(OR(D37>=250,I37>=75),ceva_base_rate!$N$3,0)","v":30},{"$f":"IF(I37<96,0,IF(I37<120,ceva_base_rate!$N$4,IF(I37<192,ceva_base_rate!$N$5,IF(I37<240,ceva_base_rate!$N$6,ceva_base_rate!$N$7))))","v":131.04},{"$f":"IF(COUNTIF($H$2:H37,H37)=1,SUMIF(H:H,H37,Q:Q)+SUMIF(H:H,H37,R:R)+SUMIF(H:H,H37,S:S)+SUMIF(H:H,H37,T:T)+SUMIF(H:H,H37,U:U)+SUMIF(H:H,H37,V:V)+SUMIF(H:H,H37,W:W),\"\")","v":""}]
[792270,"91702",10024,72,67,37,8,"792270_91702_10024",67,79,{"$f":"IF(COUNTIF($H$2:H38,H38)=1,SUMIF(H:H,H38,J:J),\"\")","v":79},{"$f":"VLOOKUP(TEXT(B38,\"00000\"),remote_zone!A:B,2,FALSE)","v":"CA"},{"$f":"VLOOKUP(TEXT(C38,\"00000\"),remote_zone!A:B,2,FALSE)","v":"NY"},{"$f":"IF(K38=\"\",\"\",VLOOKUP(TEXT(B38,\"00000\"),remote_zone!$A:$D,4,FALSE))","v":"standard"},{"$f":"IF(K38=\"\",\"\",VLOOKUP(TEXT(C38,\"00000\"),remote_zone!$A:$D,4,FALSE))","v":"standard"},{"$f":"VLOOKUP(M38,ceva_zone!$A:$E,MATCH(Sheet1!L38,ceva_zone!$A$1:$E$1,0),FALSE)","v":"F"},{"$f":"IF(K38=\"\",\"\",IF(K38<1000,VLOOKUP(MAX(101,K38),ceva_base_rate!A:H,MATCH(Sheet1!P38,ceva_base_rate!$A$1:$H$1,0),FALSE),ROUND(VLOOKUP(1000,ceva_base_rate!$A$901:$H$901,MATCH(Sheet1!P38,ceva_base_rate!$A$1:$H$1,0),FALSE)+VLOOKUP(\"1000+\",ceva_base_rate!$A$902:$H$902,MATCH(Sheet1!P38,ceva_base_rate!$A$1:$H$1,0),FALSE)*(K38-1000),2)))","v":156},{"$f":"IF(K38=\"\",\"\",IF(OR(L38=\"CA\",M38=\"CA\"),ceva_base_rate!$N$1,0))","v":18.24},{"$f":"IF(K38=\"\",\"\",IF(OR(AND(VALUE(LEFT(C38,3))>=110,VALUE(LEFT(C38,3))<=114),AND(VALUE(LEFT(C38,3))>=100,VALUE(LEFT(C38,3))<=104),AND(VALUE(LEFT(B38,3))>=110,VALUE(LEFT(B38,3))<=114),AND(VALUE(LEFT(B38,3))>=100,VALUE(LEFT(B38,3))<=104)),ceva_base_rate!$N$2,0))","v":37.99},{"$f":"IF(N38=\"\",\"\",IF(N38=\"standard\",0,IF(K38<1000,VLOOKUP(MAX(101,K38),ceva_base_rate!A:H,8,FALSE),ROUND(VLOOKUP(1000,ceva_base_rate!$A$901:$H$901,8,FALSE)+VLOOKUP(\"1000+\",ceva_base_rate!$A$902:$H$902,8,FALSE)*(K38-1000),2))))","v":0},{"$f":"IF(O38=\"\",\"\",IF(O38=\"standard\",0,IF(K38<1000,VLOOKUP(MAX(101,K38),ceva_base_rate!A:H,8,FALSE),ROUND(VLOOKUP(1000,ceva_base_rate!$A$901:$H$901,8,FALSE)+VLOOKUP(\"1000+\",ceva_base_rate!$A$902:$H$902,8,FALSE)*(K38-1000),2))))","v":0},{"$f":"IF(OR(D38>=250,I38>=75),ceva_base_rate!$N$3,0)","v":0},{"$f":"IF(I38<96,0,IF(I38<120,ceva_base_rate!$N$4,IF(I38<192,ceva_base_rate!$N$5,IF(I38<240,ceva_base_rate!$N$6,ceva_base_rate!$N$7))))","v":0},{"$f":"IF(COUNTIF($H$2:H38,H38)=1,SUMIF(H:H,H38,Q:Q)+SUMIF(H:H,H38,R:R)+SUMIF(H:H,H38,S:S)+SUMIF(H:H,H38,T:T)+SUMIF(H:H,H38,U:U)+SUMIF(H:H,H38,V:V)+SUMIF(H:H,H38,W:W),\"\")","v":212.23}]
[792342,"91702",60419,122,90,35,7,"792342_91702_60419",90,122,{"$f":"IF(COUNTIF($H$2:H39,H39)=1,SUMIF(H:H,H39,J:J),\"\")","v":122},{"$f":"VLOOKUP(TEXT(B39,\"00000\"),remote_zone!A:B,2,FALSE)","v":"CA"},{"$f":"VLOOKUP(TEXT(C39,\"00000\"),remote_zone!A:B,2,FALSE)","v":"IL"},{"$f":"IF(K39=\"\",\"\",VLOOKUP(TEXT(B39,\"00000\"),remote_zone!$A:$D,4,FALSE))","v":"standard"},{"$f":"IF(K39=\"\",\"\",VLOOKUP(TEXT(C39,\"00000\"),remote_zone!$A:$D,4,FALSE))","v":"standard"},{"$f":"VLOOKUP(M39,ceva_zone!$A:$E,MATCH(Sheet1!L39,ceva_zone!$A$1:$E$1,0),FALSE)","v":"E"},{"$f":"IF(K39=\"\",\"\",IF(K39<1000,VLOOKUP(MAX(101,K39),ceva_base_rate!A:H,MATCH(Sheet1!P39,ceva_base_rate!$A$1:$H$1,0),FALSE),ROUND(VLOOKUP(1000,ceva_base_rate!$A$901:$H$901,MATCH(Sheet1!P39,ceva_base_rate!$A$1:$H$1,0),FALSE)+VLOOKUP(\"1000+\",ceva_base_rate!$A$902:$H$902,MATCH(Sheet1!P39,ceva_base_rate!$A$1:$H$1,0),FALSE)*(K39-1000),2)))","v":156},{"$f":"IF(K39=\"\",\"\",IF(OR(L39=\"CA\",M39=\"CA\"),ceva_base_rate!$N$1,0))","v":18.24},{"$f":"IF(K39=\"\",\"\",IF(OR(AND(VALUE(LEFT(C39,3))>=110,VALUE(LEFT(C39,3))<=114),AND(VALUE(LEFT(C39,3))>=100,VALUE(LEFT(C39,3))<=104),AND(VALUE(LEFT(B39,3))>=110,VALUE(LEFT(B39,3))<=114),AND(VALUE(LEFT(B39,3))>=100,VALUE(LEFT(B39,3))<=104)),ceva_base_rate!$N$2,0))","v":0},{"$f":"IF(N39=\"\",\"\",IF(N39=\"standard\",0,IF(K39<1000,VLOOKUP(MAX(101,K39),ceva_base_rate!A:H,8,FALSE),ROUND(VLOOKUP(1000,ceva_base_rate!$A$901:$H$901,8,FALSE)+VLOOKUP(\"1000+\",ceva_base_rate!$A$902:$H$902,8,FALSE)*(K39-1000),2))))","v":0},{"$f":"IF(O39=\"\",\"\",IF(O39=\"standard\",0,IF(K39<1000,VLOOKUP(MAX(101,K39),ceva_base_rate!A:H,8,FALSE),ROUND(VLOOKUP(1000,ceva_base_rate!$A$901:$H$901,8,FALSE)+VLOOKUP(\"1000+\",ceva_base_rate!$A$902:$H$902,8,FALSE)*(K39-1000),2))))","v":0},{"$f":"IF(OR(D39>=250,I39>=75),ceva_base_rate!$N$3,0)","v":30},{"$f":"IF(I39<96,0,IF(I39<120,ceva_base_rate!$N$4,IF(I39<192,ceva_base_rate!$N$5,IF(I39<240,ceva_base_rate!$N$6,ceva_base_rate!$N$7))))","v":0},{"$f":"IF(COUNTIF($H$2:H39,H39)=1,SUMIF(H:H,H39,Q:Q)+SUMIF(H:H,H39,R:R)+SUMIF(H:H,H39,S:S)+SUMIF(H:H,H39,T:T)+SUMIF(H:H,H39,U:U)+SUMIF(H:H,H39,V:V)+SUMIF(H:H,H39,W:W),\"\")","v":204.24}]
[792346,"91702",10305,187,69,22,8,"792346_91702_10305",69,187,{"$f":"IF(COUNTIF($H$2:H40,H40)=1,SUMIF(H:H,H40,J:J),\"\")","v":187},{"$f":"VLOOKUP(TEXT(B40,\"00000\"),remote_zone!A:B,2,FALSE)","v":"CA"},{"$f":"VLOOKUP(TEXT(C40,\"00000\"),remote_zone!A:B,2,FALSE)","v":"NY"},{"$f":"IF(K40=\"\",\"\",VLOOKUP(TEXT(B40,\"00000\"),remote_zone!$A:$D,4,FALSE))","v":"standard"},{"$f":"IF(K40=\"\",\"\",VLOOKUP(TEXT(C40,\"00000\"),remote_zone!$A:$D,4,FALSE))","v":"standard"},{"$f":"VLOOKUP(M40,ceva_zone!$A:$E,MATCH(Sheet1!L40,ceva_zone!$A$1:$E$1,0),FALSE)","v":"F"},{"$f":"IF(K40=\"\",\"\",IF(K40<1000,VLOOKUP(MAX(101,K40),ceva_base_rate!A:H,MATCH(Sheet1!P40,ceva_base_rate!$A$1:$H$1,0),FALSE),ROUND(VLOOKUP(1000,ceva_base_rate!$A$901:$H$901,MATCH(Sheet1!P40,ceva_base_rate!$A$1:$H$1,0),FALSE)+VLOOKUP(\"1000+\",ceva_base_rate!$A$902:$H$902,MATCH(Sheet1!P40,ceva_base_rate!$A$1:$H$1,0),FALSE)*(K40-1000),2)))","v":182},{"$f":"IF(K40=\"\",\"\",IF(OR(L40=\"CA\",M40=\"CA\"),ceva_base_rate!$N$1,0))","v":18.24},{"$f":"IF(K40=\"\",\"\",IF(OR(AND(VALUE(LEFT(C40,3))>=110,VALUE(LEFT(C40,3))<=114),AND(VALUE(LEFT(C40,3))>=100,VALUE(LEFT(C40,3))<=104),AND(VALUE(LEFT(B40,3))>=110,VALUE(LEFT(B40,3))<=114),AND(VALUE(LEFT(B40,3))>=100,VALUE(LEFT(B40,3))<=104)),ceva_base_rate!$N$2,0))","v":37.99},{"$f":"IF(N40=\"\",\"\",IF(N40=\"standard\",0,IF(K40<1000,VLOOKUP(MAX(101,K40),ceva_base_rate!A:H,8,FALSE),ROUND(VLOOKUP(1000,ceva_base_rate!$A$901:$H$901,8,FALSE)+VLOOKUP(\"1000+\",ceva_base_rate!$A$902:$H$902,8,FALSE)*(K40-1000),2))))","v":0},{"$f":"IF(O40=\"\",\"\",IF(O40=\"standard\",0,IF(K40<1000,VLOOKUP(MAX(101,K40),ceva_base_rate!A:H,8,FALSE),ROUND(VLOOKUP(1000,ceva_base_rate!$A$901:$H$901,8,FALSE)+VLOOKUP(\"1000+\",ceva_base_rate!$A$902:$H$902,8,FALSE)*(K40-1000),2))))","v":0},{"$f":"IF(OR(D40>=250,I40>=75),ceva_base_rate!$N$3,0)","v":0},{"$f":"IF(I40<96,0,IF(I40<120,ceva_base_rate!$N$4,IF(I40<192,ceva_base_rate!$N$5,IF(I40<240,ceva_base_rate!$N$6,ceva_base_rate!$N$7))))","v":0},{"$f":"IF(COUNTIF($H$2:H40,H40)=1,SUMIF(H:H,H40,Q:Q)+SUMIF(H:H,H40,R:R)+SUMIF(H:H,H40,S:S)+SUMIF(H:H,H40,T:T)+SUMIF(H:H,H40,U:U)+SUMIF(H:H,H40,V:V)+SUMIF(H:H,H40,W:W),\"\")","v":238.23}]
[792663,"91702",22102,156,57,19,11,"792663_91702_22102",57,156,{"$f":"IF(COUNTIF($H$2:H41,H41)=1,SUMIF(H:H,H41,J:J),\"\")","v":156},{"$f":"VLOOKUP(TEXT(B41,\"00000\"),remote_zone!A:B,2,FALSE)","v":"CA"},{"$f":"VLOOKUP(TEXT(C41,\"00000\"),remote_zone!A:B,2,FALSE)","v":"VA"},{"$f":"IF(K41=\"\",\"\",VLOOKUP(TEXT(B41,\"00000\"),remote_zone!$A:$D,4,FALSE))","v":"standard"},{"$f":"IF(K41=\"\",\"\",VLOOKUP(TEXT(C41,\"00000\"),remote_zone!$A:$D,4,FALSE))","v":"standard"},{"$f":"VLOOKUP(M41,ceva_zone!$A:$E,MATCH(Sheet1!L41,ceva_zone!$A$1:$E$1,0),FALSE)","v":"F"},{"$f":"IF(K41=\"\",\"\",IF(K41<1000,VLOOKUP(MAX(101,K41),ceva_base_rate!A:H,MATCH(Sheet1!P41,ceva_base_rate!$A$1:$H$1,0),FALSE),ROUND(VLOOKUP(1000,ceva_base_rate!$A$901:$H$901,MATCH(Sheet1!P41,ceva_base_rate!$A$1:$H$1,0),FALSE)+VLOOKUP(\"1000+\",ceva_base_rate!$A$902:$H$902,MATCH(Sheet1!P41,ceva_base_rate!$A$1:$H$1,0),FALSE)*(K41-1000),2)))","v":156},{"$f":"IF(K41=\"\",\"\",IF(OR(L41=\"CA\",M41=\"CA\"),ceva_base_rate!$N$1,0))","v":18.24},{"$f":"IF(K41=\"\",\"\",IF(OR(AND(VALUE(LEFT(C41,3))>=110,VALUE(LEFT(C41,3))<=114),AND(VALUE(LEFT(C41,3))>=100,VALUE(LEFT(C41,3))<=104),AND(VALUE(LEFT(B41,3))>=110,VALUE(LEFT(B41,3))<=114),AND(VALUE(LEFT(B41,3))>=100,VALUE(LEFT(B41,3))<=104)),ceva_base_rate!$N$2,0))","v":0},{"$f":"IF(N41=\"\",\"\",IF(N41=\"standard\",0,IF(K41<1000,VLOOKUP(MAX(101,K41),ceva_base_rate!A:H,8,FALSE),ROUND(VLOOKUP(1000,ceva_base_rate!$A$901:$H$901,8,FALSE)+VLOOKUP(\"1000+\",ceva_base_rate!$A$902:$H$902,8,FALSE)*(K41-1000),2))))","v":0},{"$f":"IF(O41=\"\",\"\",IF(O41=\"standard\",0,IF(K41<1000,VLOOKUP(MAX(101,K41),ceva_base_rate!A:H,8,FALSE),ROUND(VLOOKUP(1000,ceva_base_rate!$A$901:$H$901,8,FALSE)+VLOOKUP(\"1000+\",ceva_base_rate!$A$902:$H$902,8,FALSE)*(K41-1000),2))))","v":0},{"$f":"IF(OR(D41>=250,I41>=75),ceva_base_rate!$N$3,0)","v":0},{"$f":"IF(I41<96,0,IF(I41<120,ceva_base_rate!$N$4,IF(I41<192,ceva_base_rate!$N$5,IF(I41<240,ceva_base_rate!$N$6,ceva_base_rate!$N$7))))","v":0},{"$f":"IF(COUNTIF($H$2:H41,H41)=1,SUMIF(H:H,H41,Q:Q)+SUMIF(H:H,H41,R:R)+SUMIF(H:H,H41,S:S)+SUMIF(H:H,H41,T:T)+SUMIF(H:H,H41,U:U)+SUMIF(H:H,H41,V:V)+SUMIF(H:H,H41,W:W),\"\")","v":174.24}]
[793107,"91702",75503,48,113,12,9,"793107_91702_75503",113,49,{"$f":"IF(COUNTIF($H$2:H42,H42)=1,SUMIF(H:H,H42,J:J),\"\")","v":202},{"$f":"VLOOKUP(TEXT(B42,\"00000\"),remote_zone!A:B,2,FALSE)","v":"CA"},{"$f":"VLOOKUP(TEXT(C42,\"00000\"),remote_zone!A:B,2,FALSE)","v":"TX"},{"$f":"IF(K42=\"\",\"\",VLOOKUP(TEXT(B42,\"00000\"),remote_zone!$A:$D,4,FALSE))","v":"standard"},{"$f":"IF(K42=\"\",\"\",VLOOKUP(TEXT(C42,\"00000\"),remote_zone!$A:$D,4,FALSE))","v":"remote"},{"$f":"VLOOKUP(M42,ceva_zone!$A:$E,MATCH(Sheet1!L42,ceva_zone!$A$1:$E$1,0),FALSE)","v":"D"},{"$f":"IF(K42=\"\",\"\",IF(K42<1000,VLOOKUP(MAX(101,K42),ceva_base_rate!A:H,MATCH(Sheet1!P42,ceva_base_rate!$A$1:$H$1,0),FALSE),ROUND(VLOOKUP(1000,ceva_base_rate!$A$901:$H$901,MATCH(Sheet1!P42,ceva_base_rate!$A$1:$H$1,0),FALSE)+VLOOKUP(\"1000+\",ceva_base_rate!$A$902:$H$902,MATCH(Sheet1!P42,ceva_base_rate!$A$1:$H$1,0),FALSE)*(K42-1000),2)))","v":172},{"$f":"IF(K42=\"\",\"\",IF(OR(L42=\"CA\",M42=\"CA\"),ceva_base_rate!$N$1,0))","v":18.24},{"$f":"IF(K42=\"\",\"\",IF(OR(AND(VALUE(LEFT(C42,3))>=110,VALUE(LEFT(C42,3))<=114),AND(VALUE(LEFT(C42,3))>=100,VALUE(LEFT(C42,3))<=104),AND(VALUE(LEFT(B42,3))>=110,VALUE(LEFT(B42,3))<=114),AND(VALUE(LEFT(B42,3))>=100,VALUE(LEFT(B42,3))<=104)),ceva_base_rate!$N$2,0))","v":0},{"$f":"IF(N42=\"\",\"\",IF(N42=\"standard\",0,IF(K42<1000,VLOOKUP(MAX(101,K42),ceva_base_rate!A:H,8,FALSE),ROUND(VLOOKUP(1000,ceva_base_rate!$A$901:$H$901,8,FALSE)+VLOOKUP(\"1000+\",ceva_base_rate!$A$902:$H$902,8,FALSE)*(K42-1000),2))))","v":0},{"$f":"IF(O42=\"\",\"\",IF(O42=\"standard\",0,IF(K42<1000,VLOOKUP(MAX(101,K42),ceva_base_rate!A:H,8,FALSE),ROUND(VLOOKUP(1000,ceva_base_rate!$A$901:$H$901,8,FALSE)+VLOOKUP(\"1000+\",ceva_base_rate!$A$902:$H$902,8,FALSE)*(K42-1000),2))))","v":123},{"$f":"IF(OR(D42>=250,I42>=75),ceva_base_rate!$N$3,0)","v":30},{"$f":"IF(I42<96,0,IF(I42<120,ceva_base_rate!$N$4,IF(I42<192,ceva_base_rate!$N$5,IF(I42<240,ceva_base_rate!$N$6,ceva_base_rate!$N$7))))","v":131.04},{"$f":"IF(COUNTIF($H$2:H42,H42)=1,SUMIF(H:H,H42,Q:Q)+SUMIF(H:H,H42,R:R)+SUMIF(H:H,H42,S:S)+SUMIF(H:H,H42,T:T)+SUMIF(H:H,H42,U:U)+SUMIF(H:H,H42,V:V)+SUMIF(H:H,H42,W:W),\"\")","v":796.36}]
[793107,"91702",75503,78,113,11,11,"793107_91702_75503",113,78,{"$f":"IF(COUNTIF($H$2:H43,H43)=1,SUMIF(H:H,H43,J:J),\"\")","v":""},{"$f":"VLOOKUP(TEXT(B43,\"00000\"),remote_zone!A:B,2,FALSE)","v":"CA"},{"$f":"VLOOKUP(TEXT(C43,\"00000\"),remote_zone!A:B,2,FALSE)","v":"TX"},{"$f":"IF(K43=\"\",\"\",VLOOKUP(TEXT(B43,\"00000\"),remote_zone!$A:$D,4,FALSE))","v":""},{"$f":"IF(K43=\"\",\"\",VLOOKUP(TEXT(C43,\"00000\"),remote_zone!$A:$D,4,FALSE))","v":""},{"$f":"VLOOKUP(M43,ceva_zone!$A:$E,MATCH(Sheet1!L43,ceva_zone!$A$1:$E$1,0),FALSE)","v":"D"},{"$f":"IF(K43=\"\",\"\",IF(K43<1000,VLOOKUP(MAX(101,K43),ceva_base_rate!A:H,MATCH(Sheet1!P43,ceva_base_rate!$A$1:$H$1,0),FALSE),ROUND(VLOOKUP(1000,ceva_base_rate!$A$901:$H$901,MATCH(Sheet1!P43,ceva_base_rate!$A$1:$H$1,0),FALSE)+VLOOKUP(\"1000+\",ceva_base_rate!$A$902:$H$902,MATCH(Sheet1!P43,ceva_base_rate!$A$1:$H$1,0),FALSE)*(K43-1000),2)))","v":""},{"$f":"IF(K43=\"\",\"\",IF(OR(L43=\"CA\",M43=\"CA\"),ceva_base_rate!$N$1,0))","v":""},{"$f":"IF(K43=\"\",\"\",IF(OR(AND(VALUE(LEFT(C43,3))>=110,VALUE(LEFT(C43,3))<=114),AND(VALUE(LEFT(C43,3))>=100,VALUE(LEFT(C43,3))<=104),AND(VALUE(LEFT(B43,3))>=110,VALUE(LEFT(B43,3))<=114),AND(VALUE(LEFT(B43,3))>=100,VALUE(LEFT(B43,3))<=104)),ceva_base_rate!$N$2,0))","v":""},{"$f":"IF(N43=\"\",\"\",IF(N43=\"standard\",0,IF(K43<1000,VLOOKUP(MAX(101,K43),ceva_base_rate!A:H,8,FALSE),ROUND(VLOOKUP(1000,ceva_base_rate!$A$901:$H$901,8,FALSE)+VLOOKUP(\"1000+\",ceva_base_rate!$A$902:$H$902,8,FALSE)*(K43-1000),2))))","v":""},{"$f":"IF(O43=\"\",\"\",IF(O43=\"standard\",0,IF(K43<1000,VLOOKUP(MAX(101,K43),ceva_base_rate!A:H,8,FALSE),ROUND(VLOOKUP(1000,ceva_base_rate!$A$901:$H$901,8,FALSE)+VLOOKUP(\"1000+\",ceva_base_rate!$A$902:$H$902,8,FALSE)*(K43-1000),2))))","v":""},{"$f":"IF(OR(D43>=250,I43>=75),ceva_base_rate!$N$3,0)","v":30},{"$f":"IF(I43<96,0,IF(I43<120,ceva_base_rate!$N$4,IF(I43<192,ceva_base_rate!$N$5,IF(I43<240,ceva_base_rate!$N$6,ceva_base_rate!$N$7))))","v":131.04},{"$f":"IF(COUNTIF($H$2:H43,H43)=1,SUMIF(H:H,H43,Q:Q)+SUMIF(H:H,H43,R:R)+SUMIF(H:H,H43,S:S)+SUMIF(H:H,H43,T:T)+SUMIF(H:H,H43,U:U)+SUMIF(H:H,H43,V:V)+SUMIF(H:H,H43,W:W),\"\")","v":""}]
[793107,"91702",75503,75,113,12,11,"793107_91702_75503",113,75,{"$f":"IF(COUNTIF($H$2:H44,H44)=1,SUMIF(H:H,H44,J:J),\"\")","v":""},{"$f":"VLOOKUP(TEXT(B44,\"00000\"),remote_zone!A:B,2,FALSE)","v":"CA"},{"$f":"VLOOKUP(TEXT(C44,\"00000\"),remote_zone!A:B,2,FALSE)","v":"TX"},{"$f":"IF(K44=\"\",\"\",VLOOKUP(TEXT(B44,\"00000\"),remote_zone!$A:$D,4,FALSE))","v":""},{"$f":"IF(K44=\"\",\"\",VLOOKUP(TEXT(C44,\"00000\"),remote_zone!$A:$D,4,FALSE))","v":""},{"$f":"VLOOKUP(M44,ceva_zone!$A:$E,MATCH(Sheet1!L44,ceva_zone!$A$1:$E$1,0),FALSE)","v":"D"},{"$f":"IF(K44=\"\",\"\",IF(K44<1000,VLOOKUP(MAX(101,K44),ceva_base_rate!A:H,MATCH(Sheet1!P44,ceva_base_rate!$A$1:$H$1,0),FALSE),ROUND(VLOOKUP(1000,ceva_base_rate!$A$901:$H$901,MATCH(Sheet1!P44,ceva_base_rate!$A$1:$H$1,0),FALSE)+VLOOKUP(\"1000+\",ceva_base_rate!$A$902:$H$902,MATCH(Sheet1!P44,ceva_base_rate!$A$1:$H$1,0),FALSE)*(K44-1000),2)))","v":""},{"$f":"IF(K44=\"\",\"\",IF(OR(L44=\"CA\",M44=\"CA\"),ceva_base_rate!$N$1,0))","v":""},{"$f":"IF(K44=\"\",\"\",IF(OR(AND(VALUE(LEFT(C44,3))>=110,VALUE(LEFT(C44,3))<=114),AND(VALUE(LEFT(C44,3))>=100,VALUE(LEFT(C44,3))<=104),AND(VALUE(LEFT(B44,3))>=110,VALUE(LEFT(B44,3))<=114),AND(VALUE(LEFT(B44,3))>=100,VALUE(LEFT(B44,3))<=104)),ceva_base_rate!$N$2,0))","v":""},{"$f":"IF(N44=\"\",\"\",IF(N44=\"standard\",0,IF(K44<1000,VLOOKUP(MAX(101,K44),ceva_base_rate!A:H,8,FALSE),ROUND(VLOOKUP(1000,ceva_base_rate!$A$901:$H$901,8,FALSE)+VLOOKUP(\"1000+\",ceva_base_rate!$A$902:$H$902,8,FALSE)*(K44-1000),2))))","v":""},{"$f":"IF(O44=\"\",\"\",IF(O44=\"standard\",0,IF(K44<1000,VLOOKUP(MAX(101,K44),ceva_base_rate!A:H,8,FALSE),ROUND(VLOOKUP(1000,ceva_base_rate!$A$901:$H$901,8,FALSE)+VLOOKUP(\"1000+\",ceva_base_rate!$A$902:$H$902,8,FALSE)*(K44-1000),2))))","v":""},{"$f":"IF(OR(D44>=250,I44>=75),ceva_base_rate!$N$3,0)","v":30},{"$f":"IF(I44<96,0,IF(I44<120,ceva_base_rate!$N$4,IF(I44<192,ceva_base_rate!$N$5,IF(I44<240,ceva_base_rate!$N$6,ceva_base_rate!$N$7))))","v":131.04},{"$f":"IF(COUNTIF($H$2:H44,H44)=1,SUMIF(H:H,H44,Q:Q)+SUMIF(H:H,H44,R:R)+SUMIF(H:H,H44,S:S)+SUMIF(H:H,H44,T:T)+SUMIF(H:H,H44,U:U)+SUMIF(H:H,H44,V:V)+SUMIF(H:H,H44,W:W),\"\")","v":""}]
[793177,"91702",60540,52,51,49,10,"793177_91702_60540",51,100,{"$f":"IF(COUNTIF($H$2:H45,H45)=1,SUMIF(H:H,H45,J:J),\"\")","v":100},{"$f":"VLOOKUP(TEXT(B45,\"00000\"),remote_zone!A:B,2,FALSE)","v":"CA"},{"$f":"VLOOKUP(TEXT(C45,\"00000\"),remote_zone!A:B,2,FALSE)","v":"IL"},{"$f":"IF(K45=\"\",\"\",VLOOKUP(TEXT(B45,\"00000\"),remote_zone!$A:$D,4,FALSE))","v":"standard"},{"$f":"IF(K45=\"\",\"\",VLOOKUP(TEXT(C45,\"00000\"),remote_zone!$A:$D,4,FALSE))","v":"standard"},{"$f":"VLOOKUP(M45,ceva_zone!$A:$E,MATCH(Sheet1!L45,ceva_zone!$A$1:$E$1,0),FALSE)","v":"E"},{"$f":"IF(K45=\"\",\"\",IF(K45<1000,VLOOKUP(MAX(101,K45),ceva_base_rate!A:H,MATCH(Sheet1!P45,ceva_base_rate!$A$1:$H$1,0),FALSE),ROUND(VLOOKUP(1000,ceva_base_rate!$A$901:$H$901,MATCH(Sheet1!P45,ceva_base_rate!$A$1:$H$1,0),FALSE)+VLOOKUP(\"1000+\",ceva_base_rate!$A$902:$H$902,MATCH(Sheet1!P45,ceva_base_rate!$A$1:$H$1,0),FALSE)*(K45-1000),2)))","v":156},{"$f":"IF(K45=\"\",\"\",IF(OR(L45=\"CA\",M45=\"CA\"),ceva_base_rate!$N$1,0))","v":18.24},{"$f":"IF(K45=\"\",\"\",IF(OR(AND(VALUE(LEFT(C45,3))>=110,VALUE(LEFT(C45,3))<=114),AND(VALUE(LEFT(C45,3))>=100,VALUE(LEFT(C45,3))<=104),AND(VALUE(LEFT(B45,3))>=110,VALUE(LEFT(B45,3))<=114),AND(VALUE(LEFT(B45,3))>=100,VALUE(LEFT(B45,3))<=104)),ceva_base_rate!$N$2,0))","v":0},{"$f":"IF(N45=\"\",\"\",IF(N45=\"standard\",0,IF(K45<1000,VLOOKUP(MAX(101,K45),ceva_base_rate!A:H,8,FALSE),ROUND(VLOOKUP(1000,ceva_base_rate!$A$901:$H$901,8,FALSE)+VLOOKUP(\"1000+\",ceva_base_rate!$A$902:$H$902,8,FALSE)*(K45-1000),2))))","v":0},{"$f":"IF(O45=\"\",\"\",IF(O45=\"standard\",0,IF(K45<1000,VLOOKUP(MAX(101,K45),ceva_base_rate!A:H,8,FALSE),ROUND(VLOOKUP(1000,ceva_base_rate!$A$901:$H$901,8,FALSE)+VLOOKUP(\"1000+\",ceva_base_rate!$A$902:$H$902,8,FALSE)*(K45-1000),2))))","v":0},{"$f":"IF(OR(D45>=250,I45>=75),ceva_base_rate!$N$3,0)","v":0},{"$f":"IF(I45<96,0,IF(I45<120,ceva_base_rate!$N$4,IF(I45<192,ceva_base_rate!$N$5,IF(I45<240,ceva_base_rate!$N$6,ceva_base_rate!$N$7))))","v":0},{"$f":"IF(COUNTIF($H$2:H45,H45)=1,SUMIF(H:H,H45,Q:Q)+SUMIF(H:H,H45,R:R)+SUMIF(H:H,H45,S:S)+SUMIF(H:H,H45,T:T)+SUMIF(H:H,H45,U:U)+SUMIF(H:H,H45,V:V)+SUMIF(H:H,H45,W:W),\"\")","v":174.24}]
[793296,"91702",11213,84,67,38,8,"793296_91702_11213",67,84,{"$f":"IF(COUNTIF($H$2:H46,H46)=1,SUMIF(H:H,H46,J:J),\"\")","v":84},{"$f":"VLOOKUP(TEXT(B46,\"00000\"),remote_zone!A:B,2,FALSE)","v":"CA"},{"$f":"VLOOKUP(TEXT(C46,\"00000\"),remote_zone!A:B,2,FALSE)","v":"NY"},{"$f":"IF(K46=\"\",\"\",VLOOKUP(TEXT(B46,\"00000\"),remote_zone!$A:$D,4,FALSE))","v":"standard"},{"$f":"IF(K46=\"\",\"\",VLOOKUP(TEXT(C46,\"00000\"),remote_zone!$A:$D,4,FALSE))","v":"standard"},{"$f":"VLOOKUP(M46,ceva_zone!$A:$E,MATCH(Sheet1!L46,ceva_zone!$A$1:$E$1,0),FALSE)","v":"F"},{"$f":"IF(K46=\"\",\"\",IF(K46<1000,VLOOKUP(MAX(101,K46),ceva_base_rate!A:H,MATCH(Sheet1!P46,ceva_base_rate!$A$1:$H$1,0),FALSE),ROUND(VLOOKUP(1000,ceva_base_rate!$A$901:$H$901,MATCH(Sheet1!P46,ceva_base_rate!$A$1:$H$1,0),FALSE)+VLOOKUP(\"1000+\",ceva_base_rate!$A$902:$H$902,MATCH(Sheet1!P46,ceva_base_rate!$A$1:$H$1,0),FALSE)*(K46-1000),2)))","v":156},{"$f":"IF(K46=\"\",\"\",IF(OR(L46=\"CA\",M46=\"CA\"),ceva_base_rate!$N$1,0))","v":18.24},{"$f":"IF(K46=\"\",\"\",IF(OR(AND(VALUE(LEFT(C46,3))>=110,VALUE(LEFT(C46,3))<=114),AND(VALUE(LEFT(C46,3))>=100,VALUE(LEFT(C46,3))<=104),AND(VALUE(LEFT(B46,3))>=110,VALUE(LEFT(B46,3))<=114),AND(VALUE(LEFT(B46,3))>=100,VALUE(LEFT(B46,3))<=104)),ceva_base_rate!$N$2,0))","v":37.99},{"$f":"IF(N46=\"\",\"\",IF(N46=\"standard\",0,IF(K46<1000,VLOOKUP(MAX(101,K46),ceva_base_rate!A:H,8,FALSE),ROUND(VLOOKUP(1000,ceva_base_rate!$A$901:$H$901,8,FALSE)+VLOOKUP(\"1000+\",ceva_base_rate!$A$902:$H$902,8,FALSE)*(K46-1000),2))))","v":0},{"$f":"IF(O46=\"\",\"\",IF(O46=\"standard\",0,IF(K46<1000,VLOOKUP(MAX(101,K46),ceva_base_rate!A:H,8,FALSE),ROUND(VLOOKUP(1000,ceva_base_rate!$A$901:$H$901,8,FALSE)+VLOOKUP(\"1000+\",ceva_base_rate!$A$902:$H$902,8,FALSE)*(K46-1000),2))))","v":0},{"$f":"IF(OR(D46>=250,I46>=75),ceva_base_rate!$N$3,0)","v":0},{"$f":"IF(I46<96,0,IF(I46<120,ceva_base_rate!$N$4,IF(I46<192,ceva_base_rate!$N$5,IF(I46<240,ceva_base_rate!$N$6,ceva_base_rate!$N$7))))","v":0},{"$f":"IF(COUNTIF($H$2:H46,H46)=1,SUMIF(H:H,H46,Q:Q)+SUMIF(H:H,H46,R:R)+SUMIF(H:H,H46,S:S)+SUMIF(H:H,H46,T:T)+SUMIF(H:H,H46,U:U)+SUMIF(H:H,H46,V:V)+SUMIF(H:H,H46,W:W),\"\")","v":212.23}]
[793297,"91702",11226,73,67,37,10,"793297_91702_11226",67,99,{"$f":"IF(COUNTIF($H$2:H47,H47)=1,SUMIF(H:H,H47,J:J),\"\")","v":99},{"$f":"VLOOKUP(TEXT(B47,\"00000\"),remote_zone!A:B,2,FALSE)","v":"CA"},{"$f":"VLOOKUP(TEXT(C47,\"00000\"),remote_zone!A:B,2,FALSE)","v":"NY"},{"$f":"IF(K47=\"\",\"\",VLOOKUP(TEXT(B47,\"00000\"),remote_zone!$A:$D,4,FALSE))","v":"standard"},{"$f":"IF(K47=\"\",\"\",VLOOKUP(TEXT(C47,\"00000\"),remote_zone!$A:$D,4,FALSE))","v":"standard"},{"$f":"VLOOKUP(M47,ceva_zone!$A:$E,MATCH(Sheet1!L47,ceva_zone!$A$1:$E$1,0),FALSE)","v":"F"},{"$f":"IF(K47=\"\",\"\",IF(K47<1000,VLOOKUP(MAX(101,K47),ceva_base_rate!A:H,MATCH(Sheet1!P47,ceva_base_rate!$A$1:$H$1,0),FALSE),ROUND(VLOOKUP(1000,ceva_base_rate!$A$901:$H$901,MATCH(Sheet1!P47,ceva_base_rate!$A$1:$H$1,0),FALSE)+VLOOKUP(\"1000+\",ceva_base_rate!$A$902:$H$902,MATCH(Sheet1!P47,ceva_base_rate!$A$1:$H$1,0),FALSE)*(K47-1000),2)))","v":156},{"$f":"IF(K47=\"\",\"\",IF(OR(L47=\"CA\",M47=\"CA\"),ceva_base_rate!$N$1,0))","v":18.24},{"$f":"IF(K47=\"\",\"\",IF(OR(AND(VALUE(LEFT(C47,3))>=110,VALUE(LEFT(C47,3))<=114),AND(VALUE(LEFT(C47,3))>=100,VALUE(LEFT(C47,3))<=104),AND(VALUE(LEFT(B47,3))>=110,VALUE(LEFT(B47,3))<=114),AND(VALUE(LEFT(B47,3))>=100,VALUE(LEFT(B47,3))<=104)),ceva_base_rate!$N$2,0))","v":37.99},{"$f":"IF(N47=\"\",\"\",IF(N47=\"standard\",0,IF(K47<1000,VLOOKUP(MAX(101,K47),ceva_base_rate!A:H,8,FALSE),ROUND(VLOOKUP(1000,ceva_base_rate!$A$901:$H$901,8,FALSE)+VLOOKUP(\"1000+\",ceva_base_rate!$A$902:$H$902,8,FALSE)*(K47-1000),2))))","v":0},{"$f":"IF(O47=\"\",\"\",IF(O47=\"standard\",0,IF(K47<1000,VLOOKUP(MAX(101,K47),ceva_base_rate!A:H,8,FALSE),ROUND(VLOOKUP(1000,ceva_base_rate!$A$901:$H$901,8,FALSE)+VLOOKUP(\"1000+\",ceva_base_rate!$A$902:$H$902,8,FALSE)*(K47-1000),2))))","v":0},{"$f":"IF(OR(D47>=250,I47>=75),ceva_base_rate!$N$3,0)","v":0},{"$f":"IF(I47<96,0,IF(I47<120,ceva_base_rate!$N$4,IF(I47<192,ceva_base_rate!$N$5,IF(I47<240,ceva_base_rate!$N$6,ceva_base_rate!$N$7))))","v":0},{"$f":"IF(COUNTIF($H$2:H47,H47)=1,SUMIF(H:H,H47,Q:Q)+SUMIF(H:H,H47,R:R)+SUMIF(H:H,H47,S:S)+SUMIF(H:H,H47,T:T)+SUMIF(H:H,H47,U:U)+SUMIF(H:H,H47,V:V)+SUMIF(H:H,H47,W:W),\"\")","v":212.23}]
[793312,"91702",97702,56,71,33,10,"793312_91702_97702",71,94,{"$f":"IF(COUNTIF($H$2:H48,H48)=1,SUMIF(H:H,H48,J:J),\"\")","v":94},{"$f":"VLOOKUP(TEXT(B48,\"00000\"),remote_zone!A:B,2,FALSE)","v":"CA"},{"$f":"VLOOKUP(TEXT(C48,\"00000\"),remote_zone!A:B,2,FALSE)","v":"OR"},{"$f":"IF(K48=\"\",\"\",VLOOKUP(TEXT(B48,\"00000\"),remote_zone!$A:$D,4,FALSE))","v":"standard"},{"$f":"IF(K48=\"\",\"\",VLOOKUP(TEXT(C48,\"00000\"),remote_zone!$A:$D,4,FALSE))","v":"remote"},{"$f":"VLOOKUP(M48,ceva_zone!$A:$E,MATCH(Sheet1!L48,ceva_zone!$A$1:$E$1,0),FALSE)","v":"C"},{"$f":"IF(K48=\"\",\"\",IF(K48<1000,VLOOKUP(MAX(101,K48),ceva_base_rate!A:H,MATCH(Sheet1!P48,ceva_base_rate!$A$1:$H$1,0),FALSE),ROUND(VLOOKUP(1000,ceva_base_rate!$A$901:$H$901,MATCH(Sheet1!P48,ceva_base_rate!$A$1:$H$1,0),FALSE)+VLOOKUP(\"1000+\",ceva_base_rate!$A$902:$H$902,MATCH(Sheet1!P48,ceva_base_rate!$A$1:$H$1,0),FALSE)*(K48-1000),2)))","v":148},{"$f":"IF(K48=\"\",\"\",IF(OR(L48=\"CA\",M48=\"CA\"),ceva_base_rate!$N$1,0))","v":18.24},{"$f":"IF(K48=\"\",\"\",IF(OR(AND(VALUE(LEFT(C48,3))>=110,VALUE(LEFT(C48,3))<=114),AND(VALUE(LEFT(C48,3))>=100,VALUE(LEFT(C48,3))<=104),AND(VALUE(LEFT(B48,3))>=110,VALUE(LEFT(B48,3))<=114),AND(VALUE(LEFT(B48,3))>=100,VALUE(LEFT(B48,3))<=104)),ceva_base_rate!$N$2,0))","v":0},{"$f":"IF(N48=\"\",\"\",IF(N48=\"standard\",0,IF(K48<1000,VLOOKUP(MAX(101,K48),ceva_base_rate!A:H,8,FALSE),ROUND(VLOOKUP(1000,ceva_base_rate!$A$901:$H$901,8,FALSE)+VLOOKUP(\"1000+\",ceva_base_rate!$A$902:$H$902,8,FALSE)*(K48-1000),2))))","v":0},{"$f":"IF(O48=\"\",\"\",IF(O48=\"standard\",0,IF(K48<1000,VLOOKUP(MAX(101,K48),ceva_base_rate!A:H,8,FALSE),ROUND(VLOOKUP(1000,ceva_base_rate!$A$901:$H$901,8,FALSE)+VLOOKUP(\"1000+\",ceva_base_rate!$A$902:$H$902,8,FALSE)*(K48-1000),2))))","v":123},{"$f":"IF(OR(D48>=250,I48>=75),ceva_base_rate!$N$3,0)","v":0},{"$f":"IF(I48<96,0,IF(I48<120,ceva_base_rate!$N$4,IF(I48<192,ceva_base_rate!$N$5,IF(I48<240,ceva_base_rate!$N$6,ceva_base_rate!$N$7))))","v":0},{"$f":"IF(COUNTIF($H$2:H48,H48)=1,SUMIF(H:H,H48,Q:Q)+SUMIF(H:H,H48,R:R)+SUMIF(H:H,H48,S:S)+SUMIF(H:H,H48,T:T)+SUMIF(H:H,H48,U:U)+SUMIF(H:H,H48,V:V)+SUMIF(H:H,H48,W:W),\"\")","v":289.24}]
[793334,"91702",21774,154,76,23,7,"793334_91702_21774",76,154,{"$f":"IF(COUNTIF($H$2:H49,H49)=1,SUMIF(H:H,H49,J:J),\"\")","v":154},{"$f":"VLOOKUP(TEXT(B49,\"00000\"),remote_zone!A:B,2,FALSE)","v":"CA"},{"$f":"VLOOKUP(TEXT(C49,\"00000\"),remote_zone!A:B,2,FALSE)","v":"MD"},{"$f":"IF(K49=\"\",\"\",VLOOKUP(TEXT(B49,\"00000\"),remote_zone!$A:$D,4,FALSE))","v":"standard"},{"$f":"IF(K49=\"\",\"\",VLOOKUP(TEXT(C49,\"00000\"),remote_zone!$A:$D,4,FALSE))","v":"standard"},{"$f":"VLOOKUP(M49,ceva_zone!$A:$E,MATCH(Sheet1!L49,ceva_zone!$A$1:$E$1,0),FALSE)","v":"F"},{"$f":"IF(K49=\"\",\"\",IF(K49<1000,VLOOKUP(MAX(101,K49),ceva_base_rate!A:H,MATCH(Sheet1!P49,ceva_base_rate!$A$1:$H$1,0),FALSE),ROUND(VLOOKUP(1000,ceva_base_rate!$A$901:$H$901,MATCH(Sheet1!P49,ceva_base_rate!$A$1:$H$1,0),FALSE)+VLOOKUP(\"1000+\",ceva_base_rate!$A$902:$H$902,MATCH(Sheet1!P49,ceva_base_rate!$A$1:$H$1,0),FALSE)*(K49-1000),2)))","v":156},{"$f":"IF(K49=\"\",\"\",IF(OR(L49=\"CA\",M49=\"CA\"),ceva_base_rate!$N$1,0))","v":18.24},{"$f":"IF(K49=\"\",\"\",IF(OR(AND(VALUE(LEFT(C49,3))>=110,VALUE(LEFT(C49,3))<=114),AND(VALUE(LEFT(C49,3))>=100,VALUE(LEFT(C49,3))<=104),AND(VALUE(LEFT(B49,3))>=110,VALUE(LEFT(B49,3))<=114),AND(VALUE(LEFT(B49,3))>=100,VALUE(LEFT(B49,3))<=104)),ceva_base_rate!$N$2,0))","v":0},{"$f":"IF(N49=\"\",\"\",IF(N49=\"standard\",0,IF(K49<1000,VLOOKUP(MAX(101,K49),ceva_base_rate!A:H,8,FALSE),ROUND(VLOOKUP(1000,ceva_base_rate!$A$901:$H$901,8,FALSE)+VLOOKUP(\"1000+\",ceva_base_rate!$A$902:$H$902,8,FALSE)*(K49-1000),2))))","v":0},{"$f":"IF(O49=\"\",\"\",IF(O49=\"standard\",0,IF(K49<1000,VLOOKUP(MAX(101,K49),ceva_base_rate!A:H,8,FALSE),ROUND(VLOOKUP(1000,ceva_base_rate!$A$901:$H$901,8,FALSE)+VLOOKUP(\"1000+\",ceva_base_rate!$A$902:$H$902,8,FALSE)*(K49-1000),2))))","v":0},{"$f":"IF(OR(D49>=250,I49>=75),ceva_base_rate!$N$3,0)","v":30},{"$f":"IF(I49<96,0,IF(I49<120,ceva_base_rate!$N$4,IF(I49<192,ceva_base_rate!$N$5,IF(I49<240,ceva_base_rate!$N$6,ceva_base_rate!$N$7))))","v":0},{"$f":"IF(COUNTIF($H$2:H49,H49)=1,SUMIF(H:H,H49,Q:Q)+SUMIF(H:H,H49,R:R)+SUMIF(H:H,H49,S:S)+SUMIF(H:H,H49,T:T)+SUMIF(H:H,H49,U:U)+SUMIF(H:H,H49,V:V)+SUMIF(H:H,H49,W:W),\"\")","v":204.24}]
[793435,"91702",62677,71,50,36,16,"793435_91702_62677",50,115,{"$f":"IF(COUNTIF($H$2:H50,H50)=1,SUMIF(H:H,H50,J:J),\"\")","v":115},{"$f":"VLOOKUP(TEXT(B50,\"00000\"),remote_zone!A:B,2,FALSE)","v":"CA"},{"$f":"VLOOKUP(TEXT(C50,\"00000\"),remote_zone!A:B,2,FALSE)","v":"IL"},{"$f":"IF(K50=\"\",\"\",VLOOKUP(TEXT(B50,\"00000\"),remote_zone!$A:$D,4,FALSE))","v":"standard"},{"$f":"IF(K50=\"\",\"\",VLOOKUP(TEXT(C50,\"00000\"),remote_zone!$A:$D,4,FALSE))","v":"remote"},{"$f":"VLOOKUP(M50,ceva_zone!$A:$E,MATCH(Sheet1!L50,ceva_zone!$A$1:$E$1,0),FALSE)","v":"E"},{"$f":"IF(K50=\"\",\"\",IF(K50<1000,VLOOKUP(MAX(101,K50),ceva_base_rate!A:H,MATCH(Sheet1!P50,ceva_base_rate!$A$1:$H$1,0),FALSE),ROUND(VLOOKUP(1000,ceva_base_rate!$A$901:$H$901,MATCH(Sheet1!P50,ceva_base_rate!$A$1:$H$1,0),FALSE)+VLOOKUP(\"1000+\",ceva_base_rate!$A$902:$H$902,MATCH(Sheet1!P50,ceva_base_rate!$A$1:$H$1,0),FALSE)*(K50-1000),2)))","v":156},{"$f":"IF(K50=\"\",\"\",IF(OR(L50=\"CA\",M50=\"CA\"),ceva_base_rate!$N$1,0))","v":18.24},{"$f":"IF(K50=\"\",\"\",IF(OR(AND(VALUE(LEFT(C50,3))>=110,VALUE(LEFT(C50,3))<=114),AND(VALUE(LEFT(C50,3))>=100,VALUE(LEFT(C50,3))<=104),AND(VALUE(LEFT(B50,3))>=110,VALUE(LEFT(B50,3))<=114),AND(VALUE(LEFT(B50,3))>=100,VALUE(LEFT(B50,3))<=104)),ceva_base_rate!$N$2,0))","v":0},{"$f":"IF(N50=\"\",\"\",IF(N50=\"standard\",0,IF(K50<1000,VLOOKUP(MAX(101,K50),ceva_base_rate!A:H,8,FALSE),ROUND(VLOOKUP(1000,ceva_base_rate!$A$901:$H$901,8,FALSE)+VLOOKUP(\"1000+\",ceva_base_rate!$A$902:$H$902,8,FALSE)*(K50-1000),2))))","v":0},{"$f":"IF(O50=\"\",\"\",IF(O50=\"standard\",0,IF(K50<1000,VLOOKUP(MAX(101,K50),ceva_base_rate!A:H,8,FALSE),ROUND(VLOOKUP(1000,ceva_base_rate!$A$901:$H$901,8,FALSE)+VLOOKUP(\"1000+\",ceva_base_rate!$A$902:$H$902,8,FALSE)*(K50-1000),2))))","v":123},{"$f":"IF(OR(D50>=250,I50>=75),ceva_base_rate!$N$3,0)","v":0},{"$f":"IF(I50<96,0,IF(I50<120,ceva_base_rate!$N$4,IF(I50<192,ceva_base_rate!$N$5,IF(I50<240,ceva_base_rate!$N$6,ceva_base_rate!$N$7))))","v":0},{"$f":"IF(COUNTIF($H$2:H50,H50)=1,SUMIF(H:H,H50,Q:Q)+SUMIF(H:H,H50,R:R)+SUMIF(H:H,H50,S:S)+SUMIF(H:H,H50,T:T)+SUMIF(H:H,H50,U:U)+SUMIF(H:H,H50,V:V)+SUMIF(H:H,H50,W:W),\"\")","v":297.24}]
[793436,"91702",10314,100,82,36,22,"793436_91702_10314",82,260,{"$f":"IF(COUNTIF($H$2:H51,H51)=1,SUMIF(H:H,H51,J:J),\"\")","v":260},{"$f":"VLOOKUP(TEXT(B51,\"00000\"),remote_zone!A:B,2,FALSE)","v":"CA"},{"$f":"VLOOKUP(TEXT(C51,\"00000\"),remote_zone!A:B,2,FALSE)","v":"NY"},{"$f":"IF(K51=\"\",\"\",VLOOKUP(TEXT(B51,\"00000\"),remote_zone!$A:$D,4,FALSE))","v":"standard"},{"$f":"IF(K51=\"\",\"\",VLOOKUP(TEXT(C51,\"00000\"),remote_zone!$A:$D,4,FALSE))","v":"standard"},{"$f":"VLOOKUP(M51,ceva_zone!$A:$E,MATCH(Sheet1!L51,ceva_zone!$A$1:$E$1,0),FALSE)","v":"F"},{"$f":"IF(K51=\"\",\"\",IF(K51<1000,VLOOKUP(MAX(101,K51),ceva_base_rate!A:H,MATCH(Sheet1!P51,ceva_base_rate!$A$1:$H$1,0),FALSE),ROUND(VLOOKUP(1000,ceva_base_rate!$A$901:$H$901,MATCH(Sheet1!P51,ceva_base_rate!$A$1:$H$1,0),FALSE)+VLOOKUP(\"1000+\",ceva_base_rate!$A$902:$H$902,MATCH(Sheet1!P51,ceva_base_rate!$A$1:$H$1,0),FALSE)*(K51-1000),2)))","v":227},{"$f":"IF(K51=\"\",\"\",IF(OR(L51=\"CA\",M51=\"CA\"),ceva_base_rate!$N$1,0))","v":18.24},{"$f":"IF(K51=\"\",\"\",IF(OR(AND(VALUE(LEFT(C51,3))>=110,VALUE(LEFT(C51,3))<=114),AND(VALUE(LEFT(C51,3))>=100,VALUE(LEFT(C51,3))<=104),AND(VALUE(LEFT(B51,3))>=110,VALUE(LEFT(B51,3))<=114),AND(VALUE(LEFT(B51,3))>=100,VALUE(LEFT(B51,3))<=104)),ceva_base_rate!$N$2,0))","v":37.99},{"$f":"IF(N51=\"\",\"\",IF(N51=\"standard\",0,IF(K51<1000,VLOOKUP(MAX(101,K51),ceva_base_rate!A:H,8,FALSE),ROUND(VLOOKUP(1000,ceva_base_rate!$A$901:$H$901,8,FALSE)+VLOOKUP(\"1000+\",ceva_base_rate!$A$902:$H$902,8,FALSE)*(K51-1000),2))))","v":0},{"$f":"IF(O51=\"\",\"\",IF(O51=\"standard\",0,IF(K51<1000,VLOOKUP(MAX(101,K51),ceva_base_rate!A:H,8,FALSE),ROUND(VLOOKUP(1000,ceva_base_rate!$A$901:$H$901,8,FALSE)+VLOOKUP(\"1000+\",ceva_base_rate!$A$902:$H$902,8,FALSE)*(K51-1000),2))))","v":0},{"$f":"IF(OR(D51>=250,I51>=75),ceva_base_rate!$N$3,0)","v":30},{"$f":"IF(I51<96,0,IF(I51<120,ceva_base_rate!$N$4,IF(I51<192,ceva_base_rate!$N$5,IF(I51<240,ceva_base_rate!$N$6,ceva_base_rate!$N$7))))","v":0},{"$f":"IF(COUNTIF($H$2:H51,H51)=1,SUMIF(H:H,H51,Q:Q)+SUMIF(H:H,H51,R:R)+SUMIF(H:H,H51,S:S)+SUMIF(H:H,H51,T:T)+SUMIF(H:H,H51,U:U)+SUMIF(H:H,H51,V:V)+SUMIF(H:H,H51,W:W),\"\")","v":313.23}]
[793516,"91702",20008,144,86,26,5,"793516_91702_20008",86,144,{"$f":"IF(COUNTIF($H$2:H52,H52)=1,SUMIF(H:H,H52,J:J),\"\")","v":144},{"$f":"VLOOKUP(TEXT(B52,\"00000\"),remote_zone!A:B,2,FALSE)","v":"CA"},{"$f":"VLOOKUP(TEXT(C52,\"00000\"),remote_zone!A:B,2,FALSE)","v":"DC"},{"$f":"IF(K52=\"\",\"\",VLOOKUP(TEXT(B52,\"00000\"),remote_zone!$A:$D,4,FALSE))","v":"standard"},{"$f":"IF(K52=\"\",\"\",VLOOKUP(TEXT(C52,\"00000\"),remote_zone!$A:$D,4,FALSE))","v":"standard"},{"$f":"VLOOKUP(M52,ceva_zone!$A:$E,MATCH(Sheet1!L52,ceva_zone!$A$1:$E$1,0),FALSE)","v":"F"},{"$f":"IF(K52=\"\",\"\",IF(K52<1000,VLOOKUP(MAX(101,K52),ceva_base_rate!A:H,MATCH(Sheet1!P52,ceva_base_rate!$A$1:$H$1,0),FALSE),ROUND(VLOOKUP(1000,ceva_base_rate!$A$901:$H$901,MATCH(Sheet1!P52,ceva_base_rate!$A$1:$H$1,0),FALSE)+VLOOKUP(\"1000+\",ceva_base_rate!$A$902:$H$902,MATCH(Sheet1!P52,ceva_base_rate!$A$1:$H$1,0),FALSE)*(K52-1000),2)))","v":156},{"$f":"IF(K52=\"\",\"\",IF(OR(L52=\"CA\",M52=\"CA\"),ceva_base_rate!$N$1,0))","v":18.24},{"$f":"IF(K52=\"\",\"\",IF(OR(AND(VALUE(LEFT(C52,3))>=110,VALUE(LEFT(C52,3))<=114),AND(VALUE(LEFT(C52,3))>=100,VALUE(LEFT(C52,3))<=104),AND(VALUE(LEFT(B52,3))>=110,VALUE(LEFT(B52,3))<=114),AND(VALUE(LEFT(B52,3))>=100,VALUE(LEFT(B52,3))<=104)),ceva_base_rate!$N$2,0))","v":0},{"$f":"IF(N52=\"\",\"\",IF(N52=\"standard\",0,IF(K52<1000,VLOOKUP(MAX(101,K52),ceva_base_rate!A:H,8,FALSE),ROUND(VLOOKUP(1000,ceva_base_rate!$A$901:$H$901,8,FALSE)+VLOOKUP(\"1000+\",ceva_base_rate!$A$902:$H$902,8,FALSE)*(K52-1000),2))))","v":0},{"$f":"IF(O52=\"\",\"\",IF(O52=\"standard\",0,IF(K52<1000,VLOOKUP(MAX(101,K52),ceva_base_rate!A:H,8,FALSE),ROUND(VLOOKUP(1000,ceva_base_rate!$A$901:$H$901,8,FALSE)+VLOOKUP(\"1000+\",ceva_base_rate!$A$902:$H$902,8,FALSE)*(K52-1000),2))))","v":0},{"$f":"IF(OR(D52>=250,I52>=75),ceva_base_rate!$N$3,0)","v":30},{"$f":"IF(I52<96,0,IF(I52<120,ceva_base_rate!$N$4,IF(I52<192,ceva_base_rate!$N$5,IF(I52<240,ceva_base_rate!$N$6,ceva_base_rate!$N$7))))","v":0},{"$f":"IF(COUNTIF($H$2:H52,H52)=1,SUMIF(H:H,H52,Q:Q)+SUMIF(H:H,H52,R:R)+SUMIF(H:H,H52,S:S)+SUMIF(H:H,H52,T:T)+SUMIF(H:H,H52,U:U)+SUMIF(H:H,H52,V:V)+SUMIF(H:H,H52,W:W),\"\")","v":204.24}]
[793876,"91702","10016-5045",139,85,18,7,"793876_91702_10016-5045",85,139,{"$f":"IF(COUNTIF($H$2:H53,H53)=1,SUMIF(H:H,H53,J:J),\"\")","v":139},{"$f":"VLOOKUP(TEXT(B53,\"00000\"),remote_zone!A:B,2,FALSE)","v":"CA"},{"$f":"VLOOKUP(TEXT(C53,\"00000\"),remote_zone!A:B,2,FALSE)","v":{"$error":"#N/A"}},{"$f":"IF(K53=\"\",\"\",VLOOKUP(TEXT(B53,\"00000\"),remote_zone!$A:$D,4,FALSE))","v":"standard"},{"$f":"IF(K53=\"\",\"\",VLOOKUP(TEXT(C53,\"00000\"),remote_zone!$A:$D,4,FALSE))","v":{"$error":"#N/A"}},{"$f":"VLOOKUP(M53,ceva_zone!$A:$E,MATCH(Sheet1!L53,ceva_zone!$A$1:$E$1,0),FALSE)","v":{"$error":"#N/A"}},{"$f":"IF(K53=\"\",\"\",IF(K53<1000,VLOOKUP(MAX(101,K53),ceva_base_rate!A:H,MATCH(Sheet1!P53,ceva_base_rate!$A$1:$H$1,0),FALSE),ROUND(VLOOKUP(1000,ceva_base_rate!$A$901:$H$901,MATCH(Sheet1!P53,ceva_base_rate!$A$1:$H$1,0),FALSE)+VLOOKUP(\"1000+\",ceva_base_rate!$A$902:$H$902,MATCH(Sheet1!P53,ceva_base_rate!$A$1:$H$1,0),FALSE)*(K53-1000),2)))","v":{"$error":"#N/A"}},{"$f":"IF(K53=\"\",\"\",IF(OR(L53=\"CA\",M53=\"CA\"),ceva_base_rate!$N$1,0))","v":{"$error":"#N/A"}},{"$f":"IF(K53=\"\",\"\",IF(OR(AND(VALUE(LEFT(C53,3))>=110,VALUE(LEFT(C53,3))<=114),AND(VALUE(LEFT(C53,3))>=100,VALUE(LEFT(C53,3))<=104),AND(VALUE(LEFT(B53,3))>=110,VALUE(LEFT(B53,3))<=114),AND(VALUE(LEFT(B53,3))>=100,VALUE(LEFT(B53,3))<=104)),ceva_base_rate!$N$2,0))","v":37.99},{"$f":"IF(N53=\"\",\"\",IF(N53=\"standard\",0,IF(K53<1000,VLOOKUP(MAX(101,K53),ceva_base_rate!A:H,8,FALSE),ROUND(VLOOKUP(1000,ceva_base_rate!$A$901:$H$901,8,FALSE)+VLOOKUP(\"1000+\",ceva_base_rate!$A$902:$H$902,8,FALSE)*(K53-1000),2))))","v":0},{"$f":"IF(O53=\"\",\"\",IF(O53=\"standard\",0,IF(K53<1000,VLOOKUP(MAX(101,K53),ceva_base_rate!A:H,8,FALSE),ROUND(VLOOKUP(1000,ceva_base_rate!$A$901:$H$901,8,FALSE)+VLOOKUP(\"1000+\",ceva_base_rate!$A$902:$H$902,8,FALSE)*(K53-1000),2))))","v":{"$error":"#N/A"}},{"$f":"IF(OR(D53>=250,I53>=75),ceva_base_rate!$N$3,0)","v":30},{"$f":"IF(I53<96,0,IF(I53<120,ceva_base_rate!$N$4,IF(I53<192,ceva_base_rate!$N$5,IF(I53<240,ceva_base_rate!$N$6,ceva_base_rate!$N$7))))","v":0},{"$f":"IF(COUNTIF($H$2:H53,H53)=1,SUMIF(H:H,H53,Q:Q)+SUMIF(H:H,H53,R:R)+SUMIF(H:H,H53,S:S)+SUMIF(H:H,H53,T:T)+SUMIF(H:H,H53,U:U)+SUMIF(H:H,H53,V:V)+SUMIF(H:H,H53,W:W),\"\")","v":{"$error":"#N/A"}}]
[794044,"91702",41075,63,103,21,10,"794044_91702_41075",103,87,{"$f":"IF(COUNTIF($H$2:H54,H54)=1,SUMIF(H:H,H54,J:J),\"\")","v":101},{"$f":"VLOOKUP(TEXT(B54,\"00000\"),remote_zone!A:B,2,FALSE)","v":"CA"},{"$f":"VLOOKUP(TEXT(C54,\"00000\"),remote_zone!A:B,2,FALSE)","v":"KY"},{"$f":"IF(K54=\"\",\"\",VLOOKUP(TEXT(B54,\"00000\"),remote_zone!$A:$D,4,FALSE))","v":"standard"},{"$f":"IF(K54=\"\",\"\",VLOOKUP(TEXT(C54,\"00000\"),remote_zone!$A:$D,4,FALSE))","v":"standard"},{"$f":"VLOOKUP(M54,ceva_zone!$A:$E,MATCH(Sheet1!L54,ceva_zone!$A$1:$E$1,0),FALSE)","v":"E"},{"$f":"IF(K54=\"\",\"\",IF(K54<1000,VLOOKUP(MAX(101,K54),ceva_base_rate!A:H,MATCH(Sheet1!P54,ceva_base_rate!$A$1:$H$1,0),FALSE),ROUND(VLOOKUP(1000,ceva_base_rate!$A$901:$H$901,MATCH(Sheet1!P54,ceva_base_rate!$A$1:$H$1,0),FALSE)+VLOOKUP(\"1000+\",ceva_base_rate!$A$902:$H$902,MATCH(Sheet1!P54,ceva_base_rate!$A$1:$H$1,0),FALSE)*(K54-1000),2)))","v":156},{"$f":"IF(K54=\"\",\"\",IF(OR(L54=\"CA\",M54=\"CA\"),ceva_base_rate!$N$1,0))","v":18.24},{"$f":"IF(K54=\"\",\"\",IF(OR(AND(VALUE(LEFT(C54,3))>=110,VALUE(LEFT(C54,3))<=114),AND(VALUE(LEFT(C54,3))>=100,VALUE(LEFT(C54,3))<=104),AND(VALUE(LEFT(B54,3))>=110,VALUE(LEFT(B54,3))<=114),AND(VALUE(LEFT(B54,3))>=100,VALUE(LEFT(B54,3))<=104)),ceva_base_rate!$N$2,0))","v":0},{"$f":"IF(N54=\"\",\"\",IF(N54=\"standard\",0,IF(K54<1000,VLOOKUP(MAX(101,K54),ceva_base_rate!A:H,8,FALSE),ROUND(VLOOKUP(1000,ceva_base_rate!$A$901:$H$901,8,FALSE)+VLOOKUP(\"1000+\",ceva_base_rate!$A$902:$H$902,8,FALSE)*(K54-1000),2))))","v":0},{"$f":"IF(O54=\"\",\"\",IF(O54=\"standard\",0,IF(K54<1000,VLOOKUP(MAX(101,K54),ceva_base_rate!A:H,8,FALSE),ROUND(VLOOKUP(1000,ceva_base_rate!$A$901:$H$901,8,FALSE)+VLOOKUP(\"1000+\",ceva_base_rate!$A$902:$H$902,8,FALSE)*(K54-1000),2))))","v":0},{"$f":"IF(OR(D54>=250,I54>=75),ceva_base_rate!$N$3,0)","v":30},{"$f":"IF(I54<96,0,IF(I54<120,ceva_base_rate!$N$4,IF(I54<192,ceva_base_rate!$N$5,IF(I54<240,ceva_base_rate!$N$6,ceva_base_rate!$N$7))))","v":131.04},{"$f":"IF(COUNTIF($H$2:H54,H54)=1,SUMIF(H:H,H54,Q:Q)+SUMIF(H:H,H54,R:R)+SUMIF(H:H,H54,S:S)+SUMIF(H:H,H54,T:T)+SUMIF(H:H,H54,U:U)+SUMIF(H:H,H54,V:V)+SUMIF(H:H,H54,W:W),\"\")","v":335.28}]
[794044,"91702",41075,14,41,13,4,"794044_91702_41075",41,14,{"$f":"IF(COUNTIF($H$2:H55,H55)=1,SUMIF(H:H,H55,J:J),\"\")","v":""},{"$f":"VLOOKUP(TEXT(B55,\"00000\"),remote_zone!A:B,2,FALSE)","v":"CA"},{"$f":"VLOOKUP(TEXT(C55,\"00000\"),remote_zone!A:B,2,FALSE)","v":"KY"},{"$f":"IF(K55=\"\",\"\",VLOOKUP(TEXT(B55,\"00000\"),remote_zone!$A:$D,4,FALSE))","v":""},{"$f":"IF(K55=\"\",\"\",VLOOKUP(TEXT(C55,\"00000\"),remote_zone!$A:$D,4,FALSE))","v":""},{"$f":"VLOOKUP(M55,ceva_zone!$A:$E,MATCH(Sheet1!L55,ceva_zone!$A$1:$E$1,0),FALSE)","v":"E"},{"$f":"IF(K55=\"\",\"\",IF(K55<1000,VLOOKUP(MAX(101,K55),ceva_base_rate!A:H,MATCH(Sheet1!P55,ceva_base_rate!$A$1:$H$1,0),FALSE),ROUND(VLOOKUP(1000,ceva_base_rate!$A$901:$H$901,MATCH(Sheet1!P55,ceva_base_rate!$A$1:$H$1,0),FALSE)+VLOOKUP(\"1000+\",ceva_base_rate!$A$902:$H$902,MATCH(Sheet1!P55,ceva_base_rate!$A$1:$H$1,0),FALSE)*(K55-1000),2)))","v":""},{"$f":"IF(K55=\"\",\"\",IF(OR(L55=\"CA\",M55=\"CA\"),ceva_base_rate!$N$1,0))","v":""},{"$f":"IF(K55=\"\",\"\",IF(OR(AND(VALUE(LEFT(C55,3))>=110,VALUE(LEFT(C55,3))<=114),AND(VALUE(LEFT(C55,3))>=100,VALUE(LEFT(C55,3))<=104),AND(VALUE(LEFT(B55,3))>=110,VALUE(LEFT(B55,3))<=114),AND(VALUE(LEFT(B55,3))>=100,VALUE(LEFT(B55,3))<=104)),ceva_base_rate!$N$2,0))","v":""},{"$f":"IF(N55=\"\",\"\",IF(N55=\"standard\",0,IF(K55<1000,VLOOKUP(MAX(101,K55),ceva_base_rate!A:H,8,FALSE),ROUND(VLOOKUP(1000,ceva_base_rate!$A$901:$H$901,8,FALSE)+VLOOKUP(\"1000+\",ceva_base_rate!$A$902:$H$902,8,FALSE)*(K55-1000),2))))","v":""},{"$f":"IF(O55=\"\",\"\",IF(O55=\"standard\",0,IF(K55<1000,VLOOKUP(MAX(101,K55),ceva_base_rate!A:H,8,FALSE),ROUND(VLOOKUP(1000,ceva_base_rate!$A$901:$H$901,8,FALSE)+VLOOKUP(\"1000+\",ceva_base_rate!$A$902:$H$902,8,FALSE)*(K55-1000),2))))","v":""},{"$f":"IF(OR(D55>=250,I55>=75),ceva_base_rate!$N$3,0)","v":0},{"$f":"IF(I55<96,0,IF(I55<120,ceva_base_rate!$N$4,IF(I55<192,ceva_base_rate!$N$5,IF(I55<240,ceva_base_rate!$N$6,ceva_base_rate!$N$7))))","v":0},{"$f":"IF(COUNTIF($H$2:H55,H55)=1,SUMIF(H:H,H55,Q:Q)+SUMIF(H:H,H55,R:R)+SUMIF(H:H,H55,S:S)+SUMIF(H:H,H55,T:T)+SUMIF(H:H,H55,U:U)+SUMIF(H:H,H55,V:V)+SUMIF(H:H,H55,W:W),\"\")","v":""}]
[794142,"91702",85004,146,61,20,10,"794142_91702_85004",61,146,{"$f":"IF(COUNTIF($H$2:H56,H56)=1,SUMIF(H:H,H56,J:J),\"\")","v":146},{"$f":"VLOOKUP(TEXT(B56,\"00000\"),remote_zone!A:B,2,FALSE)","v":"CA"},{"$f":"VLOOKUP(TEXT(C56,\"00000\"),remote_zone!A:B,2,FALSE)","v":"AZ"},{"$f":"IF(K56=\"\",\"\",VLOOKUP(TEXT(B56,\"00000\"),remote_zone!$A:$D,4,FALSE))","v":"standard"},{"$f":"IF(K56=\"\",\"\",VLOOKUP(TEXT(C56,\"00000\"),remote_zone!$A:$D,4,FALSE))","v":"standard"},{"$f":"VLOOKUP(M56,ceva_zone!$A:$E,MATCH(Sheet1!L56,ceva_zone!$A$1:$E$1,0),FALSE)","v":"C"},{"$f":"IF(K56=\"\",\"\",IF(K56<1000,VLOOKUP(MAX(101,K56),ceva_base_rate!A:H,MATCH(Sheet1!P56,ceva_base_rate!$A$1:$H$1,0),FALSE),ROUND(VLOOKUP(1000,ceva_base_rate!$A$901:$H$901,MATCH(Sheet1!P56,ceva_base_rate!$A$1:$H$1,0),FALSE)+VLOOKUP(\"1000+\",ceva_base_rate!$A$902:$H$902,MATCH(Sheet1!P56,ceva_base_rate!$A$1:$H$1,0),FALSE)*(K56-1000),2)))","v":148},{"$f":"IF(K56=\"\",\"\",IF(OR(L56=\"CA\",M56=\"CA\"),ceva_base_rate!$N$1,0))","v":18.24},{"$f":"IF(K56=\"\",\"\",IF(OR(AND(VALUE(LEFT(C56,3))>=110,VALUE(LEFT(C56,3))<=114),AND(VALUE(LEFT(C56,3))>=100,VALUE(LEFT(C56,3))<=104),AND(VALUE(LEFT(B56,3))>=110,VALUE(LEFT(B56,3))<=114),AND(VALUE(LEFT(B56,3))>=100,VALUE(LEFT(B56,3))<=104)),ceva_base_rate!$N$2,0))","v":0},{"$f":"IF(N56=\"\",\"\",IF(N56=\"standard\",0,IF(K56<1000,VLOOKUP(MAX(101,K56),ceva_base_rate!A:H,8,FALSE),ROUND(VLOOKUP(1000,ceva_base_rate!$A$901:$H$901,8,FALSE)+VLOOKUP(\"1000+\",ceva_base_rate!$A$902:$H$902,8,FALSE)*(K56-1000),2))))","v":0},{"$f":"IF(O56=\"\",\"\",IF(O56=\"standard\",0,IF(K56<1000,VLOOKUP(MAX(101,K56),ceva_base_rate!A:H,8,FALSE),ROUND(VLOOKUP(1000,ceva_base_rate!$A$901:$H$901,8,FALSE)+VLOOKUP(\"1000+\",ceva_base_rate!$A$902:$H$902,8,FALSE)*(K56-1000),2))))","v":0},{"$f":"IF(OR(D56>=250,I56>=75),ceva_base_rate!$N$3,0)","v":0},{"$f":"IF(I56<96,0,IF(I56<120,ceva_base_rate!$N$4,IF(I56<192,ceva_base_rate!$N$5,IF(I56<240,ceva_base_rate!$N$6,ceva_base_rate!$N$7))))","v":0},{"$f":"IF(COUNTIF($H$2:H56,H56)=1,SUMIF(H:H,H56,Q:Q)+SUMIF(H:H,H56,R:R)+SUMIF(H:H,H56,S:S)+SUMIF(H:H,H56,T:T)+SUMIF(H:H,H56,U:U)+SUMIF(H:H,H56,V:V)+SUMIF(H:H,H56,W:W),\"\")","v":166.24}]
[788776,"91702","75062",35,32,31,22,"788776_91702_75062",32,87,{"$f":"IF(COUNTIF($H$2:H57,H57)=1,SUMIF(H:H,H57,J:J),\"\")","v":182},{"$f":"VLOOKUP(TEXT(B57,\"00000\"),remote_zone!A:B,2,FALSE)","v":"CA"},{"$f":"VLOOKUP(TEXT(C57,\"00000\"),remote_zone!A:B,2,FALSE)","v":"TX"},{"$f":"IF(K57=\"\",\"\",VLOOKUP(TEXT(B57,\"00000\"),remote_zone!$A:$D,4,FALSE))","v":"standard"},{"$f":"IF(K57=\"\",\"\",VLOOKUP(TEXT(C57,\"00000\"),remote_zone!$A:$D,4,FALSE))","v":"standard"},{"$f":"VLOOKUP(M57,ceva_zone!$A:$E,MATCH(Sheet1!L57,ceva_zone!$A$1:$E$1,0),FALSE)","v":"D"},{"$f":"IF(K57=\"\",\"\",IF(K57<1000,VLOOKUP(MAX(101,K57),ceva_base_rate!A:H,MATCH(Sheet1!P57,ceva_base_rate!$A$1:$H$1,0),FALSE),ROUND(VLOOKUP(1000,ceva_base_rate!$A$901:$H$901,MATCH(Sheet1!P57,ceva_base_rate!$A$1:$H$1,0),FALSE)+VLOOKUP(\"1000+\",ceva_base_rate!$A$902:$H$902,MATCH(Sheet1!P57,ceva_base_rate!$A$1:$H$1,0),FALSE)*(K57-1000),2)))","v":156},{"$f":"IF(K57=\"\",\"\",IF(OR(L57=\"CA\",M57=\"CA\"),ceva_base_rate!$N$1,0))","v":18.24},{"$f":"IF(K57=\"\",\"\",IF(OR(AND(VALUE(LEFT(C57,3))>=110,VALUE(LEFT(C57,3))<=114),AND(VALUE(LEFT(C57,3))>=100,VALUE(LEFT(C57,3))<=104),AND(VALUE(LEFT(B57,3))>=110,VALUE(LEFT(B57,3))<=114),AND(VALUE(LEFT(B57,3))>=100,VALUE(LEFT(B57,3))<=104)),ceva_base_rate!$N$2,0))","v":0},{"$f":"IF(N57=\"\",\"\",IF(N57=\"standard\",0,IF(K57<1000,VLOOKUP(MAX(101,K57),ceva_base_rate!A:H,8,FALSE),ROUND(VLOOKUP(1000,ceva_base_rate!$A$901:$H$901,8,FALSE)+VLOOKUP(\"1000+\",ceva_base_rate!$A$902:$H$902,8,FALSE)*(K57-1000),2))))","v":0},{"$f":"IF(O57=\"\",\"\",IF(O57=\"standard\",0,IF(K57<1000,VLOOKUP(MAX(101,K57),ceva_base_rate!A:H,8,FALSE),ROUND(VLOOKUP(1000,ceva_base_rate!$A$901:$H$901,8,FALSE)+VLOOKUP(\"1000+\",ceva_base_rate!$A$902:$H$902,8,FALSE)*(K57-1000),2))))","v":0},{"$f":"IF(OR(D57>=250,I57>=75),ceva_base_rate!$N$3,0)","v":0},{"$f":"IF(I57<96,0,IF(I57<120,ceva_base_rate!$N$4,IF(I57<192,ceva_base_rate!$N$5,IF(I57<240,ceva_base_rate!$N$6,ceva_base_rate!$N$7))))","v":0},{"$f":"IF(COUNTIF($H$2:H57,H57)=1,SUMIF(H:H,H57,Q:Q)+SUMIF(H:H,H57,R:R)+SUMIF(H:H,H57,S:S)+SUMIF(H:H,H57,T:T)+SUMIF(H:H,H57,U:U)+SUMIF(H:H,H57,V:V)+SUMIF(H:H,H57,W:W),\"\")","v":204.24}]
[788776,"91702","75062",78,78,38,8,"788776_91702_75062",78,95,{"$f":"IF(COUNTIF($H$2:H58,H58)=1,SUMIF(H:H,H58,J:J),\"\")","v":""},{"$f":"VLOOKUP(TEXT(B58,\"00000\"),remote_zone!A:B,2,FALSE)","v":"CA"},{"$f":"VLOOKUP(TEXT(C58,\"00000\"),remote_zone!A:B,2,FALSE)","v":"TX"},{"$f":"IF(K58=\"\",\"\",VLOOKUP(TEXT(B58,\"00000\"),remote_zone!$A:$D,4,FALSE))","v":""},{"$f":"IF(K58=\"\",\"\",VLOOKUP(TEXT(C58,\"00000\"),remote_zone!$A:$D,4,FALSE))","v":""},{"$f":"VLOOKUP(M58,ceva_zone!$A:$E,MATCH(Sheet1!L58,ceva_zone!$A$1:$E$1,0),FALSE)","v":"D"},{"$f":"IF(K58=\"\",\"\",IF(K58<1000,VLOOKUP(MAX(101,K58),ceva_base_rate!A:H,MATCH(Sheet1!P58,ceva_base_rate!$A$1:$H$1,0),FALSE),ROUND(VLOOKUP(1000,ceva_base_rate!$A$901:$H$901,MATCH(Sheet1!P58,ceva_base_rate!$A$1:$H$1,0),FALSE)+VLOOKUP(\"1000+\",ceva_base_rate!$A$902:$H$902,MATCH(Sheet1!P58,ceva_base_rate!$A$1:$H$1,0),FALSE)*(K58-1000),2)))","v":""},{"$f":"IF(K58=\"\",\"\",IF(OR(L58=\"CA\",M58=\"CA\"),ceva_base_rate!$N$1,0))","v":""},{"$f":"IF(K58=\"\",\"\",IF(OR(AND(VALUE(LEFT(C58,3))>=110,VALUE(LEFT(C58,3))<=114),AND(VALUE(LEFT(C58,3))>=100,VALUE(LEFT(C58,3))<=104),AND(VALUE(LEFT(B58,3))>=110,VALUE(LEFT(B58,3))<=114),AND(VALUE(LEFT(B58,3))>=100,VALUE(LEFT(B58,3))<=104)),ceva_base_rate!$N$2,0))","v":""},{"$f":"IF(N58=\"\",\"\",IF(N58=\"standard\",0,IF(K58<1000,VLOOKUP(MAX(101,K58),ceva_base_rate!A:H,8,FALSE),ROUND(VLOOKUP(1000,ceva_base_rate!$A$901:$H$901,8,FALSE)+VLOOKUP(\"1000+\",ceva_base_rate!$A$902:$H$902,8,FALSE)*(K58-1000),2))))","v":""},{"$f":"IF(O58=\"\",\"\",IF(O58=\"standard\",0,IF(K58<1000,VLOOKUP(MAX(101,K58),ceva_base_rate!A:H,8,FALSE),ROUND(VLOOKUP(1000,ceva_base_rate!$A$901:$H$901,8,FALSE)+VLOOKUP(\"1000+\",ceva_base_rate!$A$902:$H$902,8,FALSE)*(K58-1000),2))))","v":""},{"$f":"IF(OR(D58>=250,I58>=75),ceva_base_rate!$N$3,0)","v":30},{"$f":"IF(I58<96,0,IF(I58<120,ceva_base_rate!$N$4,IF(I58<192,ceva_base_rate!$N$5,IF(I58<240,ceva_base_rate!$N$6,ceva_base_rate!$N$7))))","v":0},{"$f":"IF(COUNTIF($H$2:H58,H58)=1,SUMIF(H:H,H58,Q:Q)+SUMIF(H:H,H58,R:R)+SUMIF(H:H,H58,S:S)+SUMIF(H:H,H58,T:T)+SUMIF(H:H,H58,U:U)+SUMIF(H:H,H58,V:V)+SUMIF(H:H,H58,W:W),\"\")","v":""}]
[788826,"91702","55422",159,66,20,10,"788826_91702_55422",66,159,{"$f":"IF(COUNTIF($H$2:H59,H59)=1,SUMIF(H:H,H59,J:J),\"\")","v":159},{"$f":"VLOOKUP(TEXT(B59,\"00000\"),remote_zone!A:B,2,FALSE)","v":"CA"},{"$f":"VLOOKUP(TEXT(C59,\"00000\"),remote_zone!A:B,2,FALSE)","v":"MN"},{"$f":"IF(K59=\"\",\"\",VLOOKUP(TEXT(B59,\"00000\"),remote_zone!$A:$D,4,FALSE))","v":"standard"},{"$f":"IF(K59=\"\",\"\",VLOOKUP(TEXT(C59,\"00000\"),remote_zone!$A:$D,4,FALSE))","v":"standard"},{"$f":"VLOOKUP(M59,ceva_zone!$A:$E,MATCH(Sheet1!L59,ceva_zone!$A$1:$E$1,0),FALSE)","v":"E"},{"$f":"IF(K59=\"\",\"\",IF(K59<1000,VLOOKUP(MAX(101,K59),ceva_base_rate!A:H,MATCH(Sheet1!P59,ceva_base_rate!$A$1:$H$1,0),FALSE),ROUND(VLOOKUP(1000,ceva_base_rate!$A$901:$H$901,MATCH(Sheet1!P59,ceva_base_rate!$A$1:$H$1,0),FALSE)+VLOOKUP(\"1000+\",ceva_base_rate!$A$902:$H$902,MATCH(Sheet1!P59,ceva_base_rate!$A$1:$H$1,0),FALSE)*(K59-1000),2)))","v":156},{"$f":"IF(K59=\"\",\"\",IF(OR(L59=\"CA\",M59=\"CA\"),ceva_base_rate!$N$1,0))","v":18.24},{"$f":"IF(K59=\"\",\"\",IF(OR(AND(VALUE(LEFT(C59,3))>=110,VALUE(LEFT(C59,3))<=114),AND(VALUE(LEFT(C59,3))>=100,VALUE(LEFT(C59,3))<=104),AND(VALUE(LEFT(B59,3))>=110,VALUE(LEFT(B59,3))<=114),AND(VALUE(LEFT(B59,3))>=100,VALUE(LEFT(B59,3))<=104)),ceva_base_rate!$N$2,0))","v":0},{"$f":"IF(N59=\"\",\"\",IF(N59=\"standard\",0,IF(K59<1000,VLOOKUP(MAX(101,K59),ceva_base_rate!A:H,8,FALSE),ROUND(VLOOKUP(1000,ceva_base_rate!$A$901:$H$901,8,FALSE)+VLOOKUP(\"1000+\",ceva_base_rate!$A$902:$H$902,8,FALSE)*(K59-1000),2))))","v":0},{"$f":"IF(O59=\"\",\"\",IF(O59=\"standard\",0,IF(K59<1000,VLOOKUP(MAX(101,K59),ceva_base_rate!A:H,8,FALSE),ROUND(VLOOKUP(1000,ceva_base_rate!$A$901:$H$901,8,FALSE)+VLOOKUP(\"1000+\",ceva_base_rate!$A$902:$H$902,8,FALSE)*(K59-1000),2))))","v":0},{"$f":"IF(OR(D59>=250,I59>=75),ceva_base_rate!$N$3,0)","v":0},{"$f":"IF(I59<96,0,IF(I59<120,ceva_base_rate!$N$4,IF(I59<192,ceva_base_rate!$N$5,IF(I59<240,ceva_base_rate!$N$6,ceva_base_rate!$N$7))))","v":0},{"$f":"IF(COUNTIF($H$2:H59,H59)=1,SUMIF(H:H,H59,Q:Q)+SUMIF(H:H,H59,R:R)+SUMIF(H:H,H59,S:S)+SUMIF(H:H,H59,T:T)+SUMIF(H:H,H59,U:U)+SUMIF(H:H,H59,V:V)+SUMIF(H:H,H59,W:W),\"\")","v":174.24}]
[788927,"91702","64055",81,114,22,8,"788927_91702_64055",114,81,{"$f":"IF(COUNTIF($H$2:H60,H60)=1,SUMIF(H:H,H60,J:J),\"\")","v":101},{"$f":"VLOOKUP(TEXT(B60,\"00000\"),remote_zone!A:B,2,FALSE)","v":"CA"},{"$f":"VLOOKUP(TEXT(C60,\"00000\"),remote_zone!A:B,2,FALSE)","v":"MO"},{"$f":"IF(K60=\"\",\"\",VLOOKUP(TEXT(B60,\"00000\"),remote_zone!$A:$D,4,FALSE))","v":"standard"},{"$f":"IF(K60=\"\",\"\",VLOOKUP(TEXT(C60,\"00000\"),remote_zone!$A:$D,4,FALSE))","v":"standard"},{"$f":"VLOOKUP(M60,ceva_zone!$A:$E,MATCH(Sheet1!L60,ceva_zone!$A$1:$E$1,0),FALSE)","v":"E"},{"$f":"IF(K60=\"\",\"\",IF(K60<1000,VLOOKUP(MAX(101,K60),ceva_base_rate!A:H,MATCH(Sheet1!P60,ceva_base_rate!$A$1:$H$1,0),FALSE),ROUND(VLOOKUP(1000,ceva_base_rate!$A$901:$H$901,MATCH(Sheet1!P60,ceva_base_rate!$A$1:$H$1,0),FALSE)+VLOOKUP(\"1000+\",ceva_base_rate!$A$902:$H$902,MATCH(Sheet1!P60,ceva_base_rate!$A$1:$H$1,0),FALSE)*(K60-1000),2)))","v":156},{"$f":"IF(K60=\"\",\"\",IF(OR(L60=\"CA\",M60=\"CA\"),ceva_base_rate!$N$1,0))","v":18.24},{"$f":"IF(K60=\"\",\"\",IF(OR(AND(VALUE(LEFT(C60,3))>=110,VALUE(LEFT(C60,3))<=114),AND(VALUE(LEFT(C60,3))>=100,VALUE(LEFT(C60,3))<=104),AND(VALUE(LEFT(B60,3))>=110,VALUE(LEFT(B60,3))<=114),AND(VALUE(LEFT(B60,3))>=100,VALUE(LEFT(B60,3))<=104)),ceva_base_rate!$N$2,0))","v":0},{"$f":"IF(N60=\"\",\"\",IF(N60=\"standard\",0,IF(K60<1000,VLOOKUP(MAX(101,K60),ceva_base_rate!A:H,8,FALSE),ROUND(VLOOKUP(1000,ceva_base_rate!$A$901:$H$901,8,FALSE)+VLOOKUP(\"1000+\",ceva_base_rate!$A$902:$H$902,8,FALSE)*(K60-1000),2))))","v":0},{"$f":"IF(O60=\"\",\"\",IF(O60=\"standard\",0,IF(K60<1000,VLOOKUP(MAX(101,K60),ceva_base_rate!A:H,8,FALSE),ROUND(VLOOKUP(1000,ceva_base_rate!$A$901:$H$901,8,FALSE)+VLOOKUP(\"1000+\",ceva_base_rate!$A$902:$H$902,8,FALSE)*(K60-1000),2))))","v":0},{"$f":"IF(OR(D60>=250,I60>=75),ceva_base_rate!$N$3,0)","v":30},{"$f":"IF(I60<96,0,IF(I60<120,ceva_base_rate!$N$4,IF(I60<192,ceva_base_rate!$N$5,IF(I60<240,ceva_base_rate!$N$6,ceva_base_rate!$N$7))))","v":131.04},{"$f":"IF(COUNTIF($H$2:H60,H60)=1,SUMIF(H:H,H60,Q:Q)+SUMIF(H:H,H60,R:R)+SUMIF(H:H,H60,S:S)+SUMIF(H:H,H60,T:T)+SUMIF(H:H,H60,U:U)+SUMIF(H:H,H60,V:V)+SUMIF(H:H,H60,W:W),\"\")","v":335.28}]
[788927,"91702","64055",20,42,17,6,"788927_91702_64055",42,20,{"$f":"IF(COUNTIF($H$2:H61,H61)=1,SUMIF(H:H,H61,J:J),\"\")","v":""},{"$f":"VLOOKUP(TEXT(B61,\"00000\"),remote_zone!A:B,2,FALSE)","v":"CA"},{"$f":"VLOOKUP(TEXT(C61,\"00000\"),remote_zone!A:B,2,FALSE)","v":"MO"},{"$f":"IF(K61=\"\",\"\",VLOOKUP(TEXT(B61,\"00000\"),remote_zone!$A:$D,4,FALSE))","v":""},{"$f":"IF(K61=\"\",\"\",VLOOKUP(TEXT(C61,\"00000\"),remote_zone!$A:$D,4,FALSE))","v":""},{"$f":"VLOOKUP(M61,ceva_zone!$A:$E,MATCH(Sheet1!L61,ceva_zone!$A$1:$E$1,0),FALSE)","v":"E"},{"$f":"IF(K61=\"\",\"\",IF(K61<1000,VLOOKUP(MAX(101,K61),ceva_base_rate!A:H,MATCH(Sheet1!P61,ceva_base_rate!$A$1:$H$1,0),FALSE),ROUND(VLOOKUP(1000,ceva_base_rate!$A$901:$H$901,MATCH(Sheet1!P61,ceva_base_rate!$A$1:$H$1,0),FALSE)+VLOOKUP(\"1000+\",ceva_base_rate!$A$902:$H$902,MATCH(Sheet1!P61,ceva_base_rate!$A$1:$H$1,0),FALSE)*(K61-1000),2)))","v":""},{"$f":"IF(K61=\"\",\"\",IF(OR(L61=\"CA\",M61=\"CA\"),ceva_base_rate!$N$1,0))","v":""},{"$f":"IF(K61=\"\",\"\",IF(OR(AND(VALUE(LEFT(C61,3))>=110,VALUE(LEFT(C61,3))<=114),AND(VALUE(LEFT(C61,3))>=100,VALUE(LEFT(C61,3))<=104),AND(VALUE(LEFT(B61,3))>=110,VALUE(LEFT(B61,3))<=114),AND(VALUE(LEFT(B61,3))>=100,VALUE(LEFT(B61,3))<=104)),ceva_base_rate!$N$2,0))","v":""},{"$f":"IF(N61=\"\",\"\",IF(N61=\"standard\",0,IF(K61<1000,VLOOKUP(MAX(101,K61),ceva_base_rate!A:H,8,FALSE),ROUND(VLOOKUP(1000,ceva_base_rate!$A$901:$H$901,8,FALSE)+VLOOKUP(\"1000+\",ceva_base_rate!$A$902:$H$902,8,FALSE)*(K61-1000),2))))","v":""},{"$f":"IF(O61=\"\",\"\",IF(O61=\"standard\",0,IF(K61<1000,VLOOKUP(MAX(101,K61),ceva_base_rate!A:H,8,FALSE),ROUND(VLOOKUP(1000,ceva_base_rate!$A$901:$H$901,8,FALSE)+VLOOKUP(\"1000+\",ceva_base_rate!$A$902:$H$902,8,FALSE)*(K61-1000),2))))","v":""},{"$f":"IF(OR(D61>=250,I61>=75),ceva_base_rate!$N$3,0)","v":0},{"$f":"IF(I61<96,0,IF(I61<120,ceva_base_rate!$N$4,IF(I61<192,ceva_base_rate!$N$5,IF(I61<240,ceva_base_rate!$N$6,ceva_base_rate!$N$7))))","v":0},{"$f":"IF(COUNTIF($H$2:H61,H61)=1,SUMIF(H:H,H61,Q:Q)+SUMIF(H:H,H61,R:R)+SUMIF(H:H,H61,S:S)+SUMIF(H:H,H61,T:T)+SUMIF(H:H,H61,U:U)+SUMIF(H:H,H61,V:V)+SUMIF(H:H,H61,W:W),\"\")","v":""}]
[789030,"91702","75243",350,78,43,15,"789030_91702_75243",78,350,{"$f":"IF(COUNTIF($H$2:H62,H62)=1,SUMIF(H:H,H62,J:J),\"\")","v":350},{"$f":"VLOOKUP(TEXT(B62,\"00000\"),remote_zone!A:B,2,FALSE)","v":"CA"},{"$f":"VLOOKUP(TEXT(C62,\"00000\"),remote_zone!A:B,2,FALSE)","v":"TX"},{"$f":"IF(K62=\"\",\"\",VLOOKUP(TEXT(B62,\"00000\"),remote_zone!$A:$D,4,FALSE))","v":"standard"},{"$f":"IF(K62=\"\",\"\",VLOOKUP(TEXT(C62,\"00000\"),remote_zone!$A:$D,4,FALSE))","v":"standard"},{"$f":"VLOOKUP(M62,ceva_zone!$A:$E,MATCH(Sheet1!L62,ceva_zone!$A$1:$E$1,0),FALSE)","v":"D"},{"$f":"IF(K62=\"\",\"\",IF(K62<1000,VLOOKUP(MAX(101,K62),ceva_base_rate!A:H,MATCH(Sheet1!P62,ceva_base_rate!$A$1:$H$1,0),FALSE),ROUND(VLOOKUP(1000,ceva_base_rate!$A$901:$H$901,MATCH(Sheet1!P62,ceva_base_rate!$A$1:$H$1,0),FALSE)+VLOOKUP(\"1000+\",ceva_base_rate!$A$902:$H$902,MATCH(Sheet1!P62,ceva_base_rate!$A$1:$H$1,0),FALSE)*(K62-1000),2)))","v":242},{"$f":"IF(K62=\"\",\"\",IF(OR(L62=\"CA\",M62=\"CA\"),ceva_base_rate!$N$1,0))","v":18.24},{"$f":"IF(K62=\"\",\"\",IF(OR(AND(VALUE(LEFT(C62,3))>=110,VALUE(LEFT(C62,3))<=114),AND(VALUE(LEFT(C62,3))>=100,VALUE(LEFT(C62,3))<=104),AND(VALUE(LEFT(B62,3))>=110,VALUE(LEFT(B62,3))<=114),AND(VALUE(LEFT(B62,3))>=100,VALUE(LEFT(B62,3))<=104)),ceva_base_rate!$N$2,0))","v":0},{"$f":"IF(N62=\"\",\"\",IF(N62=\"standard\",0,IF(K62<1000,VLOOKUP(MAX(101,K62),ceva_base_rate!A:H,8,FALSE),ROUND(VLOOKUP(1000,ceva_base_rate!$A$901:$H$901,8,FALSE)+VLOOKUP(\"1000+\",ceva_base_rate!$A$902:$H$902,8,FALSE)*(K62-1000),2))))","v":0},{"$f":"IF(O62=\"\",\"\",IF(O62=\"standard\",0,IF(K62<1000,VLOOKUP(MAX(101,K62),ceva_base_rate!A:H,8,FALSE),ROUND(VLOOKUP(1000,ceva_base_rate!$A$901:$H$901,8,FALSE)+VLOOKUP(\"1000+\",ceva_base_rate!$A$902:$H$902,8,FALSE)*(K62-1000),2))))","v":0},{"$f":"IF(OR(D62>=250,I62>=75),ceva_base_rate!$N$3,0)","v":30},{"$f":"IF(I62<96,0,IF(I62<120,ceva_base_rate!$N$4,IF(I62<192,ceva_base_rate!$N$5,IF(I62<240,ceva_base_rate!$N$6,ceva_base_rate!$N$7))))","v":0},{"$f":"IF(COUNTIF($H$2:H62,H62)=1,SUMIF(H:H,H62,Q:Q)+SUMIF(H:H,H62,R:R)+SUMIF(H:H,H62,S:S)+SUMIF(H:H,H62,T:T)+SUMIF(H:H,H62,U:U)+SUMIF(H:H,H62,V:V)+SUMIF(H:H,H62,W:W),\"\")","v":290.24}]
[789249,"91702","75094",283,77,39,16,"789249_91702_75094",77,283,{"$f":"IF(COUNTIF($H$2:H63,H63)=1,SUMIF(H:H,H63,J:J),\"\")","v":283},{"$f":"VLOOKUP(TEXT(B63,\"00000\"),remote_zone!A:B,2,FALSE)","v":"CA"},{"$f":"VLOOKUP(TEXT(C63,\"00000\"),remote_zone!A:B,2,FALSE)","v":"TX"},{"$f":"IF(K63=\"\",\"\",VLOOKUP(TEXT(B63,\"00000\"),remote_zone!$A:$D,4,FALSE))","v":"standard"},{"$f":"IF(K63=\"\",\"\",VLOOKUP(TEXT(C63,\"00000\"),remote_zone!$A:$D,4,FALSE))","v":"standard"},{"$f":"VLOOKUP(M63,ceva_zone!$A:$E,MATCH(Sheet1!L63,ceva_zone!$A$1:$E$1,0),FALSE)","v":"D"},{"$f":"IF(K63=\"\",\"\",IF(K63<1000,VLOOKUP(MAX(101,K63),ceva_base_rate!A:H,MATCH(Sheet1!P63,ceva_base_rate!$A$1:$H$1,0),FALSE),ROUND(VLOOKUP(1000,ceva_base_rate!$A$901:$H$901,MATCH(Sheet1!P63,ceva_base_rate!$A$1:$H$1,0),FALSE)+VLOOKUP(\"1000+\",ceva_base_rate!$A$902:$H$902,MATCH(Sheet1!P63,ceva_base_rate!$A$1:$H$1,0),FALSE)*(K63-1000),2)))","v":224},{"$f":"IF(K63=\"\",\"\",IF(OR(L63=\"CA\",M63=\"CA\"),ceva_base_rate!$N$1,0))","v":18.24},{"$f":"IF(K63=\"\",\"\",IF(OR(AND(VALUE(LEFT(C63,3))>=110,VALUE(LEFT(C63,3))<=114),AND(VALUE(LEFT(C63,3))>=100,VALUE(LEFT(C63,3))<=104),AND(VALUE(LEFT(B63,3))>=110,VALUE(LEFT(B63,3))<=114),AND(VALUE(LEFT(B63,3))>=100,VALUE(LEFT(B63,3))<=104)),ceva_base_rate!$N$2,0))","v":0},{"$f":"IF(N63=\"\",\"\",IF(N63=\"standard\",0,IF(K63<1000,VLOOKUP(MAX(101,K63),ceva_base_rate!A:H,8,FALSE),ROUND(VLOOKUP(1000,ceva_base_rate!$A$901:$H$901,8,FALSE)+VLOOKUP(\"1000+\",ceva_base_rate!$A$902:$H$902,8,FALSE)*(K63-1000),2))))","v":0},{"$f":"IF(O63=\"\",\"\",IF(O63=\"standard\",0,IF(K63<1000,VLOOKUP(MAX(101,K63),ceva_base_rate!A:H,8,FALSE),ROUND(VLOOKUP(1000,ceva_base_rate!$A$901:$H$901,8,FALSE)+VLOOKUP(\"1000+\",ceva_base_rate!$A$902:$H$902,8,FALSE)*(K63-1000),2))))","v":0},{"$f":"IF(OR(D63>=250,I63>=75),ceva_base_rate!$N$3,0)","v":30},{"$f":"IF(I63<96,0,IF(I63<120,ceva_base_rate!$N$4,IF(I63<192,ceva_base_rate!$N$5,IF(I63<240,ceva_base_rate!$N$6,ceva_base_rate!$N$7))))","v":0},{"$f":"IF(COUNTIF($H$2:H63,H63)=1,SUMIF(H:H,H63,Q:Q)+SUMIF(H:H,H63,R:R)+SUMIF(H:H,H63,S:S)+SUMIF(H:H,H63,T:T)+SUMIF(H:H,H63,U:U)+SUMIF(H:H,H63,V:V)+SUMIF(H:H,H63,W:W),\"\")","v":272.24}]
[789268,"91702","32803",75,71,50,10,"789268_91702_32803",71,142,{"$f":"IF(COUNTIF($H$2:H64,H64)=1,SUMIF(H:H,H64,J:J),\"\")","v":142},{"$f":"VLOOKUP(TEXT(B64,\"00000\"),remote_zone!A:B,2,FALSE)","v":"CA"},{"$f":"VLOOKUP(TEXT(C64,\"00000\"),remote_zone!A:B,2,FALSE)","v":"FL"},{"$f":"IF(K64=\"\",\"\",VLOOKUP(TEXT(B64,\"00000\"),remote_zone!$A:$D,4,FALSE))","v":"standard"},{"$f":"IF(K64=\"\",\"\",VLOOKUP(TEXT(C64,\"00000\"),remote_zone!$A:$D,4,FALSE))","v":"standard"},{"$f":"VLOOKUP(M64,ceva_zone!$A:$E,MATCH(Sheet1!L64,ceva_zone!$A$1:$E$1,0),FALSE)","v":"F"},{"$f":"IF(K64=\"\",\"\",IF(K64<1000,VLOOKUP(MAX(101,K64),ceva_base_rate!A:H,MATCH(Sheet1!P64,ceva_base_rate!$A$1:$H$1,0),FALSE),ROUND(VLOOKUP(1000,ceva_base_rate!$A$901:$H$901,MATCH(Sheet1!P64,ceva_base_rate!$A$1:$H$1,0),FALSE)+VLOOKUP(\"1000+\",ceva_base_rate!$A$902:$H$902,MATCH(Sheet1!P64,ceva_base_rate!$A$1:$H$1,0),FALSE)*(K64-1000),2)))","v":156},{"$f":"IF(K64=\"\",\"\",IF(OR(L64=\"CA\",M64=\"CA\"),ceva_base_rate!$N$1,0))","v":18.24},{"$f":"IF(K64=\"\",\"\",IF(OR(AND(VALUE(LEFT(C64,3))>=110,VALUE(LEFT(C64,3))<=114),AND(VALUE(LEFT(C64,3))>=100,VALUE(LEFT(C64,3))<=104),AND(VALUE(LEFT(B64,3))>=110,VALUE(LEFT(B64,3))<=114),AND(VALUE(LEFT(B64,3))>=100,VALUE(LEFT(B64,3))<=104)),ceva_base_rate!$N$2,0))","v":0},{"$f":"IF(N64=\"\",\"\",IF(N64=\"standard\",0,IF(K64<1000,VLOOKUP(MAX(101,K64),ceva_base_rate!A:H,8,FALSE),ROUND(VLOOKUP(1000,ceva_base_rate!$A$901:$H$901,8,FALSE)+VLOOKUP(\"1000+\",ceva_base_rate!$A$902:$H$902,8,FALSE)*(K64-1000),2))))","v":0},{"$f":"IF(O64=\"\",\"\",IF(O64=\"standard\",0,IF(K64<1000,VLOOKUP(MAX(101,K64),ceva_base_rate!A:H,8,FALSE),ROUND(VLOOKUP(1000,ceva_base_rate!$A$901:$H$901,8,FALSE)+VLOOKUP(\"1000+\",ceva_base_rate!$A$902:$H$902,8,FALSE)*(K64-1000),2))))","v":0},{"$f":"IF(OR(D64>=250,I64>=75),ceva_base_rate!$N$3,0)","v":0},{"$f":"IF(I64<96,0,IF(I64<120,ceva_base_rate!$N$4,IF(I64<192,ceva_base_rate!$N$5,IF(I64<240,ceva_base_rate!$N$6,ceva_base_rate!$N$7))))","v":0},{"$f":"IF(COUNTIF($H$2:H64,H64)=1,SUMIF(H:H,H64,Q:Q)+SUMIF(H:H,H64,R:R)+SUMIF(H:H,H64,S:S)+SUMIF(H:H,H64,T:T)+SUMIF(H:H,H64,U:U)+SUMIF(H:H,H64,V:V)+SUMIF(H:H,H64,W:W),\"\")","v":174.24}]
[789369,"91702","20785",75,48,48,7,"789369_91702_20785",48,75,{"$f":"IF(COUNTIF($H$2:H65,H65)=1,SUMIF(H:H,H65,J:J),\"\")","v":100},{"$f":"VLOOKUP(TEXT(B65,\"00000\"),remote_zone!A:B,2,FALSE)","v":"CA"},{"$f":"VLOOKUP(TEXT(C65,\"00000\"),remote_zone!A:B,2,FALSE)","v":"MD"},{"$f":"IF(K65=\"\",\"\",VLOOKUP(TEXT(B65,\"00000\"),remote_zone!$A:$D,4,FALSE))","v":"standard"},{"$f":"IF(K65=\"\",\"\",VLOOKUP(TEXT(C65,\"00000\"),remote_zone!$A:$D,4,FALSE))","v":"standard"},{"$f":"VLOOKUP(M65,ceva_zone!$A:$E,MATCH(Sheet1!L65,ceva_zone!$A$1:$E$1,0),FALSE)","v":"F"},{"$f":"IF(K65=\"\",\"\",IF(K65<1000,VLOOKUP(MAX(101,K65),ceva_base_rate!A:H,MATCH(Sheet1!P65,ceva_base_rate!$A$1:$H$1,0),FALSE),ROUND(VLOOKUP(1000,ceva_base_rate!$A$901:$H$901,MATCH(Sheet1!P65,ceva_base_rate!$A$1:$H$1,0),FALSE)+VLOOKUP(\"1000+\",ceva_base_rate!$A$902:$H$902,MATCH(Sheet1!P65,ceva_base_rate!$A$1:$H$1,0),FALSE)*(K65-1000),2)))","v":156},{"$f":"IF(K65=\"\",\"\",IF(OR(L65=\"CA\",M65=\"CA\"),ceva_base_rate!$N$1,0))","v":18.24},{"$f":"IF(K65=\"\",\"\",IF(OR(AND(VALUE(LEFT(C65,3))>=110,VALUE(LEFT(C65,3))<=114),AND(VALUE(LEFT(C65,3))>=100,VALUE(LEFT(C65,3))<=104),AND(VALUE(LEFT(B65,3))>=110,VALUE(LEFT(B65,3))<=114),AND(VALUE(LEFT(B65,3))>=100,VALUE(LEFT(B65,3))<=104)),ceva_base_rate!$N$2,0))","v":0},{"$f":"IF(N65=\"\",\"\",IF(N65=\"standard\",0,IF(K65<1000,VLOOKUP(MAX(101,K65),ceva_base_rate!A:H,8,FALSE),ROUND(VLOOKUP(1000,ceva_base_rate!$A$901:$H$901,8,FALSE)+VLOOKUP(\"1000+\",ceva_base_rate!$A$902:$H$902,8,FALSE)*(K65-1000),2))))","v":0},{"$f":"IF(O65=\"\",\"\",IF(O65=\"standard\",0,IF(K65<1000,VLOOKUP(MAX(101,K65),ceva_base_rate!A:H,8,FALSE),ROUND(VLOOKUP(1000,ceva_base_rate!$A$901:$H$901,8,FALSE)+VLOOKUP(\"1000+\",ceva_base_rate!$A$902:$H$902,8,FALSE)*(K65-1000),2))))","v":0},{"$f":"IF(OR(D65>=250,I65>=75),ceva_base_rate!$N$3,0)","v":0},{"$f":"IF(I65<96,0,IF(I65<120,ceva_base_rate!$N$4,IF(I65<192,ceva_base_rate!$N$5,IF(I65<240,ceva_base_rate!$N$6,ceva_base_rate!$N$7))))","v":0},{"$f":"IF(COUNTIF($H$2:H65,H65)=1,SUMIF(H:H,H65,Q:Q)+SUMIF(H:H,H65,R:R)+SUMIF(H:H,H65,S:S)+SUMIF(H:H,H65,T:T)+SUMIF(H:H,H65,U:U)+SUMIF(H:H,H65,V:V)+SUMIF(H:H,H65,W:W),\"\")","v":174.24}]
[789369,"91702","20785",25,32,11,11,"789369_91702_20785",32,25,{"$f":"IF(COUNTIF($H$2:H66,H66)=1,SUMIF(H:H,H66,J:J),\"\")","v":""},{"$f":"VLOOKUP(TEXT(B66,\"00000\"),remote_zone!A:B,2,FALSE)","v":"CA"},{"$f":"VLOOKUP(TEXT(C66,\"00000\"),remote_zone!A:B,2,FALSE)","v":"MD"},{"$f":"IF(K66=\"\",\"\",VLOOKUP(TEXT(B66,\"00000\"),remote_zone!$A:$D,4,FALSE))","v":""},{"$f":"IF(K66=\"\",\"\",VLOOKUP(TEXT(C66,\"00000\"),remote_zone!$A:$D,4,FALSE))","v":""},{"$f":"VLOOKUP(M66,ceva_zone!$A:$E,MATCH(Sheet1!L66,ceva_zone!$A$1:$E$1,0),FALSE)","v":"F"},{"$f":"IF(K66=\"\",\"\",IF(K66<1000,VLOOKUP(MAX(101,K66),ceva_base_rate!A:H,MATCH(Sheet1!P66,ceva_base_rate!$A$1:$H$1,0),FALSE),ROUND(VLOOKUP(1000,ceva_base_rate!$A$901:$H$901,MATCH(Sheet1!P66,ceva_base_rate!$A$1:$H$1,0),FALSE)+VLOOKUP(\"1000+\",ceva_base_rate!$A$902:$H$902,MATCH(Sheet1!P66,ceva_base_rate!$A$1:$H$1,0),FALSE)*(K66-1000),2)))","v":""},{"$f":"IF(K66=\"\",\"\",IF(OR(L66=\"CA\",M66=\"CA\"),ceva_base_rate!$N$1,0))","v":""},{"$f":"IF(K66=\"\",\"\",IF(OR(AND(VALUE(LEFT(C66,3))>=110,VALUE(LEFT(C66,3))<=114),AND(VALUE(LEFT(C66,3))>=100,VALUE(LEFT(C66,3))<=104),AND(VALUE(LEFT(B66,3))>=110,VALUE(LEFT(B66,3))<=114),AND(VALUE(LEFT(B66,3))>=100,VALUE(LEFT(B66,3))<=104)),ceva_base_rate!$N$2,0))","v":""},{"$f":"IF(N66=\"\",\"\",IF(N66=\"standard\",0,IF(K66<1000,VLOOKUP(MAX(101,K66),ceva_base_rate!A:H,8,FALSE),ROUND(VLOOKUP(1000,ceva_base_rate!$A$901:$H$901,8,FALSE)+VLOOKUP(\"1000+\",ceva_base_rate!$A$902:$H$902,8,FALSE)*(K66-1000),2))))","v":""},{"$f":"IF(O66=\"\",\"\",IF(O66=\"standard\",0,IF(K66<1000,VLOOKUP(MAX(101,K66),ceva_base_rate!A:H,8,FALSE),ROUND(VLOOKUP(1000,ceva_base_rate!$A$901:$H$901,8,FALSE)+VLOOKUP(\"1000+\",ceva_base_rate!$A$902:$H$902,8,FALSE)*(K66-1000),2))))","v":""},{"$f":"IF(OR(D66>=250,I66>=75),ceva_base_rate!$N$3,0)","v":0},{"$f":"IF(I66<96,0,IF(I66<120,ceva_base_rate!$N$4,IF(I66<192,ceva_base_rate!$N$5,IF(I66<240,ceva_base_rate!$N$6,ceva_base_rate!$N$7))))","v":0},{"$f":"IF(COUNTIF($H$2:H66,H66)=1,SUMIF(H:H,H66,Q:Q)+SUMIF(H:H,H66,R:R)+SUMIF(H:H,H66,S:S)+SUMIF(H:H,H66,T:T)+SUMIF(H:H,H66,U:U)+SUMIF(H:H,H66,V:V)+SUMIF(H:H,H66,W:W),\"\")","v":""}]
[789391,"91702","48226",51,41,23,20,"789391_91702_48226",41,75,{"$f":"IF(COUNTIF($H$2:H67,H67)=1,SUMIF(H:H,H67,J:J),\"\")","v":184},{"$f":"VLOOKUP(TEXT(B67,\"00000\"),remote_zone!A:B,2,FALSE)","v":"CA"},{"$f":"VLOOKUP(TEXT(C67,\"00000\"),remote_zone!A:B,2,FALSE)","v":"MI"},{"$f":"IF(K67=\"\",\"\",VLOOKUP(TEXT(B67,\"00000\"),remote_zone!$A:$D,4,FALSE))","v":"standard"},{"$f":"IF(K67=\"\",\"\",VLOOKUP(TEXT(C67,\"00000\"),remote_zone!$A:$D,4,FALSE))","v":"standard"},{"$f":"VLOOKUP(M67,ceva_zone!$A:$E,MATCH(Sheet1!L67,ceva_zone!$A$1:$E$1,0),FALSE)","v":"E"},{"$f":"IF(K67=\"\",\"\",IF(K67<1000,VLOOKUP(MAX(101,K67),ceva_base_rate!A:H,MATCH(Sheet1!P67,ceva_base_rate!$A$1:$H$1,0),FALSE),ROUND(VLOOKUP(1000,ceva_base_rate!$A$901:$H$901,MATCH(Sheet1!P67,ceva_base_rate!$A$1:$H$1,0),FALSE)+VLOOKUP(\"1000+\",ceva_base_rate!$A$902:$H$902,MATCH(Sheet1!P67,ceva_base_rate!$A$1:$H$1,0),FALSE)*(K67-1000),2)))","v":164},{"$f":"IF(K67=\"\",\"\",IF(OR(L67=\"CA\",M67=\"CA\"),ceva_base_rate!$N$1,0))","v":18.24},{"$f":"IF(K67=\"\",\"\",IF(OR(AND(VALUE(LEFT(C67,3))>=110,VALUE(LEFT(C67,3))<=114),AND(VALUE(LEFT(C67,3))>=100,VALUE(LEFT(C67,3))<=104),AND(VALUE(LEFT(B67,3))>=110,VALUE(LEFT(B67,3))<=114),AND(VALUE(LEFT(B67,3))>=100,VALUE(LEFT(B67,3))<=104)),ceva_base_rate!$N$2,0))","v":0},{"$f":"IF(N67=\"\",\"\",IF(N67=\"standard\",0,IF(K67<1000,VLOOKUP(MAX(101,K67),ceva_base_rate!A:H,8,FALSE),ROUND(VLOOKUP(1000,ceva_base_rate!$A$901:$H$901,8,FALSE)+VLOOKUP(\"1000+\",ceva_base_rate!$A$902:$H$902,8,FALSE)*(K67-1000),2))))","v":0},{"$f":"IF(O67=\"\",\"\",IF(O67=\"standard\",0,IF(K67<1000,VLOOKUP(MAX(101,K67),ceva_base_rate!A:H,8,FALSE),ROUND(VLOOKUP(1000,ceva_base_rate!$A$901:$H$901,8,FALSE)+VLOOKUP(\"1000+\",ceva_base_rate!$A$902:$H$902,8,FALSE)*(K67-1000),2))))","v":0},{"$f":"IF(OR(D67>=250,I67>=75),ceva_base_rate!$N$3,0)","v":0},{"$f":"IF(I67<96,0,IF(I67<120,ceva_base_rate!$N$4,IF(I67<192,ceva_base_rate!$N$5,IF(I67<240,ceva_base_rate!$N$6,ceva_base_rate!$N$7))))","v":0},{"$f":"IF(COUNTIF($H$2:H67,H67)=1,SUMIF(H:H,H67,Q:Q)+SUMIF(H:H,H67,R:R)+SUMIF(H:H,H67,S:S)+SUMIF(H:H,H67,T:T)+SUMIF(H:H,H67,U:U)+SUMIF(H:H,H67,V:V)+SUMIF(H:H,H67,W:W),\"\")","v":343.28}]
[789391,"91702","48226",94,100,21,13,"789391_91702_48226",100,109,{"$f":"IF(COUNTIF($H$2:H68,H68)=1,SUMIF(H:H,H68,J:J),\"\")","v":""},{"$f":"VLOOKUP(TEXT(B68,\"00000\"),remote_zone!A:B,2,FALSE)","v":"CA"},{"$f":"VLOOKUP(TEXT(C68,\"00000\"),remote_zone!A:B,2,FALSE)","v":"MI"},{"$f":"IF(K68=\"\",\"\",VLOOKUP(TEXT(B68,\"00000\"),remote_zone!$A:$D,4,FALSE))","v":""},{"$f":"IF(K68=\"\",\"\",VLOOKUP(TEXT(C68,\"00000\"),remote_zone!$A:$D,4,FALSE))","v":""},{"$f":"VLOOKUP(M68,ceva_zone!$A:$E,MATCH(Sheet1!L68,ceva_zone!$A$1:$E$1,0),FALSE)","v":"E"},{"$f":"IF(K68=\"\",\"\",IF(K68<1000,VLOOKUP(MAX(101,K68),ceva_base_rate!A:H,MATCH(Sheet1!P68,ceva_base_rate!$A$1:$H$1,0),FALSE),ROUND(VLOOKUP(1000,ceva_base_rate!$A$901:$H$901,MATCH(Sheet1!P68,ceva_base_rate!$A$1:$H$1,0),FALSE)+VLOOKUP(\"1000+\",ceva_base_rate!$A$902:$H$902,MATCH(Sheet1!P68,ceva_base_rate!$A$1:$H$1,0),FALSE)*(K68-1000),2)))","v":""},{"$f":"IF(K68=\"\",\"\",IF(OR(L68=\"CA\",M68=\"CA\"),ceva_base_rate!$N$1,0))","v":""},{"$f":"IF(K68=\"\",\"\",IF(OR(AND(VALUE(LEFT(C68,3))>=110,VALUE(LEFT(C68,3))<=114),AND(VALUE(LEFT(C68,3))>=100,VALUE(LEFT(C68,3))<=104),AND(VALUE(LEFT(B68,3))>=110,VALUE(LEFT(B68,3))<=114),AND(VALUE(LEFT(B68,3))>=100,VALUE(LEFT(B68,3))<=104)),ceva_base_rate!$N$2,0))","v":""},{"$f":"IF(N68=\"\",\"\",IF(N68=\"standard\",0,IF(K68<1000,VLOOKUP(MAX(101,K68),ceva_base_rate!A:H,8,FALSE),ROUND(VLOOKUP(1000,ceva_base_rate!$A$901:$H$901,8,FALSE)+VLOOKUP(\"1000+\",ceva_base_rate!$A$902:$H$902,8,FALSE)*(K68-1000),2))))","v":""},{"$f":"IF(O68=\"\",\"\",IF(O68=\"standard\",0,IF(K68<1000,VLOOKUP(MAX(101,K68),ceva_base_rate!A:H,8,FALSE),ROUND(VLOOKUP(1000,ceva_base_rate!$A$901:$H$901,8,FALSE)+VLOOKUP(\"1000+\",ceva_base_rate!$A$902:$H$902,8,FALSE)*(K68-1000),2))))","v":""},{"$f":"IF(OR(D68>=250,I68>=75),ceva_base_rate!$N$3,0)","v":30},{"$f":"IF(I68<96,0,IF(I68<120,ceva_base_rate!$N$4,IF(I68<192,ceva_base_rate!$N$5,IF(I68<240,ceva_base_rate!$N$6,ceva_base_rate!$N$7))))","v":131.04},{"$f":"IF(COUNTIF($H$2:H68,H68)=1,SUMIF(H:H,H68,Q:Q)+SUMIF(H:H,H68,R:R)+SUMIF(H:H,H68,S:S)+SUMIF(H:H,H68,T:T)+SUMIF(H:H,H68,U:U)+SUMIF(H:H,H68,V:V)+SUMIF(H:H,H68,W:W),\"\")","v":""}]
[789448,"91702","59937",49,78,30,7,{"$f":"A69&\"_\"&TEXT(B69,\"00000\")&\"_\"&TEXT(C69,\"00000\")","v":"789448_91702_59937"},{"$f":"MAX(E69:G69)","v":78},{"$f":"ROUND(MAX(D69,ROUND(E69,0)*ROUND(F69,0)*ROUND(G69,0)/250),0)","v":66},{"$f":"IF(COUNTIF($H$2:H69,H69)=1,SUMIF(H:H,H69,J:J),\"\")","v":66},{"$f":"VLOOKUP(TEXT(B69,\"00000\"),remote_zone!A:B,2,FALSE)","v":"CA"},{"$f":"VLOOKUP(TEXT(C69,\"00000\"),remote_zone!A:B,2,FALSE)","v":"MT"},{"$f":"IF(K69=\"\",\"\",VLOOKUP(TEXT(B69,\"00000\"),remote_zone!$A:$D,4,FALSE))","v":"standard"},{"$f":"IF(K69=\"\",\"\",VLOOKUP(TEXT(C69,\"00000\"),remote_zone!$A:$D,4,FALSE))","v":"remote"},{"$f":"VLOOKUP(M69,ceva_zone!$A:$E,MATCH(Sheet1!L69,ceva_zone!$A$1:$E$1,0),FALSE)","v":"E"},{"$f":"IF(K69=\"\",\"\",IF(K69<1000,VLOOKUP(MAX(101,K69),ceva_base_rate!A:H,MATCH(Sheet1!P69,ceva_base_rate!$A$1:$H$1,0),FALSE),ROUND(VLOOKUP(1000,ceva_base_rate!$A$901:$H$901,MATCH(Sheet1!P69,ceva_base_rate!$A$1:$H$1,0),FALSE)+VLOOKUP(\"1000+\",ceva_base_rate!$A$902:$H$902,MATCH(Sheet1!P69,ceva_base_rate!$A$1:$H$1,0),FALSE)*(K69-1000),2)))","v":156},{"$f":"IF(K69=\"\",\"\",IF(OR(L69=\"CA\",M69=\"CA\"),ceva_base_rate!$N$1,0))","v":18.24},{"$f":"IF(K69=\"\",\"\",IF(OR(AND(VALUE(LEFT(C69,3))>=110,VALUE(LEFT(C69,3))<=114),AND(VALUE(LEFT(C69,3))>=100,VALUE(LEFT(C69,3))<=104),AND(VALUE(LEFT(B69,3))>=110,VALUE(LEFT(B69,3))<=114),AND(VALUE(LEFT(B69,3))>=100,VALUE(LEFT(B69,3))<=104)),ceva_base_rate!$N$2,0))","v":0},{"$f":"IF(N69=\"\",\"\",IF(N69=\"standard\",0,IF(K69<1000,VLOOKUP(MAX(101,K69),ceva_base_rate!A:H,8,FALSE),ROUND(VLOOKUP(1000,ceva_base_rate!$A$901:$H$901,8,FALSE)+VLOOKUP(\"1000+\",ceva_base_rate!$A$902:$H$902,8,FALSE)*(K69-1000),2))))","v":0},{"$f":"IF(O69=\"\",\"\",IF(O69=\"standard\",0,IF(K69<1000,VLOOKUP(MAX(101,K69),ceva_base_rate!A:H,8,FALSE),ROUND(VLOOKUP(1000,ceva_base_rate!$A$901:$H$901,8,FALSE)+VLOOKUP(\"1000+\",ceva_base_rate!$A$902:$H$902,8,FALSE)*(K69-1000),2))))","v":123},{"$f":"IF(OR(D69>=250,I69>=75),ceva_base_rate!$N$3,0)","v":30},{"$f":"IF(I69<96,0,IF(I69<120,ceva_base_rate!$N$4,IF(I69<192,ceva_base_rate!$N$5,IF(I69<240,ceva_base_rate!$N$6,ceva_base_rate!$N$7))))","v":0},{"$f":"IF(COUNTIF($H$2:H69,H69)=1,SUMIF(H:H,H69,Q:Q)+SUMIF(H:H,H69,R:R)+SUMIF(H:H,H69,S:S)+SUMIF(H:H,H69,T:T)+SUMIF(H:H,H69,U:U)+SUMIF(H:H,H69,V:V)+SUMIF(H:H,H69,W:W),\"\")","v":327.24}]
[789499,"91702","85215",106,89,39,4,"789499_91702_85215",89,106,{"$f":"IF(COUNTIF($H$2:H70,H70)=1,SUMIF(H:H,H70,J:J),\"\")","v":125},{"$f":"VLOOKUP(TEXT(B70,\"00000\"),remote_zone!A:B,2,FALSE)","v":"CA"},{"$f":"VLOOKUP(TEXT(C70,\"00000\"),remote_zone!A:B,2,FALSE)","v":"AZ"},{"$f":"IF(K70=\"\",\"\",VLOOKUP(TEXT(B70,\"00000\"),remote_zone!$A:$D,4,FALSE))","v":"standard"},{"$f":"IF(K70=\"\",\"\",VLOOKUP(TEXT(C70,\"00000\"),remote_zone!$A:$D,4,FALSE))","v":"standard"},{"$f":"VLOOKUP(M70,ceva_zone!$A:$E,MATCH(Sheet1!L70,ceva_zone!$A$1:$E$1,0),FALSE)","v":"C"},{"$f":"IF(K70=\"\",\"\",IF(K70<1000,VLOOKUP(MAX(101,K70),ceva_base_rate!A:H,MATCH(Sheet1!P70,ceva_base_rate!$A$1:$H$1,0),FALSE),ROUND(VLOOKUP(1000,ceva_base_rate!$A$901:$H$901,MATCH(Sheet1!P70,ceva_base_rate!$A$1:$H$1,0),FALSE)+VLOOKUP(\"1000+\",ceva_base_rate!$A$902:$H$902,MATCH(Sheet1!P70,ceva_base_rate!$A$1:$H$1,0),FALSE)*(K70-1000),2)))","v":148},{"$f":"IF(K70=\"\",\"\",IF(OR(L70=\"CA\",M70=\"CA\"),ceva_base_rate!$N$1,0))","v":18.24},{"$f":"IF(K70=\"\",\"\",IF(OR(AND(VALUE(LEFT(C70,3))>=110,VALUE(LEFT(C70,3))<=114),AND(VALUE(LEFT(C70,3))>=100,VALUE(LEFT(C70,3))<=104),AND(VALUE(LEFT(B70,3))>=110,VALUE(LEFT(B70,3))<=114),AND(VALUE(LEFT(B70,3))>=100,VALUE(LEFT(B70,3))<=104)),ceva_base_rate!$N$2,0))","v":0},{"$f":"IF(N70=\"\",\"\",IF(N70=\"standard\",0,IF(K70<1000,VLOOKUP(MAX(101,K70),ceva_base_rate!A:H,8,FALSE),ROUND(VLOOKUP(1000,ceva_base_rate!$A$901:$H$901,8,FALSE)+VLOOKUP(\"1000+\",ceva_base_rate!$A$902:$H$902,8,FALSE)*(K70-1000),2))))","v":0},{"$f":"IF(O70=\"\",\"\",IF(O70=\"standard\",0,IF(K70<1000,VLOOKUP(MAX(101,K70),ceva_base_rate!A:H,8,FALSE),ROUND(VLOOKUP(1000,ceva_base_rate!$A$901:$H$901,8,FALSE)+VLOOKUP(\"1000+\",ceva_base_rate!$A$902:$H$902,8,FALSE)*(K70-1000),2))))","v":0},{"$f":"IF(OR(D70>=250,I70>=75),ceva_base_rate!$N$3,0)","v":30},{"$f":"IF(I70<96,0,IF(I70<120,ceva_base_rate!$N$4,IF(I70<192,ceva_base_rate!$N$5,IF(I70<240,ceva_base_rate!$N$6,ceva_base_rate!$N$7))))","v":0},{"$f":"IF(COUNTIF($H$2:H70,H70)=1,SUMIF(H:H,H70,Q:Q)+SUMIF(H:H,H70,R:R)+SUMIF(H:H,H70,S:S)+SUMIF(H:H,H70,T:T)+SUMIF(H:H,H70,U:U)+SUMIF(H:H,H70,V:V)+SUMIF(H:H,H70,W:W),\"\")","v":196.24}]
[789499,"91702","85215",17,29,28,6,"789499_91702_85215",29,19,{"$f":"IF(COUNTIF($H$2:H71,H71)=1,SUMIF(H:H,H71,J:J),\"\")","v":""},{"$f":"VLOOKUP(TEXT(B71,\"00000\"),remote_zone!A:B,2,FALSE)","v":"CA"},{"$f":"VLOOKUP(TEXT(C71,\"00000\"),remote_zone!A:B,2,FALSE)","v":"AZ"},{"$f":"IF(K71=\"\",\"\",VLOOKUP(TEXT(B71,\"00000\"),remote_zone!$A:$D,4,FALSE))","v":""},{"$f":"IF(K71=\"\",\"\",VLOOKUP(TEXT(C71,\"00000\"),remote_zone!$A:$D,4,FALSE))","v":""},{"$f":"VLOOKUP(M71,ceva_zone!$A:$E,MATCH(Sheet1!L71,ceva_zone!$A$1:$E$1,0),FALSE)","v":"C"},{"$f":"IF(K71=\"\",\"\",IF(K71<1000,VLOOKUP(MAX(101,K71),ceva_base_rate!A:H,MATCH(Sheet1!P71,ceva_base_rate!$A$1:$H$1,0),FALSE),ROUND(VLOOKUP(1000,ceva_base_rate!$A$901:$H$901,MATCH(Sheet1!P71,ceva_base_rate!$A$1:$H$1,0),FALSE)+VLOOKUP(\"1000+\",ceva_base_rate!$A$902:$H$902,MATCH(Sheet1!P71,ceva_base_rate!$A$1:$H$1,0),FALSE)*(K71-1000),2)))","v":""},{"$f":"IF(K71=\"\",\"\",IF(OR(L71=\"CA\",M71=\"CA\"),ceva_base_rate!$N$1,0))","v":""},{"$f":"IF(K71=\"\",\"\",IF(OR(AND(VALUE(LEFT(C71,3))>=110,VALUE(LEFT(C71,3))<=114),AND(VALUE(LEFT(C71,3))>=100,VALUE(LEFT(C71,3))<=104),AND(VALUE(LEFT(B71,3))>=110,VALUE(LEFT(B71,3))<=114),AND(VALUE(LEFT(B71,3))>=100,VALUE(LEFT(B71,3))<=104)),ceva_base_rate!$N$2,0))","v":""},{"$f":"IF(N71=\"\",\"\",IF(N71=\"standard\",0,IF(K71<1000,VLOOKUP(MAX(101,K71),ceva_base_rate!A:H,8,FALSE),ROUND(VLOOKUP(1000,ceva_base_rate!$A$901:$H$901,8,FALSE)+VLOOKUP(\"1000+\",ceva_base_rate!$A$902:$H$902,8,FALSE)*(K71-1000),2))))","v":""},{"$f":"IF(O71=\"\",\"\",IF(O71=\"standard\",0,IF(K71<1000,VLOOKUP(MAX(101,K71),ceva_base_rate!A:H,8,FALSE),ROUND(VLOOKUP(1000,ceva_base_rate!$A$901:$H$901,8,FALSE)+VLOOKUP(\"1000+\",ceva_base_rate!$A$902:$H$902,8,FALSE)*(K71-1000),2))))","v":""},{"$f":"IF(OR(D71>=250,I71>=75),ceva_base_rate!$N$3,0)","v":0},{"$f":"IF(I71<96,0,IF(I71<120,ceva_base_rate!$N$4,IF(I71<192,ceva_base_rate!$N$5,IF(I71<240,ceva_base_rate!$N$6,ceva_base_rate!$N$7))))","v":0},{"$f":"IF(COUNTIF($H$2:H71,H71)=1,SUMIF(H:H,H71,Q:Q)+SUMIF(H:H,H71,R:R)+SUMIF(H:H,H71,S:S)+SUMIF(H:H,H71,T:T)+SUMIF(H:H,H71,U:U)+SUMIF(H:H,H71,V:V)+SUMIF(H:H,H71,W:W),\"\")","v":""}]
[789611,"91702","33174",113,84,27,6,"789611_91702_33174",84,113,{"$f":"IF(COUNTIF($H$2:H72,H72)=1,SUMIF(H:H,H72,J:J),\"\")","v":113},{"$f":"VLOOKUP(TEXT(B72,\"00000\"),remote_zone!A:B,2,FALSE)","v":"CA"},{"$f":"VLOOKUP(TEXT(C72,\"00000\"),remote_zone!A:B,2,FALSE)","v":"FL"},{"$f":"IF(K72=\"\",\"\",VLOOKUP(TEXT(B72,\"00000\"),remote_zone!$A:$D,4,FALSE))","v":"standard"},{"$f":"IF(K72=\"\",\"\",VLOOKUP(TEXT(C72,\"00000\"),remote_zone!$A:$D,4,FALSE))","v":"standard"},{"$f":"VLOOKUP(M72,ceva_zone!$A:$E,MATCH(Sheet1!L72,ceva_zone!$A$1:$E$1,0),FALSE)","v":"F"},{"$f":"IF(K72=\"\",\"\",IF(K72<1000,VLOOKUP(MAX(101,K72),ceva_base_rate!A:H,MATCH(Sheet1!P72,ceva_base_rate!$A$1:$H$1,0),FALSE),ROUND(VLOOKUP(1000,ceva_base_rate!$A$901:$H$901,MATCH(Sheet1!P72,ceva_base_rate!$A$1:$H$1,0),FALSE)+VLOOKUP(\"1000+\",ceva_base_rate!$A$902:$H$902,MATCH(Sheet1!P72,ceva_base_rate!$A$1:$H$1,0),FALSE)*(K72-1000),2)))","v":156},{"$f":"IF(K72=\"\",\"\",IF(OR(L72=\"CA\",M72=\"CA\"),ceva_base_rate!$N$1,0))","v":18.24},{"$f":"IF(K72=\"\",\"\",IF(OR(AND(VALUE(LEFT(C72,3))>=110,VALUE(LEFT(C72,3))<=114),AND(VALUE(LEFT(C72,3))>=100,VALUE(LEFT(C72,3))<=104),AND(VALUE(LEFT(B72,3))>=110,VALUE(LEFT(B72,3))<=114),AND(VALUE(LEFT(B72,3))>=100,VALUE(LEFT(B72,3))<=104)),ceva_base_rate!$N$2,0))","v":0},{"$f":"IF(N72=\"\",\"\",IF(N72=\"standard\",0,IF(K72<1000,VLOOKUP(MAX(101,K72),ceva_base_rate!A:H,8,FALSE),ROUND(VLOOKUP(1000,ceva_base_rate!$A$901:$H$901,8,FALSE)+VLOOKUP(\"1000+\",ceva_base_rate!$A$902:$H$902,8,FALSE)*(K72-1000),2))))","v":0},{"$f":"IF(O72=\"\",\"\",IF(O72=\"standard\",0,IF(K72<1000,VLOOKUP(MAX(101,K72),ceva_base_rate!A:H,8,FALSE),ROUND(VLOOKUP(1000,ceva_base_rate!$A$901:$H$901,8,FALSE)+VLOOKUP(\"1000+\",ceva_base_rate!$A$902:$H$902,8,FALSE)*(K72-1000),2))))","v":0},{"$f":"IF(OR(D72>=250,I72>=75),ceva_base_rate!$N$3,0)","v":30},{"$f":"IF(I72<96,0,IF(I72<120,ceva_base_rate!$N$4,IF(I72<192,ceva_base_rate!$N$5,IF(I72<240,ceva_base_rate!$N$6,ceva_base_rate!$N$7))))","v":0},{"$f":"IF(COUNTIF($H$2:H72,H72)=1,SUMIF(H:H,H72,Q:Q)+SUMIF(H:H,H72,R:R)+SUMIF(H:H,H72,S:S)+SUMIF(H:H,H72,T:T)+SUMIF(H:H,H72,U:U)+SUMIF(H:H,H72,V:V)+SUMIF(H:H,H72,W:W),\"\")","v":204.24}]
[790040,"91702","06250",102,77,25,24,"790040_91702_06250",77,185,{"$f":"IF(COUNTIF($H$2:H73,H73)=1,SUMIF(H:H,H73,J:J),\"\")","v":185},{"$f":"VLOOKUP(TEXT(B73,\"00000\"),remote_zone!A:B,2,FALSE)","v":"CA"},{"$f":"VLOOKUP(TEXT(C73,\"00000\"),remote_zone!A:B,2,FALSE)","v":"CT"},{"$f":"IF(K73=\"\",\"\",VLOOKUP(TEXT(B73,\"00000\"),remote_zone!$A:$D,4,FALSE))","v":"standard"},{"$f":"IF(K73=\"\",\"\",VLOOKUP(TEXT(C73,\"00000\"),remote_zone!$A:$D,4,FALSE))","v":"standard"},{"$f":"VLOOKUP(M73,ceva_zone!$A:$E,MATCH(Sheet1!L73,ceva_zone!$A$1:$E$1,0),FALSE)","v":"F"},{"$f":"IF(K73=\"\",\"\",IF(K73<1000,VLOOKUP(MAX(101,K73),ceva_base_rate!A:H,MATCH(Sheet1!P73,ceva_base_rate!$A$1:$H$1,0),FALSE),ROUND(VLOOKUP(1000,ceva_base_rate!$A$901:$H$901,MATCH(Sheet1!P73,ceva_base_rate!$A$1:$H$1,0),FALSE)+VLOOKUP(\"1000+\",ceva_base_rate!$A$902:$H$902,MATCH(Sheet1!P73,ceva_base_rate!$A$1:$H$1,0),FALSE)*(K73-1000),2)))","v":180},{"$f":"IF(K73=\"\",\"\",IF(OR(L73=\"CA\",M73=\"CA\"),ceva_base_rate!$N$1,0))","v":18.24},{"$f":"IF(K73=\"\",\"\",IF(OR(AND(VALUE(LEFT(C73,3))>=110,VALUE(LEFT(C73,3))<=114),AND(VALUE(LEFT(C73,3))>=100,VALUE(LEFT(C73,3))<=104),AND(VALUE(LEFT(B73,3))>=110,VALUE(LEFT(B73,3))<=114),AND(VALUE(LEFT(B73,3))>=100,VALUE(LEFT(B73,3))<=104)),ceva_base_rate!$N$2,0))","v":0},{"$f":"IF(N73=\"\",\"\",IF(N73=\"standard\",0,IF(K73<1000,VLOOKUP(MAX(101,K73),ceva_base_rate!A:H,8,FALSE),ROUND(VLOOKUP(1000,ceva_base_rate!$A$901:$H$901,8,FALSE)+VLOOKUP(\"1000+\",ceva_base_rate!$A$902:$H$902,8,FALSE)*(K73-1000),2))))","v":0},{"$f":"IF(O73=\"\",\"\",IF(O73=\"standard\",0,IF(K73<1000,VLOOKUP(MAX(101,K73),ceva_base_rate!A:H,8,FALSE),ROUND(VLOOKUP(1000,ceva_base_rate!$A$901:$H$901,8,FALSE)+VLOOKUP(\"1000+\",ceva_base_rate!$A$902:$H$902,8,FALSE)*(K73-1000),2))))","v":0},{"$f":"IF(OR(D73>=250,I73>=75),ceva_base_rate!$N$3,0)","v":30},{"$f":"IF(I73<96,0,IF(I73<120,ceva_base_rate!$N$4,IF(I73<192,ceva_base_rate!$N$5,IF(I73<240,ceva_base_rate!$N$6,ceva_base_rate!$N$7))))","v":0},{"$f":"IF(COUNTIF($H$2:H73,H73)=1,SUMIF(H:H,H73,Q:Q)+SUMIF(H:H,H73,R:R)+SUMIF(H:H,H73,S:S)+SUMIF(H:H,H73,T:T)+SUMIF(H:H,H73,U:U)+SUMIF(H:H,H73,V:V)+SUMIF(H:H,H73,W:W),\"\")","v":228.24}]
[790079,"91702","98116",73,83,29,8,"790079_91702_98116",83,77,{"$f":"IF(COUNTIF($H$2:H74,H74)=1,SUMIF(H:H,H74,J:J),\"\")","v":148},{"$f":"VLOOKUP(TEXT(B74,\"00000\"),remote_zone!A:B,2,FALSE)","v":"CA"},{"$f":"VLOOKUP(TEXT(C74,\"00000\"),remote_zone!A:B,2,FALSE)","v":"WA"},{"$f":"IF(K74=\"\",\"\",VLOOKUP(TEXT(B74,\"00000\"),remote_zone!$A:$D,4,FALSE))","v":"standard"},{"$f":"IF(K74=\"\",\"\",VLOOKUP(TEXT(C74,\"00000\"),remote_zone!$A:$D,4,FALSE))","v":"standard"},{"$f":"VLOOKUP(M74,ceva_zone!$A:$E,MATCH(Sheet1!L74,ceva_zone!$A$1:$E$1,0),FALSE)","v":"C"},{"$f":"IF(K74=\"\",\"\",IF(K74<1000,VLOOKUP(MAX(101,K74),ceva_base_rate!A:H,MATCH(Sheet1!P74,ceva_base_rate!$A$1:$H$1,0),FALSE),ROUND(VLOOKUP(1000,ceva_base_rate!$A$901:$H$901,MATCH(Sheet1!P74,ceva_base_rate!$A$1:$H$1,0),FALSE)+VLOOKUP(\"1000+\",ceva_base_rate!$A$902:$H$902,MATCH(Sheet1!P74,ceva_base_rate!$A$1:$H$1,0),FALSE)*(K74-1000),2)))","v":148},{"$f":"IF(K74=\"\",\"\",IF(OR(L74=\"CA\",M74=\"CA\"),ceva_base_rate!$N$1,0))","v":18.24},{"$f":"IF(K74=\"\",\"\",IF(OR(AND(VALUE(LEFT(C74,3))>=110,VALUE(LEFT(C74,3))<=114),AND(VALUE(LEFT(C74,3))>=100,VALUE(LEFT(C74,3))<=104),AND(VALUE(LEFT(B74,3))>=110,VALUE(LEFT(B74,3))<=114),AND(VALUE(LEFT(B74,3))>=100,VALUE(LEFT(B74,3))<=104)),ceva_base_rate!$N$2,0))","v":0},{"$f":"IF(N74=\"\",\"\",IF(N74=\"standard\",0,IF(K74<1000,VLOOKUP(MAX(101,K74),ceva_base_rate!A:H,8,FALSE),ROUND(VLOOKUP(1000,ceva_base_rate!$A$901:$H$901,8,FALSE)+VLOOKUP(\"1000+\",ceva_base_rate!$A$902:$H$902,8,FALSE)*(K74-1000),2))))","v":0},{"$f":"IF(O74=\"\",\"\",IF(O74=\"standard\",0,IF(K74<1000,VLOOKUP(MAX(101,K74),ceva_base_rate!A:H,8,FALSE),ROUND(VLOOKUP(1000,ceva_base_rate!$A$901:$H$901,8,FALSE)+VLOOKUP(\"1000+\",ceva_base_rate!$A$902:$H$902,8,FALSE)*(K74-1000),2))))","v":0},{"$f":"IF(OR(D74>=250,I74>=75),ceva_base_rate!$N$3,0)","v":30},{"$f":"IF(I74<96,0,IF(I74<120,ceva_base_rate!$N$4,IF(I74<192,ceva_base_rate!$N$5,IF(I74<240,ceva_base_rate!$N$6,ceva_base_rate!$N$7))))","v":0},{"$f":"IF(COUNTIF($H$2:H74,H74)=1,SUMIF(H:H,H74,Q:Q)+SUMIF(H:H,H74,R:R)+SUMIF(H:H,H74,S:S)+SUMIF(H:H,H74,T:T)+SUMIF(H:H,H74,U:U)+SUMIF(H:H,H74,V:V)+SUMIF(H:H,H74,W:W),\"\")","v":226.24}]
[790079,"91702","98116",71,83,28,7,"790079_91702_98116",83,71,{"$f":"IF(COUNTIF($H$2:H75,H75)=1,SUMIF(H:H,H75,J:J),\"\")","v":""},{"$f":"VLOOKUP(TEXT(B75,\"00000\"),remote_zone!A:B,2,FALSE)","v":"CA"},{"$f":"VLOOKUP(TEXT(C75,\"00000\"),remote_zone!A:B,2,FALSE)","v":"WA"},{"$f":"IF(K75=\"\",\"\",VLOOKUP(TEXT(B75,\"00000\"),remote_zone!$A:$D,4,FALSE))","v":""},{"$f":"IF(K75=\"\",\"\",VLOOKUP(TEXT(C75,\"00000\"),remote_zone!$A:$D,4,FALSE))","v":""},{"$f":"VLOOKUP(M75,ceva_zone!$A:$E,MATCH(Sheet1!L75,ceva_zone!$A$1:$E$1,0),FALSE)","v":"C"},{"$f":"IF(K75=\"\",\"\",IF(K75<1000,VLOOKUP(MAX(101,K75),ceva_base_rate!A:H,MATCH(Sheet1!P75,ceva_base_rate!$A$1:$H$1,0),FALSE),ROUND(VLOOKUP(1000,ceva_base_rate!$A$901:$H$901,MATCH(Sheet1!P75,ceva_base_rate!$A$1:$H$1,0),FALSE)+VLOOKUP(\"1000+\",ceva_base_rate!$A$902:$H$902,MATCH(Sheet1!P75,ceva_base_rate!$A$1:$H$1,0),FALSE)*(K75-1000),2)))","v":""},{"$f":"IF(K75=\"\",\"\",IF(OR(L75=\"CA\",M75=\"CA\"),ceva_base_rate!$N$1,0))","v":""},{"$f":"IF(K75=\"\",\"\",IF(OR(AND(VALUE(LEFT(C75,3))>=110,VALUE(LEFT(C75,3))<=114),AND(VALUE(LEFT(C75,3))>=100,VALUE(LEFT(C75,3))<=104),AND(VALUE(LEFT(B75,3))>=110,VALUE(LEFT(B75,3))<=114),AND(VALUE(LEFT(B75,3))>=100,VALUE(LEFT(B75,3))<=104)),ceva_base_rate!$N$2,0))","v":""},{"$f":"IF(N75=\"\",\"\",IF(N75=\"standard\",0,IF(K75<1000,VLOOKUP(MAX(101,K75),ceva_base_rate!A:H,8,FALSE),ROUND(VLOOKUP(1000,ceva_base_rate!$A$901:$H$901,8,FALSE)+VLOOKUP(\"1000+\",ceva_base_rate!$A$902:$H$902,8,FALSE)*(K75-1000),2))))","v":""},{"$f":"IF(O75=\"\",\"\",IF(O75=\"standard\",0,IF(K75<1000,VLOOKUP(MAX(101,K75),ceva_base_rate!A:H,8,FALSE),ROUND(VLOOKUP(1000,ceva_base_rate!$A$901:$H$901,8,FALSE)+VLOOKUP(\"1000+\",ceva_base_rate!$A$902:$H$902,8,FALSE)*(K75-1000),2))))","v":""},{"$f":"IF(OR(D75>=250,I75>=75),ceva_base_rate!$N$3,0)","v":30},{"$f":"IF(I75<96,0,IF(I75<120,ceva_base_rate!$N$4,IF(I75<192,ceva_base_rate!$N$5,IF(I75<240,ceva_base_rate!$N$6,ceva_base_rate!$N$7))))","v":0},{"$f":"IF(COUNTIF($H$2:H75,H75)=1,SUMIF(H:H,H75,Q:Q)+SUMIF(H:H,H75,R:R)+SUMIF(H:H,H75,S:S)+SUMIF(H:H,H75,T:T)+SUMIF(H:H,H75,U:U)+SUMIF(H:H,H75,V:V)+SUMIF(H:H,H75,W:W),\"\")","v":""}]
[790168,"91702","76120",67,102,15,15,"790168_91702_76120",102,92,{"$f":"IF(COUNTIF($H$2:H76,H76)=1,SUMIF(H:H,H76,J:J),\"\")","v":92},{"$f":"VLOOKUP(TEXT(B76,\"00000\"),remote_zone!A:B,2,FALSE)","v":"CA"},{"$f":"VLOOKUP(TEXT(C76,\"00000\"),remote_zone!A:B,2,FALSE)","v":"TX"},{"$f":"IF(K76=\"\",\"\",VLOOKUP(TEXT(B76,\"00000\"),remote_zone!$A:$D,4,FALSE))","v":"standard"},{"$f":"IF(K76=\"\",\"\",VLOOKUP(TEXT(C76,\"00000\"),remote_zone!$A:$D,4,FALSE))","v":"standard"},{"$f":"VLOOKUP(M76,ceva_zone!$A:$E,MATCH(Sheet1!L76,ceva_zone!$A$1:$E$1,0),FALSE)","v":"D"},{"$f":"IF(K76=\"\",\"\",IF(K76<1000,VLOOKUP(MAX(101,K76),ceva_base_rate!A:H,MATCH(Sheet1!P76,ceva_base_rate!$A$1:$H$1,0),FALSE),ROUND(VLOOKUP(1000,ceva_base_rate!$A$901:$H$901,MATCH(Sheet1!P76,ceva_base_rate!$A$1:$H$1,0),FALSE)+VLOOKUP(\"1000+\",ceva_base_rate!$A$902:$H$902,MATCH(Sheet1!P76,ceva_base_rate!$A$1:$H$1,0),FALSE)*(K76-1000),2)))","v":156},{"$f":"IF(K76=\"\",\"\",IF(OR(L76=\"CA\",M76=\"CA\"),ceva_base_rate!$N$1,0))","v":18.24},{"$f":"IF(K76=\"\",\"\",IF(OR(AND(VALUE(LEFT(C76,3))>=110,VALUE(LEFT(C76,3))<=114),AND(VALUE(LEFT(C76,3))>=100,VALUE(LEFT(C76,3))<=104),AND(VALUE(LEFT(B76,3))>=110,VALUE(LEFT(B76,3))<=114),AND(VALUE(LEFT(B76,3))>=100,VALUE(LEFT(B76,3))<=104)),ceva_base_rate!$N$2,0))","v":0},{"$f":"IF(N76=\"\",\"\",IF(N76=\"standard\",0,IF(K76<1000,VLOOKUP(MAX(101,K76),ceva_base_rate!A:H,8,FALSE),ROUND(VLOOKUP(1000,ceva_base_rate!$A$901:$H$901,8,FALSE)+VLOOKUP(\"1000+\",ceva_base_rate!$A$902:$H$902,8,FALSE)*(K76-1000),2))))","v":0},{"$f":"IF(O76=\"\",\"\",IF(O76=\"standard\",0,IF(K76<1000,VLOOKUP(MAX(101,K76),ceva_base_rate!A:H,8,FALSE),ROUND(VLOOKUP(1000,ceva_base_rate!$A$901:$H$901,8,FALSE)+VLOOKUP(\"1000+\",ceva_base_rate!$A$902:$H$902,8,FALSE)*(K76-1000),2))))","v":0},{"$f":"IF(OR(D76>=250,I76>=75),ceva_base_rate!$N$3,0)","v":30},{"$f":"IF(I76<96,0,IF(I76<120,ceva_base_rate!$N$4,IF(I76<192,ceva_base_rate!$N$5,IF(I76<240,ceva_base_rate!$N$6,ceva_base_rate!$N$7))))","v":131.04},{"$f":"IF(COUNTIF($H$2:H76,H76)=1,SUMIF(H:H,H76,Q:Q)+SUMIF(H:H,H76,R:R)+SUMIF(H:H,H76,S:S)+SUMIF(H:H,H76,T:T)+SUMIF(H:H,H76,U:U)+SUMIF(H:H,H76,V:V)+SUMIF(H:H,H76,W:W),\"\")","v":335.28}]
[790233,"91702","32459",35,32,26,26,"790233_91702_32459",32,87,{"$f":"IF(COUNTIF($H$2:H77,H77)=1,SUMIF(H:H,H77,J:J),\"\")","v":198},{"$f":"VLOOKUP(TEXT(B77,\"00000\"),remote_zone!A:B,2,FALSE)","v":"CA"},{"$f":"VLOOKUP(TEXT(C77,\"00000\"),remote_zone!A:B,2,FALSE)","v":"FL"},{"$f":"IF(K77=\"\",\"\",VLOOKUP(TEXT(B77,\"00000\"),remote_zone!$A:$D,4,FALSE))","v":"standard"},{"$f":"IF(K77=\"\",\"\",VLOOKUP(TEXT(C77,\"00000\"),remote_zone!$A:$D,4,FALSE))","v":"remote"},{"$f":"VLOOKUP(M77,ceva_zone!$A:$E,MATCH(Sheet1!L77,ceva_zone!$A$1:$E$1,0),FALSE)","v":"F"},{"$f":"IF(K77=\"\",\"\",IF(K77<1000,VLOOKUP(MAX(101,K77),ceva_base_rate!A:H,MATCH(Sheet1!P77,ceva_base_rate!$A$1:$H$1,0),FALSE),ROUND(VLOOKUP(1000,ceva_base_rate!$A$901:$H$901,MATCH(Sheet1!P77,ceva_base_rate!$A$1:$H$1,0),FALSE)+VLOOKUP(\"1000+\",ceva_base_rate!$A$902:$H$902,MATCH(Sheet1!P77,ceva_base_rate!$A$1:$H$1,0),FALSE)*(K77-1000),2)))","v":193},{"$f":"IF(K77=\"\",\"\",IF(OR(L77=\"CA\",M77=\"CA\"),ceva_base_rate!$N$1,0))","v":18.24},{"$f":"IF(K77=\"\",\"\",IF(OR(AND(VALUE(LEFT(C77,3))>=110,VALUE(LEFT(C77,3))<=114),AND(VALUE(LEFT(C77,3))>=100,VALUE(LEFT(C77,3))<=104),AND(VALUE(LEFT(B77,3))>=110,VALUE(LEFT(B77,3))<=114),AND(VALUE(LEFT(B77,3))>=100,VALUE(LEFT(B77,3))<=104)),ceva_base_rate!$N$2,0))","v":0},{"$f":"IF(N77=\"\",\"\",IF(N77=\"standard\",0,IF(K77<1000,VLOOKUP(MAX(101,K77),ceva_base_rate!A:H,8,FALSE),ROUND(VLOOKUP(1000,ceva_base_rate!$A$901:$H$901,8,FALSE)+VLOOKUP(\"1000+\",ceva_base_rate!$A$902:$H$902,8,FALSE)*(K77-1000),2))))","v":0},{"$f":"IF(O77=\"\",\"\",IF(O77=\"standard\",0,IF(K77<1000,VLOOKUP(MAX(101,K77),ceva_base_rate!A:H,8,FALSE),ROUND(VLOOKUP(1000,ceva_base_rate!$A$901:$H$901,8,FALSE)+VLOOKUP(\"1000+\",ceva_base_rate!$A$902:$H$902,8,FALSE)*(K77-1000),2))))","v":123},{"$f":"IF(OR(D77>=250,I77>=75),ceva_base_rate!$N$3,0)","v":0},{"$f":"IF(I77<96,0,IF(I77<120,ceva_base_rate!$N$4,IF(I77<192,ceva_base_rate!$N$5,IF(I77<240,ceva_base_rate!$N$6,ceva_base_rate!$N$7))))","v":0},{"$f":"IF(COUNTIF($H$2:H77,H77)=1,SUMIF(H:H,H77,Q:Q)+SUMIF(H:H,H77,R:R)+SUMIF(H:H,H77,S:S)+SUMIF(H:H,H77,T:T)+SUMIF(H:H,H77,U:U)+SUMIF(H:H,H77,V:V)+SUMIF(H:H,H77,W:W),\"\")","v":334.24}]
[790233,"91702","32459",111,54,54,7,"790233_91702_32459",54,111,{"$f":"IF(COUNTIF($H$2:H78,H78)=1,SUMIF(H:H,H78,J:J),\"\")","v":""},{"$f":"VLOOKUP(TEXT(B78,\"00000\"),remote_zone!A:B,2,FALSE)","v":"CA"},{"$f":"VLOOKUP(TEXT(C78,\"00000\"),remote_zone!A:B,2,FALSE)","v":"FL"},{"$f":"IF(K78=\"\",\"\",VLOOKUP(TEXT(B78,\"00000\"),remote_zone!$A:$D,4,FALSE))","v":""},{"$f":"IF(K78=\"\",\"\",VLOOKUP(TEXT(C78,\"00000\"),remote_zone!$A:$D,4,FALSE))","v":""},{"$f":"VLOOKUP(M78,ceva_zone!$A:$E,MATCH(Sheet1!L78,ceva_zone!$A$1:$E$1,0),FALSE)","v":"F"},{"$f":"IF(K78=\"\",\"\",IF(K78<1000,VLOOKUP(MAX(101,K78),ceva_base_rate!A:H,MATCH(Sheet1!P78,ceva_base_rate!$A$1:$H$1,0),FALSE),ROUND(VLOOKUP(1000,ceva_base_rate!$A$901:$H$901,MATCH(Sheet1!P78,ceva_base_rate!$A$1:$H$1,0),FALSE)+VLOOKUP(\"1000+\",ceva_base_rate!$A$902:$H$902,MATCH(Sheet1!P78,ceva_base_rate!$A$1:$H$1,0),FALSE)*(K78-1000),2)))","v":""},{"$f":"IF(K78=\"\",\"\",IF(OR(L78=\"CA\",M78=\"CA\"),ceva_base_rate!$N$1,0))","v":""},{"$f":"IF(K78=\"\",\"\",IF(OR(AND(VALUE(LEFT(C78,3))>=110,VALUE(LEFT(C78,3))<=114),AND(VALUE(LEFT(C78,3))>=100,VALUE(LEFT(C78,3))<=104),AND(VALUE(LEFT(B78,3))>=110,VALUE(LEFT(B78,3))<=114),AND(VALUE(LEFT(B78,3))>=100,VALUE(LEFT(B78,3))<=104)),ceva_base_rate!$N$2,0))","v":""},{"$f":"IF(N78=\"\",\"\",IF(N78=\"standard\",0,IF(K78<1000,VLOOKUP(MAX(101,K78),ceva_base_rate!A:H,8,FALSE),ROUND(VLOOKUP(1000,ceva_base_rate!$A$901:$H$901,8,FALSE)+VLOOKUP(\"1000+\",ceva_base_rate!$A$902:$H$902,8,FALSE)*(K78-1000),2))))","v":""},{"$f":"IF(O78=\"\",\"\",IF(O78=\"standard\",0,IF(K78<1000,VLOOKUP(MAX(101,K78),ceva_base_rate!A:H,8,FALSE),ROUND(VLOOKUP(1000,ceva_base_rate!$A$901:$H$901,8,FALSE)+VLOOKUP(\"1000+\",ceva_base_rate!$A$902:$H$902,8,FALSE)*(K78-1000),2))))","v":""},{"$f":"IF(OR(D78>=250,I78>=75),ceva_base_rate!$N$3,0)","v":0},{"$f":"IF(I78<96,0,IF(I78<120,ceva_base_rate!$N$4,IF(I78<192,ceva_base_rate!$N$5,IF(I78<240,ceva_base_rate!$N$6,ceva_base_rate!$N$7))))","v":0},{"$f":"IF(COUNTIF($H$2:H78,H78)=1,SUMIF(H:H,H78,Q:Q)+SUMIF(H:H,H78,R:R)+SUMIF(H:H,H78,S:S)+SUMIF(H:H,H78,T:T)+SUMIF(H:H,H78,U:U)+SUMIF(H:H,H78,V:V)+SUMIF(H:H,H78,W:W),\"\")","v":""}]
[790278,"91702","98038",142,68,15,6,"790278_91702_98038",68,142,{"$f":"IF(COUNTIF($H$2:H79,H79)=1,SUMIF(H:H,H79,J:J),\"\")","v":266},{"$f":"VLOOKUP(TEXT(B79,\"00000\"),remote_zone!A:B,2,FALSE)","v":"CA"},{"$f":"VLOOKUP(TEXT(C79,\"00000\"),remote_zone!A:B,2,FALSE)","v":"WA"},{"$f":"IF(K79=\"\",\"\",VLOOKUP(TEXT(B79,\"00000\"),remote_zone!$A:$D,4,FALSE))","v":"standard"},{"$f":"IF(K79=\"\",\"\",VLOOKUP(TEXT(C79,\"00000\"),remote_zone!$A:$D,4,FALSE))","v":"standard"},{"$f":"VLOOKUP(M79,ceva_zone!$A:$E,MATCH(Sheet1!L79,ceva_zone!$A$1:$E$1,0),FALSE)","v":"C"},{"$f":"IF(K79=\"\",\"\",IF(K79<1000,VLOOKUP(MAX(101,K79),ceva_base_rate!A:H,MATCH(Sheet1!P79,ceva_base_rate!$A$1:$H$1,0),FALSE),ROUND(VLOOKUP(1000,ceva_base_rate!$A$901:$H$901,MATCH(Sheet1!P79,ceva_base_rate!$A$1:$H$1,0),FALSE)+VLOOKUP(\"1000+\",ceva_base_rate!$A$902:$H$902,MATCH(Sheet1!P79,ceva_base_rate!$A$1:$H$1,0),FALSE)*(K79-1000),2)))","v":193},{"$f":"IF(K79=\"\",\"\",IF(OR(L79=\"CA\",M79=\"CA\"),ceva_base_rate!$N$1,0))","v":18.24},{"$f":"IF(K79=\"\",\"\",IF(OR(AND(VALUE(LEFT(C79,3))>=110,VALUE(LEFT(C79,3))<=114),AND(VALUE(LEFT(C79,3))>=100,VALUE(LEFT(C79,3))<=104),AND(VALUE(LEFT(B79,3))>=110,VALUE(LEFT(B79,3))<=114),AND(VALUE(LEFT(B79,3))>=100,VALUE(LEFT(B79,3))<=104)),ceva_base_rate!$N$2,0))","v":0},{"$f":"IF(N79=\"\",\"\",IF(N79=\"standard\",0,IF(K79<1000,VLOOKUP(MAX(101,K79),ceva_base_rate!A:H,8,FALSE),ROUND(VLOOKUP(1000,ceva_base_rate!$A$901:$H$901,8,FALSE)+VLOOKUP(\"1000+\",ceva_base_rate!$A$902:$H$902,8,FALSE)*(K79-1000),2))))","v":0},{"$f":"IF(O79=\"\",\"\",IF(O79=\"standard\",0,IF(K79<1000,VLOOKUP(MAX(101,K79),ceva_base_rate!A:H,8,FALSE),ROUND(VLOOKUP(1000,ceva_base_rate!$A$901:$H$901,8,FALSE)+VLOOKUP(\"1000+\",ceva_base_rate!$A$902:$H$902,8,FALSE)*(K79-1000),2))))","v":0},{"$f":"IF(OR(D79>=250,I79>=75),ceva_base_rate!$N$3,0)","v":0},{"$f":"IF(I79<96,0,IF(I79<120,ceva_base_rate!$N$4,IF(I79<192,ceva_base_rate!$N$5,IF(I79<240,ceva_base_rate!$N$6,ceva_base_rate!$N$7))))","v":0},{"$f":"IF(COUNTIF($H$2:H79,H79)=1,SUMIF(H:H,H79,Q:Q)+SUMIF(H:H,H79,R:R)+SUMIF(H:H,H79,S:S)+SUMIF(H:H,H79,T:T)+SUMIF(H:H,H79,U:U)+SUMIF(H:H,H79,V:V)+SUMIF(H:H,H79,W:W),\"\")","v":211.24}]
[790278,"91702","98038",124,49,16,11,"790278_91702_98038",49,124,{"$f":"IF(COUNTIF($H$2:H80,H80)=1,SUMIF(H:H,H80,J:J),\"\")","v":""},{"$f":"VLOOKUP(TEXT(B80,\"00000\"),remote_zone!A:B,2,FALSE)","v":"CA"},{"$f":"VLOOKUP(TEXT(C80,\"00000\"),remote_zone!A:B,2,FALSE)","v":"WA"},{"$f":"IF(K80=\"\",\"\",VLOOKUP(TEXT(B80,\"00000\"),remote_zone!$A:$D,4,FALSE))","v":""},{"$f":"IF(K80=\"\",\"\",VLOOKUP(TEXT(C80,\"00000\"),remote_zone!$A:$D,4,FALSE))","v":""},{"$f":"VLOOKUP(M80,ceva_zone!$A:$E,MATCH(Sheet1!L80,ceva_zone!$A$1:$E$1,0),FALSE)","v":"C"},{"$f":"IF(K80=\"\",\"\",IF(K80<1000,VLOOKUP(MAX(101,K80),ceva_base_rate!A:H,MATCH(Sheet1!P80,ceva_base_rate!$A$1:$H$1,0),FALSE),ROUND(VLOOKUP(1000,ceva_base_rate!$A$901:$H$901,MATCH(Sheet1!P80,ceva_base_rate!$A$1:$H$1,0),FALSE)+VLOOKUP(\"1000+\",ceva_base_rate!$A$902:$H$902,MATCH(Sheet1!P80,ceva_base_rate!$A$1:$H$1,0),FALSE)*(K80-1000),2)))","v":""},{"$f":"IF(K80=\"\",\"\",IF(OR(L80=\"CA\",M80=\"CA\"),ceva_base_rate!$N$1,0))","v":""},{"$f":"IF(K80=\"\",\"\",IF(OR(AND(VALUE(LEFT(C80,3))>=110,VALUE(LEFT(C80,3))<=114),AND(VALUE(LEFT(C80,3))>=100,VALUE(LEFT(C80,3))<=104),AND(VALUE(LEFT(B80,3))>=110,VALUE(LEFT(B80,3))<=114),AND(VALUE(LEFT(B80,3))>=100,VALUE(LEFT(B80,3))<=104)),ceva_base_rate!$N$2,0))","v":""},{"$f":"IF(N80=\"\",\"\",IF(N80=\"standard\",0,IF(K80<1000,VLOOKUP(MAX(101,K80),ceva_base_rate!A:H,8,FALSE),ROUND(VLOOKUP(1000,ceva_base_rate!$A$901:$H$901,8,FALSE)+VLOOKUP(\"1000+\",ceva_base_rate!$A$902:$H$902,8,FALSE)*(K80-1000),2))))","v":""},{"$f":"IF(O80=\"\",\"\",IF(O80=\"standard\",0,IF(K80<1000,VLOOKUP(MAX(101,K80),ceva_base_rate!A:H,8,FALSE),ROUND(VLOOKUP(1000,ceva_base_rate!$A$901:$H$901,8,FALSE)+VLOOKUP(\"1000+\",ceva_base_rate!$A$902:$H$902,8,FALSE)*(K80-1000),2))))","v":""},{"$f":"IF(OR(D80>=250,I80>=75),ceva_base_rate!$N$3,0)","v":0},{"$f":"IF(I80<96,0,IF(I80<120,ceva_base_rate!$N$4,IF(I80<192,ceva_base_rate!$N$5,IF(I80<240,ceva_base_rate!$N$6,ceva_base_rate!$N$7))))","v":0},{"$f":"IF(COUNTIF($H$2:H80,H80)=1,SUMIF(H:H,H80,Q:Q)+SUMIF(H:H,H80,R:R)+SUMIF(H:H,H80,S:S)+SUMIF(H:H,H80,T:T)+SUMIF(H:H,H80,U:U)+SUMIF(H:H,H80,V:V)+SUMIF(H:H,H80,W:W),\"\")","v":""}]
[790336,"91702","32812",14,23,16,9,"790336_91702_32812",23,14,{"$f":"IF(COUNTIF($H$2:H81,H81)=1,SUMIF(H:H,H81,J:J),\"\")","v":246},{"$f":"VLOOKUP(TEXT(B81,\"00000\"),remote_zone!A:B,2,FALSE)","v":"CA"},{"$f":"VLOOKUP(TEXT(C81,\"00000\"),remote_zone!A:B,2,FALSE)","v":"FL"},{"$f":"IF(K81=\"\",\"\",VLOOKUP(TEXT(B81,\"00000\"),remote_zone!$A:$D,4,FALSE))","v":"standard"},{"$f":"IF(K81=\"\",\"\",VLOOKUP(TEXT(C81,\"00000\"),remote_zone!$A:$D,4,FALSE))","v":"standard"},{"$f":"VLOOKUP(M81,ceva_zone!$A:$E,MATCH(Sheet1!L81,ceva_zone!$A$1:$E$1,0),FALSE)","v":"F"},{"$f":"IF(K81=\"\",\"\",IF(K81<1000,VLOOKUP(MAX(101,K81),ceva_base_rate!A:H,MATCH(Sheet1!P81,ceva_base_rate!$A$1:$H$1,0),FALSE),ROUND(VLOOKUP(1000,ceva_base_rate!$A$901:$H$901,MATCH(Sheet1!P81,ceva_base_rate!$A$1:$H$1,0),FALSE)+VLOOKUP(\"1000+\",ceva_base_rate!$A$902:$H$902,MATCH(Sheet1!P81,ceva_base_rate!$A$1:$H$1,0),FALSE)*(K81-1000),2)))","v":215},{"$f":"IF(K81=\"\",\"\",IF(OR(L81=\"CA\",M81=\"CA\"),ceva_base_rate!$N$1,0))","v":18.24},{"$f":"IF(K81=\"\",\"\",IF(OR(AND(VALUE(LEFT(C81,3))>=110,VALUE(LEFT(C81,3))<=114),AND(VALUE(LEFT(C81,3))>=100,VALUE(LEFT(C81,3))<=104),AND(VALUE(LEFT(B81,3))>=110,VALUE(LEFT(B81,3))<=114),AND(VALUE(LEFT(B81,3))>=100,VALUE(LEFT(B81,3))<=104)),ceva_base_rate!$N$2,0))","v":0},{"$f":"IF(N81=\"\",\"\",IF(N81=\"standard\",0,IF(K81<1000,VLOOKUP(MAX(101,K81),ceva_base_rate!A:H,8,FALSE),ROUND(VLOOKUP(1000,ceva_base_rate!$A$901:$H$901,8,FALSE)+VLOOKUP(\"1000+\",ceva_base_rate!$A$902:$H$902,8,FALSE)*(K81-1000),2))))","v":0},{"$f":"IF(O81=\"\",\"\",IF(O81=\"standard\",0,IF(K81<1000,VLOOKUP(MAX(101,K81),ceva_base_rate!A:H,8,FALSE),ROUND(VLOOKUP(1000,ceva_base_rate!$A$901:$H$901,8,FALSE)+VLOOKUP(\"1000+\",ceva_base_rate!$A$902:$H$902,8,FALSE)*(K81-1000),2))))","v":0},{"$f":"IF(OR(D81>=250,I81>=75),ceva_base_rate!$N$3,0)","v":0},{"$f":"IF(I81<96,0,IF(I81<120,ceva_base_rate!$N$4,IF(I81<192,ceva_base_rate!$N$5,IF(I81<240,ceva_base_rate!$N$6,ceva_base_rate!$N$7))))","v":0},{"$f":"IF(COUNTIF($H$2:H81,H81)=1,SUMIF(H:H,H81,Q:Q)+SUMIF(H:H,H81,R:R)+SUMIF(H:H,H81,S:S)+SUMIF(H:H,H81,T:T)+SUMIF(H:H,H81,U:U)+SUMIF(H:H,H81,V:V)+SUMIF(H:H,H81,W:W),\"\")","v":323.24}]
[790336,"91702","32812",38,82,23,8,"790336_91702_32812",82,60,{"$f":"IF(COUNTIF($H$2:H82,H82)=1,SUMIF(H:H,H82,J:J),\"\")","v":""},{"$f":"VLOOKUP(TEXT(B82,\"00000\"),remote_zone!A:B,2,FALSE)","v":"CA"},{"$f":"VLOOKUP(TEXT(C82,\"00000\"),remote_zone!A:B,2,FALSE)","v":"FL"},{"$f":"IF(K82=\"\",\"\",VLOOKUP(TEXT(B82,\"00000\"),remote_zone!$A:$D,4,FALSE))","v":""},{"$f":"IF(K82=\"\",\"\",VLOOKUP(TEXT(C82,\"00000\"),remote_zone!$A:$D,4,FALSE))","v":""},{"$f":"VLOOKUP(M82,ceva_zone!$A:$E,MATCH(Sheet1!L82,ceva_zone!$A$1:$E$1,0),FALSE)","v":"F"},{"$f":"IF(K82=\"\",\"\",IF(K82<1000,VLOOKUP(MAX(101,K82),ceva_base_rate!A:H,MATCH(Sheet1!P82,ceva_base_rate!$A$1:$H$1,0),FALSE),ROUND(VLOOKUP(1000,ceva_base_rate!$A$901:$H$901,MATCH(Sheet1!P82,ceva_base_rate!$A$1:$H$1,0),FALSE)+VLOOKUP(\"1000+\",ceva_base_rate!$A$902:$H$902,MATCH(Sheet1!P82,ceva_base_rate!$A$1:$H$1,0),FALSE)*(K82-1000),2)))","v":""},{"$f":"IF(K82=\"\",\"\",IF(OR(L82=\"CA\",M82=\"CA\"),ceva_base_rate!$N$1,0))","v":""},{"$f":"IF(K82=\"\",\"\",IF(OR(AND(VALUE(LEFT(C82,3))>=110,VALUE(LEFT(C82,3))<=114),AND(VALUE(LEFT(C82,3))>=100,VALUE(LEFT(C82,3))<=104),AND(VALUE(LEFT(B82,3))>=110,VALUE(LEFT(B82,3))<=114),AND(VALUE(LEFT(B82,3))>=100,VALUE(LEFT(B82,3))<=104)),ceva_base_rate!$N$2,0))","v":""},{"$f":"IF(N82=\"\",\"\",IF(N82=\"standard\",0,IF(K82<1000,VLOOKUP(MAX(101,K82),ceva_base_rate!A:H,8,FALSE),ROUND(VLOOKUP(1000,ceva_base_rate!$A$901:$H$901,8,FALSE)+VLOOKUP(\"1000+\",ceva_base_rate!$A$902:$H$902,8,FALSE)*(K82-1000),2))))","v":""},{"$f":"IF(O82=\"\",\"\",IF(O82=\"standard\",0,IF(K82<1000,VLOOKUP(MAX(101,K82),ceva_base_rate!A:H,8,FALSE),ROUND(VLOOKUP(1000,ceva_base_rate!$A$901:$H$901,8,FALSE)+VLOOKUP(\"1000+\",ceva_base_rate!$A$902:$H$902,8,FALSE)*(K82-1000),2))))","v":""},{"$f":"IF(OR(D82>=250,I82>=75),ceva_base_rate!$N$3,0)","v":30},{"$f":"IF(I82<96,0,IF(I82<120,ceva_base_rate!$N$4,IF(I82<192,ceva_base_rate!$N$5,IF(I82<240,ceva_base_rate!$N$6,ceva_base_rate!$N$7))))","v":0},{"$f":"IF(COUNTIF($H$2:H82,H82)=1,SUMIF(H:H,H82,Q:Q)+SUMIF(H:H,H82,R:R)+SUMIF(H:H,H82,S:S)+SUMIF(H:H,H82,T:T)+SUMIF(H:H,H82,U:U)+SUMIF(H:H,H82,V:V)+SUMIF(H:H,H82,W:W),\"\")","v":""}]
[790336,"91702","32812",45,84,24,8,"790336_91702_32812",84,65,{"$f":"IF(COUNTIF($H$2:H83,H83)=1,SUMIF(H:H,H83,J:J),\"\")","v":""},{"$f":"VLOOKUP(TEXT(B83,\"00000\"),remote_zone!A:B,2,FALSE)","v":"CA"},{"$f":"VLOOKUP(TEXT(C83,\"00000\"),remote_zone!A:B,2,FALSE)","v":"FL"},{"$f":"IF(K83=\"\",\"\",VLOOKUP(TEXT(B83,\"00000\"),remote_zone!$A:$D,4,FALSE))","v":""},{"$f":"IF(K83=\"\",\"\",VLOOKUP(TEXT(C83,\"00000\"),remote_zone!$A:$D,4,FALSE))","v":""},{"$f":"VLOOKUP(M83,ceva_zone!$A:$E,MATCH(Sheet1!L83,ceva_zone!$A$1:$E$1,0),FALSE)","v":"F"},{"$f":"IF(K83=\"\",\"\",IF(K83<1000,VLOOKUP(MAX(101,K83),ceva_base_rate!A:H,MATCH(Sheet1!P83,ceva_base_rate!$A$1:$H$1,0),FALSE),ROUND(VLOOKUP(1000,ceva_base_rate!$A$901:$H$901,MATCH(Sheet1!P83,ceva_base_rate!$A$1:$H$1,0),FALSE)+VLOOKUP(\"1000+\",ceva_base_rate!$A$902:$H$902,MATCH(Sheet1!P83,ceva_base_rate!$A$1:$H$1,0),FALSE)*(K83-1000),2)))","v":""},{"$f":"IF(K83=\"\",\"\",IF(OR(L83=\"CA\",M83=\"CA\"),ceva_base_rate!$N$1,0))","v":""},{"$f":"IF(K83=\"\",\"\",IF(OR(AND(VALUE(LEFT(C83,3))>=110,VALUE(LEFT(C83,3))<=114),AND(VALUE(LEFT(C83,3))>=100,VALUE(LEFT(C83,3))<=104),AND(VALUE(LEFT(B83,3))>=110,VALUE(LEFT(B83,3))<=114),AND(VALUE(LEFT(B83,3))>=100,VALUE(LEFT(B83,3))<=104)),ceva_base_rate!$N$2,0))","v":""},{"$f":"IF(N83=\"\",\"\",IF(N83=\"standard\",0,IF(K83<1000,VLOOKUP(MAX(101,K83),ceva_base_rate!A:H,8,FALSE),ROUND(VLOOKUP(1000,ceva_base_rate!$A$901:$H$901,8,FALSE)+VLOOKUP(\"1000+\",ceva_base_rate!$A$902:$H$902,8,FALSE)*(K83-1000),2))))","v":""},{"$f":"IF(O83=\"\",\"\",IF(O83=\"standard\",0,IF(K83<1000,VLOOKUP(MAX(101,K83),ceva_base_rate!A:H,8,FALSE),ROUND(VLOOKUP(1000,ceva_base_rate!$A$901:$H$901,8,FALSE)+VLOOKUP(\"1000+\",ceva_base_rate!$A$902:$H$902,8,FALSE)*(K83-1000),2))))","v":""},{"$f":"IF(OR(D83>=250,I83>=75),ceva_base_rate!$N$3,0)","v":30},{"$f":"IF(I83<96,0,IF(I83<120,ceva_base_rate!$N$4,IF(I83<192,ceva_base_rate!$N$5,IF(I83<240,ceva_base_rate!$N$6,ceva_base_rate!$N$7))))","v":0},{"$f":"IF(COUNTIF($H$2:H83,H83)=1,SUMIF(H:H,H83,Q:Q)+SUMIF(H:H,H83,R:R)+SUMIF(H:H,H83,S:S)+SUMIF(H:H,H83,T:T)+SUMIF(H:H,H83,U:U)+SUMIF(H:H,H83,V:V)+SUMIF(H:H,H83,W:W),\"\")","v":""}]
[790336,"91702","32812",18,29,16,8,"790336_91702_32812",29,18,{"$f":"IF(COUNTIF($H$2:H84,H84)=1,SUMIF(H:H,H84,J:J),\"\")","v":""},{"$f":"VLOOKUP(TEXT(B84,\"00000\"),remote_zone!A:B,2,FALSE)","v":"CA"},{"$f":"VLOOKUP(TEXT(C84,\"00000\"),remote_zone!A:B,2,FALSE)","v":"FL"},{"$f":"IF(K84=\"\",\"\",VLOOKUP(TEXT(B84,\"00000\"),remote_zone!$A:$D,4,FALSE))","v":""},{"$f":"IF(K84=\"\",\"\",VLOOKUP(TEXT(C84,\"00000\"),remote_zone!$A:$D,4,FALSE))","v":""},{"$f":"VLOOKUP(M84,ceva_zone!$A:$E,MATCH(Sheet1!L84,ceva_zone!$A$1:$E$1,0),FALSE)","v":"F"},{"$f":"IF(K84=\"\",\"\",IF(K84<1000,VLOOKUP(MAX(101,K84),ceva_base_rate!A:H,MATCH(Sheet1!P84,ceva_base_rate!$A$1:$H$1,0),FALSE),ROUND(VLOOKUP(1000,ceva_base_rate!$A$901:$H$901,MATCH(Sheet1!P84,ceva_base_rate!$A$1:$H$1,0),FALSE)+VLOOKUP(\"1000+\",ceva_base_rate!$A$902:$H$902,MATCH(Sheet1!P84,ceva_base_rate!$A$1:$H$1,0),FALSE)*(K84-1000),2)))","v":""},{"$f":"IF(K84=\"\",\"\",IF(OR(L84=\"CA\",M84=\"CA\"),ceva_base_rate!$N$1,0))","v":""},{"$f":"IF(K84=\"\",\"\",IF(OR(AND(VALUE(LEFT(C84,3))>=110,VALUE(LEFT(C84,3))<=114),AND(VALUE(LEFT(C84,3))>=100,VALUE(LEFT(C84,3))<=104),AND(VALUE(LEFT(B84,3))>=110,VALUE(LEFT(B84,3))<=114),AND(VALUE(LEFT(B84,3))>=100,VALUE(LEFT(B84,3))<=104)),ceva_base_rate!$N$2,0))","v":""},{"$f":"IF(N84=\"\",\"\",IF(N84=\"standard\",0,IF(K84<1000,VLOOKUP(MAX(101,K84),ceva_base_rate!A:H,8,FALSE),ROUND(VLOOKUP(1000,ceva_base_rate!$A$901:$H$901,8,FALSE)+VLOOKUP(\"1000+\",ceva_base_rate!$A$902:$H$902,8,FALSE)*(K84-1000),2))))","v":""},{"$f":"IF(O84=\"\",\"\",IF(O84=\"standard\",0,IF(K84<1000,VLOOKUP(MAX(101,K84),ceva_base_rate!A:H,8,FALSE),ROUND(VLOOKUP(1000,ceva_base_rate!$A$901:$H$901,8,FALSE)+VLOOKUP(\"1000+\",ceva_base_rate!$A$902:$H$902,8,FALSE)*(K84-1000),2))))","v":""},{"$f":"IF(OR(D84>=250,I84>=75),ceva_base_rate!$N$3,0)","v":0},{"$f":"IF(I84<96,0,IF(I84<120,ceva_base_rate!$N$4,IF(I84<192,ceva_base_rate!$N$5,IF(I84<240,ceva_base_rate!$N$6,ceva_base_rate!$N$7))))","v":0},{"$f":"IF(COUNTIF($H$2:H84,H84)=1,SUMIF(H:H,H84,Q:Q)+SUMIF(H:H,H84,R:R)+SUMIF(H:H,H84,S:S)+SUMIF(H:H,H84,T:T)+SUMIF(H:H,H84,U:U)+SUMIF(H:H,H84,V:V)+SUMIF(H:H,H84,W:W),\"\")","v":""}]
[790336,"91702","32812",20,29,16,8,"790336_91702_32812",29,20,{"$f":"IF(COUNTIF($H$2:H85,H85)=1,SUMIF(H:H,H85,J:J),\"\")","v":""},{"$f":"VLOOKUP(TEXT(B85,\"00000\"),remote_zone!A:B,2,FALSE)","v":"CA"},{"$f":"VLOOKUP(TEXT(C85,\"00000\"),remote_zone!A:B,2,FALSE)","v":"FL"},{"$f":"IF(K85=\"\",\"\",VLOOKUP(TEXT(B85,\"00000\"),remote_zone!$A:$D,4,FALSE))","v":""},{"$f":"IF(K85=\"\",\"\",VLOOKUP(TEXT(C85,\"00000\"),remote_zone!$A:$D,4,FALSE))","v":""},{"$f":"VLOOKUP(M85,ceva_zone!$A:$E,MATCH(Sheet1!L85,ceva_zone!$A$1:$E$1,0),FALSE)","v":"F"},{"$f":"IF(K85=\"\",\"\",IF(K85<1000,VLOOKUP(MAX(101,K85),ceva_base_rate!A:H,MATCH(Sheet1!P85,ceva_base_rate!$A$1:$H$1,0),FALSE),ROUND(VLOOKUP(1000,ceva_base_rate!$A$901:$H$901,MATCH(Sheet1!P85,ceva_base_rate!$A$1:$H$1,0),FALSE)+VLOOKUP(\"1000+\",ceva_base_rate!$A$902:$H$902,MATCH(Sheet1!P85,ceva_base_rate!$A$1:$H$1,0),FALSE)*(K85-1000),2)))","v":""},{"$f":"IF(K85=\"\",\"\",IF(OR(L85=\"CA\",M85=\"CA\"),ceva_base_rate!$N$1,0))","v":""},{"$f":"IF(K85=\"\",\"\",IF(OR(AND(VALUE(LEFT(C85,3))>=110,VALUE(LEFT(C85,3))<=114),AND(VALUE(LEFT(C85,3))>=100,VALUE(LEFT(C85,3))<=104),AND(VALUE(LEFT(B85,3))>=110,VALUE(LEFT(B85,3))<=114),AND(VALUE(LEFT(B85,3))>=100,VALUE(LEFT(B85,3))<=104)),ceva_base_rate!$N$2,0))","v":""},{"$f":"IF(N85=\"\",\"\",IF(N85=\"standard\",0,IF(K85<1000,VLOOKUP(MAX(101,K85),ceva_base_rate!A:H,8,FALSE),ROUND(VLOOKUP(1000,ceva_base_rate!$A$901:$H$901,8,FALSE)+VLOOKUP(\"1000+\",ceva_base_rate!$A$902:$H$902,8,FALSE)*(K85-1000),2))))","v":""},{"$f":"IF(O85=\"\",\"\",IF(O85=\"standard\",0,IF(K85<1000,VLOOKUP(MAX(101,K85),ceva_base_rate!A:H,8,FALSE),ROUND(VLOOKUP(1000,ceva_base_rate!$A$901:$H$901,8,FALSE)+VLOOKUP(\"1000+\",ceva_base_rate!$A$902:$H$902,8,FALSE)*(K85-1000),2))))","v":""},{"$f":"IF(OR(D85>=250,I85>=75),ceva_base_rate!$N$3,0)","v":0},{"$f":"IF(I85<96,0,IF(I85<120,ceva_base_rate!$N$4,IF(I85<192,ceva_base_rate!$N$5,IF(I85<240,ceva_base_rate!$N$6,ceva_base_rate!$N$7))))","v":0},{"$f":"IF(COUNTIF($H$2:H85,H85)=1,SUMIF(H:H,H85,Q:Q)+SUMIF(H:H,H85,R:R)+SUMIF(H:H,H85,S:S)+SUMIF(H:H,H85,T:T)+SUMIF(H:H,H85,U:U)+SUMIF(H:H,H85,V:V)+SUMIF(H:H,H85,W:W),\"\")","v":""}]
[790336,"91702","32812",43,83,23,9,"790336_91702_32812",83,69,{"$f":"IF(COUNTIF($H$2:H86,H86)=1,SUMIF(H:H,H86,J:J),\"\")","v":""},{"$f":"VLOOKUP(TEXT(B86,\"00000\"),remote_zone!A:B,2,FALSE)","v":"CA"},{"$f":"VLOOKUP(TEXT(C86,\"00000\"),remote_zone!A:B,2,FALSE)","v":"FL"},{"$f":"IF(K86=\"\",\"\",VLOOKUP(TEXT(B86,\"00000\"),remote_zone!$A:$D,4,FALSE))","v":""},{"$f":"IF(K86=\"\",\"\",VLOOKUP(TEXT(C86,\"00000\"),remote_zone!$A:$D,4,FALSE))","v":""},{"$f":"VLOOKUP(M86,ceva_zone!$A:$E,MATCH(Sheet1!L86,ceva_zone!$A$1:$E$1,0),FALSE)","v":"F"},{"$f":"IF(K86=\"\",\"\",IF(K86<1000,VLOOKUP(MAX(101,K86),ceva_base_rate!A:H,MATCH(Sheet1!P86,ceva_base_rate!$A$1:$H$1,0),FALSE),ROUND(VLOOKUP(1000,ceva_base_rate!$A$901:$H$901,MATCH(Sheet1!P86,ceva_base_rate!$A$1:$H$1,0),FALSE)+VLOOKUP(\"1000+\",ceva_base_rate!$A$902:$H$902,MATCH(Sheet1!P86,ceva_base_rate!$A$1:$H$1,0),FALSE)*(K86-1000),2)))","v":""},{"$f":"IF(K86=\"\",\"\",IF(OR(L86=\"CA\",M86=\"CA\"),ceva_base_rate!$N$1,0))","v":""},{"$f":"IF(K86=\"\",\"\",IF(OR(AND(VALUE(LEFT(C86,3))>=110,VALUE(LEFT(C86,3))<=114),AND(VALUE(LEFT(C86,3))>=100,VALUE(LEFT(C86,3))<=104),AND(VALUE(LEFT(B86,3))>=110,VALUE(LEFT(B86,3))<=114),AND(VALUE(LEFT(B86,3))>=100,VALUE(LEFT(B86,3))<=104)),ceva_base_rate!$N$2,0))","v":""},{"$f":"IF(N86=\"\",\"\",IF(N86=\"standard\",0,IF(K86<1000,VLOOKUP(MAX(101,K86),ceva_base_rate!A:H,8,FALSE),ROUND(VLOOKUP(1000,ceva_base_rate!$A$901:$H$901,8,FALSE)+VLOOKUP(\"1000+\",ceva_base_rate!$A$902:$H$902,8,FALSE)*(K86-1000),2))))","v":""},{"$f":"IF(O86=\"\",\"\",IF(O86=\"standard\",0,IF(K86<1000,VLOOKUP(MAX(101,K86),ceva_base_rate!A:H,8,FALSE),ROUND(VLOOKUP(1000,ceva_base_rate!$A$901:$H$901,8,FALSE)+VLOOKUP(\"1000+\",ceva_base_rate!$A$902:$H$902,8,FALSE)*(K86-1000),2))))","v":""},{"$f":"IF(OR(D86>=250,I86>=75),ceva_base_rate!$N$3,0)","v":30},{"$f":"IF(I86<96,0,IF(I86<120,ceva_base_rate!$N$4,IF(I86<192,ceva_base_rate!$N$5,IF(I86<240,ceva_base_rate!$N$6,ceva_base_rate!$N$7))))","v":0},{"$f":"IF(COUNTIF($H$2:H86,H86)=1,SUMIF(H:H,H86,Q:Q)+SUMIF(H:H,H86,R:R)+SUMIF(H:H,H86,S:S)+SUMIF(H:H,H86,T:T)+SUMIF(H:H,H86,U:U)+SUMIF(H:H,H86,V:V)+SUMIF(H:H,H86,W:W),\"\")","v":""}]
[790376,"91702","33432",73,53,42,17,"790376_91702_33432",53,151,{"$f":"IF(COUNTIF($H$2:H87,H87)=1,SUMIF(H:H,H87,J:J),\"\")","v":151},{"$f":"VLOOKUP(TEXT(B87,\"00000\"),remote_zone!A:B,2,FALSE)","v":"CA"},{"$f":"VLOOKUP(TEXT(C87,\"00000\"),remote_zone!A:B,2,FALSE)","v":"FL"},{"$f":"IF(K87=\"\",\"\",VLOOKUP(TEXT(B87,\"00000\"),remote_zone!$A:$D,4,FALSE))","v":"standard"},{"$f":"IF(K87=\"\",\"\",VLOOKUP(TEXT(C87,\"00000\"),remote_zone!$A:$D,4,FALSE))","v":"remote"},{"$f":"VLOOKUP(M87,ceva_zone!$A:$E,MATCH(Sheet1!L87,ceva_zone!$A$1:$E$1,0),FALSE)","v":"F"},{"$f":"IF(K87=\"\",\"\",IF(K87<1000,VLOOKUP(MAX(101,K87),ceva_base_rate!A:H,MATCH(Sheet1!P87,ceva_base_rate!$A$1:$H$1,0),FALSE),ROUND(VLOOKUP(1000,ceva_base_rate!$A$901:$H$901,MATCH(Sheet1!P87,ceva_base_rate!$A$1:$H$1,0),FALSE)+VLOOKUP(\"1000+\",ceva_base_rate!$A$902:$H$902,MATCH(Sheet1!P87,ceva_base_rate!$A$1:$H$1,0),FALSE)*(K87-1000),2)))","v":156},{"$f":"IF(K87=\"\",\"\",IF(OR(L87=\"CA\",M87=\"CA\"),ceva_base_rate!$N$1,0))","v":18.24},{"$f":"IF(K87=\"\",\"\",IF(OR(AND(VALUE(LEFT(C87,3))>=110,VALUE(LEFT(C87,3))<=114),AND(VALUE(LEFT(C87,3))>=100,VALUE(LEFT(C87,3))<=104),AND(VALUE(LEFT(B87,3))>=110,VALUE(LEFT(B87,3))<=114),AND(VALUE(LEFT(B87,3))>=100,VALUE(LEFT(B87,3))<=104)),ceva_base_rate!$N$2,0))","v":0},{"$f":"IF(N87=\"\",\"\",IF(N87=\"standard\",0,IF(K87<1000,VLOOKUP(MAX(101,K87),ceva_base_rate!A:H,8,FALSE),ROUND(VLOOKUP(1000,ceva_base_rate!$A$901:$H$901,8,FALSE)+VLOOKUP(\"1000+\",ceva_base_rate!$A$902:$H$902,8,FALSE)*(K87-1000),2))))","v":0},{"$f":"IF(O87=\"\",\"\",IF(O87=\"standard\",0,IF(K87<1000,VLOOKUP(MAX(101,K87),ceva_base_rate!A:H,8,FALSE),ROUND(VLOOKUP(1000,ceva_base_rate!$A$901:$H$901,8,FALSE)+VLOOKUP(\"1000+\",ceva_base_rate!$A$902:$H$902,8,FALSE)*(K87-1000),2))))","v":123},{"$f":"IF(OR(D87>=250,I87>=75),ceva_base_rate!$N$3,0)","v":0},{"$f":"IF(I87<96,0,IF(I87<120,ceva_base_rate!$N$4,IF(I87<192,ceva_base_rate!$N$5,IF(I87<240,ceva_base_rate!$N$6,ceva_base_rate!$N$7))))","v":0},{"$f":"IF(COUNTIF($H$2:H87,H87)=1,SUMIF(H:H,H87,Q:Q)+SUMIF(H:H,H87,R:R)+SUMIF(H:H,H87,S:S)+SUMIF(H:H,H87,T:T)+SUMIF(H:H,H87,U:U)+SUMIF(H:H,H87,V:V)+SUMIF(H:H,H87,W:W),\"\")","v":297.24}]
[790441,"91702","95501",31,66,34,7,"790441_91702_95501",66,63,{"$f":"IF(COUNTIF($H$2:H88,H88)=1,SUMIF(H:H,H88,J:J),\"\")","v":191},{"$f":"VLOOKUP(TEXT(B88,\"00000\"),remote_zone!A:B,2,FALSE)","v":"CA"},{"$f":"VLOOKUP(TEXT(C88,\"00000\"),remote_zone!A:B,2,FALSE)","v":"CA"},{"$f":"IF(K88=\"\",\"\",VLOOKUP(TEXT(B88,\"00000\"),remote_zone!$A:$D,4,FALSE))","v":"standard"},{"$f":"IF(K88=\"\",\"\",VLOOKUP(TEXT(C88,\"00000\"),remote_zone!$A:$D,4,FALSE))","v":"remote"},{"$f":"VLOOKUP(M88,ceva_zone!$A:$E,MATCH(Sheet1!L88,ceva_zone!$A$1:$E$1,0),FALSE)","v":"B"},{"$f":"IF(K88=\"\",\"\",IF(K88<1000,VLOOKUP(MAX(101,K88),ceva_base_rate!A:H,MATCH(Sheet1!P88,ceva_base_rate!$A$1:$H$1,0),FALSE),ROUND(VLOOKUP(1000,ceva_base_rate!$A$901:$H$901,MATCH(Sheet1!P88,ceva_base_rate!$A$1:$H$1,0),FALSE)+VLOOKUP(\"1000+\",ceva_base_rate!$A$902:$H$902,MATCH(Sheet1!P88,ceva_base_rate!$A$1:$H$1,0),FALSE)*(K88-1000),2)))","v":148},{"$f":"IF(K88=\"\",\"\",IF(OR(L88=\"CA\",M88=\"CA\"),ceva_base_rate!$N$1,0))","v":18.24},{"$f":"IF(K88=\"\",\"\",IF(OR(AND(VALUE(LEFT(C88,3))>=110,VALUE(LEFT(C88,3))<=114),AND(VALUE(LEFT(C88,3))>=100,VALUE(LEFT(C88,3))<=104),AND(VALUE(LEFT(B88,3))>=110,VALUE(LEFT(B88,3))<=114),AND(VALUE(LEFT(B88,3))>=100,VALUE(LEFT(B88,3))<=104)),ceva_base_rate!$N$2,0))","v":0},{"$f":"IF(N88=\"\",\"\",IF(N88=\"standard\",0,IF(K88<1000,VLOOKUP(MAX(101,K88),ceva_base_rate!A:H,8,FALSE),ROUND(VLOOKUP(1000,ceva_base_rate!$A$901:$H$901,8,FALSE)+VLOOKUP(\"1000+\",ceva_base_rate!$A$902:$H$902,8,FALSE)*(K88-1000),2))))","v":0},{"$f":"IF(O88=\"\",\"\",IF(O88=\"standard\",0,IF(K88<1000,VLOOKUP(MAX(101,K88),ceva_base_rate!A:H,8,FALSE),ROUND(VLOOKUP(1000,ceva_base_rate!$A$901:$H$901,8,FALSE)+VLOOKUP(\"1000+\",ceva_base_rate!$A$902:$H$902,8,FALSE)*(K88-1000),2))))","v":123},{"$f":"IF(OR(D88>=250,I88>=75),ceva_base_rate!$N$3,0)","v":0},{"$f":"IF(I88<96,0,IF(I88<120,ceva_base_rate!$N$4,IF(I88<192,ceva_base_rate!$N$5,IF(I88<240,ceva_base_rate!$N$6,ceva_base_rate!$N$7))))","v":0},{"$f":"IF(COUNTIF($H$2:H88,H88)=1,SUMIF(H:H,H88,Q:Q)+SUMIF(H:H,H88,R:R)+SUMIF(H:H,H88,S:S)+SUMIF(H:H,H88,T:T)+SUMIF(H:H,H88,U:U)+SUMIF(H:H,H88,V:V)+SUMIF(H:H,H88,W:W),\"\")","v":319.24}]
[790441,"91702","95501",128,78,24,7,"790441_91702_95501",78,128,{"$f":"IF(COUNTIF($H$2:H89,H89)=1,SUMIF(H:H,H89,J:J),\"\")","v":""},{"$f":"VLOOKUP(TEXT(B89,\"00000\"),remote_zone!A:B,2,FALSE)","v":"CA"},{"$f":"VLOOKUP(TEXT(C89,\"00000\"),remote_zone!A:B,2,FALSE)","v":"CA"},{"$f":"IF(K89=\"\",\"\",VLOOKUP(TEXT(B89,\"00000\"),remote_zone!$A:$D,4,FALSE))","v":""},{"$f":"IF(K89=\"\",\"\",VLOOKUP(TEXT(C89,\"00000\"),remote_zone!$A:$D,4,FALSE))","v":""},{"$f":"VLOOKUP(M89,ceva_zone!$A:$E,MATCH(Sheet1!L89,ceva_zone!$A$1:$E$1,0),FALSE)","v":"B"},{"$f":"IF(K89=\"\",\"\",IF(K89<1000,VLOOKUP(MAX(101,K89),ceva_base_rate!A:H,MATCH(Sheet1!P89,ceva_base_rate!$A$1:$H$1,0),FALSE),ROUND(VLOOKUP(1000,ceva_base_rate!$A$901:$H$901,MATCH(Sheet1!P89,ceva_base_rate!$A$1:$H$1,0),FALSE)+VLOOKUP(\"1000+\",ceva_base_rate!$A$902:$H$902,MATCH(Sheet1!P89,ceva_base_rate!$A$1:$H$1,0),FALSE)*(K89-1000),2)))","v":""},{"$f":"IF(K89=\"\",\"\",IF(OR(L89=\"CA\",M89=\"CA\"),ceva_base_rate!$N$1,0))","v":""},{"$f":"IF(K89=\"\",\"\",IF(OR(AND(VALUE(LEFT(C89,3))>=110,VALUE(LEFT(C89,3))<=114),AND(VALUE(LEFT(C89,3))>=100,VALUE(LEFT(C89,3))<=104),AND(VALUE(LEFT(B89,3))>=110,VALUE(LEFT(B89,3))<=114),AND(VALUE(LEFT(B89,3))>=100,VALUE(LEFT(B89,3))<=104)),ceva_base_rate!$N$2,0))","v":""},{"$f":"IF(N89=\"\",\"\",IF(N89=\"standard\",0,IF(K89<1000,VLOOKUP(MAX(101,K89),ceva_base_rate!A:H,8,FALSE),ROUND(VLOOKUP(1000,ceva_base_rate!$A$901:$H$901,8,FALSE)+VLOOKUP(\"1000+\",ceva_base_rate!$A$902:$H$902,8,FALSE)*(K89-1000),2))))","v":""},{"$f":"IF(O89=\"\",\"\",IF(O89=\"standard\",0,IF(K89<1000,VLOOKUP(MAX(101,K89),ceva_base_rate!A:H,8,FALSE),ROUND(VLOOKUP(1000,ceva_base_rate!$A$901:$H$901,8,FALSE)+VLOOKUP(\"1000+\",ceva_base_rate!$A$902:$H$902,8,FALSE)*(K89-1000),2))))","v":""},{"$f":"IF(OR(D89>=250,I89>=75),ceva_base_rate!$N$3,0)","v":30},{"$f":"IF(I89<96,0,IF(I89<120,ceva_base_rate!$N$4,IF(I89<192,ceva_base_rate!$N$5,IF(I89<240,ceva_base_rate!$N$6,ceva_base_rate!$N$7))))","v":0},{"$f":"IF(COUNTIF($H$2:H89,H89)=1,SUMIF(H:H,H89,Q:Q)+SUMIF(H:H,H89,R:R)+SUMIF(H:H,H89,S:S)+SUMIF(H:H,H89,T:T)+SUMIF(H:H,H89,U:U)+SUMIF(H:H,H89,V:V)+SUMIF(H:H,H89,W:W),\"\")","v":""}]
[790467,"91702","94568",177,52,32,29,"790467_91702_94568",52,193,{"$f":"IF(COUNTIF($H$2:H90,H90)=1,SUMIF(H:H,H90,J:J),\"\")","v":193},{"$f":"VLOOKUP(TEXT(B90,\"00000\"),remote_zone!A:B,2,FALSE)","v":"CA"},{"$f":"VLOOKUP(TEXT(C90,\"00000\"),remote_zone!A:B,2,FALSE)","v":"CA"},{"$f":"IF(K90=\"\",\"\",VLOOKUP(TEXT(B90,\"00000\"),remote_zone!$A:$D,4,FALSE))","v":"standard"},{"$f":"IF(K90=\"\",\"\",VLOOKUP(TEXT(C90,\"00000\"),remote_zone!$A:$D,4,FALSE))","v":"standard"},{"$f":"VLOOKUP(M90,ceva_zone!$A:$E,MATCH(Sheet1!L90,ceva_zone!$A$1:$E$1,0),FALSE)","v":"B"},{"$f":"IF(K90=\"\",\"\",IF(K90<1000,VLOOKUP(MAX(101,K90),ceva_base_rate!A:H,MATCH(Sheet1!P90,ceva_base_rate!$A$1:$H$1,0),FALSE),ROUND(VLOOKUP(1000,ceva_base_rate!$A$901:$H$901,MATCH(Sheet1!P90,ceva_base_rate!$A$1:$H$1,0),FALSE)+VLOOKUP(\"1000+\",ceva_base_rate!$A$902:$H$902,MATCH(Sheet1!P90,ceva_base_rate!$A$1:$H$1,0),FALSE)*(K90-1000),2)))","v":148},{"$f":"IF(K90=\"\",\"\",IF(OR(L90=\"CA\",M90=\"CA\"),ceva_base_rate!$N$1,0))","v":18.24},{"$f":"IF(K90=\"\",\"\",IF(OR(AND(VALUE(LEFT(C90,3))>=110,VALUE(LEFT(C90,3))<=114),AND(VALUE(LEFT(C90,3))>=100,VALUE(LEFT(C90,3))<=104),AND(VALUE(LEFT(B90,3))>=110,VALUE(LEFT(B90,3))<=114),AND(VALUE(LEFT(B90,3))>=100,VALUE(LEFT(B90,3))<=104)),ceva_base_rate!$N$2,0))","v":0},{"$f":"IF(N90=\"\",\"\",IF(N90=\"standard\",0,IF(K90<1000,VLOOKUP(MAX(101,K90),ceva_base_rate!A:H,8,FALSE),ROUND(VLOOKUP(1000,ceva_base_rate!$A$901:$H$901,8,FALSE)+VLOOKUP(\"1000+\",ceva_base_rate!$A$902:$H$902,8,FALSE)*(K90-1000),2))))","v":0},{"$f":"IF(O90=\"\",\"\",IF(O90=\"standard\",0,IF(K90<1000,VLOOKUP(MAX(101,K90),ceva_base_rate!A:H,8,FALSE),ROUND(VLOOKUP(1000,ceva_base_rate!$A$901:$H$901,8,FALSE)+VLOOKUP(\"1000+\",ceva_base_rate!$A$902:$H$902,8,FALSE)*(K90-1000),2))))","v":0},{"$f":"IF(OR(D90>=250,I90>=75),ceva_base_rate!$N$3,0)","v":0},{"$f":"IF(I90<96,0,IF(I90<120,ceva_base_rate!$N$4,IF(I90<192,ceva_base_rate!$N$5,IF(I90<240,ceva_base_rate!$N$6,ceva_base_rate!$N$7))))","v":0},{"$f":"IF(COUNTIF($H$2:H90,H90)=1,SUMIF(H:H,H90,Q:Q)+SUMIF(H:H,H90,R:R)+SUMIF(H:H,H90,S:S)+SUMIF(H:H,H90,T:T)+SUMIF(H:H,H90,U:U)+SUMIF(H:H,H90,V:V)+SUMIF(H:H,H90,W:W),\"\")","v":166.24}]
[790493,"91702","48094",67,49,49,4,"790493_91702_48094",49,67,{"$f":"IF(COUNTIF($H$2:H91,H91)=1,SUMIF(H:H,H91,J:J),\"\")","v":75},{"$f":"VLOOKUP(TEXT(B91,\"00000\"),remote_zone!A:B,2,FALSE)","v":"CA"},{"$f":"VLOOKUP(TEXT(C91,\"00000\"),remote_zone!A:B,2,FALSE)","v":"MI"},{"$f":"IF(K91=\"\",\"\",VLOOKUP(TEXT(B91,\"00000\"),remote_zone!$A:$D,4,FALSE))","v":"standard"},{"$f":"IF(K91=\"\",\"\",VLOOKUP(TEXT(C91,\"00000\"),remote_zone!$A:$D,4,FALSE))","v":"standard"},{"$f":"VLOOKUP(M91,ceva_zone!$A:$E,MATCH(Sheet1!L91,ceva_zone!$A$1:$E$1,0),FALSE)","v":"E"},{"$f":"IF(K91=\"\",\"\",IF(K91<1000,VLOOKUP(MAX(101,K91),ceva_base_rate!A:H,MATCH(Sheet1!P91,ceva_base_rate!$A$1:$H$1,0),FALSE),ROUND(VLOOKUP(1000,ceva_base_rate!$A$901:$H$901,MATCH(Sheet1!P91,ceva_base_rate!$A$1:$H$1,0),FALSE)+VLOOKUP(\"1000+\",ceva_base_rate!$A$902:$H$902,MATCH(Sheet1!P91,ceva_base_rate!$A$1:$H$1,0),FALSE)*(K91-1000),2)))","v":156},{"$f":"IF(K91=\"\",\"\",IF(OR(L91=\"CA\",M91=\"CA\"),ceva_base_rate!$N$1,0))","v":18.24},{"$f":"IF(K91=\"\",\"\",IF(OR(AND(VALUE(LEFT(C91,3))>=110,VALUE(LEFT(C91,3))<=114),AND(VALUE(LEFT(C91,3))>=100,VALUE(LEFT(C91,3))<=104),AND(VALUE(LEFT(B91,3))>=110,VALUE(LEFT(B91,3))<=114),AND(VALUE(LEFT(B91,3))>=100,VALUE(LEFT(B91,3))<=104)),ceva_base_rate!$N$2,0))","v":0},{"$f":"IF(N91=\"\",\"\",IF(N91=\"standard\",0,IF(K91<1000,VLOOKUP(MAX(101,K91),ceva_base_rate!A:H,8,FALSE),ROUND(VLOOKUP(1000,ceva_base_rate!$A$901:$H$901,8,FALSE)+VLOOKUP(\"1000+\",ceva_base_rate!$A$902:$H$902,8,FALSE)*(K91-1000),2))))","v":0},{"$f":"IF(O91=\"\",\"\",IF(O91=\"standard\",0,IF(K91<1000,VLOOKUP(MAX(101,K91),ceva_base_rate!A:H,8,FALSE),ROUND(VLOOKUP(1000,ceva_base_rate!$A$901:$H$901,8,FALSE)+VLOOKUP(\"1000+\",ceva_base_rate!$A$902:$H$902,8,FALSE)*(K91-1000),2))))","v":0},{"$f":"IF(OR(D91>=250,I91>=75),ceva_base_rate!$N$3,0)","v":0},{"$f":"IF(I91<96,0,IF(I91<120,ceva_base_rate!$N$4,IF(I91<192,ceva_base_rate!$N$5,IF(I91<240,ceva_base_rate!$N$6,ceva_base_rate!$N$7))))","v":0},{"$f":"IF(COUNTIF($H$2:H91,H91)=1,SUMIF(H:H,H91,Q:Q)+SUMIF(H:H,H91,R:R)+SUMIF(H:H,H91,S:S)+SUMIF(H:H,H91,T:T)+SUMIF(H:H,H91,U:U)+SUMIF(H:H,H91,V:V)+SUMIF(H:H,H91,W:W),\"\")","v":174.24}]
[790493,"91702","48094",8,17,15,6,"790493_91702_48094",17,8,{"$f":"IF(COUNTIF($H$2:H92,H92)=1,SUMIF(H:H,H92,J:J),\"\")","v":""},{"$f":"VLOOKUP(TEXT(B92,\"00000\"),remote_zone!A:B,2,FALSE)","v":"CA"},{"$f":"VLOOKUP(TEXT(C92,\"00000\"),remote_zone!A:B,2,FALSE)","v":"MI"},{"$f":"IF(K92=\"\",\"\",VLOOKUP(TEXT(B92,\"00000\"),remote_zone!$A:$D,4,FALSE))","v":""},{"$f":"IF(K92=\"\",\"\",VLOOKUP(TEXT(C92,\"00000\"),remote_zone!$A:$D,4,FALSE))","v":""},{"$f":"VLOOKUP(M92,ceva_zone!$A:$E,MATCH(Sheet1!L92,ceva_zone!$A$1:$E$1,0),FALSE)","v":"E"},{"$f":"IF(K92=\"\",\"\",IF(K92<1000,VLOOKUP(MAX(101,K92),ceva_base_rate!A:H,MATCH(Sheet1!P92,ceva_base_rate!$A$1:$H$1,0),FALSE),ROUND(VLOOKUP(1000,ceva_base_rate!$A$901:$H$901,MATCH(Sheet1!P92,ceva_base_rate!$A$1:$H$1,0),FALSE)+VLOOKUP(\"1000+\",ceva_base_rate!$A$902:$H$902,MATCH(Sheet1!P92,ceva_base_rate!$A$1:$H$1,0),FALSE)*(K92-1000),2)))","v":""},{"$f":"IF(K92=\"\",\"\",IF(OR(L92=\"CA\",M92=\"CA\"),ceva_base_rate!$N$1,0))","v":""},{"$f":"IF(K92=\"\",\"\",IF(OR(AND(VALUE(LEFT(C92,3))>=110,VALUE(LEFT(C92,3))<=114),AND(VALUE(LEFT(C92,3))>=100,VALUE(LEFT(C92,3))<=104),AND(VALUE(LEFT(B92,3))>=110,VALUE(LEFT(B92,3))<=114),AND(VALUE(LEFT(B92,3))>=100,VALUE(LEFT(B92,3))<=104)),ceva_base_rate!$N$2,0))","v":""},{"$f":"IF(N92=\"\",\"\",IF(N92=\"standard\",0,IF(K92<1000,VLOOKUP(MAX(101,K92),ceva_base_rate!A:H,8,FALSE),ROUND(VLOOKUP(1000,ceva_base_rate!$A$901:$H$901,8,FALSE)+VLOOKUP(\"1000+\",ceva_base_rate!$A$902:$H$902,8,FALSE)*(K92-1000),2))))","v":""},{"$f":"IF(O92=\"\",\"\",IF(O92=\"standard\",0,IF(K92<1000,VLOOKUP(MAX(101,K92),ceva_base_rate!A:H,8,FALSE),ROUND(VLOOKUP(1000,ceva_base_rate!$A$901:$H$901,8,FALSE)+VLOOKUP(\"1000+\",ceva_base_rate!$A$902:$H$902,8,FALSE)*(K92-1000),2))))","v":""},{"$f":"IF(OR(D92>=250,I92>=75),ceva_base_rate!$N$3,0)","v":0},{"$f":"IF(I92<96,0,IF(I92<120,ceva_base_rate!$N$4,IF(I92<192,ceva_base_rate!$N$5,IF(I92<240,ceva_base_rate!$N$6,ceva_base_rate!$N$7))))","v":0},{"$f":"IF(COUNTIF($H$2:H92,H92)=1,SUMIF(H:H,H92,Q:Q)+SUMIF(H:H,H92,R:R)+SUMIF(H:H,H92,S:S)+SUMIF(H:H,H92,T:T)+SUMIF(H:H,H92,U:U)+SUMIF(H:H,H92,V:V)+SUMIF(H:H,H92,W:W),\"\")","v":""}]
[790701,"91702","34103",39,31,31,31,"790701_91702_34103",31,119,{"$f":"IF(COUNTIF($H$2:H93,H93)=1,SUMIF(H:H,H93,J:J),\"\")","v":238},{"$f":"VLOOKUP(TEXT(B93,\"00000\"),remote_zone!A:B,2,FALSE)","v":"CA"},{"$f":"VLOOKUP(TEXT(C93,\"00000\"),remote_zone!A:B,2,FALSE)","v":"FL"},{"$f":"IF(K93=\"\",\"\",VLOOKUP(TEXT(B93,\"00000\"),remote_zone!$A:$D,4,FALSE))","v":"standard"},{"$f":"IF(K93=\"\",\"\",VLOOKUP(TEXT(C93,\"00000\"),remote_zone!$A:$D,4,FALSE))","v":"remote"},{"$f":"VLOOKUP(M93,ceva_zone!$A:$E,MATCH(Sheet1!L93,ceva_zone!$A$1:$E$1,0),FALSE)","v":"F"},{"$f":"IF(K93=\"\",\"\",IF(K93<1000,VLOOKUP(MAX(101,K93),ceva_base_rate!A:H,MATCH(Sheet1!P93,ceva_base_rate!$A$1:$H$1,0),FALSE),ROUND(VLOOKUP(1000,ceva_base_rate!$A$901:$H$901,MATCH(Sheet1!P93,ceva_base_rate!$A$1:$H$1,0),FALSE)+VLOOKUP(\"1000+\",ceva_base_rate!$A$902:$H$902,MATCH(Sheet1!P93,ceva_base_rate!$A$1:$H$1,0),FALSE)*(K93-1000),2)))","v":208},{"$f":"IF(K93=\"\",\"\",IF(OR(L93=\"CA\",M93=\"CA\"),ceva_base_rate!$N$1,0))","v":18.24},{"$f":"IF(K93=\"\",\"\",IF(OR(AND(VALUE(LEFT(C93,3))>=110,VALUE(LEFT(C93,3))<=114),AND(VALUE(LEFT(C93,3))>=100,VALUE(LEFT(C93,3))<=104),AND(VALUE(LEFT(B93,3))>=110,VALUE(LEFT(B93,3))<=114),AND(VALUE(LEFT(B93,3))>=100,VALUE(LEFT(B93,3))<=104)),ceva_base_rate!$N$2,0))","v":0},{"$f":"IF(N93=\"\",\"\",IF(N93=\"standard\",0,IF(K93<1000,VLOOKUP(MAX(101,K93),ceva_base_rate!A:H,8,FALSE),ROUND(VLOOKUP(1000,ceva_base_rate!$A$901:$H$901,8,FALSE)+VLOOKUP(\"1000+\",ceva_base_rate!$A$902:$H$902,8,FALSE)*(K93-1000),2))))","v":0},{"$f":"IF(O93=\"\",\"\",IF(O93=\"standard\",0,IF(K93<1000,VLOOKUP(MAX(101,K93),ceva_base_rate!A:H,8,FALSE),ROUND(VLOOKUP(1000,ceva_base_rate!$A$901:$H$901,8,FALSE)+VLOOKUP(\"1000+\",ceva_base_rate!$A$902:$H$902,8,FALSE)*(K93-1000),2))))","v":123},{"$f":"IF(OR(D93>=250,I93>=75),ceva_base_rate!$N$3,0)","v":0},{"$f":"IF(I93<96,0,IF(I93<120,ceva_base_rate!$N$4,IF(I93<192,ceva_base_rate!$N$5,IF(I93<240,ceva_base_rate!$N$6,ceva_base_rate!$N$7))))","v":0},{"$f":"IF(COUNTIF($H$2:H93,H93)=1,SUMIF(H:H,H93,Q:Q)+SUMIF(H:H,H93,R:R)+SUMIF(H:H,H93,S:S)+SUMIF(H:H,H93,T:T)+SUMIF(H:H,H93,U:U)+SUMIF(H:H,H93,V:V)+SUMIF(H:H,H93,W:W),\"\")","v":349.24}]
[790701,"91702","34103",25,31,31,31,"790701_91702_34103",31,119,{"$f":"IF(COUNTIF($H$2:H94,H94)=1,SUMIF(H:H,H94,J:J),\"\")","v":""},{"$f":"VLOOKUP(TEXT(B94,\"00000\"),remote_zone!A:B,2,FALSE)","v":"CA"},{"$f":"VLOOKUP(TEXT(C94,\"00000\"),remote_zone!A:B,2,FALSE)","v":"FL"},{"$f":"IF(K94=\"\",\"\",VLOOKUP(TEXT(B94,\"00000\"),remote_zone!$A:$D,4,FALSE))","v":""},{"$f":"IF(K94=\"\",\"\",VLOOKUP(TEXT(C94,\"00000\"),remote_zone!$A:$D,4,FALSE))","v":""},{"$f":"VLOOKUP(M94,ceva_zone!$A:$E,MATCH(Sheet1!L94,ceva_zone!$A$1:$E$1,0),FALSE)","v":"F"},{"$f":"IF(K94=\"\",\"\",IF(K94<1000,VLOOKUP(MAX(101,K94),ceva_base_rate!A:H,MATCH(Sheet1!P94,ceva_base_rate!$A$1:$H$1,0),FALSE),ROUND(VLOOKUP(1000,ceva_base_rate!$A$901:$H$901,MATCH(Sheet1!P94,ceva_base_rate!$A$1:$H$1,0),FALSE)+VLOOKUP(\"1000+\",ceva_base_rate!$A$902:$H$902,MATCH(Sheet1!P94,ceva_base_rate!$A$1:$H$1,0),FALSE)*(K94-1000),2)))","v":""},{"$f":"IF(K94=\"\",\"\",IF(OR(L94=\"CA\",M94=\"CA\"),ceva_base_rate!$N$1,0))","v":""},{"$f":"IF(K94=\"\",\"\",IF(OR(AND(VALUE(LEFT(C94,3))>=110,VALUE(LEFT(C94,3))<=114),AND(VALUE(LEFT(C94,3))>=100,VALUE(LEFT(C94,3))<=104),AND(VALUE(LEFT(B94,3))>=110,VALUE(LEFT(B94,3))<=114),AND(VALUE(LEFT(B94,3))>=100,VALUE(LEFT(B94,3))<=104)),ceva_base_rate!$N$2,0))","v":""},{"$f":"IF(N94=\"\",\"\",IF(N94=\"standard\",0,IF(K94<1000,VLOOKUP(MAX(101,K94),ceva_base_rate!A:H,8,FALSE),ROUND(VLOOKUP(1000,ceva_base_rate!$A$901:$H$901,8,FALSE)+VLOOKUP(\"1000+\",ceva_base_rate!$A$902:$H$902,8,FALSE)*(K94-1000),2))))","v":""},{"$f":"IF(O94=\"\",\"\",IF(O94=\"standard\",0,IF(K94<1000,VLOOKUP(MAX(101,K94),ceva_base_rate!A:H,8,FALSE),ROUND(VLOOKUP(1000,ceva_base_rate!$A$901:$H$901,8,FALSE)+VLOOKUP(\"1000+\",ceva_base_rate!$A$902:$H$902,8,FALSE)*(K94-1000),2))))","v":""},{"$f":"IF(OR(D94>=250,I94>=75),ceva_base_rate!$N$3,0)","v":0},{"$f":"IF(I94<96,0,IF(I94<120,ceva_base_rate!$N$4,IF(I94<192,ceva_base_rate!$N$5,IF(I94<240,ceva_base_rate!$N$6,ceva_base_rate!$N$7))))","v":0},{"$f":"IF(COUNTIF($H$2:H94,H94)=1,SUMIF(H:H,H94,Q:Q)+SUMIF(H:H,H94,R:R)+SUMIF(H:H,H94,S:S)+SUMIF(H:H,H94,T:T)+SUMIF(H:H,H94,U:U)+SUMIF(H:H,H94,V:V)+SUMIF(H:H,H94,W:W),\"\")","v":""}]
[790767,"91702","98166",98,86,26,9,"790767_91702_98166",86,98,{"$f":"IF(COUNTIF($H$2:H95,H95)=1,SUMIF(H:H,H95,J:J),\"\")","v":98},{"$f":"VLOOKUP(TEXT(B95,\"00000\"),remote_zone!A:B,2,FALSE)","v":"CA"},{"$f":"VLOOKUP(TEXT(C95,\"00000\"),remote_zone!A:B,2,FALSE)","v":"WA"},{"$f":"IF(K95=\"\",\"\",VLOOKUP(TEXT(B95,\"00000\"),remote_zone!$A:$D,4,FALSE))","v":"standard"},{"$f":"IF(K95=\"\",\"\",VLOOKUP(TEXT(C95,\"00000\"),remote_zone!$A:$D,4,FALSE))","v":"standard"},{"$f":"VLOOKUP(M95,ceva_zone!$A:$E,MATCH(Sheet1!L95,ceva_zone!$A$1:$E$1,0),FALSE)","v":"C"},{"$f":"IF(K95=\"\",\"\",IF(K95<1000,VLOOKUP(MAX(101,K95),ceva_base_rate!A:H,MATCH(Sheet1!P95,ceva_base_rate!$A$1:$H$1,0),FALSE),ROUND(VLOOKUP(1000,ceva_base_rate!$A$901:$H$901,MATCH(Sheet1!P95,ceva_base_rate!$A$1:$H$1,0),FALSE)+VLOOKUP(\"1000+\",ceva_base_rate!$A$902:$H$902,MATCH(Sheet1!P95,ceva_base_rate!$A$1:$H$1,0),FALSE)*(K95-1000),2)))","v":148},{"$f":"IF(K95=\"\",\"\",IF(OR(L95=\"CA\",M95=\"CA\"),ceva_base_rate!$N$1,0))","v":18.24},{"$f":"IF(K95=\"\",\"\",IF(OR(AND(VALUE(LEFT(C95,3))>=110,VALUE(LEFT(C95,3))<=114),AND(VALUE(LEFT(C95,3))>=100,VALUE(LEFT(C95,3))<=104),AND(VALUE(LEFT(B95,3))>=110,VALUE(LEFT(B95,3))<=114),AND(VALUE(LEFT(B95,3))>=100,VALUE(LEFT(B95,3))<=104)),ceva_base_rate!$N$2,0))","v":0},{"$f":"IF(N95=\"\",\"\",IF(N95=\"standard\",0,IF(K95<1000,VLOOKUP(MAX(101,K95),ceva_base_rate!A:H,8,FALSE),ROUND(VLOOKUP(1000,ceva_base_rate!$A$901:$H$901,8,FALSE)+VLOOKUP(\"1000+\",ceva_base_rate!$A$902:$H$902,8,FALSE)*(K95-1000),2))))","v":0},{"$f":"IF(O95=\"\",\"\",IF(O95=\"standard\",0,IF(K95<1000,VLOOKUP(MAX(101,K95),ceva_base_rate!A:H,8,FALSE),ROUND(VLOOKUP(1000,ceva_base_rate!$A$901:$H$901,8,FALSE)+VLOOKUP(\"1000+\",ceva_base_rate!$A$902:$H$902,8,FALSE)*(K95-1000),2))))","v":0},{"$f":"IF(OR(D95>=250,I95>=75),ceva_base_rate!$N$3,0)","v":30},{"$f":"IF(I95<96,0,IF(I95<120,ceva_base_rate!$N$4,IF(I95<192,ceva_base_rate!$N$5,IF(I95<240,ceva_base_rate!$N$6,ceva_base_rate!$N$7))))","v":0},{"$f":"IF(COUNTIF($H$2:H95,H95)=1,SUMIF(H:H,H95,Q:Q)+SUMIF(H:H,H95,R:R)+SUMIF(H:H,H95,S:S)+SUMIF(H:H,H95,T:T)+SUMIF(H:H,H95,U:U)+SUMIF(H:H,H95,V:V)+SUMIF(H:H,H95,W:W),\"\")","v":196.24}]
[790803,"91702","81501",116,91,23,21,"790803_91702_81501",91,176,{"$f":"IF(COUNTIF($H$2:H96,H96)=1,SUMIF(H:H,H96,J:J),\"\")","v":176},{"$f":"VLOOKUP(TEXT(B96,\"00000\"),remote_zone!A:B,2,FALSE)","v":"CA"},{"$f":"VLOOKUP(TEXT(C96,\"00000\"),remote_zone!A:B,2,FALSE)","v":"CO"},{"$f":"IF(K96=\"\",\"\",VLOOKUP(TEXT(B96,\"00000\"),remote_zone!$A:$D,4,FALSE))","v":"standard"},{"$f":"IF(K96=\"\",\"\",VLOOKUP(TEXT(C96,\"00000\"),remote_zone!$A:$D,4,FALSE))","v":"remote"},{"$f":"VLOOKUP(M96,ceva_zone!$A:$E,MATCH(Sheet1!L96,ceva_zone!$A$1:$E$1,0),FALSE)","v":"C"},{"$f":"IF(K96=\"\",\"\",IF(K96<1000,VLOOKUP(MAX(101,K96),ceva_base_rate!A:H,MATCH(Sheet1!P96,ceva_base_rate!$A$1:$H$1,0),FALSE),ROUND(VLOOKUP(1000,ceva_base_rate!$A$901:$H$901,MATCH(Sheet1!P96,ceva_base_rate!$A$1:$H$1,0),FALSE)+VLOOKUP(\"1000+\",ceva_base_rate!$A$902:$H$902,MATCH(Sheet1!P96,ceva_base_rate!$A$1:$H$1,0),FALSE)*(K96-1000),2)))","v":148},{"$f":"IF(K96=\"\",\"\",IF(OR(L96=\"CA\",M96=\"CA\"),ceva_base_rate!$N$1,0))","v":18.24},{"$f":"IF(K96=\"\",\"\",IF(OR(AND(VALUE(LEFT(C96,3))>=110,VALUE(LEFT(C96,3))<=114),AND(VALUE(LEFT(C96,3))>=100,VALUE(LEFT(C96,3))<=104),AND(VALUE(LEFT(B96,3))>=110,VALUE(LEFT(B96,3))<=114),AND(VALUE(LEFT(B96,3))>=100,VALUE(LEFT(B96,3))<=104)),ceva_base_rate!$N$2,0))","v":0},{"$f":"IF(N96=\"\",\"\",IF(N96=\"standard\",0,IF(K96<1000,VLOOKUP(MAX(101,K96),ceva_base_rate!A:H,8,FALSE),ROUND(VLOOKUP(1000,ceva_base_rate!$A$901:$H$901,8,FALSE)+VLOOKUP(\"1000+\",ceva_base_rate!$A$902:$H$902,8,FALSE)*(K96-1000),2))))","v":0},{"$f":"IF(O96=\"\",\"\",IF(O96=\"standard\",0,IF(K96<1000,VLOOKUP(MAX(101,K96),ceva_base_rate!A:H,8,FALSE),ROUND(VLOOKUP(1000,ceva_base_rate!$A$901:$H$901,8,FALSE)+VLOOKUP(\"1000+\",ceva_base_rate!$A$902:$H$902,8,FALSE)*(K96-1000),2))))","v":123},{"$f":"IF(OR(D96>=250,I96>=75),ceva_base_rate!$N$3,0)","v":30},{"$f":"IF(I96<96,0,IF(I96<120,ceva_base_rate!$N$4,IF(I96<192,ceva_base_rate!$N$5,IF(I96<240,ceva_base_rate!$N$6,ceva_base_rate!$N$7))))","v":0},{"$f":"IF(COUNTIF($H$2:H96,H96)=1,SUMIF(H:H,H96,Q:Q)+SUMIF(H:H,H96,R:R)+SUMIF(H:H,H96,S:S)+SUMIF(H:H,H96,T:T)+SUMIF(H:H,H96,U:U)+SUMIF(H:H,H96,V:V)+SUMIF(H:H,H96,W:W),\"\")","v":319.24}]
[790875,"91702","70775",67,31,30,30,"790875_91702_70775",31,112,{"$f":"IF(COUNTIF($H$2:H97,H97)=1,SUMIF(H:H,H97,J:J),\"\")","v":216},{"$f":"VLOOKUP(TEXT(B97,\"00000\"),remote_zone!A:B,2,FALSE)","v":"CA"},{"$f":"VLOOKUP(TEXT(C97,\"00000\"),remote_zone!A:B,2,FALSE)","v":"LA"},{"$f":"IF(K97=\"\",\"\",VLOOKUP(TEXT(B97,\"00000\"),remote_zone!$A:$D,4,FALSE))","v":"standard"},{"$f":"IF(K97=\"\",\"\",VLOOKUP(TEXT(C97,\"00000\"),remote_zone!$A:$D,4,FALSE))","v":"remote"},{"$f":"VLOOKUP(M97,ceva_zone!$A:$E,MATCH(Sheet1!L97,ceva_zone!$A$1:$E$1,0),FALSE)","v":"D"},{"$f":"IF(K97=\"\",\"\",IF(K97<1000,VLOOKUP(MAX(101,K97),ceva_base_rate!A:H,MATCH(Sheet1!P97,ceva_base_rate!$A$1:$H$1,0),FALSE),ROUND(VLOOKUP(1000,ceva_base_rate!$A$901:$H$901,MATCH(Sheet1!P97,ceva_base_rate!$A$1:$H$1,0),FALSE)+VLOOKUP(\"1000+\",ceva_base_rate!$A$902:$H$902,MATCH(Sheet1!P97,ceva_base_rate!$A$1:$H$1,0),FALSE)*(K97-1000),2)))","v":172},{"$f":"IF(K97=\"\",\"\",IF(OR(L97=\"CA\",M97=\"CA\"),ceva_base_rate!$N$1,0))","v":18.24},{"$f":"IF(K97=\"\",\"\",IF(OR(AND(VALUE(LEFT(C97,3))>=110,VALUE(LEFT(C97,3))<=114),AND(VALUE(LEFT(C97,3))>=100,VALUE(LEFT(C97,3))<=104),AND(VALUE(LEFT(B97,3))>=110,VALUE(LEFT(B97,3))<=114),AND(VALUE(LEFT(B97,3))>=100,VALUE(LEFT(B97,3))<=104)),ceva_base_rate!$N$2,0))","v":0},{"$f":"IF(N97=\"\",\"\",IF(N97=\"standard\",0,IF(K97<1000,VLOOKUP(MAX(101,K97),ceva_base_rate!A:H,8,FALSE),ROUND(VLOOKUP(1000,ceva_base_rate!$A$901:$H$901,8,FALSE)+VLOOKUP(\"1000+\",ceva_base_rate!$A$902:$H$902,8,FALSE)*(K97-1000),2))))","v":0},{"$f":"IF(O97=\"\",\"\",IF(O97=\"standard\",0,IF(K97<1000,VLOOKUP(MAX(101,K97),ceva_base_rate!A:H,8,FALSE),ROUND(VLOOKUP(1000,ceva_base_rate!$A$901:$H$901,8,FALSE)+VLOOKUP(\"1000+\",ceva_base_rate!$A$902:$H$902,8,FALSE)*(K97-1000),2))))","v":123},{"$f":"IF(OR(D97>=250,I97>=75),ceva_base_rate!$N$3,0)","v":0},{"$f":"IF(I97<96,0,IF(I97<120,ceva_base_rate!$N$4,IF(I97<192,ceva_base_rate!$N$5,IF(I97<240,ceva_base_rate!$N$6,ceva_base_rate!$N$7))))","v":0},{"$f":"IF(COUNTIF($H$2:H97,H97)=1,SUMIF(H:H,H97,Q:Q)+SUMIF(H:H,H97,R:R)+SUMIF(H:H,H97,S:S)+SUMIF(H:H,H97,T:T)+SUMIF(H:H,H97,U:U)+SUMIF(H:H,H97,V:V)+SUMIF(H:H,H97,W:W),\"\")","v":313.24}]
[790875,"91702","70775",68,31,29,29,"790875_91702_70775",31,104,{"$f":"IF(COUNTIF($H$2:H98,H98)=1,SUMIF(H:H,H98,J:J),\"\")","v":""},{"$f":"VLOOKUP(TEXT(B98,\"00000\"),remote_zone!A:B,2,FALSE)","v":"CA"},{"$f":"VLOOKUP(TEXT(C98,\"00000\"),remote_zone!A:B,2,FALSE)","v":"LA"},{"$f":"IF(K98=\"\",\"\",VLOOKUP(TEXT(B98,\"00000\"),remote_zone!$A:$D,4,FALSE))","v":""},{"$f":"IF(K98=\"\",\"\",VLOOKUP(TEXT(C98,\"00000\"),remote_zone!$A:$D,4,FALSE))","v":""},{"$f":"VLOOKUP(M98,ceva_zone!$A:$E,MATCH(Sheet1!L98,ceva_zone!$A$1:$E$1,0),FALSE)","v":"D"},{"$f":"IF(K98=\"\",\"\",IF(K98<1000,VLOOKUP(MAX(101,K98),ceva_base_rate!A:H,MATCH(Sheet1!P98,ceva_base_rate!$A$1:$H$1,0),FALSE),ROUND(VLOOKUP(1000,ceva_base_rate!$A$901:$H$901,MATCH(Sheet1!P98,ceva_base_rate!$A$1:$H$1,0),FALSE)+VLOOKUP(\"1000+\",ceva_base_rate!$A$902:$H$902,MATCH(Sheet1!P98,ceva_base_rate!$A$1:$H$1,0),FALSE)*(K98-1000),2)))","v":""},{"$f":"IF(K98=\"\",\"\",IF(OR(L98=\"CA\",M98=\"CA\"),ceva_base_rate!$N$1,0))","v":""},{"$f":"IF(K98=\"\",\"\",IF(OR(AND(VALUE(LEFT(C98,3))>=110,VALUE(LEFT(C98,3))<=114),AND(VALUE(LEFT(C98,3))>=100,VALUE(LEFT(C98,3))<=104),AND(VALUE(LEFT(B98,3))>=110,VALUE(LEFT(B98,3))<=114),AND(VALUE(LEFT(B98,3))>=100,VALUE(LEFT(B98,3))<=104)),ceva_base_rate!$N$2,0))","v":""},{"$f":"IF(N98=\"\",\"\",IF(N98=\"standard\",0,IF(K98<1000,VLOOKUP(MAX(101,K98),ceva_base_rate!A:H,8,FALSE),ROUND(VLOOKUP(1000,ceva_base_rate!$A$901:$H$901,8,FALSE)+VLOOKUP(\"1000+\",ceva_base_rate!$A$902:$H$902,8,FALSE)*(K98-1000),2))))","v":""},{"$f":"IF(O98=\"\",\"\",IF(O98=\"standard\",0,IF(K98<1000,VLOOKUP(MAX(101,K98),ceva_base_rate!A:H,8,FALSE),ROUND(VLOOKUP(1000,ceva_base_rate!$A$901:$H$901,8,FALSE)+VLOOKUP(\"1000+\",ceva_base_rate!$A$902:$H$902,8,FALSE)*(K98-1000),2))))","v":""},{"$f":"IF(OR(D98>=250,I98>=75),ceva_base_rate!$N$3,0)","v":0},{"$f":"IF(I98<96,0,IF(I98<120,ceva_base_rate!$N$4,IF(I98<192,ceva_base_rate!$N$5,IF(I98<240,ceva_base_rate!$N$6,ceva_base_rate!$N$7))))","v":0},{"$f":"IF(COUNTIF($H$2:H98,H98)=1,SUMIF(H:H,H98,Q:Q)+SUMIF(H:H,H98,R:R)+SUMIF(H:H,H98,S:S)+SUMIF(H:H,H98,T:T)+SUMIF(H:H,H98,U:U)+SUMIF(H:H,H98,V:V)+SUMIF(H:H,H98,W:W),\"\")","v":""}]
[790950,"91702","80134",203,83,38,21,"790950_91702_80134",83,265,{"$f":"IF(COUNTIF($H$2:H99,H99)=1,SUMIF(H:H,H99,J:J),\"\")","v":265},{"$f":"VLOOKUP(TEXT(B99,\"00000\"),remote_zone!A:B,2,FALSE)","v":"CA"},{"$f":"VLOOKUP(TEXT(C99,\"00000\"),remote_zone!A:B,2,FALSE)","v":"CO"},{"$f":"IF(K99=\"\",\"\",VLOOKUP(TEXT(B99,\"00000\"),remote_zone!$A:$D,4,FALSE))","v":"standard"},{"$f":"IF(K99=\"\",\"\",VLOOKUP(TEXT(C99,\"00000\"),remote_zone!$A:$D,4,FALSE))","v":"standard"},{"$f":"VLOOKUP(M99,ceva_zone!$A:$E,MATCH(Sheet1!L99,ceva_zone!$A$1:$E$1,0),FALSE)","v":"C"},{"$f":"IF(K99=\"\",\"\",IF(K99<1000,VLOOKUP(MAX(101,K99),ceva_base_rate!A:H,MATCH(Sheet1!P99,ceva_base_rate!$A$1:$H$1,0),FALSE),ROUND(VLOOKUP(1000,ceva_base_rate!$A$901:$H$901,MATCH(Sheet1!P99,ceva_base_rate!$A$1:$H$1,0),FALSE)+VLOOKUP(\"1000+\",ceva_base_rate!$A$902:$H$902,MATCH(Sheet1!P99,ceva_base_rate!$A$1:$H$1,0),FALSE)*(K99-1000),2)))","v":192},{"$f":"IF(K99=\"\",\"\",IF(OR(L99=\"CA\",M99=\"CA\"),ceva_base_rate!$N$1,0))","v":18.24},{"$f":"IF(K99=\"\",\"\",IF(OR(AND(VALUE(LEFT(C99,3))>=110,VALUE(LEFT(C99,3))<=114),AND(VALUE(LEFT(C99,3))>=100,VALUE(LEFT(C99,3))<=104),AND(VALUE(LEFT(B99,3))>=110,VALUE(LEFT(B99,3))<=114),AND(VALUE(LEFT(B99,3))>=100,VALUE(LEFT(B99,3))<=104)),ceva_base_rate!$N$2,0))","v":0},{"$f":"IF(N99=\"\",\"\",IF(N99=\"standard\",0,IF(K99<1000,VLOOKUP(MAX(101,K99),ceva_base_rate!A:H,8,FALSE),ROUND(VLOOKUP(1000,ceva_base_rate!$A$901:$H$901,8,FALSE)+VLOOKUP(\"1000+\",ceva_base_rate!$A$902:$H$902,8,FALSE)*(K99-1000),2))))","v":0},{"$f":"IF(O99=\"\",\"\",IF(O99=\"standard\",0,IF(K99<1000,VLOOKUP(MAX(101,K99),ceva_base_rate!A:H,8,FALSE),ROUND(VLOOKUP(1000,ceva_base_rate!$A$901:$H$901,8,FALSE)+VLOOKUP(\"1000+\",ceva_base_rate!$A$902:$H$902,8,FALSE)*(K99-1000),2))))","v":0},{"$f":"IF(OR(D99>=250,I99>=75),ceva_base_rate!$N$3,0)","v":30},{"$f":"IF(I99<96,0,IF(I99<120,ceva_base_rate!$N$4,IF(I99<192,ceva_base_rate!$N$5,IF(I99<240,ceva_base_rate!$N$6,ceva_base_rate!$N$7))))","v":0},{"$f":"IF(COUNTIF($H$2:H99,H99)=1,SUMIF(H:H,H99,Q:Q)+SUMIF(H:H,H99,R:R)+SUMIF(H:H,H99,S:S)+SUMIF(H:H,H99,T:T)+SUMIF(H:H,H99,U:U)+SUMIF(H:H,H99,V:V)+SUMIF(H:H,H99,W:W),\"\")","v":240.24}]
[791069,"91702","99022",133,44,33,31,"791069_91702_99022",44,180,{"$f":"IF(COUNTIF($H$2:H100,H100)=1,SUMIF(H:H,H100,J:J),\"\")","v":180},{"$f":"VLOOKUP(TEXT(B100,\"00000\"),remote_zone!A:B,2,FALSE)","v":"CA"},{"$f":"VLOOKUP(TEXT(C100,\"00000\"),remote_zone!A:B,2,FALSE)","v":"WA"},{"$f":"IF(K100=\"\",\"\",VLOOKUP(TEXT(B100,\"00000\"),remote_zone!$A:$D,4,FALSE))","v":"standard"},{"$f":"IF(K100=\"\",\"\",VLOOKUP(TEXT(C100,\"00000\"),remote_zone!$A:$D,4,FALSE))","v":"remote"},{"$f":"VLOOKUP(M100,ceva_zone!$A:$E,MATCH(Sheet1!L100,ceva_zone!$A$1:$E$1,0),FALSE)","v":"C"},{"$f":"IF(K100=\"\",\"\",IF(K100<1000,VLOOKUP(MAX(101,K100),ceva_base_rate!A:H,MATCH(Sheet1!P100,ceva_base_rate!$A$1:$H$1,0),FALSE),ROUND(VLOOKUP(1000,ceva_base_rate!$A$901:$H$901,MATCH(Sheet1!P100,ceva_base_rate!$A$1:$H$1,0),FALSE)+VLOOKUP(\"1000+\",ceva_base_rate!$A$902:$H$902,MATCH(Sheet1!P100,ceva_base_rate!$A$1:$H$1,0),FALSE)*(K100-1000),2)))","v":148},{"$f":"IF(K100=\"\",\"\",IF(OR(L100=\"CA\",M100=\"CA\"),ceva_base_rate!$N$1,0))","v":18.24},{"$f":"IF(K100=\"\",\"\",IF(OR(AND(VALUE(LEFT(C100,3))>=110,VALUE(LEFT(C100,3))<=114),AND(VALUE(LEFT(C100,3))>=100,VALUE(LEFT(C100,3))<=104),AND(VALUE(LEFT(B100,3))>=110,VALUE(LEFT(B100,3))<=114),AND(VALUE(LEFT(B100,3))>=100,VALUE(LEFT(B100,3))<=104)),ceva_base_rate!$N$2,0))","v":0},{"$f":"IF(N100=\"\",\"\",IF(N100=\"standard\",0,IF(K100<1000,VLOOKUP(MAX(101,K100),ceva_base_rate!A:H,8,FALSE),ROUND(VLOOKUP(1000,ceva_base_rate!$A$901:$H$901,8,FALSE)+VLOOKUP(\"1000+\",ceva_base_rate!$A$902:$H$902,8,FALSE)*(K100-1000),2))))","v":0},{"$f":"IF(O100=\"\",\"\",IF(O100=\"standard\",0,IF(K100<1000,VLOOKUP(MAX(101,K100),ceva_base_rate!A:H,8,FALSE),ROUND(VLOOKUP(1000,ceva_base_rate!$A$901:$H$901,8,FALSE)+VLOOKUP(\"1000+\",ceva_base_rate!$A$902:$H$902,8,FALSE)*(K100-1000),2))))","v":123},{"$f":"IF(OR(D100>=250,I100>=75),ceva_base_rate!$N$3,0)","v":0},{"$f":"IF(I100<96,0,IF(I100<120,ceva_base_rate!$N$4,IF(I100<192,ceva_base_rate!$N$5,IF(I100<240,ceva_base_rate!$N$6,ceva_base_rate!$N$7))))","v":0},{"$f":"IF(COUNTIF($H$2:H100,H100)=1,SUMIF(H:H,H100,Q:Q)+SUMIF(H:H,H100,R:R)+SUMIF(H:H,H100,S:S)+SUMIF(H:H,H100,T:T)+SUMIF(H:H,H100,U:U)+SUMIF(H:H,H100,V:V)+SUMIF(H:H,H100,W:W),\"\")","v":289.24}]
[791362,"91702","19056",61,59,20,11,"791362_91702_19056",59,61,{"$f":"IF(COUNTIF($H$2:H101,H101)=1,SUMIF(H:H,H101,J:J),\"\")","v":199},{"$f":"VLOOKUP(TEXT(B101,\"00000\"),remote_zone!A:B,2,FALSE)","v":"CA"},{"$f":"VLOOKUP(TEXT(C101,\"00000\"),remote_zone!A:B,2,FALSE)","v":"PA"},{"$f":"IF(K101=\"\",\"\",VLOOKUP(TEXT(B101,\"00000\"),remote_zone!$A:$D,4,FALSE))","v":"standard"},{"$f":"IF(K101=\"\",\"\",VLOOKUP(TEXT(C101,\"00000\"),remote_zone!$A:$D,4,FALSE))","v":"standard"},{"$f":"VLOOKUP(M101,ceva_zone!$A:$E,MATCH(Sheet1!L101,ceva_zone!$A$1:$E$1,0),FALSE)","v":"F"},{"$f":"IF(K101=\"\",\"\",IF(K101<1000,VLOOKUP(MAX(101,K101),ceva_base_rate!A:H,MATCH(Sheet1!P101,ceva_base_rate!$A$1:$H$1,0),FALSE),ROUND(VLOOKUP(1000,ceva_base_rate!$A$901:$H$901,MATCH(Sheet1!P101,ceva_base_rate!$A$1:$H$1,0),FALSE)+VLOOKUP(\"1000+\",ceva_base_rate!$A$902:$H$902,MATCH(Sheet1!P101,ceva_base_rate!$A$1:$H$1,0),FALSE)*(K101-1000),2)))","v":194},{"$f":"IF(K101=\"\",\"\",IF(OR(L101=\"CA\",M101=\"CA\"),ceva_base_rate!$N$1,0))","v":18.24},{"$f":"IF(K101=\"\",\"\",IF(OR(AND(VALUE(LEFT(C101,3))>=110,VALUE(LEFT(C101,3))<=114),AND(VALUE(LEFT(C101,3))>=100,VALUE(LEFT(C101,3))<=104),AND(VALUE(LEFT(B101,3))>=110,VALUE(LEFT(B101,3))<=114),AND(VALUE(LEFT(B101,3))>=100,VALUE(LEFT(B101,3))<=104)),ceva_base_rate!$N$2,0))","v":0},{"$f":"IF(N101=\"\",\"\",IF(N101=\"standard\",0,IF(K101<1000,VLOOKUP(MAX(101,K101),ceva_base_rate!A:H,8,FALSE),ROUND(VLOOKUP(1000,ceva_base_rate!$A$901:$H$901,8,FALSE)+VLOOKUP(\"1000+\",ceva_base_rate!$A$902:$H$902,8,FALSE)*(K101-1000),2))))","v":0},{"$f":"IF(O101=\"\",\"\",IF(O101=\"standard\",0,IF(K101<1000,VLOOKUP(MAX(101,K101),ceva_base_rate!A:H,8,FALSE),ROUND(VLOOKUP(1000,ceva_base_rate!$A$901:$H$901,8,FALSE)+VLOOKUP(\"1000+\",ceva_base_rate!$A$902:$H$902,8,FALSE)*(K101-1000),2))))","v":0},{"$f":"IF(OR(D101>=250,I101>=75),ceva_base_rate!$N$3,0)","v":0},{"$f":"IF(I101<96,0,IF(I101<120,ceva_base_rate!$N$4,IF(I101<192,ceva_base_rate!$N$5,IF(I101<240,ceva_base_rate!$N$6,ceva_base_rate!$N$7))))","v":0},{"$f":"IF(COUNTIF($H$2:H101,H101)=1,SUMIF(H:H,H101,Q:Q)+SUMIF(H:H,H101,R:R)+SUMIF(H:H,H101,S:S)+SUMIF(H:H,H101,T:T)+SUMIF(H:H,H101,U:U)+SUMIF(H:H,H101,V:V)+SUMIF(H:H,H101,W:W),\"\")","v":212.24}]
[791362,"91702","19056",16,26,21,21,"791362_91702_19056",26,46,{"$f":"IF(COUNTIF($H$2:H102,H102)=1,SUMIF(H:H,H102,J:J),\"\")","v":""},{"$f":"VLOOKUP(TEXT(B102,\"00000\"),remote_zone!A:B,2,FALSE)","v":"CA"},{"$f":"VLOOKUP(TEXT(C102,\"00000\"),remote_zone!A:B,2,FALSE)","v":"PA"},{"$f":"IF(K102=\"\",\"\",VLOOKUP(TEXT(B102,\"00000\"),remote_zone!$A:$D,4,FALSE))","v":""},{"$f":"IF(K102=\"\",\"\",VLOOKUP(TEXT(C102,\"00000\"),remote_zone!$A:$D,4,FALSE))","v":""},{"$f":"VLOOKUP(M102,ceva_zone!$A:$E,MATCH(Sheet1!L102,ceva_zone!$A$1:$E$1,0),FALSE)","v":"F"},{"$f":"IF(K102=\"\",\"\",IF(K102<1000,VLOOKUP(MAX(101,K102),ceva_base_rate!A:H,MATCH(Sheet1!P102,ceva_base_rate!$A$1:$H$1,0),FALSE),ROUND(VLOOKUP(1000,ceva_base_rate!$A$901:$H$901,MATCH(Sheet1!P102,ceva_base_rate!$A$1:$H$1,0),FALSE)+VLOOKUP(\"1000+\",ceva_base_rate!$A$902:$H$902,MATCH(Sheet1!P102,ceva_base_rate!$A$1:$H$1,0),FALSE)*(K102-1000),2)))","v":""},{"$f":"IF(K102=\"\",\"\",IF(OR(L102=\"CA\",M102=\"CA\"),ceva_base_rate!$N$1,0))","v":""},{"$f":"IF(K102=\"\",\"\",IF(OR(AND(VALUE(LEFT(C102,3))>=110,VALUE(LEFT(C102,3))<=114),AND(VALUE(LEFT(C102,3))>=100,VALUE(LEFT(C102,3))<=104),AND(VALUE(LEFT(B102,3))>=110,VALUE(LEFT(B102,3))<=114),AND(VALUE(LEFT(B102,3))>=100,VALUE(LEFT(B102,3))<=104)),ceva_base_rate!$N$2,0))","v":""},{"$f":"IF(N102=\"\",\"\",IF(N102=\"standard\",0,IF(K102<1000,VLOOKUP(MAX(101,K102),ceva_base_rate!A:H,8,FALSE),ROUND(VLOOKUP(1000,ceva_base_rate!$A$901:$H$901,8,FALSE)+VLOOKUP(\"1000+\",ceva_base_rate!$A$902:$H$902,8,FALSE)*(K102-1000),2))))","v":""},{"$f":"IF(O102=\"\",\"\",IF(O102=\"standard\",0,IF(K102<1000,VLOOKUP(MAX(101,K102),ceva_base_rate!A:H,8,FALSE),ROUND(VLOOKUP(1000,ceva_base_rate!$A$901:$H$901,8,FALSE)+VLOOKUP(\"1000+\",ceva_base_rate!$A$902:$H$902,8,FALSE)*(K102-1000),2))))","v":""},{"$f":"IF(OR(D102>=250,I102>=75),ceva_base_rate!$N$3,0)","v":0},{"$f":"IF(I102<96,0,IF(I102<120,ceva_base_rate!$N$4,IF(I102<192,ceva_base_rate!$N$5,IF(I102<240,ceva_base_rate!$N$6,ceva_base_rate!$N$7))))","v":0},{"$f":"IF(COUNTIF($H$2:H102,H102)=1,SUMIF(H:H,H102,Q:Q)+SUMIF(H:H,H102,R:R)+SUMIF(H:H,H102,S:S)+SUMIF(H:H,H102,T:T)+SUMIF(H:H,H102,U:U)+SUMIF(H:H,H102,V:V)+SUMIF(H:H,H102,W:W),\"\")","v":""}]
[791362,"91702","19056",41,22,20,20,"791362_91702_19056",22,41,{"$f":"IF(COUNTIF($H$2:H103,H103)=1,SUMIF(H:H,H103,J:J),\"\")","v":""},{"$f":"VLOOKUP(TEXT(B103,\"00000\"),remote_zone!A:B,2,FALSE)","v":"CA"},{"$f":"VLOOKUP(TEXT(C103,\"00000\"),remote_zone!A:B,2,FALSE)","v":"PA"},{"$f":"IF(K103=\"\",\"\",VLOOKUP(TEXT(B103,\"00000\"),remote_zone!$A:$D,4,FALSE))","v":""},{"$f":"IF(K103=\"\",\"\",VLOOKUP(TEXT(C103,\"00000\"),remote_zone!$A:$D,4,FALSE))","v":""},{"$f":"VLOOKUP(M103,ceva_zone!$A:$E,MATCH(Sheet1!L103,ceva_zone!$A$1:$E$1,0),FALSE)","v":"F"},{"$f":"IF(K103=\"\",\"\",IF(K103<1000,VLOOKUP(MAX(101,K103),ceva_base_rate!A:H,MATCH(Sheet1!P103,ceva_base_rate!$A$1:$H$1,0),FALSE),ROUND(VLOOKUP(1000,ceva_base_rate!$A$901:$H$901,MATCH(Sheet1!P103,ceva_base_rate!$A$1:$H$1,0),FALSE)+VLOOKUP(\"1000+\",ceva_base_rate!$A$902:$H$902,MATCH(Sheet1!P103,ceva_base_rate!$A$1:$H$1,0),FALSE)*(K103-1000),2)))","v":""},{"$f":"IF(K103=\"\",\"\",IF(OR(L103=\"CA\",M103=\"CA\"),ceva_base_rate!$N$1,0))","v":""},{"$f":"IF(K103=\"\",\"\",IF(OR(AND(VALUE(LEFT(C103,3))>=110,VALUE(LEFT(C103,3))<=114),AND(VALUE(LEFT(C103,3))>=100,VALUE(LEFT(C103,3))<=104),AND(VALUE(LEFT(B103,3))>=110,VALUE(LEFT(B103,3))<=114),AND(VALUE(LEFT(B103,3))>=100,VALUE(LEFT(B103,3))<=104)),ceva_base_rate!$N$2,0))","v":""},{"$f":"IF(N103=\"\",\"\",IF(N103=\"standard\",0,IF(K103<1000,VLOOKUP(MAX(101,K103),ceva_base_rate!A:H,8,FALSE),ROUND(VLOOKUP(1000,ceva_base_rate!$A$901:$H$901,8,FALSE)+VLOOKUP(\"1000+\",ceva_base_rate!$A$902:$H$902,8,FALSE)*(K103-1000),2))))","v":""},{"$f":"IF(O103=\"\",\"\",IF(O103=\"standard\",0,IF(K103<1000,VLOOKUP(MAX(101,K103),ceva_base_rate!A:H,8,FALSE),ROUND(VLOOKUP(1000,ceva_base_rate!$A$901:$H$901,8,FALSE)+VLOOKUP(\"1000+\",ceva_base_rate!$A$902:$H$902,8,FALSE)*(K103-1000),2))))","v":""},{"$f":"IF(OR(D103>=250,I103>=75),ceva_base_rate!$N$3,0)","v":0},{"$f":"IF(I103<96,0,IF(I103<120,ceva_base_rate!$N$4,IF(I103<192,ceva_base_rate!$N$5,IF(I103<240,ceva_base_rate!$N$6,ceva_base_rate!$N$7))))","v":0},{"$f":"IF(COUNTIF($H$2:H103,H103)=1,SUMIF(H:H,H103,Q:Q)+SUMIF(H:H,H103,R:R)+SUMIF(H:H,H103,S:S)+SUMIF(H:H,H103,T:T)+SUMIF(H:H,H103,U:U)+SUMIF(H:H,H103,V:V)+SUMIF(H:H,H103,W:W),\"\")","v":""}]
[791362,"91702","19056",34,46,46,6,"791362_91702_19056",46,51,{"$f":"IF(COUNTIF($H$2:H104,H104)=1,SUMIF(H:H,H104,J:J),\"\")","v":""},{"$f":"VLOOKUP(TEXT(B104,\"00000\"),remote_zone!A:B,2,FALSE)","v":"CA"},{"$f":"VLOOKUP(TEXT(C104,\"00000\"),remote_zone!A:B,2,FALSE)","v":"PA"},{"$f":"IF(K104=\"\",\"\",VLOOKUP(TEXT(B104,\"00000\"),remote_zone!$A:$D,4,FALSE))","v":""},{"$f":"IF(K104=\"\",\"\",VLOOKUP(TEXT(C104,\"00000\"),remote_zone!$A:$D,4,FALSE))","v":""},{"$f":"VLOOKUP(M104,ceva_zone!$A:$E,MATCH(Sheet1!L104,ceva_zone!$A$1:$E$1,0),FALSE)","v":"F"},{"$f":"IF(K104=\"\",\"\",IF(K104<1000,VLOOKUP(MAX(101,K104),ceva_base_rate!A:H,MATCH(Sheet1!P104,ceva_base_rate!$A$1:$H$1,0),FALSE),ROUND(VLOOKUP(1000,ceva_base_rate!$A$901:$H$901,MATCH(Sheet1!P104,ceva_base_rate!$A$1:$H$1,0),FALSE)+VLOOKUP(\"1000+\",ceva_base_rate!$A$902:$H$902,MATCH(Sheet1!P104,ceva_base_rate!$A$1:$H$1,0),FALSE)*(K104-1000),2)))","v":""},{"$f":"IF(K104=\"\",\"\",IF(OR(L104=\"CA\",M104=\"CA\"),ceva_base_rate!$N$1,0))","v":""},{"$f":"IF(K104=\"\",\"\",IF(OR(AND(VALUE(LEFT(C104,3))>=110,VALUE(LEFT(C104,3))<=114),AND(VALUE(LEFT(C104,3))>=100,VALUE(LEFT(C104,3))<=104),AND(VALUE(LEFT(B104,3))>=110,VALUE(LEFT(B104,3))<=114),AND(VALUE(LEFT(B104,3))>=100,VALUE(LEFT(B104,3))<=104)),ceva_base_rate!$N$2,0))","v":""},{"$f":"IF(N104=\"\",\"\",IF(N104=\"standard\",0,IF(K104<1000,VLOOKUP(MAX(101,K104),ceva_base_rate!A:H,8,FALSE),ROUND(VLOOKUP(1000,ceva_base_rate!$A$901:$H$901,8,FALSE)+VLOOKUP(\"1000+\",ceva_base_rate!$A$902:$H$902,8,FALSE)*(K104-1000),2))))","v":""},{"$f":"IF(O104=\"\",\"\",IF(O104=\"standard\",0,IF(K104<1000,VLOOKUP(MAX(101,K104),ceva_base_rate!A:H,8,FALSE),ROUND(VLOOKUP(1000,ceva_base_rate!$A$901:$H$901,8,FALSE)+VLOOKUP(\"1000+\",ceva_base_rate!$A$902:$H$902,8,FALSE)*(K104-1000),2))))","v":""},{"$f":"IF(OR(D104>=250,I104>=75),ceva_base_rate!$N$3,0)","v":0},{"$f":"IF(I104<96,0,IF(I104<120,ceva_base_rate!$N$4,IF(I104<192,ceva_base_rate!$N$5,IF(I104<240,ceva_base_rate!$N$6,ceva_base_rate!$N$7))))","v":0},{"$f":"IF(COUNTIF($H$2:H104,H104)=1,SUMIF(H:H,H104,Q:Q)+SUMIF(H:H,H104,R:R)+SUMIF(H:H,H104,S:S)+SUMIF(H:H,H104,T:T)+SUMIF(H:H,H104,U:U)+SUMIF(H:H,H104,V:V)+SUMIF(H:H,H104,W:W),\"\")","v":""}]
[791639,"91702","66062",106,54,54,7,"791639_91702_66062",54,106,{"$f":"IF(COUNTIF($H$2:H105,H105)=1,SUMIF(H:H,H105,J:J),\"\")","v":181},{"$f":"VLOOKUP(TEXT(B105,\"00000\"),remote_zone!A:B,2,FALSE)","v":"CA"},{"$f":"VLOOKUP(TEXT(C105,\"00000\"),remote_zone!A:B,2,FALSE)","v":"KS"},{"$f":"IF(K105=\"\",\"\",VLOOKUP(TEXT(B105,\"00000\"),remote_zone!$A:$D,4,FALSE))","v":"standard"},{"$f":"IF(K105=\"\",\"\",VLOOKUP(TEXT(C105,\"00000\"),remote_zone!$A:$D,4,FALSE))","v":"standard"},{"$f":"VLOOKUP(M105,ceva_zone!$A:$E,MATCH(Sheet1!L105,ceva_zone!$A$1:$E$1,0),FALSE)","v":"E"},{"$f":"IF(K105=\"\",\"\",IF(K105<1000,VLOOKUP(MAX(101,K105),ceva_base_rate!A:H,MATCH(Sheet1!P105,ceva_base_rate!$A$1:$H$1,0),FALSE),ROUND(VLOOKUP(1000,ceva_base_rate!$A$901:$H$901,MATCH(Sheet1!P105,ceva_base_rate!$A$1:$H$1,0),FALSE)+VLOOKUP(\"1000+\",ceva_base_rate!$A$902:$H$902,MATCH(Sheet1!P105,ceva_base_rate!$A$1:$H$1,0),FALSE)*(K105-1000),2)))","v":161},{"$f":"IF(K105=\"\",\"\",IF(OR(L105=\"CA\",M105=\"CA\"),ceva_base_rate!$N$1,0))","v":18.24},{"$f":"IF(K105=\"\",\"\",IF(OR(AND(VALUE(LEFT(C105,3))>=110,VALUE(LEFT(C105,3))<=114),AND(VALUE(LEFT(C105,3))>=100,VALUE(LEFT(C105,3))<=104),AND(VALUE(LEFT(B105,3))>=110,VALUE(LEFT(B105,3))<=114),AND(VALUE(LEFT(B105,3))>=100,VALUE(LEFT(B105,3))<=104)),ceva_base_rate!$N$2,0))","v":0},{"$f":"IF(N105=\"\",\"\",IF(N105=\"standard\",0,IF(K105<1000,VLOOKUP(MAX(101,K105),ceva_base_rate!A:H,8,FALSE),ROUND(VLOOKUP(1000,ceva_base_rate!$A$901:$H$901,8,FALSE)+VLOOKUP(\"1000+\",ceva_base_rate!$A$902:$H$902,8,FALSE)*(K105-1000),2))))","v":0},{"$f":"IF(O105=\"\",\"\",IF(O105=\"standard\",0,IF(K105<1000,VLOOKUP(MAX(101,K105),ceva_base_rate!A:H,8,FALSE),ROUND(VLOOKUP(1000,ceva_base_rate!$A$901:$H$901,8,FALSE)+VLOOKUP(\"1000+\",ceva_base_rate!$A$902:$H$902,8,FALSE)*(K105-1000),2))))","v":0},{"$f":"IF(OR(D105>=250,I105>=75),ceva_base_rate!$N$3,0)","v":0},{"$f":"IF(I105<96,0,IF(I105<120,ceva_base_rate!$N$4,IF(I105<192,ceva_base_rate!$N$5,IF(I105<240,ceva_base_rate!$N$6,ceva_base_rate!$N$7))))","v":0},{"$f":"IF(COUNTIF($H$2:H105,H105)=1,SUMIF(H:H,H105,Q:Q)+SUMIF(H:H,H105,R:R)+SUMIF(H:H,H105,S:S)+SUMIF(H:H,H105,T:T)+SUMIF(H:H,H105,U:U)+SUMIF(H:H,H105,V:V)+SUMIF(H:H,H105,W:W),\"\")","v":179.24}]
[791639,"91702","66062",61,30,25,25,"791639_91702_66062",30,75,{"$f":"IF(COUNTIF($H$2:H106,H106)=1,SUMIF(H:H,H106,J:J),\"\")","v":""},{"$f":"VLOOKUP(TEXT(B106,\"00000\"),remote_zone!A:B,2,FALSE)","v":"CA"},{"$f":"VLOOKUP(TEXT(C106,\"00000\"),remote_zone!A:B,2,FALSE)","v":"KS"},{"$f":"IF(K106=\"\",\"\",VLOOKUP(TEXT(B106,\"00000\"),remote_zone!$A:$D,4,FALSE))","v":""},{"$f":"IF(K106=\"\",\"\",VLOOKUP(TEXT(C106,\"00000\"),remote_zone!$A:$D,4,FALSE))","v":""},{"$f":"VLOOKUP(M106,ceva_zone!$A:$E,MATCH(Sheet1!L106,ceva_zone!$A$1:$E$1,0),FALSE)","v":"E"},{"$f":"IF(K106=\"\",\"\",IF(K106<1000,VLOOKUP(MAX(101,K106),ceva_base_rate!A:H,MATCH(Sheet1!P106,ceva_base_rate!$A$1:$H$1,0),FALSE),ROUND(VLOOKUP(1000,ceva_base_rate!$A$901:$H$901,MATCH(Sheet1!P106,ceva_base_rate!$A$1:$H$1,0),FALSE)+VLOOKUP(\"1000+\",ceva_base_rate!$A$902:$H$902,MATCH(Sheet1!P106,ceva_base_rate!$A$1:$H$1,0),FALSE)*(K106-1000),2)))","v":""},{"$f":"IF(K106=\"\",\"\",IF(OR(L106=\"CA\",M106=\"CA\"),ceva_base_rate!$N$1,0))","v":""},{"$f":"IF(K106=\"\",\"\",IF(OR(AND(VALUE(LEFT(C106,3))>=110,VALUE(LEFT(C106,3))<=114),AND(VALUE(LEFT(C106,3))>=100,VALUE(LEFT(C106,3))<=104),AND(VALUE(LEFT(B106,3))>=110,VALUE(LEFT(B106,3))<=114),AND(VALUE(LEFT(B106,3))>=100,VALUE(LEFT(B106,3))<=104)),ceva_base_rate!$N$2,0))","v":""},{"$f":"IF(N106=\"\",\"\",IF(N106=\"standard\",0,IF(K106<1000,VLOOKUP(MAX(101,K106),ceva_base_rate!A:H,8,FALSE),ROUND(VLOOKUP(1000,ceva_base_rate!$A$901:$H$901,8,FALSE)+VLOOKUP(\"1000+\",ceva_base_rate!$A$902:$H$902,8,FALSE)*(K106-1000),2))))","v":""},{"$f":"IF(O106=\"\",\"\",IF(O106=\"standard\",0,IF(K106<1000,VLOOKUP(MAX(101,K106),ceva_base_rate!A:H,8,FALSE),ROUND(VLOOKUP(1000,ceva_base_rate!$A$901:$H$901,8,FALSE)+VLOOKUP(\"1000+\",ceva_base_rate!$A$902:$H$902,8,FALSE)*(K106-1000),2))))","v":""},{"$f":"IF(OR(D106>=250,I106>=75),ceva_base_rate!$N$3,0)","v":0},{"$f":"IF(I106<96,0,IF(I106<120,ceva_base_rate!$N$4,IF(I106<192,ceva_base_rate!$N$5,IF(I106<240,ceva_base_rate!$N$6,ceva_base_rate!$N$7))))","v":0},{"$f":"IF(COUNTIF($H$2:H106,H106)=1,SUMIF(H:H,H106,Q:Q)+SUMIF(H:H,H106,R:R)+SUMIF(H:H,H106,S:S)+SUMIF(H:H,H106,T:T)+SUMIF(H:H,H106,U:U)+SUMIF(H:H,H106,V:V)+SUMIF(H:H,H106,W:W),\"\")","v":""}]
[791848,"91702","69361",78,91,21,10,"791848_91702_69361",91,78,{"$f":"IF(COUNTIF($H$2:H107,H107)=1,SUMIF(H:H,H107,J:J),\"\")","v":78},{"$f":"VLOOKUP(TEXT(B107,\"00000\"),remote_zone!A:B,2,FALSE)","v":"CA"},{"$f":"VLOOKUP(TEXT(C107,\"00000\"),remote_zone!A:B,2,FALSE)","v":"NE"},{"$f":"IF(K107=\"\",\"\",VLOOKUP(TEXT(B107,\"00000\"),remote_zone!$A:$D,4,FALSE))","v":"standard"},{"$f":"IF(K107=\"\",\"\",VLOOKUP(TEXT(C107,\"00000\"),remote_zone!$A:$D,4,FALSE))","v":"remote"},{"$f":"VLOOKUP(M107,ceva_zone!$A:$E,MATCH(Sheet1!L107,ceva_zone!$A$1:$E$1,0),FALSE)","v":"E"},{"$f":"IF(K107=\"\",\"\",IF(K107<1000,VLOOKUP(MAX(101,K107),ceva_base_rate!A:H,MATCH(Sheet1!P107,ceva_base_rate!$A$1:$H$1,0),FALSE),ROUND(VLOOKUP(1000,ceva_base_rate!$A$901:$H$901,MATCH(Sheet1!P107,ceva_base_rate!$A$1:$H$1,0),FALSE)+VLOOKUP(\"1000+\",ceva_base_rate!$A$902:$H$902,MATCH(Sheet1!P107,ceva_base_rate!$A$1:$H$1,0),FALSE)*(K107-1000),2)))","v":156},{"$f":"IF(K107=\"\",\"\",IF(OR(L107=\"CA\",M107=\"CA\"),ceva_base_rate!$N$1,0))","v":18.24},{"$f":"IF(K107=\"\",\"\",IF(OR(AND(VALUE(LEFT(C107,3))>=110,VALUE(LEFT(C107,3))<=114),AND(VALUE(LEFT(C107,3))>=100,VALUE(LEFT(C107,3))<=104),AND(VALUE(LEFT(B107,3))>=110,VALUE(LEFT(B107,3))<=114),AND(VALUE(LEFT(B107,3))>=100,VALUE(LEFT(B107,3))<=104)),ceva_base_rate!$N$2,0))","v":0},{"$f":"IF(N107=\"\",\"\",IF(N107=\"standard\",0,IF(K107<1000,VLOOKUP(MAX(101,K107),ceva_base_rate!A:H,8,FALSE),ROUND(VLOOKUP(1000,ceva_base_rate!$A$901:$H$901,8,FALSE)+VLOOKUP(\"1000+\",ceva_base_rate!$A$902:$H$902,8,FALSE)*(K107-1000),2))))","v":0},{"$f":"IF(O107=\"\",\"\",IF(O107=\"standard\",0,IF(K107<1000,VLOOKUP(MAX(101,K107),ceva_base_rate!A:H,8,FALSE),ROUND(VLOOKUP(1000,ceva_base_rate!$A$901:$H$901,8,FALSE)+VLOOKUP(\"1000+\",ceva_base_rate!$A$902:$H$902,8,FALSE)*(K107-1000),2))))","v":123},{"$f":"IF(OR(D107>=250,I107>=75),ceva_base_rate!$N$3,0)","v":30},{"$f":"IF(I107<96,0,IF(I107<120,ceva_base_rate!$N$4,IF(I107<192,ceva_base_rate!$N$5,IF(I107<240,ceva_base_rate!$N$6,ceva_base_rate!$N$7))))","v":0},{"$f":"IF(COUNTIF($H$2:H107,H107)=1,SUMIF(H:H,H107,Q:Q)+SUMIF(H:H,H107,R:R)+SUMIF(H:H,H107,S:S)+SUMIF(H:H,H107,T:T)+SUMIF(H:H,H107,U:U)+SUMIF(H:H,H107,V:V)+SUMIF(H:H,H107,W:W),\"\")","v":327.24}]
[791943,"91702","30281",260,89,55,14,"791943_91702_30281",89,274,{"$f":"IF(COUNTIF($H$2:H108,H108)=1,SUMIF(H:H,H108,J:J),\"\")","v":548},{"$f":"VLOOKUP(TEXT(B108,\"00000\"),remote_zone!A:B,2,FALSE)","v":"CA"},{"$f":"VLOOKUP(TEXT(C108,\"00000\"),remote_zone!A:B,2,FALSE)","v":"GA"},{"$f":"IF(K108=\"\",\"\",VLOOKUP(TEXT(B108,\"00000\"),remote_zone!$A:$D,4,FALSE))","v":"standard"},{"$f":"IF(K108=\"\",\"\",VLOOKUP(TEXT(C108,\"00000\"),remote_zone!$A:$D,4,FALSE))","v":"standard"},{"$f":"VLOOKUP(M108,ceva_zone!$A:$E,MATCH(Sheet1!L108,ceva_zone!$A$1:$E$1,0),FALSE)","v":"F"},{"$f":"IF(K108=\"\",\"\",IF(K108<1000,VLOOKUP(MAX(101,K108),ceva_base_rate!A:H,MATCH(Sheet1!P108,ceva_base_rate!$A$1:$H$1,0),FALSE),ROUND(VLOOKUP(1000,ceva_base_rate!$A$901:$H$901,MATCH(Sheet1!P108,ceva_base_rate!$A$1:$H$1,0),FALSE)+VLOOKUP(\"1000+\",ceva_base_rate!$A$902:$H$902,MATCH(Sheet1!P108,ceva_base_rate!$A$1:$H$1,0),FALSE)*(K108-1000),2)))","v":379},{"$f":"IF(K108=\"\",\"\",IF(OR(L108=\"CA\",M108=\"CA\"),ceva_base_rate!$N$1,0))","v":18.24},{"$f":"IF(K108=\"\",\"\",IF(OR(AND(VALUE(LEFT(C108,3))>=110,VALUE(LEFT(C108,3))<=114),AND(VALUE(LEFT(C108,3))>=100,VALUE(LEFT(C108,3))<=104),AND(VALUE(LEFT(B108,3))>=110,VALUE(LEFT(B108,3))<=114),AND(VALUE(LEFT(B108,3))>=100,VALUE(LEFT(B108,3))<=104)),ceva_base_rate!$N$2,0))","v":0},{"$f":"IF(N108=\"\",\"\",IF(N108=\"standard\",0,IF(K108<1000,VLOOKUP(MAX(101,K108),ceva_base_rate!A:H,8,FALSE),ROUND(VLOOKUP(1000,ceva_base_rate!$A$901:$H$901,8,FALSE)+VLOOKUP(\"1000+\",ceva_base_rate!$A$902:$H$902,8,FALSE)*(K108-1000),2))))","v":0},{"$f":"IF(O108=\"\",\"\",IF(O108=\"standard\",0,IF(K108<1000,VLOOKUP(MAX(101,K108),ceva_base_rate!A:H,8,FALSE),ROUND(VLOOKUP(1000,ceva_base_rate!$A$901:$H$901,8,FALSE)+VLOOKUP(\"1000+\",ceva_base_rate!$A$902:$H$902,8,FALSE)*(K108-1000),2))))","v":0},{"$f":"IF(OR(D108>=250,I108>=75),ceva_base_rate!$N$3,0)","v":30},{"$f":"IF(I108<96,0,IF(I108<120,ceva_base_rate!$N$4,IF(I108<192,ceva_base_rate!$N$5,IF(I108<240,ceva_base_rate!$N$6,ceva_base_rate!$N$7))))","v":0},{"$f":"IF(COUNTIF($H$2:H108,H108)=1,SUMIF(H:H,H108,Q:Q)+SUMIF(H:H,H108,R:R)+SUMIF(H:H,H108,S:S)+SUMIF(H:H,H108,T:T)+SUMIF(H:H,H108,U:U)+SUMIF(H:H,H108,V:V)+SUMIF(H:H,H108,W:W),\"\")","v":457.24}]
[791943,"91702","30281",260,89,55,14,"791943_91702_30281",89,274,{"$f":"IF(COUNTIF($H$2:H109,H109)=1,SUMIF(H:H,H109,J:J),\"\")","v":""},{"$f":"VLOOKUP(TEXT(B109,\"00000\"),remote_zone!A:B,2,FALSE)","v":"CA"},{"$f":"VLOOKUP(TEXT(C109,\"00000\"),remote_zone!A:B,2,FALSE)","v":"GA"},{"$f":"IF(K109=\"\",\"\",VLOOKUP(TEXT(B109,\"00000\"),remote_zone!$A:$D,4,FALSE))","v":""},{"$f":"IF(K109=\"\",\"\",VLOOKUP(TEXT(C109,\"00000\"),remote_zone!$A:$D,4,FALSE))","v":""},{"$f":"VLOOKUP(M109,ceva_zone!$A:$E,MATCH(Sheet1!L109,ceva_zone!$A$1:$E$1,0),FALSE)","v":"F"},{"$f":"IF(K109=\"\",\"\",IF(K109<1000,VLOOKUP(MAX(101,K109),ceva_base_rate!A:H,MATCH(Sheet1!P109,ceva_base_rate!$A$1:$H$1,0),FALSE),ROUND(VLOOKUP(1000,ceva_base_rate!$A$901:$H$901,MATCH(Sheet1!P109,ceva_base_rate!$A$1:$H$1,0),FALSE)+VLOOKUP(\"1000+\",ceva_base_rate!$A$902:$H$902,MATCH(Sheet1!P109,ceva_base_rate!$A$1:$H$1,0),FALSE)*(K109-1000),2)))","v":""},{"$f":"IF(K109=\"\",\"\",IF(OR(L109=\"CA\",M109=\"CA\"),ceva_base_rate!$N$1,0))","v":""},{"$f":"IF(K109=\"\",\"\",IF(OR(AND(VALUE(LEFT(C109,3))>=110,VALUE(LEFT(C109,3))<=114),AND(VALUE(LEFT(C109,3))>=100,VALUE(LEFT(C109,3))<=104),AND(VALUE(LEFT(B109,3))>=110,VALUE(LEFT(B109,3))<=114),AND(VALUE(LEFT(B109,3))>=100,VALUE(LEFT(B109,3))<=104)),ceva_base_rate!$N$2,0))","v":""},{"$f":"IF(N109=\"\",\"\",IF(N109=\"standard\",0,IF(K109<1000,VLOOKUP(MAX(101,K109),ceva_base_rate!A:H,8,FALSE),ROUND(VLOOKUP(1000,ceva_base_rate!$A$901:$H$901,8,FALSE)+VLOOKUP(\"1000+\",ceva_base_rate!$A$902:$H$902,8,FALSE)*(K109-1000),2))))","v":""},{"$f":"IF(O109=\"\",\"\",IF(O109=\"standard\",0,IF(K109<1000,VLOOKUP(MAX(101,K109),ceva_base_rate!A:H,8,FALSE),ROUND(VLOOKUP(1000,ceva_base_rate!$A$901:$H$901,8,FALSE)+VLOOKUP(\"1000+\",ceva_base_rate!$A$902:$H$902,8,FALSE)*(K109-1000),2))))","v":""},{"$f":"IF(OR(D109>=250,I109>=75),ceva_base_rate!$N$3,0)","v":30},{"$f":"IF(I109<96,0,IF(I109<120,ceva_base_rate!$N$4,IF(I109<192,ceva_base_rate!$N$5,IF(I109<240,ceva_base_rate!$N$6,ceva_base_rate!$N$7))))","v":0},{"$f":"IF(COUNTIF($H$2:H109,H109)=1,SUMIF(H:H,H109,Q:Q)+SUMIF(H:H,H109,R:R)+SUMIF(H:H,H109,S:S)+SUMIF(H:H,H109,T:T)+SUMIF(H:H,H109,U:U)+SUMIF(H:H,H109,V:V)+SUMIF(H:H,H109,W:W),\"\")","v":""}]
[702004070,"91702",85254,117,75,23,13,"702004070_91702_85254",75,117,{"$f":"IF(COUNTIF($H$2:H110,H110)=1,SUMIF(H:H,H110,J:J),\"\")","v":184},{"$f":"VLOOKUP(TEXT(B110,\"00000\"),remote_zone!A:B,2,FALSE)","v":"CA"},{"$f":"VLOOKUP(TEXT(C110,\"00000\"),remote_zone!A:B,2,FALSE)","v":"AZ"},{"$f":"IF(K110=\"\",\"\",VLOOKUP(TEXT(B110,\"00000\"),remote_zone!$A:$D,4,FALSE))","v":"standard"},{"$f":"IF(K110=\"\",\"\",VLOOKUP(TEXT(C110,\"00000\"),remote_zone!$A:$D,4,FALSE))","v":"standard"},{"$f":"VLOOKUP(M110,ceva_zone!$A:$E,MATCH(Sheet1!L110,ceva_zone!$A$1:$E$1,0),FALSE)","v":"C"},{"$f":"IF(K110=\"\",\"\",IF(K110<1000,VLOOKUP(MAX(101,K110),ceva_base_rate!A:H,MATCH(Sheet1!P110,ceva_base_rate!$A$1:$H$1,0),FALSE),ROUND(VLOOKUP(1000,ceva_base_rate!$A$901:$H$901,MATCH(Sheet1!P110,ceva_base_rate!$A$1:$H$1,0),FALSE)+VLOOKUP(\"1000+\",ceva_base_rate!$A$902:$H$902,MATCH(Sheet1!P110,ceva_base_rate!$A$1:$H$1,0),FALSE)*(K110-1000),2)))","v":148},{"$f":"IF(K110=\"\",\"\",IF(OR(L110=\"CA\",M110=\"CA\"),ceva_base_rate!$N$1,0))","v":18.24},{"$f":"IF(K110=\"\",\"\",IF(OR(AND(VALUE(LEFT(C110,3))>=110,VALUE(LEFT(C110,3))<=114),AND(VALUE(LEFT(C110,3))>=100,VALUE(LEFT(C110,3))<=104),AND(VALUE(LEFT(B110,3))>=110,VALUE(LEFT(B110,3))<=114),AND(VALUE(LEFT(B110,3))>=100,VALUE(LEFT(B110,3))<=104)),ceva_base_rate!$N$2,0))","v":0},{"$f":"IF(N110=\"\",\"\",IF(N110=\"standard\",0,IF(K110<1000,VLOOKUP(MAX(101,K110),ceva_base_rate!A:H,8,FALSE),ROUND(VLOOKUP(1000,ceva_base_rate!$A$901:$H$901,8,FALSE)+VLOOKUP(\"1000+\",ceva_base_rate!$A$902:$H$902,8,FALSE)*(K110-1000),2))))","v":0},{"$f":"IF(O110=\"\",\"\",IF(O110=\"standard\",0,IF(K110<1000,VLOOKUP(MAX(101,K110),ceva_base_rate!A:H,8,FALSE),ROUND(VLOOKUP(1000,ceva_base_rate!$A$901:$H$901,8,FALSE)+VLOOKUP(\"1000+\",ceva_base_rate!$A$902:$H$902,8,FALSE)*(K110-1000),2))))","v":0},{"$f":"IF(OR(D110>=250,I110>=75),ceva_base_rate!$N$3,0)","v":30},{"$f":"IF(I110<96,0,IF(I110<120,ceva_base_rate!$N$4,IF(I110<192,ceva_base_rate!$N$5,IF(I110<240,ceva_base_rate!$N$6,ceva_base_rate!$N$7))))","v":0},{"$f":"IF(COUNTIF($H$2:H110,H110)=1,SUMIF(H:H,H110,Q:Q)+SUMIF(H:H,H110,R:R)+SUMIF(H:H,H110,S:S)+SUMIF(H:H,H110,T:T)+SUMIF(H:H,H110,U:U)+SUMIF(H:H,H110,V:V)+SUMIF(H:H,H110,W:W),\"\")","v":196.24}]
[702004070,"91702",85254,67,74,23,6,"702004070_91702_85254",74,67,{"$f":"IF(COUNTIF($H$2:H111,H111)=1,SUMIF(H:H,H111,J:J),\"\")","v":""},{"$f":"VLOOKUP(TEXT(B111,\"00000\"),remote_zone!A:B,2,FALSE)","v":"CA"},{"$f":"VLOOKUP(TEXT(C111,\"00000\"),remote_zone!A:B,2,FALSE)","v":"AZ"},{"$f":"IF(K111=\"\",\"\",VLOOKUP(TEXT(B111,\"00000\"),remote_zone!$A:$D,4,FALSE))","v":""},{"$f":"IF(K111=\"\",\"\",VLOOKUP(TEXT(C111,\"00000\"),remote_zone!$A:$D,4,FALSE))","v":""},{"$f":"VLOOKUP(M111,ceva_zone!$A:$E,MATCH(Sheet1!L111,ceva_zone!$A$1:$E$1,0),FALSE)","v":"C"},{"$f":"IF(K111=\"\",\"\",IF(K111<1000,VLOOKUP(MAX(101,K111),ceva_base_rate!A:H,MATCH(Sheet1!P111,ceva_base_rate!$A$1:$H$1,0),FALSE),ROUND(VLOOKUP(1000,ceva_base_rate!$A$901:$H$901,MATCH(Sheet1!P111,ceva_base_rate!$A$1:$H$1,0),FALSE)+VLOOKUP(\"1000+\",ceva_base_rate!$A$902:$H$902,MATCH(Sheet1!P111,ceva_base_rate!$A$1:$H$1,0),FALSE)*(K111-1000),2)))","v":""},{"$f":"IF(K111=\"\",\"\",IF(OR(L111=\"CA\",M111=\"CA\"),ceva_base_rate!$N$1,0))","v":""},{"$f":"IF(K111=\"\",\"\",IF(OR(AND(VALUE(LEFT(C111,3))>=110,VALUE(LEFT(C111,3))<=114),AND(VALUE(LEFT(C111,3))>=100,VALUE(LEFT(C111,3))<=104),AND(VALUE(LEFT(B111,3))>=110,VALUE(LEFT(B111,3))<=114),AND(VALUE(LEFT(B111,3))>=100,VALUE(LEFT(B111,3))<=104)),ceva_base_rate!$N$2,0))","v":""},{"$f":"IF(N111=\"\",\"\",IF(N111=\"standard\",0,IF(K111<1000,VLOOKUP(MAX(101,K111),ceva_base_rate!A:H,8,FALSE),ROUND(VLOOKUP(1000,ceva_base_rate!$A$901:$H$901,8,FALSE)+VLOOKUP(\"1000+\",ceva_base_rate!$A$902:$H$902,8,FALSE)*(K111-1000),2))))","v":""},{"$f":"IF(O111=\"\",\"\",IF(O111=\"standard\",0,IF(K111<1000,VLOOKUP(MAX(101,K111),ceva_base_rate!A:H,8,FALSE),ROUND(VLOOKUP(1000,ceva_base_rate!$A$901:$H$901,8,FALSE)+VLOOKUP(\"1000+\",ceva_base_rate!$A$902:$H$902,8,FALSE)*(K111-1000),2))))","v":""},{"$f":"IF(OR(D111>=250,I111>=75),ceva_base_rate!$N$3,0)","v":0},{"$f":"IF(I111<96,0,IF(I111<120,ceva_base_rate!$N$4,IF(I111<192,ceva_base_rate!$N$5,IF(I111<240,ceva_base_rate!$N$6,ceva_base_rate!$N$7))))","v":0},{"$f":"IF(COUNTIF($H$2:H111,H111)=1,SUMIF(H:H,H111,Q:Q)+SUMIF(H:H,H111,R:R)+SUMIF(H:H,H111,S:S)+SUMIF(H:H,H111,T:T)+SUMIF(H:H,H111,U:U)+SUMIF(H:H,H111,V:V)+SUMIF(H:H,H111,W:W),\"\")","v":""}]
[702004470,"91702",64111,15,21,17,12,"702004470_91702_64111",21,17,{"$f":"IF(COUNTIF($H$2:H112,H112)=1,SUMIF(H:H,H112,J:J),\"\")","v":93},{"$f":"VLOOKUP(TEXT(B112,\"00000\"),remote_zone!A:B,2,FALSE)","v":"CA"},{"$f":"VLOOKUP(TEXT(C112,\"00000\"),remote_zone!A:B,2,FALSE)","v":"MO"},{"$f":"IF(K112=\"\",\"\",VLOOKUP(TEXT(B112,\"00000\"),remote_zone!$A:$D,4,FALSE))","v":"standard"},{"$f":"IF(K112=\"\",\"\",VLOOKUP(TEXT(C112,\"00000\"),remote_zone!$A:$D,4,FALSE))","v":"standard"},{"$f":"VLOOKUP(M112,ceva_zone!$A:$E,MATCH(Sheet1!L112,ceva_zone!$A$1:$E$1,0),FALSE)","v":"E"},{"$f":"IF(K112=\"\",\"\",IF(K112<1000,VLOOKUP(MAX(101,K112),ceva_base_rate!A:H,MATCH(Sheet1!P112,ceva_base_rate!$A$1:$H$1,0),FALSE),ROUND(VLOOKUP(1000,ceva_base_rate!$A$901:$H$901,MATCH(Sheet1!P112,ceva_base_rate!$A$1:$H$1,0),FALSE)+VLOOKUP(\"1000+\",ceva_base_rate!$A$902:$H$902,MATCH(Sheet1!P112,ceva_base_rate!$A$1:$H$1,0),FALSE)*(K112-1000),2)))","v":156},{"$f":"IF(K112=\"\",\"\",IF(OR(L112=\"CA\",M112=\"CA\"),ceva_base_rate!$N$1,0))","v":18.24},{"$f":"IF(K112=\"\",\"\",IF(OR(AND(VALUE(LEFT(C112,3))>=110,VALUE(LEFT(C112,3))<=114),AND(VALUE(LEFT(C112,3))>=100,VALUE(LEFT(C112,3))<=104),AND(VALUE(LEFT(B112,3))>=110,VALUE(LEFT(B112,3))<=114),AND(VALUE(LEFT(B112,3))>=100,VALUE(LEFT(B112,3))<=104)),ceva_base_rate!$N$2,0))","v":0},{"$f":"IF(N112=\"\",\"\",IF(N112=\"standard\",0,IF(K112<1000,VLOOKUP(MAX(101,K112),ceva_base_rate!A:H,8,FALSE),ROUND(VLOOKUP(1000,ceva_base_rate!$A$901:$H$901,8,FALSE)+VLOOKUP(\"1000+\",ceva_base_rate!$A$902:$H$902,8,FALSE)*(K112-1000),2))))","v":0},{"$f":"IF(O112=\"\",\"\",IF(O112=\"standard\",0,IF(K112<1000,VLOOKUP(MAX(101,K112),ceva_base_rate!A:H,8,FALSE),ROUND(VLOOKUP(1000,ceva_base_rate!$A$901:$H$901,8,FALSE)+VLOOKUP(\"1000+\",ceva_base_rate!$A$902:$H$902,8,FALSE)*(K112-1000),2))))","v":0},{"$f":"IF(OR(D112>=250,I112>=75),ceva_base_rate!$N$3,0)","v":0},{"$f":"IF(I112<96,0,IF(I112<120,ceva_base_rate!$N$4,IF(I112<192,ceva_base_rate!$N$5,IF(I112<240,ceva_base_rate!$N$6,ceva_base_rate!$N$7))))","v":0},{"$f":"IF(COUNTIF($H$2:H112,H112)=1,SUMIF(H:H,H112,Q:Q)+SUMIF(H:H,H112,R:R)+SUMIF(H:H,H112,S:S)+SUMIF(H:H,H112,T:T)+SUMIF(H:H,H112,U:U)+SUMIF(H:H,H112,V:V)+SUMIF(H:H,H112,W:W),\"\")","v":174.24}]
[702004470,"91702",64111,72,62,34,9,"702004470_91702_64111",62,76,{"$f":"IF(COUNTIF($H$2:H113,H113)=1,SUMIF(H:H,H113,J:J),\"\")","v":""},{"$f":"VLOOKUP(TEXT(B113,\"00000\"),remote_zone!A:B,2,FALSE)","v":"CA"},{"$f":"VLOOKUP(TEXT(C113,\"00000\"),remote_zone!A:B,2,FALSE)","v":"MO"},{"$f":"IF(K113=\"\",\"\",VLOOKUP(TEXT(B113,\"00000\"),remote_zone!$A:$D,4,FALSE))","v":""},{"$f":"IF(K113=\"\",\"\",VLOOKUP(TEXT(C113,\"00000\"),remote_zone!$A:$D,4,FALSE))","v":""},{"$f":"VLOOKUP(M113,ceva_zone!$A:$E,MATCH(Sheet1!L113,ceva_zone!$A$1:$E$1,0),FALSE)","v":"E"},{"$f":"IF(K113=\"\",\"\",IF(K113<1000,VLOOKUP(MAX(101,K113),ceva_base_rate!A:H,MATCH(Sheet1!P113,ceva_base_rate!$A$1:$H$1,0),FALSE),ROUND(VLOOKUP(1000,ceva_base_rate!$A$901:$H$901,MATCH(Sheet1!P113,ceva_base_rate!$A$1:$H$1,0),FALSE)+VLOOKUP(\"1000+\",ceva_base_rate!$A$902:$H$902,MATCH(Sheet1!P113,ceva_base_rate!$A$1:$H$1,0),FALSE)*(K113-1000),2)))","v":""},{"$f":"IF(K113=\"\",\"\",IF(OR(L113=\"CA\",M113=\"CA\"),ceva_base_rate!$N$1,0))","v":""},{"$f":"IF(K113=\"\",\"\",IF(OR(AND(VALUE(LEFT(C113,3))>=110,VALUE(LEFT(C113,3))<=114),AND(VALUE(LEFT(C113,3))>=100,VALUE(LEFT(C113,3))<=104),AND(VALUE(LEFT(B113,3))>=110,VALUE(LEFT(B113,3))<=114),AND(VALUE(LEFT(B113,3))>=100,VALUE(LEFT(B113,3))<=104)),ceva_base_rate!$N$2,0))","v":""},{"$f":"IF(N113=\"\",\"\",IF(N113=\"standard\",0,IF(K113<1000,VLOOKUP(MAX(101,K113),ceva_base_rate!A:H,8,FALSE),ROUND(VLOOKUP(1000,ceva_base_rate!$A$901:$H$901,8,FALSE)+VLOOKUP(\"1000+\",ceva_base_rate!$A$902:$H$902,8,FALSE)*(K113-1000),2))))","v":""},{"$f":"IF(O113=\"\",\"\",IF(O113=\"standard\",0,IF(K113<1000,VLOOKUP(MAX(101,K113),ceva_base_rate!A:H,8,FALSE),ROUND(VLOOKUP(1000,ceva_base_rate!$A$901:$H$901,8,FALSE)+VLOOKUP(\"1000+\",ceva_base_rate!$A$902:$H$902,8,FALSE)*(K113-1000),2))))","v":""},{"$f":"IF(OR(D113>=250,I113>=75),ceva_base_rate!$N$3,0)","v":0},{"$f":"IF(I113<96,0,IF(I113<120,ceva_base_rate!$N$4,IF(I113<192,ceva_base_rate!$N$5,IF(I113<240,ceva_base_rate!$N$6,ceva_base_rate!$N$7))))","v":0},{"$f":"IF(COUNTIF($H$2:H113,H113)=1,SUMIF(H:H,H113,Q:Q)+SUMIF(H:H,H113,R:R)+SUMIF(H:H,H113,S:S)+SUMIF(H:H,H113,T:T)+SUMIF(H:H,H113,U:U)+SUMIF(H:H,H113,V:V)+SUMIF(H:H,H113,W:W),\"\")","v":""}]

{"sheet":"remote_zone","index":1,"n_rows":41094,"n_cols":6,"rows_kept":4500,"cut":true,"bounds":{"rows_first":2000,"rows_last":500,"rows_between":2000,"halvings":0}}
["PostalCode","State","BeyondZone","remote_type","CA作为起点分区","NJ作为起点分区"]
["01001","MA","B","standard",{"$f":"VLOOKUP(B2,ceva_zone!A:B,2,FALSE)","v":"F"},{"$f":"VLOOKUP(B2,ceva_zone!A:C,3,FALSE)","v":"B"}]
["01002","MA","D","standard",{"$f":"VLOOKUP(B3,ceva_zone!A:B,2,FALSE)","v":"F"},{"$f":"VLOOKUP(B3,ceva_zone!A:C,3,FALSE)","v":"B"}]
["01003","MA","D","standard",{"$f":"VLOOKUP(B4,ceva_zone!A:B,2,FALSE)","v":"F"},{"$f":"VLOOKUP(B4,ceva_zone!A:C,3,FALSE)","v":"B"}]
["01004","MA","D","standard",{"$f":"VLOOKUP(B5,ceva_zone!A:B,2,FALSE)","v":"F"},{"$f":"VLOOKUP(B5,ceva_zone!A:C,3,FALSE)","v":"B"}]
["01059","MA","D","standard",{"$f":"VLOOKUP(B6,ceva_zone!A:B,2,FALSE)","v":"F"},{"$f":"VLOOKUP(B6,ceva_zone!A:C,3,FALSE)","v":"B"}]
["01005","MA","F","remote",{"$f":"VLOOKUP(B7,ceva_zone!A:B,2,FALSE)","v":"F"},{"$f":"VLOOKUP(B7,ceva_zone!A:C,3,FALSE)","v":"B"}]
["01060","MA","D","standard",{"$f":"VLOOKUP(B8,ceva_zone!A:B,2,FALSE)","v":"F"},{"$f":"VLOOKUP(B8,ceva_zone!A:C,3,FALSE)","v":"B"}]
["01011","MA","D","standard",{"$f":"VLOOKUP(B9,ceva_zone!A:B,2,FALSE)","v":"F"},{"$f":"VLOOKUP(B9,ceva_zone!A:C,3,FALSE)","v":"B"}]
["01007","MA","D","standard",{"$f":"VLOOKUP(B10,ceva_zone!A:B,2,FALSE)","v":"F"},{"$f":"VLOOKUP(B10,ceva_zone!A:C,3,FALSE)","v":"B"}]
["01029","MA","D","standard",{"$f":"VLOOKUP(B11,ceva_zone!A:B,2,FALSE)","v":"F"},{"$f":"VLOOKUP(B11,ceva_zone!A:C,3,FALSE)","v":"B"}]
["01008","MA","C","standard",{"$f":"VLOOKUP(B12,ceva_zone!A:B,2,FALSE)","v":"F"},{"$f":"VLOOKUP(B12,ceva_zone!A:C,3,FALSE)","v":"B"}]
["01009","MA","D","standard",{"$f":"VLOOKUP(B13,ceva_zone!A:B,2,FALSE)","v":"F"},{"$f":"VLOOKUP(B13,ceva_zone!A:C,3,FALSE)","v":"B"}]
["01010","MA","D","standard",{"$f":"VLOOKUP(B14,ceva_zone!A:B,2,FALSE)","v":"F"},{"$f":"VLOOKUP(B14,ceva_zone!A:C,3,FALSE)","v":"B"}]
["01014","MA","C","standard",{"$f":"VLOOKUP(B15,ceva_zone!A:B,2,FALSE)","v":"F"},{"$f":"VLOOKUP(B15,ceva_zone!A:C,3,FALSE)","v":"B"}]
["01012","MA","E","remote",{"$f":"VLOOKUP(B16,ceva_zone!A:B,2,FALSE)","v":"F"},{"$f":"VLOOKUP(B16,ceva_zone!A:C,3,FALSE)","v":"B"}]
["01021","MA","C","standard",{"$f":"VLOOKUP(B17,ceva_zone!A:B,2,FALSE)","v":"F"},{"$f":"VLOOKUP(B17,ceva_zone!A:C,3,FALSE)","v":"B"}]
["01020","MA","C","standard",{"$f":"VLOOKUP(B18,ceva_zone!A:B,2,FALSE)","v":"F"},{"$f":"VLOOKUP(B18,ceva_zone!A:C,3,FALSE)","v":"B"}]
["01013","MA","C","standard",{"$f":"VLOOKUP(B19,ceva_zone!A:B,2,FALSE)","v":"F"},{"$f":"VLOOKUP(B19,ceva_zone!A:C,3,FALSE)","v":"B"}]
["01022","MA","C","standard",{"$f":"VLOOKUP(B20,ceva_zone!A:B,2,FALSE)","v":"F"},{"$f":"VLOOKUP(B20,ceva_zone!A:C,3,FALSE)","v":"B"}]
["01050","MA","C","standard",{"$f":"VLOOKUP(B21,ceva_zone!A:B,2,FALSE)","v":"F"},{"$f":"VLOOKUP(B21,ceva_zone!A:C,3,FALSE)","v":"B"}]
["01026","MA","F","remote",{"$f":"VLOOKUP(B22,ceva_zone!A:B,2,FALSE)","v":"F"},{"$f":"VLOOKUP(B22,ceva_zone!A:C,3,FALSE)","v":"B"}]
["01028","MA","C","standard",{"$f":"VLOOKUP(B23,ceva_zone!A:B,2,FALSE)","v":"F"},{"$f":"VLOOKUP(B23,ceva_zone!A:C,3,FALSE)","v":"B"}]
["01054","MA","E","remote",{"$f":"VLOOKUP(B24,ceva_zone!A:B,2,FALSE)","v":"F"},{"$f":"VLOOKUP(B24,ceva_zone!A:C,3,FALSE)","v":"B"}]
["01027","MA","C","standard",{"$f":"VLOOKUP(B25,ceva_zone!A:B,2,FALSE)","v":"F"},{"$f":"VLOOKUP(B25,ceva_zone!A:C,3,FALSE)","v":"B"}]
["01030","MA","A","standard",{"$f":"VLOOKUP(B26,ceva_zone!A:B,2,FALSE)","v":"F"},{"$f":"VLOOKUP(B26,ceva_zone!A:C,3,FALSE)","v":"B"}]
["01062","MA","D","standard",{"$f":"VLOOKUP(B27,ceva_zone!A:B,2,FALSE)","v":"F"},{"$f":"VLOOKUP(B27,ceva_zone!A:C,3,FALSE)","v":"B"}]
["01031","MA","E","remote",{"$f":"VLOOKUP(B28,ceva_zone!A:B,2,FALSE)","v":"F"},{"$f":"VLOOKUP(B28,ceva_zone!A:C,3,FALSE)","v":"B"}]
["01032","MA","E","remote",{"$f":"VLOOKUP(B29,ceva_zone!A:B,2,FALSE)","v":"F"},{"$f":"VLOOKUP(B29,ceva_zone!A:C,3,FALSE)","v":"B"}]
["01033","MA","D","standard",{"$f":"VLOOKUP(B30,ceva_zone!A:B,2,FALSE)","v":"F"},{"$f":"VLOOKUP(B30,ceva_zone!A:C,3,FALSE)","v":"B"}]
["01034","MA","B","standard",{"$f":"VLOOKUP(B31,ceva_zone!A:B,2,FALSE)","v":"F"},{"$f":"VLOOKUP(B31,ceva_zone!A:C,3,FALSE)","v":"B"}]
["01035","MA","D","standard",{"$f":"VLOOKUP(B32,ceva_zone!A:B,2,FALSE)","v":"F"},{"$f":"VLOOKUP(B32,ceva_zone!A:C,3,FALSE)","v":"B"}]
["01036","MA","C","standard",{"$f":"VLOOKUP(B33,ceva_zone!A:B,2,FALSE)","v":"F"},{"$f":"VLOOKUP(B33,ceva_zone!A:C,3,FALSE)","v":"B"}]
["01037","MA","E","remote",{"$f":"VLOOKUP(B34,ceva_zone!A:B,2,FALSE)","v":"F"},{"$f":"VLOOKUP(B34,ceva_zone!A:C,3,FALSE)","v":"B"}]
["01038","MA","D","standard",{"$f":"VLOOKUP(B35,ceva_zone!A:B,2,FALSE)","v":"F"},{"$f":"VLOOKUP(B35,ceva_zone!A:C,3,FALSE)","v":"B"}]
["01039","MA","D","standard",{"$f":"VLOOKUP(B36,ceva_zone!A:B,2,FALSE)","v":"F"},{"$f":"VLOOKUP(B36,ceva_zone!A:C,3,FALSE)","v":"B"}]
["01040","MA","C","standard",{"$f":"VLOOKUP(B37,ceva_zone!A:B,2,FALSE)","v":"F"},{"$f":"VLOOKUP(B37,ceva_zone!A:C,3,FALSE)","v":"B"}]
["01041","MA","C","standard",{"$f":"VLOOKUP(B38,ceva_zone!A:B,2,FALSE)","v":"F"},{"$f":"VLOOKUP(B38,ceva_zone!A:C,3,FALSE)","v":"B"}]
["01053","MA","D","standard",{"$f":"VLOOKUP(B39,ceva_zone!A:B,2,FALSE)","v":"F"},{"$f":"VLOOKUP(B39,ceva_zone!A:C,3,FALSE)","v":"B"}]
["01056","MA","C","standard",{"$f":"VLOOKUP(B40,ceva_zone!A:B,2,FALSE)","v":"F"},{"$f":"VLOOKUP(B40,ceva_zone!A:C,3,FALSE)","v":"B"}]
["01057","MA","D","standard",{"$f":"VLOOKUP(B41,ceva_zone!A:B,2,FALSE)","v":"F"},{"$f":"VLOOKUP(B41,ceva_zone!A:C,3,FALSE)","v":"B"}]
["01066","MA","D","standard",{"$f":"VLOOKUP(B42,ceva_zone!A:B,2,FALSE)","v":"F"},{"$f":"VLOOKUP(B42,ceva_zone!A:C,3,FALSE)","v":"B"}]
["01061","MA","D","standard",{"$f":"VLOOKUP(B43,ceva_zone!A:B,2,FALSE)","v":"F"},{"$f":"VLOOKUP(B43,ceva_zone!A:C,3,FALSE)","v":"B"}]
["01063","MA","D","standard",{"$f":"VLOOKUP(B44,ceva_zone!A:B,2,FALSE)","v":"F"},{"$f":"VLOOKUP(B44,ceva_zone!A:C,3,FALSE)","v":"B"}]
["01068","MA","F","remote",{"$f":"VLOOKUP(B45,ceva_zone!A:B,2,FALSE)","v":"F"},{"$f":"VLOOKUP(B45,ceva_zone!A:C,3,FALSE)","v":"B"}]
["01069","MA","D","standard",{"$f":"VLOOKUP(B46,ceva_zone!A:B,2,FALSE)","v":"F"},{"$f":"VLOOKUP(B46,ceva_zone!A:C,3,FALSE)","v":"B"}]
["01070","MA","F","remote",{"$f":"VLOOKUP(B47,ceva_zone!A:B,2,FALSE)","v":"F"},{"$f":"VLOOKUP(B47,ceva_zone!A:C,3,FALSE)","v":"B"}]
["01071","MA","C","standard",{"$f":"VLOOKUP(B48,ceva_zone!A:B,2,FALSE)","v":"F"},{"$f":"VLOOKUP(B48,ceva_zone!A:C,3,FALSE)","v":"B"}]
["01075","MA","C","standard",{"$f":"VLOOKUP(B49,ceva_zone!A:B,2,FALSE)","v":"F"},{"$f":"VLOOKUP(B49,ceva_zone!A:C,3,FALSE)","v":"B"}]
["01072","MA","E","remote",{"$f":"VLOOKUP(B50,ceva_zone!A:B,2,FALSE)","v":"F"},{"$f":"VLOOKUP(B50,ceva_zone!A:C,3,FALSE)","v":"B"}]
["01074","MA","F","remote",{"$f":"VLOOKUP(B51,ceva_zone!A:B,2,FALSE)","v":"F"},{"$f":"VLOOKUP(B51,ceva_zone!A:C,3,FALSE)","v":"B"}]
["01073","MA","C","standard",{"$f":"VLOOKUP(B52,ceva_zone!A:B,2,FALSE)","v":"F"},{"$f":"VLOOKUP(B52,ceva_zone!A:C,3,FALSE)","v":"B"}]
["01077","MA","B","standard",{"$f":"VLOOKUP(B53,ceva_zone!A:B,2,FALSE)","v":"F"},{"$f":"VLOOKUP(B53,ceva_zone!A:C,3,FALSE)","v":"B"}]
["01079","MA","D","standard",{"$f":"VLOOKUP(B54,ceva_zone!A:B,2,FALSE)","v":"F"},{"$f":"VLOOKUP(B54,ceva_zone!A:C,3,FALSE)","v":"B"}]
["01080","MA","D","standard",{"$f":"VLOOKUP(B55,ceva_zone!A:B,2,FALSE)","v":"F"},{"$f":"VLOOKUP(B55,ceva_zone!A:C,3,FALSE)","v":"B"}]
["01084","MA","E","remote",{"$f":"VLOOKUP(B56,ceva_zone!A:B,2,FALSE)","v":"F"},{"$f":"VLOOKUP(B56,ceva_zone!A:C,3,FALSE)","v":"B"}]
["01088","MA","D","standard",{"$f":"VLOOKUP(B57,ceva_zone!A:B,2,FALSE)","v":"F"},{"$f":"VLOOKUP(B57,ceva_zone!A:C,3,FALSE)","v":"B"}]
["01089","MA","B","standard",{"$f":"VLOOKUP(B58,ceva_zone!A:B,2,FALSE)","v":"F"},{"$f":"VLOOKUP(B58,ceva_zone!A:C,3,FALSE)","v":"B"}]
["01081","MA","D","standard",{"$f":"VLOOKUP(B59,ceva_zone!A:B,2,FALSE)","v":"F"},{"$f":"VLOOKUP(B59,ceva_zone!A:C,3,FALSE)","v":"B"}]
["01082","MA","D","standard",{"$f":"VLOOKUP(B60,ceva_zone!A:B,2,FALSE)","v":"F"},{"$f":"VLOOKUP(B60,ceva_zone!A:C,3,FALSE)","v":"B"}]
["01092","MA","D","standard",{"$f":"VLOOKUP(B61,ceva_zone!A:B,2,FALSE)","v":"F"},{"$f":"VLOOKUP(B61,ceva_zone!A:C,3,FALSE)","v":"B"}]
["01083","MA","E","remote",{"$f":"VLOOKUP(B62,ceva_zone!A:B,2,FALSE)","v":"F"},{"$f":"VLOOKUP(B62,ceva_zone!A:C,3,FALSE)","v":"B"}]
["01090","MA","C","standard",{"$f":"VLOOKUP(B63,ceva_zone!A:B,2,FALSE)","v":"F"},{"$f":"VLOOKUP(B63,ceva_zone!A:C,3,FALSE)","v":"B"}]
["01085","MA","B","standard",{"$f":"VLOOKUP(B64,ceva_zone!A:B,2,FALSE)","v":"F"},{"$f":"VLOOKUP(B64,ceva_zone!A:C,3,FALSE)","v":"B"}]
["01086","MA","B","standard",{"$f":"VLOOKUP(B65,ceva_zone!A:B,2,FALSE)","v":"F"},{"$f":"VLOOKUP(B65,ceva_zone!A:C,3,FALSE)","v":"B"}]
["01093","MA","D","standard",{"$f":"VLOOKUP(B66,ceva_zone!A:B,2,FALSE)","v":"F"},{"$f":"VLOOKUP(B66,ceva_zone!A:C,3,FALSE)","v":"B"}]
["01094","MA","E","remote",{"$f":"VLOOKUP(B67,ceva_zone!A:B,2,FALSE)","v":"F"},{"$f":"VLOOKUP(B67,ceva_zone!A:C,3,FALSE)","v":"B"}]
["01095","MA","D","standard",{"$f":"VLOOKUP(B68,ceva_zone!A:B,2,FALSE)","v":"F"},{"$f":"VLOOKUP(B68,ceva_zone!A:C,3,FALSE)","v":"B"}]
["01096","MA","D","standard",{"$f":"VLOOKUP(B69,ceva_zone!A:B,2,FALSE)","v":"F"},{"$f":"VLOOKUP(B69,ceva_zone!A:C,3,FALSE)","v":"B"}]
["01097","MA","C","standard",{"$f":"VLOOKUP(B70,ceva_zone!A:B,2,FALSE)","v":"F"},{"$f":"VLOOKUP(B70,ceva_zone!A:C,3,FALSE)","v":"B"}]
["01098","MA","D","standard",{"$f":"VLOOKUP(B71,ceva_zone!A:B,2,FALSE)","v":"F"},{"$f":"VLOOKUP(B71,ceva_zone!A:C,3,FALSE)","v":"B"}]
["01116","MA","C","standard",{"$f":"VLOOKUP(B72,ceva_zone!A:B,2,FALSE)","v":"F"},{"$f":"VLOOKUP(B72,ceva_zone!A:C,3,FALSE)","v":"B"}]
["01107","MA","C","standard",{"$f":"VLOOKUP(B73,ceva_zone!A:B,2,FALSE)","v":"F"},{"$f":"VLOOKUP(B73,ceva_zone!A:C,3,FALSE)","v":"B"}]
["01129","MA","C","standard",{"$f":"VLOOKUP(B74,ceva_zone!A:B,2,FALSE)","v":"F"},{"$f":"VLOOKUP(B74,ceva_zone!A:C,3,FALSE)","v":"B"}]
["01119","MA","C","standard",{"$f":"VLOOKUP(B75,ceva_zone!A:B,2,FALSE)","v":"F"},{"$f":"VLOOKUP(B75,ceva_zone!A:C,3,FALSE)","v":"B"}]
["01109","MA","B","standard",{"$f":"VLOOKUP(B76,ceva_zone!A:B,2,FALSE)","v":"F"},{"$f":"VLOOKUP(B76,ceva_zone!A:C,3,FALSE)","v":"B"}]
["01151","MA","C","standard",{"$f":"VLOOKUP(B77,ceva_zone!A:B,2,FALSE)","v":"F"},{"$f":"VLOOKUP(B77,ceva_zone!A:C,3,FALSE)","v":"B"}]
["01106","MA","B","standard",{"$f":"VLOOKUP(B78,ceva_zone!A:B,2,FALSE)","v":"F"},{"$f":"VLOOKUP(B78,ceva_zone!A:C,3,FALSE)","v":"B"}]
["01102","MA","C","standard",{"$f":"VLOOKUP(B79,ceva_zone!A:B,2,FALSE)","v":"F"},{"$f":"VLOOKUP(B79,ceva_zone!A:C,3,FALSE)","v":"B"}]
["01115","MA","C","standard",{"$f":"VLOOKUP(B80,ceva_zone!A:B,2,FALSE)","v":"F"},{"$f":"VLOOKUP(B80,ceva_zone!A:C,3,FALSE)","v":"B"}]
["01114","MA","C","standard",{"$f":"VLOOKUP(B81,ceva_zone!A:B,2,FALSE)","v":"F"},{"$f":"VLOOKUP(B81,ceva_zone!A:C,3,FALSE)","v":"B"}]
["01108","MA","B","standard",{"$f":"VLOOKUP(B82,ceva_zone!A:B,2,FALSE)","v":"F"},{"$f":"VLOOKUP(B82,ceva_zone!A:C,3,FALSE)","v":"B"}]
["01199","MA","B","standard",{"$f":"VLOOKUP(B83,ceva_zone!A:B,2,FALSE)","v":"F"},{"$f":"VLOOKUP(B83,ceva_zone!A:C,3,FALSE)","v":"B"}]
["01105","MA","B","standard",{"$f":"VLOOKUP(B84,ceva_zone!A:B,2,FALSE)","v":"F"},{"$f":"VLOOKUP(B84,ceva_zone!A:C,3,FALSE)","v":"B"}]
["01118","MA","B","standard",{"$f":"VLOOKUP(B85,ceva_zone!A:B,2,FALSE)","v":"F"},{"$f":"VLOOKUP(B85,ceva_zone!A:C,3,FALSE)","v":"B"}]
["01104","MA","C","standard",{"$f":"VLOOKUP(B86,ceva_zone!A:B,2,FALSE)","v":"F"},{"$f":"VLOOKUP(B86,ceva_zone!A:C,3,FALSE)","v":"B"}]
["01128","MA","C","standard",{"$f":"VLOOKUP(B87,ceva_zone!A:B,2,FALSE)","v":"F"},{"$f":"VLOOKUP(B87,ceva_zone!A:C,3,FALSE)","v":"B"}]
["01103","MA","B","standard",{"$f":"VLOOKUP(B88,ceva_zone!A:B,2,FALSE)","v":"F"},{"$f":"VLOOKUP(B88,ceva_zone!A:C,3,FALSE)","v":"B"}]
["01133","MA","C","standard",{"$f":"VLOOKUP(B89,ceva_zone!A:B,2,FALSE)","v":"F"},{"$f":"VLOOKUP(B89,ceva_zone!A:C,3,FALSE)","v":"B"}]
["01138","MA","B","standard",{"$f":"VLOOKUP(B90,ceva_zone!A:B,2,FALSE)","v":"F"},{"$f":"VLOOKUP(B90,ceva_zone!A:C,3,FALSE)","v":"B"}]
["01139","MA","C","standard",{"$f":"VLOOKUP(B91,ceva_zone!A:B,2,FALSE)","v":"F"},{"$f":"VLOOKUP(B91,ceva_zone!A:C,3,FALSE)","v":"B"}]
["01144","MA","B","standard",{"$f":"VLOOKUP(B92,ceva_zone!A:B,2,FALSE)","v":"F"},{"$f":"VLOOKUP(B92,ceva_zone!A:C,3,FALSE)","v":"B"}]
["01101","MA","C","standard",{"$f":"VLOOKUP(B93,ceva_zone!A:B,2,FALSE)","v":"F"},{"$f":"VLOOKUP(B93,ceva_zone!A:C,3,FALSE)","v":"B"}]
["01152","MA","C","standard",{"$f":"VLOOKUP(B94,ceva_zone!A:B,2,FALSE)","v":"F"},{"$f":"VLOOKUP(B94,ceva_zone!A:C,3,FALSE)","v":"B"}]
["01111","MA","B","standard",{"$f":"VLOOKUP(B95,ceva_zone!A:B,2,FALSE)","v":"F"},{"$f":"VLOOKUP(B95,ceva_zone!A:C,3,FALSE)","v":"B"}]
["01220","MA","Y","remote",{"$f":"VLOOKUP(B96,ceva_zone!A:B,2,FALSE)","v":"F"},{"$f":"VLOOKUP(B96,ceva_zone!A:C,3,FALSE)","v":"B"}]
["01230","MA","Y","remote",{"$f":"VLOOKUP(B97,ceva_zone!A:B,2,FALSE)","v":"F"},{"$f":"VLOOKUP(B97,ceva_zone!A:C,3,FALSE)","v":"B"}]
["01266","MA","D","standard",{"$f":"VLOOKUP(B98,ceva_zone!A:B,2,FALSE)","v":"F"},{"$f":"VLOOKUP(B98,ceva_zone!A:C,3,FALSE)","v":"B"}]
["01201","MA","D","standard",{"$f":"VLOOKUP(B99,ceva_zone!A:B,2,FALSE)","v":"F"},{"$f":"VLOOKUP(B99,ceva_zone!A:C,3,FALSE)","v":"B"}]
["01222","MA","Y","remote",{"$f":"VLOOKUP(B100,ceva_zone!A:B,2,FALSE)","v":"F"},{"$f":"VLOOKUP(B100,ceva_zone!A:C,3,FALSE)","v":"B"}]
["01262","MA","D","standard",{"$f":"VLOOKUP(B101,ceva_zone!A:B,2,FALSE)","v":"F"},{"$f":"VLOOKUP(B101,ceva_zone!A:C,3,FALSE)","v":"B"}]
["01223","MA","Y","remote",{"$f":"VLOOKUP(B102,ceva_zone!A:B,2,FALSE)","v":"F"},{"$f":"VLOOKUP(B102,ceva_zone!A:C,3,FALSE)","v":"B"}]
["01224","MA","D","standard",{"$f":"VLOOKUP(B103,ceva_zone!A:B,2,FALSE)","v":"F"},{"$f":"VLOOKUP(B103,ceva_zone!A:C,3,FALSE)","v":"B"}]
["01225","MA","Y","remote",{"$f":"VLOOKUP(B104,ceva_zone!A:B,2,FALSE)","v":"F"},{"$f":"VLOOKUP(B104,ceva_zone!A:C,3,FALSE)","v":"B"}]
["01247","MA","Y","remote",{"$f":"VLOOKUP(B105,ceva_zone!A:B,2,FALSE)","v":"F"},{"$f":"VLOOKUP(B105,ceva_zone!A:C,3,FALSE)","v":"B"}]
["01253","MA","Y","remote",{"$f":"VLOOKUP(B106,ceva_zone!A:B,2,FALSE)","v":"F"},{"$f":"VLOOKUP(B106,ceva_zone!A:C,3,FALSE)","v":"B"}]
["01227","MA","Y","remote",{"$f":"VLOOKUP(B107,ceva_zone!A:B,2,FALSE)","v":"F"},{"$f":"VLOOKUP(B107,ceva_zone!A:C,3,FALSE)","v":"B"}]
["01226","MA","Y","remote",{"$f":"VLOOKUP(B108,ceva_zone!A:B,2,FALSE)","v":"F"},{"$f":"VLOOKUP(B108,ceva_zone!A:C,3,FALSE)","v":"B"}]
["01238","MA","Y","remote",{"$f":"VLOOKUP(B109,ceva_zone!A:B,2,FALSE)","v":"F"},{"$f":"VLOOKUP(B109,ceva_zone!A:C,3,FALSE)","v":"B"}]
["01270","MA","Y","remote",{"$f":"VLOOKUP(B110,ceva_zone!A:B,2,FALSE)","v":"F"},{"$f":"VLOOKUP(B110,ceva_zone!A:C,3,FALSE)","v":"B"}]
["01229","MA","D","standard",{"$f":"VLOOKUP(B111,ceva_zone!A:B,2,FALSE)","v":"F"},{"$f":"VLOOKUP(B111,ceva_zone!A:C,3,FALSE)","v":"B"}]
["01237","MA","Y","remote",{"$f":"VLOOKUP(B112,ceva_zone!A:B,2,FALSE)","v":"F"},{"$f":"VLOOKUP(B112,ceva_zone!A:C,3,FALSE)","v":"B"}]
["01235","MA","Y","remote",{"$f":"VLOOKUP(B113,ceva_zone!A:B,2,FALSE)","v":"F"},{"$f":"VLOOKUP(B113,ceva_zone!A:C,3,FALSE)","v":"B"}]
["01236","MA","Y","remote",{"$f":"VLOOKUP(B114,ceva_zone!A:B,2,FALSE)","v":"F"},{"$f":"VLOOKUP(B114,ceva_zone!A:C,3,FALSE)","v":"B"}]
["01244","MA","Y","remote",{"$f":"VLOOKUP(B115,ceva_zone!A:B,2,FALSE)","v":"F"},{"$f":"VLOOKUP(B115,ceva_zone!A:C,3,FALSE)","v":"B"}]
["01264","MA","Y","remote",{"$f":"VLOOKUP(B116,ceva_zone!A:B,2,FALSE)","v":"F"},{"$f":"VLOOKUP(B116,ceva_zone!A:C,3,FALSE)","v":"B"}]
["01240","MA","Y","remote",{"$f":"VLOOKUP(B117,ceva_zone!A:B,2,FALSE)","v":"F"},{"$f":"VLOOKUP(B117,ceva_zone!A:C,3,FALSE)","v":"B"}]
["01242","MA","Y","remote",{"$f":"VLOOKUP(B118,ceva_zone!A:B,2,FALSE)","v":"F"},{"$f":"VLOOKUP(B118,ceva_zone!A:C,3,FALSE)","v":"B"}]
["01243","MA","D","standard",{"$f":"VLOOKUP(B119,ceva_zone!A:B,2,FALSE)","v":"F"},{"$f":"VLOOKUP(B119,ceva_zone!A:C,3,FALSE)","v":"B"}]
["01245","MA","Y","remote",{"$f":"VLOOKUP(B120,ceva_zone!A:B,2,FALSE)","v":"F"},{"$f":"VLOOKUP(B120,ceva_zone!A:C,3,FALSE)","v":"B"}]
["01258","MA","Y","remote",{"$f":"VLOOKUP(B121,ceva_zone!A:B,2,FALSE)","v":"F"},{"$f":"VLOOKUP(B121,ceva_zone!A:C,3,FALSE)","v":"B"}]
["01252","MA","Y","remote",{"$f":"VLOOKUP(B122,ceva_zone!A:B,2,FALSE)","v":"F"},{"$f":"VLOOKUP(B122,ceva_zone!A:C,3,FALSE)","v":"B"}]
["01254","MA","D","standard",{"$f":"VLOOKUP(B123,ceva_zone!A:B,2,FALSE)","v":"F"},{"$f":"VLOOKUP(B123,ceva_zone!A:C,3,FALSE)","v":"B"}]
["01203","MA","D","standard",{"$f":"VLOOKUP(B124,ceva_zone!A:B,2,FALSE)","v":"F"},{"$f":"VLOOKUP(B124,ceva_zone!A:C,3,FALSE)","v":"B"}]
["01202","MA","D","standard",{"$f":"VLOOKUP(B125,ceva_zone!A:B,2,FALSE)","v":"F"},{"$f":"VLOOKUP(B125,ceva_zone!A:C,3,FALSE)","v":"B"}]
["01267","MA","Y","remote",{"$f":"VLOOKUP(B126,ceva_zone!A:B,2,FALSE)","v":"F"},{"$f":"VLOOKUP(B126,ceva_zone!A:C,3,FALSE)","v":"B"}]
["01255","MA","Y","remote",{"$f":"VLOOKUP(B127,ceva_zone!A:B,2,FALSE)","v":"F"},{"$f":"VLOOKUP(B127,ceva_zone!A:C,3,FALSE)","v":"B"}]
["01256","MA","Y","remote",{"$f":"VLOOKUP(B128,ceva_zone!A:B,2,FALSE)","v":"F"},{"$f":"VLOOKUP(B128,ceva_zone!A:C,3,FALSE)","v":"B"}]
["01257","MA","Y","remote",{"$f":"VLOOKUP(B129,ceva_zone!A:B,2,FALSE)","v":"F"},{"$f":"VLOOKUP(B129,ceva_zone!A:C,3,FALSE)","v":"B"}]
["01260","MA","Y","remote",{"$f":"VLOOKUP(B130,ceva_zone!A:B,2,FALSE)","v":"F"},{"$f":"VLOOKUP(B130,ceva_zone!A:C,3,FALSE)","v":"B"}]
["01259","MA","Y","remote",{"$f":"VLOOKUP(B131,ceva_zone!A:B,2,FALSE)","v":"F"},{"$f":"VLOOKUP(B131,ceva_zone!A:C,3,FALSE)","v":"B"}]
["01263","MA","D","standard",{"$f":"VLOOKUP(B132,ceva_zone!A:B,2,FALSE)","v":"F"},{"$f":"VLOOKUP(B132,ceva_zone!A:C,3,FALSE)","v":"B"}]
["01330","MA","F","remote",{"$f":"VLOOKUP(B133,ceva_zone!A:B,2,FALSE)","v":"F"},{"$f":"VLOOKUP(B133,ceva_zone!A:C,3,FALSE)","v":"B"}]
["01368","MA","F","remote",{"$f":"VLOOKUP(B134,ceva_zone!A:B,2,FALSE)","v":"F"},{"$f":"VLOOKUP(B134,ceva_zone!A:C,3,FALSE)","v":"B"}]
["01331","MA","F","remote",{"$f":"VLOOKUP(B135,ceva_zone!A:B,2,FALSE)","v":"F"},{"$f":"VLOOKUP(B135,ceva_zone!A:C,3,FALSE)","v":"B"}]
["01370","MA","F","remote",{"$f":"VLOOKUP(B136,ceva_zone!A:B,2,FALSE)","v":"F"},{"$f":"VLOOKUP(B136,ceva_zone!A:C,3,FALSE)","v":"B"}]
["01337","MA","F","remote",{"$f":"VLOOKUP(B137,ceva_zone!A:B,2,FALSE)","v":"F"},{"$f":"VLOOKUP(B137,ceva_zone!A:C,3,FALSE)","v":"B"}]
["01364","MA","F","remote",{"$f":"VLOOKUP(B138,ceva_zone!A:B,2,FALSE)","v":"F"},{"$f":"VLOOKUP(B138,ceva_zone!A:C,3,FALSE)","v":"B"}]
["01338","MA","F","remote",{"$f":"VLOOKUP(B139,ceva_zone!A:B,2,FALSE)","v":"F"},{"$f":"VLOOKUP(B139,ceva_zone!A:C,3,FALSE)","v":"B"}]
["01346","MA","F","remote",{"$f":"VLOOKUP(B140,ceva_zone!A:B,2,FALSE)","v":"F"},{"$f":"VLOOKUP(B140,ceva_zone!A:C,3,FALSE)","v":"B"}]
["01339","MA","F","remote",{"$f":"VLOOKUP(B141,ceva_zone!A:B,2,FALSE)","v":"F"},{"$f":"VLOOKUP(B141,ceva_zone!A:C,3,FALSE)","v":"B"}]
["01340","MA","F","remote",{"$f":"VLOOKUP(B142,ceva_zone!A:B,2,FALSE)","v":"F"},{"$f":"VLOOKUP(B142,ceva_zone!A:C,3,FALSE)","v":"B"}]
["01341","MA","E","remote",{"$f":"VLOOKUP(B143,ceva_zone!A:B,2,FALSE)","v":"F"},{"$f":"VLOOKUP(B143,ceva_zone!A:C,3,FALSE)","v":"B"}]
["01355","MA","F","remote",{"$f":"VLOOKUP(B144,ceva_zone!A:B,2,FALSE)","v":"F"},{"$f":"VLOOKUP(B144,ceva_zone!A:C,3,FALSE)","v":"B"}]
["01342","MA","E","remote",{"$f":"VLOOKUP(B145,ceva_zone!A:B,2,FALSE)","v":"F"},{"$f":"VLOOKUP(B145,ceva_zone!A:C,3,FALSE)","v":"B"}]
["01343","MA","Y","remote",{"$f":"VLOOKUP(B146,ceva_zone!A:B,2,FALSE)","v":"F"},{"$f":"VLOOKUP(B146,ceva_zone!A:C,3,FALSE)","v":"B"}]
["01360","MA","F","remote",{"$f":"VLOOKUP(B147,ceva_zone!A:B,2,FALSE)","v":"F"},{"$f":"VLOOKUP(B147,ceva_zone!A:C,3,FALSE)","v":"B"}]
["01344","MA","F","remote",{"$f":"VLOOKUP(B148,ceva_zone!A:B,2,FALSE)","v":"F"},{"$f":"VLOOKUP(B148,ceva_zone!A:C,3,FALSE)","v":"B"}]
["01376","MA","F","remote",{"$f":"VLOOKUP(B149,ceva_zone!A:B,2,FALSE)","v":"F"},{"$f":"VLOOKUP(B149,ceva_zone!A:C,3,FALSE)","v":"B"}]
["01302","MA","F","remote",{"$f":"VLOOKUP(B150,ceva_zone!A:B,2,FALSE)","v":"F"},{"$f":"VLOOKUP(B150,ceva_zone!A:C,3,FALSE)","v":"B"}]
["01301","MA","F","remote",{"$f":"VLOOKUP(B151,ceva_zone!A:B,2,FALSE)","v":"F"},{"$f":"VLOOKUP(B151,ceva_zone!A:C,3,FALSE)","v":"B"}]
["01367","MA","F","remote",{"$f":"VLOOKUP(B152,ceva_zone!A:B,2,FALSE)","v":"F"},{"$f":"VLOOKUP(B152,ceva_zone!A:C,3,FALSE)","v":"B"}]
["01347","MA","F","remote",{"$f":"VLOOKUP(B153,ceva_zone!A:B,2,FALSE)","v":"F"},{"$f":"VLOOKUP(B153,ceva_zone!A:C,3,FALSE)","v":"B"}]
["01349","MA","F","remote",{"$f":"VLOOKUP(B154,ceva_zone!A:B,2,FALSE)","v":"F"},{"$f":"VLOOKUP(B154,ceva_zone!A:C,3,FALSE)","v":"B"}]
["01350","MA","F","remote",{"$f":"VLOOKUP(B155,ceva_zone!A:B,2,FALSE)","v":"F"},{"$f":"VLOOKUP(B155,ceva_zone!A:C,3,FALSE)","v":"B"}]
["01351","MA","F","remote",{"$f":"VLOOKUP(B156,ceva_zone!A:B,2,FALSE)","v":"F"},{"$f":"VLOOKUP(B156,ceva_zone!A:C,3,FALSE)","v":"B"}]
["01354","MA","F","remote",{"$f":"VLOOKUP(B157,ceva_zone!A:B,2,FALSE)","v":"F"},{"$f":"VLOOKUP(B157,ceva_zone!A:C,3,FALSE)","v":"B"}]
["01378","MA","F","remote",{"$f":"VLOOKUP(B158,ceva_zone!A:B,2,FALSE)","v":"F"},{"$f":"VLOOKUP(B158,ceva_zone!A:C,3,FALSE)","v":"B"}]
["01366","MA","F","remote",{"$f":"VLOOKUP(B159,ceva_zone!A:B,2,FALSE)","v":"F"},{"$f":"VLOOKUP(B159,ceva_zone!A:C,3,FALSE)","v":"B"}]
["01373","MA","E","remote",{"$f":"VLOOKUP(B160,ceva_zone!A:B,2,FALSE)","v":"F"},{"$f":"VLOOKUP(B160,ceva_zone!A:C,3,FALSE)","v":"B"}]
["01375","MA","E","remote",{"$f":"VLOOKUP(B161,ceva_zone!A:B,2,FALSE)","v":"F"},{"$f":"VLOOKUP(B161,ceva_zone!A:C,3,FALSE)","v":"B"}]
["01379","MA","F","remote",{"$f":"VLOOKUP(B162,ceva_zone!A:B,2,FALSE)","v":"F"},{"$f":"VLOOKUP(B162,ceva_zone!A:C,3,FALSE)","v":"B"}]
["01380","MA","F","remote",{"$f":"VLOOKUP(B163,ceva_zone!A:B,2,FALSE)","v":"F"},{"$f":"VLOOKUP(B163,ceva_zone!A:C,3,FALSE)","v":"B"}]
["01430","MA","H","remote",{"$f":"VLOOKUP(B164,ceva_zone!A:B,2,FALSE)","v":"F"},{"$f":"VLOOKUP(B164,ceva_zone!A:C,3,FALSE)","v":"B"}]
["01431","MA","H","remote",{"$f":"VLOOKUP(B165,ceva_zone!A:B,2,FALSE)","v":"F"},{"$f":"VLOOKUP(B165,ceva_zone!A:C,3,FALSE)","v":"B"}]
["01432","MA","F","remote",{"$f":"VLOOKUP(B166,ceva_zone!A:B,2,FALSE)","v":"F"},{"$f":"VLOOKUP(B166,ceva_zone!A:C,3,FALSE)","v":"B"}]
["01473","MA","H","remote",{"$f":"VLOOKUP(B167,ceva_zone!A:B,2,FALSE)","v":"F"},{"$f":"VLOOKUP(B167,ceva_zone!A:C,3,FALSE)","v":"B"}]
["01436","MA","H","remote",{"$f":"VLOOKUP(B168,ceva_zone!A:B,2,FALSE)","v":"F"},{"$f":"VLOOKUP(B168,ceva_zone!A:C,3,FALSE)","v":"B"}]
["01468","MA","H","remote",{"$f":"VLOOKUP(B169,ceva_zone!A:B,2,FALSE)","v":"F"},{"$f":"VLOOKUP(B169,ceva_zone!A:C,3,FALSE)","v":"B"}]
["01475","MA","H","remote",{"$f":"VLOOKUP(B170,ceva_zone!A:B,2,FALSE)","v":"F"},{"$f":"VLOOKUP(B170,ceva_zone!A:C,3,FALSE)","v":"B"}]
["01434","MA","F","remote",{"$f":"VLOOKUP(B171,ceva_zone!A:B,2,FALSE)","v":"F"},{"$f":"VLOOKUP(B171,ceva_zone!A:C,3,FALSE)","v":"B"}]
["01440","MA","H","remote",{"$f":"VLOOKUP(B172,ceva_zone!A:B,2,FALSE)","v":"F"},{"$f":"VLOOKUP(B172,ceva_zone!A:C,3,FALSE)","v":"B"}]
["01463","MA","F","remote",{"$f":"VLOOKUP(B173,ceva_zone!A:B,2,FALSE)","v":"F"},{"$f":"VLOOKUP(B173,ceva_zone!A:C,3,FALSE)","v":"B"}]
["01438","MA","H","remote",{"$f":"VLOOKUP(B174,ceva_zone!A:B,2,FALSE)","v":"F"},{"$f":"VLOOKUP(B174,ceva_zone!A:C,3,FALSE)","v":"B"}]
["01420","MA","G","remote",{"$f":"VLOOKUP(B175,ceva_zone!A:B,2,FALSE)","v":"F"},{"$f":"VLOOKUP(B175,ceva_zone!A:C,3,FALSE)","v":"B"}]
["01441","MA","H","remote",{"$f":"VLOOKUP(B176,ceva_zone!A:B,2,FALSE)","v":"F"},{"$f":"VLOOKUP(B176,ceva_zone!A:C,3,FALSE)","v":"B"}]
["01450","MA","F","remote",{"$f":"VLOOKUP(B177,ceva_zone!A:B,2,FALSE)","v":"F"},{"$f":"VLOOKUP(B177,ceva_zone!A:C,3,FALSE)","v":"B"}]
["01470","MA","F","remote",{"$f":"VLOOKUP(B178,ceva_zone!A:B,2,FALSE)","v":"F"},{"$f":"VLOOKUP(B178,ceva_zone!A:C,3,FALSE)","v":"B"}]
["01471","MA","F","remote",{"$f":"VLOOKUP(B179,ceva_zone!A:B,2,FALSE)","v":"F"},{"$f":"VLOOKUP(B179,ceva_zone!A:C,3,FALSE)","v":"B"}]
["01451","MA","F","remote",{"$f":"VLOOKUP(B180,ceva_zone!A:B,2,FALSE)","v":"F"},{"$f":"VLOOKUP(B180,ceva_zone!A:C,3,FALSE)","v":"B"}]
["01460","MA","E","remote",{"$f":"VLOOKUP(B181,ceva_zone!A:B,2,FALSE)","v":"F"},{"$f":"VLOOKUP(B181,ceva_zone!A:C,3,FALSE)","v":"B"}]
["01452","MA","H","remote",{"$f":"VLOOKUP(B182,ceva_zone!A:B,2,FALSE)","v":"F"},{"$f":"VLOOKUP(B182,ceva_zone!A:C,3,FALSE)","v":"B"}]
["01453","MA","G","remote",{"$f":"VLOOKUP(B183,ceva_zone!A:B,2,FALSE)","v":"F"},{"$f":"VLOOKUP(B183,ceva_zone!A:C,3,FALSE)","v":"B"}]
["01462","MA","G","remote",{"$f":"VLOOKUP(B184,ceva_zone!A:B,2,FALSE)","v":"F"},{"$f":"VLOOKUP(B184,ceva_zone!A:C,3,FALSE)","v":"B"}]
["01474","MA","G","remote",{"$f":"VLOOKUP(B185,ceva_zone!A:B,2,FALSE)","v":"F"},{"$f":"VLOOKUP(B185,ceva_zone!A:C,3,FALSE)","v":"B"}]
["01464","MA","F","remote",{"$f":"VLOOKUP(B186,ceva_zone!A:B,2,FALSE)","v":"F"},{"$f":"VLOOKUP(B186,ceva_zone!A:C,3,FALSE)","v":"B"}]
["01467","MA","F","remote",{"$f":"VLOOKUP(B187,ceva_zone!A:B,2,FALSE)","v":"F"},{"$f":"VLOOKUP(B187,ceva_zone!A:C,3,FALSE)","v":"B"}]
["01469","MA","G","remote",{"$f":"VLOOKUP(B188,ceva_zone!A:B,2,FALSE)","v":"F"},{"$f":"VLOOKUP(B188,ceva_zone!A:C,3,FALSE)","v":"B"}]
["01472","MA","F","remote",{"$f":"VLOOKUP(B189,ceva_zone!A:B,2,FALSE)","v":"F"},{"$f":"VLOOKUP(B189,ceva_zone!A:C,3,FALSE)","v":"B"}]
["01477","MA","G","remote",{"$f":"VLOOKUP(B190,ceva_zone!A:B,2,FALSE)","v":"F"},{"$f":"VLOOKUP(B190,ceva_zone!A:C,3,FALSE)","v":"B"}]
["01501","MA","H","remote",{"$f":"VLOOKUP(B191,ceva_zone!A:B,2,FALSE)","v":"F"},{"$f":"VLOOKUP(B191,ceva_zone!A:C,3,FALSE)","v":"B"}]
["01503","MA","F","remote",{"$f":"VLOOKUP(B192,ceva_zone!A:B,2,FALSE)","v":"F"},{"$f":"VLOOKUP(B192,ceva_zone!A:C,3,FALSE)","v":"B"}]
["01504","MA","H","remote",{"$f":"VLOOKUP(B193,ceva_zone!A:B,2,FALSE)","v":"F"},{"$f":"VLOOKUP(B193,ceva_zone!A:C,3,FALSE)","v":"B"}]
["01505","MA","G","remote",{"$f":"VLOOKUP(B194,ceva_zone!A:B,2,FALSE)","v":"F"},{"$f":"VLOOKUP(B194,ceva_zone!A:C,3,FALSE)","v":"B"}]
["01527","MA","H","remote",{"$f":"VLOOKUP(B195,ceva_zone!A:B,2,FALSE)","v":"F"},{"$f":"VLOOKUP(B195,ceva_zone!A:C,3,FALSE)","v":"B"}]
["01506","MA","Y","remote",{"$f":"VLOOKUP(B196,ceva_zone!A:B,2,FALSE)","v":"F"},{"$f":"VLOOKUP(B196,ceva_zone!A:C,3,FALSE)","v":"B"}]
["01540","MA","F","remote",{"$f":"VLOOKUP(B197,ceva_zone!A:B,2,FALSE)","v":"F"},{"$f":"VLOOKUP(B197,ceva_zone!A:C,3,FALSE)","v":"B"}]
["01568","MA","H","remote",{"$f":"VLOOKUP(B198,ceva_zone!A:B,2,FALSE)","v":"F"},{"$f":"VLOOKUP(B198,ceva_zone!A:C,3,FALSE)","v":"B"}]
["01520","MA","H","remote",{"$f":"VLOOKUP(B199,ceva_zone!A:B,2,FALSE)","v":"F"},{"$f":"VLOOKUP(B199,ceva_zone!A:C,3,FALSE)","v":"B"}]
["01507","MA","Y","remote",{"$f":"VLOOKUP(B200,ceva_zone!A:B,2,FALSE)","v":"F"},{"$f":"VLOOKUP(B200,ceva_zone!A:C,3,FALSE)","v":"B"}]
["01508","MA","E","remote",{"$f":"VLOOKUP(B201,ceva_zone!A:B,2,FALSE)","v":"F"},{"$f":"VLOOKUP(B201,ceva_zone!A:C,3,FALSE)","v":"B"}]
["01509","MA","E","remote",{"$f":"VLOOKUP(B202,ceva_zone!A:B,2,FALSE)","v":"F"},{"$f":"VLOOKUP(B202,ceva_zone!A:C,3,FALSE)","v":"B"}]
["01570","MA","F","remote",{"$f":"VLOOKUP(B203,ceva_zone!A:B,2,FALSE)","v":"F"},{"$f":"VLOOKUP(B203,ceva_zone!A:C,3,FALSE)","v":"B"}]
["01510","MA","F","remote",{"$f":"VLOOKUP(B204,ceva_zone!A:B,2,FALSE)","v":"F"},{"$f":"VLOOKUP(B204,ceva_zone!A:C,3,FALSE)","v":"B"}]
["01537","MA","F","remote",{"$f":"VLOOKUP(B205,ceva_zone!A:B,2,FALSE)","v":"F"},{"$f":"VLOOKUP(B205,ceva_zone!A:C,3,FALSE)","v":"B"}]
["01516","MA","H","remote",{"$f":"VLOOKUP(B206,ceva_zone!A:B,2,FALSE)","v":"F"},{"$f":"VLOOKUP(B206,ceva_zone!A:C,3,FALSE)","v":"B"}]
["01571","MA","F","remote",{"$f":"VLOOKUP(B207,ceva_zone!A:B,2,FALSE)","v":"F"},{"$f":"VLOOKUP(B207,ceva_zone!A:C,3,FALSE)","v":"B"}]
["01515","MA","H","remote",{"$f":"VLOOKUP(B208,ceva_zone!A:B,2,FALSE)","v":"F"},{"$f":"VLOOKUP(B208,ceva_zone!A:C,3,FALSE)","v":"B"}]
["01517","MA","F","remote",{"$f":"VLOOKUP(B209,ceva_zone!A:B,2,FALSE)","v":"F"},{"$f":"VLOOKUP(B209,ceva_zone!A:C,3,FALSE)","v":"B"}]
["01545","MA","G","remote",{"$f":"VLOOKUP(B210,ceva_zone!A:B,2,FALSE)","v":"F"},{"$f":"VLOOKUP(B210,ceva_zone!A:C,3,FALSE)","v":"B"}]
["01560","MA","H","remote",{"$f":"VLOOKUP(B211,ceva_zone!A:B,2,FALSE)","v":"F"},{"$f":"VLOOKUP(B211,ceva_zone!A:C,3,FALSE)","v":"B"}]
["01521","MA","E","remote",{"$f":"VLOOKUP(B212,ceva_zone!A:B,2,FALSE)","v":"F"},{"$f":"VLOOKUP(B212,ceva_zone!A:C,3,FALSE)","v":"B"}]
["01518","MA","E","remote",{"$f":"VLOOKUP(B213,ceva_zone!A:B,2,FALSE)","v":"F"},{"$f":"VLOOKUP(B213,ceva_zone!A:C,3,FALSE)","v":"B"}]
["01550","MA","E","remote",{"$f":"VLOOKUP(B214,ceva_zone!A:B,2,FALSE)","v":"F"},{"$f":"VLOOKUP(B214,ceva_zone!A:C,3,FALSE)","v":"B"}]
["01519","MA","G","remote",{"$f":"VLOOKUP(B215,ceva_zone!A:B,2,FALSE)","v":"F"},{"$f":"VLOOKUP(B215,ceva_zone!A:C,3,FALSE)","v":"B"}]
["01522","MA","H","remote",{"$f":"VLOOKUP(B216,ceva_zone!A:B,2,FALSE)","v":"F"},{"$f":"VLOOKUP(B216,ceva_zone!A:C,3,FALSE)","v":"B"}]
["01562","MA","H","remote",{"$f":"VLOOKUP(B217,ceva_zone!A:B,2,FALSE)","v":"F"},{"$f":"VLOOKUP(B217,ceva_zone!A:C,3,FALSE)","v":"B"}]
["01523","MA","G","remote",{"$f":"VLOOKUP(B218,ceva_zone!A:B,2,FALSE)","v":"F"},{"$f":"VLOOKUP(B218,ceva_zone!A:C,3,FALSE)","v":"B"}]
["01524","MA","H","remote",{"$f":"VLOOKUP(B219,ceva_zone!A:B,2,FALSE)","v":"F"},{"$f":"VLOOKUP(B219,ceva_zone!A:C,3,FALSE)","v":"B"}]
["01525","MA","H","remote",{"$f":"VLOOKUP(B220,ceva_zone!A:B,2,FALSE)","v":"F"},{"$f":"VLOOKUP(B220,ceva_zone!A:C,3,FALSE)","v":"B"}]
["01526","MA","H","remote",{"$f":"VLOOKUP(B221,ceva_zone!A:B,2,FALSE)","v":"F"},{"$f":"VLOOKUP(B221,ceva_zone!A:C,3,FALSE)","v":"B"}]
["01586","MA","H","remote",{"$f":"VLOOKUP(B222,ceva_zone!A:B,2,FALSE)","v":"F"},{"$f":"VLOOKUP(B222,ceva_zone!A:C,3,FALSE)","v":"B"}]
["01529","MA","H","remote",{"$f":"VLOOKUP(B223,ceva_zone!A:B,2,FALSE)","v":"F"},{"$f":"VLOOKUP(B223,ceva_zone!A:C,3,FALSE)","v":"B"}]
["01543","MA","H","remote",{"$f":"VLOOKUP(B224,ceva_zone!A:B,2,FALSE)","v":"F"},{"$f":"VLOOKUP(B224,ceva_zone!A:C,3,FALSE)","v":"B"}]
["01531","MA","H","remote",{"$f":"VLOOKUP(B225,ceva_zone!A:B,2,FALSE)","v":"F"},{"$f":"VLOOKUP(B225,ceva_zone!A:C,3,FALSE)","v":"B"}]
["01535","MA","F","remote",{"$f":"VLOOKUP(B226,ceva_zone!A:B,2,FALSE)","v":"F"},{"$f":"VLOOKUP(B226,ceva_zone!A:C,3,FALSE)","v":"B"}]
["01536","MA","H","remote",{"$f":"VLOOKUP(B227,ceva_zone!A:B,2,FALSE)","v":"F"},{"$f":"VLOOKUP(B227,ceva_zone!A:C,3,FALSE)","v":"B"}]
["01538","MA","H","remote",{"$f":"VLOOKUP(B228,ceva_zone!A:B,2,FALSE)","v":"F"},{"$f":"VLOOKUP(B228,ceva_zone!A:C,3,FALSE)","v":"B"}]
["01532","MA","H","remote",{"$f":"VLOOKUP(B229,ceva_zone!A:B,2,FALSE)","v":"F"},{"$f":"VLOOKUP(B229,ceva_zone!A:C,3,FALSE)","v":"B"}]
["01534","MA","H","remote",{"$f":"VLOOKUP(B230,ceva_zone!A:B,2,FALSE)","v":"F"},{"$f":"VLOOKUP(B230,ceva_zone!A:C,3,FALSE)","v":"B"}]
["01541","MA","H","remote",{"$f":"VLOOKUP(B231,ceva_zone!A:B,2,FALSE)","v":"F"},{"$f":"VLOOKUP(B231,ceva_zone!A:C,3,FALSE)","v":"B"}]
["01542","MA","F","remote",{"$f":"VLOOKUP(B232,ceva_zone!A:B,2,FALSE)","v":"F"},{"$f":"VLOOKUP(B232,ceva_zone!A:C,3,FALSE)","v":"B"}]
["01569","MA","H","remote",{"$f":"VLOOKUP(B233,ceva_zone!A:B,2,FALSE)","v":"F"},{"$f":"VLOOKUP(B233,ceva_zone!A:C,3,FALSE)","v":"B"}]
["01546","MA","G","remote",{"$f":"VLOOKUP(B234,ceva_zone!A:B,2,FALSE)","v":"F"},{"$f":"VLOOKUP(B234,ceva_zone!A:C,3,FALSE)","v":"B"}]
["01561","MA","F","remote",{"$f":"VLOOKUP(B235,ceva_zone!A:B,2,FALSE)","v":"F"},{"$f":"VLOOKUP(B235,ceva_zone!A:C,3,FALSE)","v":"B"}]
["01564","MA","G","remote",{"$f":"VLOOKUP(B236,ceva_zone!A:B,2,FALSE)","v":"F"},{"$f":"VLOOKUP(B236,ceva_zone!A:C,3,FALSE)","v":"B"}]
["01566","MA","E","remote",{"$f":"VLOOKUP(B237,ceva_zone!A:B,2,FALSE)","v":"F"},{"$f":"VLOOKUP(B237,ceva_zone!A:C,3,FALSE)","v":"B"}]
["01590","MA","H","remote",{"$f":"VLOOKUP(B238,ceva_zone!A:B,2,FALSE)","v":"F"},{"$f":"VLOOKUP(B238,ceva_zone!A:C,3,FALSE)","v":"B"}]
["01583","MA","G","remote",{"$f":"VLOOKUP(B239,ceva_zone!A:B,2,FALSE)","v":"F"},{"$f":"VLOOKUP(B239,ceva_zone!A:C,3,FALSE)","v":"B"}]
["01585","MA","E","remote",{"$f":"VLOOKUP(B240,ceva_zone!A:B,2,FALSE)","v":"F"},{"$f":"VLOOKUP(B240,ceva_zone!A:C,3,FALSE)","v":"B"}]
["01582","MA","G","remote",{"$f":"VLOOKUP(B241,ceva_zone!A:B,2,FALSE)","v":"F"},{"$f":"VLOOKUP(B241,ceva_zone!A:C,3,FALSE)","v":"B"}]
["01580","MA","E","remote",{"$f":"VLOOKUP(B242,ceva_zone!A:B,2,FALSE)","v":"F"},{"$f":"VLOOKUP(B242,ceva_zone!A:C,3,FALSE)","v":"B"}]
["01581","MA","F","remote",{"$f":"VLOOKUP(B243,ceva_zone!A:B,2,FALSE)","v":"F"},{"$f":"VLOOKUP(B243,ceva_zone!A:C,3,FALSE)","v":"B"}]
["01588","MA","H","remote",{"$f":"VLOOKUP(B244,ceva_zone!A:B,2,FALSE)","v":"F"},{"$f":"VLOOKUP(B244,ceva_zone!A:C,3,FALSE)","v":"B"}]
["01601","MA","F","remote",{"$f":"VLOOKUP(B245,ceva_zone!A:B,2,FALSE)","v":"F"},{"$f":"VLOOKUP(B245,ceva_zone!A:C,3,FALSE)","v":"B"}]
["01611","MA","H","remote",{"$f":"VLOOKUP(B246,ceva_zone!A:B,2,FALSE)","v":"F"},{"$f":"VLOOKUP(B246,ceva_zone!A:C,3,FALSE)","v":"B"}]
["01606","MA","G","remote",{"$f":"VLOOKUP(B247,ceva_zone!A:B,2,FALSE)","v":"F"},{"$f":"VLOOKUP(B247,ceva_zone!A:C,3,FALSE)","v":"B"}]
["01612","MA","H","remote",{"$f":"VLOOKUP(B248,ceva_zone!A:B,2,FALSE)","v":"F"},{"$f":"VLOOKUP(B248,ceva_zone!A:C,3,FALSE)","v":"B"}]
["01603","MA","H","remote",{"$f":"VLOOKUP(B249,ceva_zone!A:B,2,FALSE)","v":"F"},{"$f":"VLOOKUP(B249,ceva_zone!A:C,3,FALSE)","v":"B"}]
["01602","MA","H","remote",{"$f":"VLOOKUP(B250,ceva_zone!A:B,2,FALSE)","v":"F"},{"$f":"VLOOKUP(B250,ceva_zone!A:C,3,FALSE)","v":"B"}]
["01613","MA","G","remote",{"$f":"VLOOKUP(B251,ceva_zone!A:B,2,FALSE)","v":"F"},{"$f":"VLOOKUP(B251,ceva_zone!A:C,3,FALSE)","v":"B"}]
["01614","MA","G","remote",{"$f":"VLOOKUP(B252,ceva_zone!A:B,2,FALSE)","v":"F"},{"$f":"VLOOKUP(B252,ceva_zone!A:C,3,FALSE)","v":"B"}]
["01615","MA","F","remote",{"$f":"VLOOKUP(B253,ceva_zone!A:B,2,FALSE)","v":"F"},{"$f":"VLOOKUP(B253,ceva_zone!A:C,3,FALSE)","v":"B"}]
["01653","MA","G","remote",{"$f":"VLOOKUP(B254,ceva_zone!A:B,2,FALSE)","v":"F"},{"$f":"VLOOKUP(B254,ceva_zone!A:C,3,FALSE)","v":"B"}]
["01654","MA","F","remote",{"$f":"VLOOKUP(B255,ceva_zone!A:B,2,FALSE)","v":"F"},{"$f":"VLOOKUP(B255,ceva_zone!A:C,3,FALSE)","v":"B"}]
["01610","MA","G","remote",{"$f":"VLOOKUP(B256,ceva_zone!A:B,2,FALSE)","v":"F"},{"$f":"VLOOKUP(B256,ceva_zone!A:C,3,FALSE)","v":"B"}]
["01655","MA","G","remote",{"$f":"VLOOKUP(B257,ceva_zone!A:B,2,FALSE)","v":"F"},{"$f":"VLOOKUP(B257,ceva_zone!A:C,3,FALSE)","v":"B"}]
["01608","MA","G","remote",{"$f":"VLOOKUP(B258,ceva_zone!A:B,2,FALSE)","v":"F"},{"$f":"VLOOKUP(B258,ceva_zone!A:C,3,FALSE)","v":"B"}]
["01607","MA","H","remote",{"$f":"VLOOKUP(B259,ceva_zone!A:B,2,FALSE)","v":"F"},{"$f":"VLOOKUP(B259,ceva_zone!A:C,3,FALSE)","v":"B"}]
["01605","MA","G","remote",{"$f":"VLOOKUP(B260,ceva_zone!A:B,2,FALSE)","v":"F"},{"$f":"VLOOKUP(B260,ceva_zone!A:C,3,FALSE)","v":"B"}]
["01604","MA","G","remote",{"$f":"VLOOKUP(B261,ceva_zone!A:B,2,FALSE)","v":"F"},{"$f":"VLOOKUP(B261,ceva_zone!A:C,3,FALSE)","v":"B"}]
["01609","MA","G","remote",{"$f":"VLOOKUP(B262,ceva_zone!A:B,2,FALSE)","v":"F"},{"$f":"VLOOKUP(B262,ceva_zone!A:C,3,FALSE)","v":"B"}]
["01720","MA","E","remote",{"$f":"VLOOKUP(B263,ceva_zone!A:B,2,FALSE)","v":"F"},{"$f":"VLOOKUP(B263,ceva_zone!A:C,3,FALSE)","v":"B"}]
["01718","MA","E","remote",{"$f":"VLOOKUP(B264,ceva_zone!A:B,2,FALSE)","v":"F"},{"$f":"VLOOKUP(B264,ceva_zone!A:C,3,FALSE)","v":"B"}]
["01721","MA","F","remote",{"$f":"VLOOKUP(B265,ceva_zone!A:B,2,FALSE)","v":"F"},{"$f":"VLOOKUP(B265,ceva_zone!A:C,3,FALSE)","v":"B"}]
["01703","MA","D","standard",{"$f":"VLOOKUP(B266,ceva_zone!A:B,2,FALSE)","v":"F"},{"$f":"VLOOKUP(B266,ceva_zone!A:C,3,FALSE)","v":"B"}]
["01730","MA","C","standard",{"$f":"VLOOKUP(B267,ceva_zone!A:B,2,FALSE)","v":"F"},{"$f":"VLOOKUP(B267,ceva_zone!A:C,3,FALSE)","v":"B"}]
["01731","MA","C","standard",{"$f":"VLOOKUP(B268,ceva_zone!A:B,2,FALSE)","v":"F"},{"$f":"VLOOKUP(B268,ceva_zone!A:C,3,FALSE)","v":"B"}]
["01740","MA","F","remote",{"$f":"VLOOKUP(B269,ceva_zone!A:B,2,FALSE)","v":"F"},{"$f":"VLOOKUP(B269,ceva_zone!A:C,3,FALSE)","v":"B"}]
["01719","MA","E","remote",{"$f":"VLOOKUP(B270,ceva_zone!A:B,2,FALSE)","v":"F"},{"$f":"VLOOKUP(B270,ceva_zone!A:C,3,FALSE)","v":"B"}]
["01741","MA","E","remote",{"$f":"VLOOKUP(B271,ceva_zone!A:B,2,FALSE)","v":"F"},{"$f":"VLOOKUP(B271,ceva_zone!A:C,3,FALSE)","v":"B"}]
["01778","MA","E","remote",{"$f":"VLOOKUP(B272,ceva_zone!A:B,2,FALSE)","v":"F"},{"$f":"VLOOKUP(B272,ceva_zone!A:C,3,FALSE)","v":"B"}]
["01742","MA","D","standard",{"$f":"VLOOKUP(B273,ceva_zone!A:B,2,FALSE)","v":"F"},{"$f":"VLOOKUP(B273,ceva_zone!A:C,3,FALSE)","v":"B"}]
["01772","MA","F","remote",{"$f":"VLOOKUP(B274,ceva_zone!A:B,2,FALSE)","v":"F"},{"$f":"VLOOKUP(B274,ceva_zone!A:C,3,FALSE)","v":"B"}]
["01749","MA","F","remote",{"$f":"VLOOKUP(B275,ceva_zone!A:B,2,FALSE)","v":"F"},{"$f":"VLOOKUP(B275,ceva_zone!A:C,3,FALSE)","v":"B"}]
["01760","MA","E","remote",{"$f":"VLOOKUP(B276,ceva_zone!A:B,2,FALSE)","v":"F"},{"$f":"VLOOKUP(B276,ceva_zone!A:C,3,FALSE)","v":"B"}]
["01776","MA","E","remote",{"$f":"VLOOKUP(B277,ceva_zone!A:B,2,FALSE)","v":"F"},{"$f":"VLOOKUP(B277,ceva_zone!A:C,3,FALSE)","v":"B"}]
["01746","MA","F","remote",{"$f":"VLOOKUP(B278,ceva_zone!A:B,2,FALSE)","v":"F"},{"$f":"VLOOKUP(B278,ceva_zone!A:C,3,FALSE)","v":"B"}]
["01745","MA","F","remote",{"$f":"VLOOKUP(B279,ceva_zone!A:B,2,FALSE)","v":"F"},{"$f":"VLOOKUP(B279,ceva_zone!A:C,3,FALSE)","v":"B"}]
["01705","MA","D","standard",{"$f":"VLOOKUP(B280,ceva_zone!A:B,2,FALSE)","v":"F"},{"$f":"VLOOKUP(B280,ceva_zone!A:C,3,FALSE)","v":"B"}]
["01701","MA","E","remote",{"$f":"VLOOKUP(B281,ceva_zone!A:B,2,FALSE)","v":"F"},{"$f":"VLOOKUP(B281,ceva_zone!A:C,3,FALSE)","v":"B"}]
["01702","MA","E","remote",{"$f":"VLOOKUP(B282,ceva_zone!A:B,2,FALSE)","v":"F"},{"$f":"VLOOKUP(B282,ceva_zone!A:C,3,FALSE)","v":"B"}]
["01704","MA","D","standard",{"$f":"VLOOKUP(B283,ceva_zone!A:B,2,FALSE)","v":"F"},{"$f":"VLOOKUP(B283,ceva_zone!A:C,3,FALSE)","v":"B"}]
["01747","MA","G","remote",{"$f":"VLOOKUP(B284,ceva_zone!A:B,2,FALSE)","v":"F"},{"$f":"VLOOKUP(B284,ceva_zone!A:C,3,FALSE)","v":"B"}]
["01748","MA","F","remote",{"$f":"VLOOKUP(B285,ceva_zone!A:B,2,FALSE)","v":"F"},{"$f":"VLOOKUP(B285,ceva_zone!A:C,3,FALSE)","v":"B"}]
["01775","MA","E","remote",{"$f":"VLOOKUP(B286,ceva_zone!A:B,2,FALSE)","v":"F"},{"$f":"VLOOKUP(B286,ceva_zone!A:C,3,FALSE)","v":"B"}]
["01773","MA","E","remote",{"$f":"VLOOKUP(B287,ceva_zone!A:B,2,FALSE)","v":"F"},{"$f":"VLOOKUP(B287,ceva_zone!A:C,3,FALSE)","v":"B"}]
["01752","MA","F","remote",{"$f":"VLOOKUP(B288,ceva_zone!A:B,2,FALSE)","v":"F"},{"$f":"VLOOKUP(B288,ceva_zone!A:C,3,FALSE)","v":"B"}]
["01754","MA","E","remote",{"$f":"VLOOKUP(B289,ceva_zone!A:B,2,FALSE)","v":"F"},{"$f":"VLOOKUP(B289,ceva_zone!A:C,3,FALSE)","v":"B"}]
["01756","MA","G","remote",{"$f":"VLOOKUP(B290,ceva_zone!A:B,2,FALSE)","v":"F"},{"$f":"VLOOKUP(B290,ceva_zone!A:C,3,FALSE)","v":"B"}]
["01757","MA","G","remote",{"$f":"VLOOKUP(B291,ceva_zone!A:B,2,FALSE)","v":"F"},{"$f":"VLOOKUP(B291,ceva_zone!A:C,3,FALSE)","v":"B"}]
["01770","MA","E","remote",{"$f":"VLOOKUP(B292,ceva_zone!A:B,2,FALSE)","v":"F"},{"$f":"VLOOKUP(B292,ceva_zone!A:C,3,FALSE)","v":"B"}]
["01784","MA","F","remote",{"$f":"VLOOKUP(B293,ceva_zone!A:B,2,FALSE)","v":"F"},{"$f":"VLOOKUP(B293,ceva_zone!A:C,3,FALSE)","v":"B"}]
["01812","MA","C","standard",{"$f":"VLOOKUP(B294,ceva_zone!A:B,2,FALSE)","v":"F"},{"$f":"VLOOKUP(B294,ceva_zone!A:C,3,FALSE)","v":"B"}]
["01899","MA","C","standard",{"$f":"VLOOKUP(B295,ceva_zone!A:B,2,FALSE)","v":"F"},{"$f":"VLOOKUP(B295,ceva_zone!A:C,3,FALSE)","v":"B"}]
["01810","MA","C","standard",{"$f":"VLOOKUP(B296,ceva_zone!A:B,2,FALSE)","v":"F"},{"$f":"VLOOKUP(B296,ceva_zone!A:C,3,FALSE)","v":"B"}]
["01822","MA","D","standard",{"$f":"VLOOKUP(B297,ceva_zone!A:B,2,FALSE)","v":"F"},{"$f":"VLOOKUP(B297,ceva_zone!A:C,3,FALSE)","v":"B"}]
["01862","MA","D","standard",{"$f":"VLOOKUP(B298,ceva_zone!A:B,2,FALSE)","v":"F"},{"$f":"VLOOKUP(B298,ceva_zone!A:C,3,FALSE)","v":"B"}]
["01821","MA","C","standard",{"$f":"VLOOKUP(B299,ceva_zone!A:B,2,FALSE)","v":"F"},{"$f":"VLOOKUP(B299,ceva_zone!A:C,3,FALSE)","v":"B"}]
["01835","MA","D","standard",{"$f":"VLOOKUP(B300,ceva_zone!A:B,2,FALSE)","v":"F"},{"$f":"VLOOKUP(B300,ceva_zone!A:C,3,FALSE)","v":"B"}]
["01808","MA","A","standard",{"$f":"VLOOKUP(B301,ceva_zone!A:B,2,FALSE)","v":"F"},{"$f":"VLOOKUP(B301,ceva_zone!A:C,3,FALSE)","v":"B"}]
["01805","MA","B","standard",{"$f":"VLOOKUP(B302,ceva_zone!A:B,2,FALSE)","v":"F"},{"$f":"VLOOKUP(B302,ceva_zone!A:C,3,FALSE)","v":"B"}]
["01803","MA","C","standard",{"$f":"VLOOKUP(B303,ceva_zone!A:B,2,FALSE)","v":"F"},{"$f":"VLOOKUP(B303,ceva_zone!A:C,3,FALSE)","v":"B"}]
["01824","MA","D","standard",{"$f":"VLOOKUP(B304,ceva_zone!A:B,2,FALSE)","v":"F"},{"$f":"VLOOKUP(B304,ceva_zone!A:C,3,FALSE)","v":"B"}]
["01826","MA","D","standard",{"$f":"VLOOKUP(B305,ceva_zone!A:B,2,FALSE)","v":"F"},{"$f":"VLOOKUP(B305,ceva_zone!A:C,3,FALSE)","v":"B"}]
["01827","MA","F","remote",{"$f":"VLOOKUP(B306,ceva_zone!A:B,2,FALSE)","v":"F"},{"$f":"VLOOKUP(B306,ceva_zone!A:C,3,FALSE)","v":"B"}]
["01886","MA","E","remote",{"$f":"VLOOKUP(B307,ceva_zone!A:B,2,FALSE)","v":"F"},{"$f":"VLOOKUP(B307,ceva_zone!A:C,3,FALSE)","v":"B"}]
["01833","MA","C","standard",{"$f":"VLOOKUP(B308,ceva_zone!A:B,2,FALSE)","v":"F"},{"$f":"VLOOKUP(B308,ceva_zone!A:C,3,FALSE)","v":"B"}]
["01834","MA","C","standard",{"$f":"VLOOKUP(B309,ceva_zone!A:B,2,FALSE)","v":"F"},{"$f":"VLOOKUP(B309,ceva_zone!A:C,3,FALSE)","v":"B"}]
["01831","MA","D","standard",{"$f":"VLOOKUP(B310,ceva_zone!A:B,2,FALSE)","v":"F"},{"$f":"VLOOKUP(B310,ceva_zone!A:C,3,FALSE)","v":"B"}]
["01832","MA","D","standard",{"$f":"VLOOKUP(B311,ceva_zone!A:B,2,FALSE)","v":"F"},{"$f":"VLOOKUP(B311,ceva_zone!A:C,3,FALSE)","v":"B"}]
["01830","MA","D","standard",{"$f":"VLOOKUP(B312,ceva_zone!A:B,2,FALSE)","v":"F"},{"$f":"VLOOKUP(B312,ceva_zone!A:C,3,FALSE)","v":"B"}]
["01843","MA","C","standard",{"$f":"VLOOKUP(B313,ceva_zone!A:B,2,FALSE)","v":"F"},{"$f":"VLOOKUP(B313,ceva_zone!A:C,3,FALSE)","v":"B"}]
["01842","MA","D","standard",{"$f":"VLOOKUP(B314,ceva_zone!A:B,2,FALSE)","v":"F"},{"$f":"VLOOKUP(B314,ceva_zone!A:C,3,FALSE)","v":"B"}]
["01841","MA","D","standard",{"$f":"VLOOKUP(B315,ceva_zone!A:B,2,FALSE)","v":"F"},{"$f":"VLOOKUP(B315,ceva_zone!A:C,3,FALSE)","v":"B"}]
["01840","MA","C","standard",{"$f":"VLOOKUP(B316,ceva_zone!A:B,2,FALSE)","v":"F"},{"$f":"VLOOKUP(B316,ceva_zone!A:C,3,FALSE)","v":"B"}]
["01853","MA","Y","remote",{"$f":"VLOOKUP(B317,ceva_zone!A:B,2,FALSE)","v":"F"},{"$f":"VLOOKUP(B317,ceva_zone!A:C,3,FALSE)","v":"B"}]
["01854","MA","E","remote",{"$f":"VLOOKUP(B318,ceva_zone!A:B,2,FALSE)","v":"F"},{"$f":"VLOOKUP(B318,ceva_zone!A:C,3,FALSE)","v":"B"}]
["01852","MA","D","standard",{"$f":"VLOOKUP(B319,ceva_zone!A:B,2,FALSE)","v":"F"},{"$f":"VLOOKUP(B319,ceva_zone!A:C,3,FALSE)","v":"B"}]
["01850","MA","D","standard",{"$f":"VLOOKUP(B320,ceva_zone!A:B,2,FALSE)","v":"F"},{"$f":"VLOOKUP(B320,ceva_zone!A:C,3,FALSE)","v":"B"}]
["01851","MA","E","remote",{"$f":"VLOOKUP(B321,ceva_zone!A:B,2,FALSE)","v":"F"},{"$f":"VLOOKUP(B321,ceva_zone!A:C,3,FALSE)","v":"B"}]
["01860","MA","E","remote",{"$f":"VLOOKUP(B322,ceva_zone!A:B,2,FALSE)","v":"F"},{"$f":"VLOOKUP(B322,ceva_zone!A:C,3,FALSE)","v":"B"}]
["01844","MA","D","standard",{"$f":"VLOOKUP(B323,ceva_zone!A:B,2,FALSE)","v":"F"},{"$f":"VLOOKUP(B323,ceva_zone!A:C,3,FALSE)","v":"B"}]
["01845","MA","B","standard",{"$f":"VLOOKUP(B324,ceva_zone!A:B,2,FALSE)","v":"F"},{"$f":"VLOOKUP(B324,ceva_zone!A:C,3,FALSE)","v":"B"}]
["01863","MA","E","remote",{"$f":"VLOOKUP(B325,ceva_zone!A:B,2,FALSE)","v":"F"},{"$f":"VLOOKUP(B325,ceva_zone!A:C,3,FALSE)","v":"B"}]
["01864","MA","B","standard",{"$f":"VLOOKUP(B326,ceva_zone!A:B,2,FALSE)","v":"F"},{"$f":"VLOOKUP(B326,ceva_zone!A:C,3,FALSE)","v":"B"}]
["01889","MA","B","standard",{"$f":"VLOOKUP(B327,ceva_zone!A:B,2,FALSE)","v":"F"},{"$f":"VLOOKUP(B327,ceva_zone!A:C,3,FALSE)","v":"B"}]
["01865","MA","C","standard",{"$f":"VLOOKUP(B328,ceva_zone!A:B,2,FALSE)","v":"F"},{"$f":"VLOOKUP(B328,ceva_zone!A:C,3,FALSE)","v":"B"}]
["01866","MA","C","standard",{"$f":"VLOOKUP(B329,ceva_zone!A:B,2,FALSE)","v":"F"},{"$f":"VLOOKUP(B329,ceva_zone!A:C,3,FALSE)","v":"B"}]
["01867","MA","A","standard",{"$f":"VLOOKUP(B330,ceva_zone!A:B,2,FALSE)","v":"F"},{"$f":"VLOOKUP(B330,ceva_zone!A:C,3,FALSE)","v":"B"}]
["01876","MA","C","standard",{"$f":"VLOOKUP(B331,ceva_zone!A:B,2,FALSE)","v":"F"},{"$f":"VLOOKUP(B331,ceva_zone!A:C,3,FALSE)","v":"B"}]
["01879","MA","E","remote",{"$f":"VLOOKUP(B332,ceva_zone!A:B,2,FALSE)","v":"F"},{"$f":"VLOOKUP(B332,ceva_zone!A:C,3,FALSE)","v":"B"}]
["01880","MA","A","standard",{"$f":"VLOOKUP(B333,ceva_zone!A:B,2,FALSE)","v":"F"},{"$f":"VLOOKUP(B333,ceva_zone!A:C,3,FALSE)","v":"B"}]
["01885","MA","C","standard",{"$f":"VLOOKUP(B334,ceva_zone!A:B,2,FALSE)","v":"F"},{"$f":"VLOOKUP(B334,ceva_zone!A:C,3,FALSE)","v":"B"}]
["01806","MA","A","standard",{"$f":"VLOOKUP(B335,ceva_zone!A:B,2,FALSE)","v":"F"},{"$f":"VLOOKUP(B335,ceva_zone!A:C,3,FALSE)","v":"B"}]
["01887","MA","B","standard",{"$f":"VLOOKUP(B336,ceva_zone!A:B,2,FALSE)","v":"F"},{"$f":"VLOOKUP(B336,ceva_zone!A:C,3,FALSE)","v":"B"}]
["01890","MA","B","standard",{"$f":"VLOOKUP(B337,ceva_zone!A:B,2,FALSE)","v":"F"},{"$f":"VLOOKUP(B337,ceva_zone!A:C,3,FALSE)","v":"B"}]
["01813","MA","B","standard",{"$f":"VLOOKUP(B338,ceva_zone!A:B,2,FALSE)","v":"F"},{"$f":"VLOOKUP(B338,ceva_zone!A:C,3,FALSE)","v":"B"}]
["01888","MA","B","standard",{"$f":"VLOOKUP(B339,ceva_zone!A:B,2,FALSE)","v":"F"},{"$f":"VLOOKUP(B339,ceva_zone!A:C,3,FALSE)","v":"B"}]
["01801","MA","C","standard",{"$f":"VLOOKUP(B340,ceva_zone!A:B,2,FALSE)","v":"F"},{"$f":"VLOOKUP(B340,ceva_zone!A:C,3,FALSE)","v":"B"}]
["01815","MA","B","standard",{"$f":"VLOOKUP(B341,ceva_zone!A:B,2,FALSE)","v":"F"},{"$f":"VLOOKUP(B341,ceva_zone!A:C,3,FALSE)","v":"B"}]
["01807","MA","A","standard",{"$f":"VLOOKUP(B342,ceva_zone!A:B,2,FALSE)","v":"F"},{"$f":"VLOOKUP(B342,ceva_zone!A:C,3,FALSE)","v":"B"}]
["01903","MA","A","standard",{"$f":"VLOOKUP(B343,ceva_zone!A:B,2,FALSE)","v":"F"},{"$f":"VLOOKUP(B343,ceva_zone!A:C,3,FALSE)","v":"B"}]
["01913","MA","D","standard",{"$f":"VLOOKUP(B344,ceva_zone!A:B,2,FALSE)","v":"F"},{"$f":"VLOOKUP(B344,ceva_zone!A:C,3,FALSE)","v":"B"}]
["01915","MA","A","standard",{"$f":"VLOOKUP(B345,ceva_zone!A:B,2,FALSE)","v":"F"},{"$f":"VLOOKUP(B345,ceva_zone!A:C,3,FALSE)","v":"B"}]
["01921","MA","B","standard",{"$f":"VLOOKUP(B346,ceva_zone!A:B,2,FALSE)","v":"F"},{"$f":"VLOOKUP(B346,ceva_zone!A:C,3,FALSE)","v":"B"}]
["01922","MA","C","standard",{"$f":"VLOOKUP(B347,ceva_zone!A:B,2,FALSE)","v":"F"},{"$f":"VLOOKUP(B347,ceva_zone!A:C,3,FALSE)","v":"B"}]
["01923","MA","A","standard",{"$f":"VLOOKUP(B348,ceva_zone!A:B,2,FALSE)","v":"F"},{"$f":"VLOOKUP(B348,ceva_zone!A:C,3,FALSE)","v":"B"}]
["01904","MA","A","standard",{"$f":"VLOOKUP(B349,ceva_zone!A:B,2,FALSE)","v":"F"},{"$f":"VLOOKUP(B349,ceva_zone!A:C,3,FALSE)","v":"B"}]
["01929","MA","B","standard",{"$f":"VLOOKUP(B350,ceva_zone!A:B,2,FALSE)","v":"F"},{"$f":"VLOOKUP(B350,ceva_zone!A:C,3,FALSE)","v":"B"}]
["01931","MA","C","standard",{"$f":"VLOOKUP(B351,ceva_zone!A:B,2,FALSE)","v":"F"},{"$f":"VLOOKUP(B351,ceva_zone!A:C,3,FALSE)","v":"B"}]
["01930","MA","C","standard",{"$f":"VLOOKUP(B352,ceva_zone!A:B,2,FALSE)","v":"F"},{"$f":"VLOOKUP(B352,ceva_zone!A:C,3,FALSE)","v":"B"}]
["01936","MA","A","standard",{"$f":"VLOOKUP(B353,ceva_zone!A:B,2,FALSE)","v":"F"},{"$f":"VLOOKUP(B353,ceva_zone!A:C,3,FALSE)","v":"B"}]
["01937","MA","A","standard",{"$f":"VLOOKUP(B354,ceva_zone!A:B,2,FALSE)","v":"F"},{"$f":"VLOOKUP(B354,ceva_zone!A:C,3,FALSE)","v":"B"}]
["01938","MA","B","standard",{"$f":"VLOOKUP(B355,ceva_zone!A:B,2,FALSE)","v":"F"},{"$f":"VLOOKUP(B355,ceva_zone!A:C,3,FALSE)","v":"B"}]
["01910","MA","A","standard",{"$f":"VLOOKUP(B356,ceva_zone!A:B,2,FALSE)","v":"F"},{"$f":"VLOOKUP(B356,ceva_zone!A:C,3,FALSE)","v":"B"}]
["01905","MA","A","standard",{"$f":"VLOOKUP(B357,ceva_zone!A:B,2,FALSE)","v":"F"},{"$f":"VLOOKUP(B357,ceva_zone!A:C,3,FALSE)","v":"B"}]
["01901","MA","A","standard",{"$f":"VLOOKUP(B358,ceva_zone!A:B,2,FALSE)","v":"F"},{"$f":"VLOOKUP(B358,ceva_zone!A:C,3,FALSE)","v":"B"}]
["01902","MA","A","standard",{"$f":"VLOOKUP(B359,ceva_zone!A:B,2,FALSE)","v":"F"},{"$f":"VLOOKUP(B359,ceva_zone!A:C,3,FALSE)","v":"B"}]
["01940","MA","A","standard",{"$f":"VLOOKUP(B360,ceva_zone!A:B,2,FALSE)","v":"F"},{"$f":"VLOOKUP(B360,ceva_zone!A:C,3,FALSE)","v":"B"}]
["01944","MA","A","standard",{"$f":"VLOOKUP(B361,ceva_zone!A:B,2,FALSE)","v":"F"},{"$f":"VLOOKUP(B361,ceva_zone!A:C,3,FALSE)","v":"B"}]
["01945","MA","A","standard",{"$f":"VLOOKUP(B362,ceva_zone!A:B,2,FALSE)","v":"F"},{"$f":"VLOOKUP(B362,ceva_zone!A:C,3,FALSE)","v":"B"}]
["01976","MA","A","standard",{"$f":"VLOOKUP(B363,ceva_zone!A:B,2,FALSE)","v":"F"},{"$f":"VLOOKUP(B363,ceva_zone!A:C,3,FALSE)","v":"B"}]
["01949","MA","A","standard",{"$f":"VLOOKUP(B364,ceva_zone!A:B,2,FALSE)","v":"F"},{"$f":"VLOOKUP(B364,ceva_zone!A:C,3,FALSE)","v":"B"}]
["01908","MA","A","standard",{"$f":"VLOOKUP(B365,ceva_zone!A:B,2,FALSE)","v":"F"},{"$f":"VLOOKUP(B365,ceva_zone!A:C,3,FALSE)","v":"B"}]
["01951","MA","D","standard",{"$f":"VLOOKUP(B366,ceva_zone!A:B,2,FALSE)","v":"F"},{"$f":"VLOOKUP(B366,ceva_zone!A:C,3,FALSE)","v":"B"}]
["01950","MA","E","remote",{"$f":"VLOOKUP(B367,ceva_zone!A:B,2,FALSE)","v":"F"},{"$f":"VLOOKUP(B367,ceva_zone!A:C,3,FALSE)","v":"B"}]
["01960","MA","A","standard",{"$f":"VLOOKUP(B368,ceva_zone!A:B,2,FALSE)","v":"F"},{"$f":"VLOOKUP(B368,ceva_zone!A:C,3,FALSE)","v":"B"}]
["01961","MA","A","standard",{"$f":"VLOOKUP(B369,ceva_zone!A:B,2,FALSE)","v":"F"},{"$f":"VLOOKUP(B369,ceva_zone!A:C,3,FALSE)","v":"B"}]
["01966","MA","C","standard",{"$f":"VLOOKUP(B370,ceva_zone!A:B,2,FALSE)","v":"F"},{"$f":"VLOOKUP(B370,ceva_zone!A:C,3,FALSE)","v":"B"}]
["01965","MA","A","standard",{"$f":"VLOOKUP(B371,ceva_zone!A:B,2,FALSE)","v":"F"},{"$f":"VLOOKUP(B371,ceva_zone!A:C,3,FALSE)","v":"B"}]
["01969","MA","C","standard",{"$f":"VLOOKUP(B372,ceva_zone!A:B,2,FALSE)","v":"F"},{"$f":"VLOOKUP(B372,ceva_zone!A:C,3,FALSE)","v":"B"}]
["01971","MA","A","standard",{"$f":"VLOOKUP(B373,ceva_zone!A:B,2,FALSE)","v":"F"},{"$f":"VLOOKUP(B373,ceva_zone!A:C,3,FALSE)","v":"B"}]
["01970","MA","A","standard",{"$f":"VLOOKUP(B374,ceva_zone!A:B,2,FALSE)","v":"F"},{"$f":"VLOOKUP(B374,ceva_zone!A:C,3,FALSE)","v":"B"}]
["01952","MA","D","standard",{"$f":"VLOOKUP(B375,ceva_zone!A:B,2,FALSE)","v":"F"},{"$f":"VLOOKUP(B375,ceva_zone!A:C,3,FALSE)","v":"B"}]
["01906","MA","A","standard",{"$f":"VLOOKUP(B376,ceva_zone!A:B,2,FALSE)","v":"F"},{"$f":"VLOOKUP(B376,ceva_zone!A:C,3,FALSE)","v":"B"}]
["01982","MA","B","standard",{"$f":"VLOOKUP(B377,ceva_zone!A:B,2,FALSE)","v":"F"},{"$f":"VLOOKUP(B377,ceva_zone!A:C,3,FALSE)","v":"B"}]
["01907","MA","A","standard",{"$f":"VLOOKUP(B378,ceva_zone!A:B,2,FALSE)","v":"F"},{"$f":"VLOOKUP(B378,ceva_zone!A:C,3,FALSE)","v":"B"}]
["01983","MA","B","standard",{"$f":"VLOOKUP(B379,ceva_zone!A:B,2,FALSE)","v":"F"},{"$f":"VLOOKUP(B379,ceva_zone!A:C,3,FALSE)","v":"B"}]
["01984","MA","A","standard",{"$f":"VLOOKUP(B380,ceva_zone!A:B,2,FALSE)","v":"F"},{"$f":"VLOOKUP(B380,ceva_zone!A:C,3,FALSE)","v":"B"}]
["01985","MA","D","standard",{"$f":"VLOOKUP(B381,ceva_zone!A:B,2,FALSE)","v":"F"},{"$f":"VLOOKUP(B381,ceva_zone!A:C,3,FALSE)","v":"B"}]
["02018","MA","D","standard",{"$f":"VLOOKUP(B382,ceva_zone!A:B,2,FALSE)","v":"F"},{"$f":"VLOOKUP(B382,ceva_zone!A:C,3,FALSE)","v":"B"}]
["02019","MA","G","remote",{"$f":"VLOOKUP(B383,ceva_zone!A:B,2,FALSE)","v":"F"},{"$f":"VLOOKUP(B383,ceva_zone!A:C,3,FALSE)","v":"B"}]
["02020","MA","G","remote",{"$f":"VLOOKUP(B384,ceva_zone!A:B,2,FALSE)","v":"F"},{"$f":"VLOOKUP(B384,ceva_zone!A:C,3,FALSE)","v":"B"}]
["02021","MA","F","remote",{"$f":"VLOOKUP(B385,ceva_zone!A:B,2,FALSE)","v":"F"},{"$f":"VLOOKUP(B385,ceva_zone!A:C,3,FALSE)","v":"B"}]
["02025","MA","E","remote",{"$f":"VLOOKUP(B386,ceva_zone!A:B,2,FALSE)","v":"F"},{"$f":"VLOOKUP(B386,ceva_zone!A:C,3,FALSE)","v":"B"}]
["02026","MA","F","remote",{"$f":"VLOOKUP(B387,ceva_zone!A:B,2,FALSE)","v":"F"},{"$f":"VLOOKUP(B387,ceva_zone!A:C,3,FALSE)","v":"B"}]
["02027","MA","E","remote",{"$f":"VLOOKUP(B388,ceva_zone!A:B,2,FALSE)","v":"F"},{"$f":"VLOOKUP(B388,ceva_zone!A:C,3,FALSE)","v":"B"}]
["02030","MA","F","remote",{"$f":"VLOOKUP(B389,ceva_zone!A:B,2,FALSE)","v":"F"},{"$f":"VLOOKUP(B389,ceva_zone!A:C,3,FALSE)","v":"B"}]
["02032","MA","F","remote",{"$f":"VLOOKUP(B390,ceva_zone!A:B,2,FALSE)","v":"F"},{"$f":"VLOOKUP(B390,ceva_zone!A:C,3,FALSE)","v":"B"}]
["02031","MA","E","remote",{"$f":"VLOOKUP(B391,ceva_zone!A:B,2,FALSE)","v":"F"},{"$f":"VLOOKUP(B391,ceva_zone!A:C,3,FALSE)","v":"B"}]
["02035","MA","G","remote",{"$f":"VLOOKUP(B392,ceva_zone!A:B,2,FALSE)","v":"F"},{"$f":"VLOOKUP(B392,ceva_zone!A:C,3,FALSE)","v":"B"}]
["02038","MA","G","remote",{"$f":"VLOOKUP(B393,ceva_zone!A:B,2,FALSE)","v":"F"},{"$f":"VLOOKUP(B393,ceva_zone!A:C,3,FALSE)","v":"B"}]
["02041","MA","G","remote",{"$f":"VLOOKUP(B394,ceva_zone!A:B,2,FALSE)","v":"F"},{"$f":"VLOOKUP(B394,ceva_zone!A:C,3,FALSE)","v":"B"}]
["02040","MA","F","remote",{"$f":"VLOOKUP(B395,ceva_zone!A:B,2,FALSE)","v":"F"},{"$f":"VLOOKUP(B395,ceva_zone!A:C,3,FALSE)","v":"B"}]
["02043","MA","E","remote",{"$f":"VLOOKUP(B396,ceva_zone!A:B,2,FALSE)","v":"F"},{"$f":"VLOOKUP(B396,ceva_zone!A:C,3,FALSE)","v":"B"}]
["02044","MA","E","remote",{"$f":"VLOOKUP(B397,ceva_zone!A:B,2,FALSE)","v":"F"},{"$f":"VLOOKUP(B397,ceva_zone!A:C,3,FALSE)","v":"B"}]
["02045","MA","E","remote",{"$f":"VLOOKUP(B398,ceva_zone!A:B,2,FALSE)","v":"F"},{"$f":"VLOOKUP(B398,ceva_zone!A:C,3,FALSE)","v":"B"}]
["02047","MA","G","remote",{"$f":"VLOOKUP(B399,ceva_zone!A:B,2,FALSE)","v":"F"},{"$f":"VLOOKUP(B399,ceva_zone!A:C,3,FALSE)","v":"B"}]
["02048","MA","G","remote",{"$f":"VLOOKUP(B400,ceva_zone!A:B,2,FALSE)","v":"F"},{"$f":"VLOOKUP(B400,ceva_zone!A:C,3,FALSE)","v":"B"}]
["02050","MA","F","remote",{"$f":"VLOOKUP(B401,ceva_zone!A:B,2,FALSE)","v":"F"},{"$f":"VLOOKUP(B401,ceva_zone!A:C,3,FALSE)","v":"B"}]
["02065","MA","D","standard",{"$f":"VLOOKUP(B402,ceva_zone!A:B,2,FALSE)","v":"F"},{"$f":"VLOOKUP(B402,ceva_zone!A:C,3,FALSE)","v":"B"}]
["02051","MA","F","remote",{"$f":"VLOOKUP(B403,ceva_zone!A:B,2,FALSE)","v":"F"},{"$f":"VLOOKUP(B403,ceva_zone!A:C,3,FALSE)","v":"B"}]
["02052","MA","F","remote",{"$f":"VLOOKUP(B404,ceva_zone!A:B,2,FALSE)","v":"F"},{"$f":"VLOOKUP(B404,ceva_zone!A:C,3,FALSE)","v":"B"}]
["02053","MA","F","remote",{"$f":"VLOOKUP(B405,ceva_zone!A:B,2,FALSE)","v":"F"},{"$f":"VLOOKUP(B405,ceva_zone!A:C,3,FALSE)","v":"B"}]
["02054","MA","F","remote",{"$f":"VLOOKUP(B406,ceva_zone!A:B,2,FALSE)","v":"F"},{"$f":"VLOOKUP(B406,ceva_zone!A:C,3,FALSE)","v":"B"}]
["02055","MA","E","remote",{"$f":"VLOOKUP(B407,ceva_zone!A:B,2,FALSE)","v":"F"},{"$f":"VLOOKUP(B407,ceva_zone!A:C,3,FALSE)","v":"B"}]
["02059","MA","A","standard",{"$f":"VLOOKUP(B408,ceva_zone!A:B,2,FALSE)","v":"F"},{"$f":"VLOOKUP(B408,ceva_zone!A:C,3,FALSE)","v":"B"}]
["02056","MA","G","remote",{"$f":"VLOOKUP(B409,ceva_zone!A:B,2,FALSE)","v":"F"},{"$f":"VLOOKUP(B409,ceva_zone!A:C,3,FALSE)","v":"B"}]
["02060","MA","E","remote",{"$f":"VLOOKUP(B410,ceva_zone!A:B,2,FALSE)","v":"F"},{"$f":"VLOOKUP(B410,ceva_zone!A:C,3,FALSE)","v":"B"}]
["02061","MA","D","standard",{"$f":"VLOOKUP(B411,ceva_zone!A:B,2,FALSE)","v":"F"},{"$f":"VLOOKUP(B411,ceva_zone!A:C,3,FALSE)","v":"B"}]
["02062","MA","A","standard",{"$f":"VLOOKUP(B412,ceva_zone!A:B,2,FALSE)","v":"F"},{"$f":"VLOOKUP(B412,ceva_zone!A:C,3,FALSE)","v":"B"}]
["02071","MA","A","standard",{"$f":"VLOOKUP(B413,ceva_zone!A:B,2,FALSE)","v":"F"},{"$f":"VLOOKUP(B413,ceva_zone!A:C,3,FALSE)","v":"B"}]
["02066","MA","C","standard",{"$f":"VLOOKUP(B414,ceva_zone!A:B,2,FALSE)","v":"F"},{"$f":"VLOOKUP(B414,ceva_zone!A:C,3,FALSE)","v":"B"}]
["02067","MA","A","standard",{"$f":"VLOOKUP(B415,ceva_zone!A:B,2,FALSE)","v":"F"},{"$f":"VLOOKUP(B415,ceva_zone!A:C,3,FALSE)","v":"B"}]
["02070","MA","C","standard",{"$f":"VLOOKUP(B416,ceva_zone!A:B,2,FALSE)","v":"F"},{"$f":"VLOOKUP(B416,ceva_zone!A:C,3,FALSE)","v":"B"}]
["02072","MA","D","standard",{"$f":"VLOOKUP(B417,ceva_zone!A:B,2,FALSE)","v":"F"},{"$f":"VLOOKUP(B417,ceva_zone!A:C,3,FALSE)","v":"B"}]
["02081","MA","A","standard",{"$f":"VLOOKUP(B418,ceva_zone!A:B,2,FALSE)","v":"F"},{"$f":"VLOOKUP(B418,ceva_zone!A:C,3,FALSE)","v":"B"}]
["02090","MA","D","standard",{"$f":"VLOOKUP(B419,ceva_zone!A:B,2,FALSE)","v":"F"},{"$f":"VLOOKUP(B419,ceva_zone!A:C,3,FALSE)","v":"B"}]
["02079","MA","N","remote",{"$f":"VLOOKUP(B420,ceva_zone!A:B,2,FALSE)","v":"F"},{"$f":"VLOOKUP(B420,ceva_zone!A:C,3,FALSE)","v":"B"}]
["02093","MA","D","standard",{"$f":"VLOOKUP(B421,ceva_zone!A:B,2,FALSE)","v":"F"},{"$f":"VLOOKUP(B421,ceva_zone!A:C,3,FALSE)","v":"B"}]
["02134","MA","Y","remote",{"$f":"VLOOKUP(B422,ceva_zone!A:B,2,FALSE)","v":"F"},{"$f":"VLOOKUP(B422,ceva_zone!A:C,3,FALSE)","v":"B"}]
["02167","MA","Y","remote",{"$f":"VLOOKUP(B423,ceva_zone!A:B,2,FALSE)","v":"F"},{"$f":"VLOOKUP(B423,ceva_zone!A:C,3,FALSE)","v":"B"}]
["02151","MA","A","standard",{"$f":"VLOOKUP(B424,ceva_zone!A:B,2,FALSE)","v":"F"},{"$f":"VLOOKUP(B424,ceva_zone!A:C,3,FALSE)","v":"B"}]
["02114","MA","Y","remote",{"$f":"VLOOKUP(B425,ceva_zone!A:B,2,FALSE)","v":"F"},{"$f":"VLOOKUP(B425,ceva_zone!A:C,3,FALSE)","v":"B"}]
["02115","MA","Y","remote",{"$f":"VLOOKUP(B426,ceva_zone!A:B,2,FALSE)","v":"F"},{"$f":"VLOOKUP(B426,ceva_zone!A:C,3,FALSE)","v":"B"}]
["02116","MA","Y","remote",{"$f":"VLOOKUP(B427,ceva_zone!A:B,2,FALSE)","v":"F"},{"$f":"VLOOKUP(B427,ceva_zone!A:C,3,FALSE)","v":"B"}]
["02117","MA","Y","remote",{"$f":"VLOOKUP(B428,ceva_zone!A:B,2,FALSE)","v":"F"},{"$f":"VLOOKUP(B428,ceva_zone!A:C,3,FALSE)","v":"B"}]
["02118","MA","Y","remote",{"$f":"VLOOKUP(B429,ceva_zone!A:B,2,FALSE)","v":"F"},{"$f":"VLOOKUP(B429,ceva_zone!A:C,3,FALSE)","v":"B"}]
["02119","MA","Y","remote",{"$f":"VLOOKUP(B430,ceva_zone!A:B,2,FALSE)","v":"F"},{"$f":"VLOOKUP(B430,ceva_zone!A:C,3,FALSE)","v":"B"}]
["02120","MA","R","remote",{"$f":"VLOOKUP(B431,ceva_zone!A:B,2,FALSE)","v":"F"},{"$f":"VLOOKUP(B431,ceva_zone!A:C,3,FALSE)","v":"B"}]
["02121","MA","L","remote",{"$f":"VLOOKUP(B432,ceva_zone!A:B,2,FALSE)","v":"F"},{"$f":"VLOOKUP(B432,ceva_zone!A:C,3,FALSE)","v":"B"}]
["02122","MA","L","remote",{"$f":"VLOOKUP(B433,ceva_zone!A:B,2,FALSE)","v":"F"},{"$f":"VLOOKUP(B433,ceva_zone!A:C,3,FALSE)","v":"B"}]
["02113","MA","Y","remote",{"$f":"VLOOKUP(B434,ceva_zone!A:B,2,FALSE)","v":"F"},{"$f":"VLOOKUP(B434,ceva_zone!A:C,3,FALSE)","v":"B"}]
["02112","MA","Y","remote",{"$f":"VLOOKUP(B435,ceva_zone!A:B,2,FALSE)","v":"F"},{"$f":"VLOOKUP(B435,ceva_zone!A:C,3,FALSE)","v":"B"}]
["02111","MA","Y","remote",{"$f":"VLOOKUP(B436,ceva_zone!A:B,2,FALSE)","v":"F"},{"$f":"VLOOKUP(B436,ceva_zone!A:C,3,FALSE)","v":"B"}]
["02163","MA","L","remote",{"$f":"VLOOKUP(B437,ceva_zone!A:B,2,FALSE)","v":"F"},{"$f":"VLOOKUP(B437,ceva_zone!A:C,3,FALSE)","v":"B"}]
["02110","MA","Y","remote",{"$f":"VLOOKUP(B438,ceva_zone!A:B,2,FALSE)","v":"F"},{"$f":"VLOOKUP(B438,ceva_zone!A:C,3,FALSE)","v":"B"}]
["02124","MA","L","remote",{"$f":"VLOOKUP(B439,ceva_zone!A:B,2,FALSE)","v":"F"},{"$f":"VLOOKUP(B439,ceva_zone!A:C,3,FALSE)","v":"B"}]
["02125","MA","Y","remote",{"$f":"VLOOKUP(B440,ceva_zone!A:B,2,FALSE)","v":"F"},{"$f":"VLOOKUP(B440,ceva_zone!A:C,3,FALSE)","v":"B"}]
["02126","MA","L","remote",{"$f":"VLOOKUP(B441,ceva_zone!A:B,2,FALSE)","v":"F"},{"$f":"VLOOKUP(B441,ceva_zone!A:C,3,FALSE)","v":"B"}]
["02127","MA","Y","remote",{"$f":"VLOOKUP(B442,ceva_zone!A:B,2,FALSE)","v":"F"},{"$f":"VLOOKUP(B442,ceva_zone!A:C,3,FALSE)","v":"B"}]
["02128","MA","Y","remote",{"$f":"VLOOKUP(B443,ceva_zone!A:B,2,FALSE)","v":"F"},{"$f":"VLOOKUP(B443,ceva_zone!A:C,3,FALSE)","v":"B"}]
["02129","MA","Y","remote",{"$f":"VLOOKUP(B444,ceva_zone!A:B,2,FALSE)","v":"F"},{"$f":"VLOOKUP(B444,ceva_zone!A:C,3,FALSE)","v":"B"}]
["02130","MA","L","remote",{"$f":"VLOOKUP(B445,ceva_zone!A:B,2,FALSE)","v":"F"},{"$f":"VLOOKUP(B445,ceva_zone!A:C,3,FALSE)","v":"B"}]
["02131","MA","L","remote",{"$f":"VLOOKUP(B446,ceva_zone!A:B,2,FALSE)","v":"F"},{"$f":"VLOOKUP(B446,ceva_zone!A:C,3,FALSE)","v":"B"}]
["02132","MA","A","standard",{"$f":"VLOOKUP(B447,ceva_zone!A:B,2,FALSE)","v":"F"},{"$f":"VLOOKUP(B447,ceva_zone!A:C,3,FALSE)","v":"B"}]
["02133","MA","Y","remote",{"$f":"VLOOKUP(B448,ceva_zone!A:B,2,FALSE)","v":"F"},{"$f":"VLOOKUP(B448,ceva_zone!A:C,3,FALSE)","v":"B"}]
["02135","MA","L","remote",{"$f":"VLOOKUP(B449,ceva_zone!A:B,2,FALSE)","v":"F"},{"$f":"VLOOKUP(B449,ceva_zone!A:C,3,FALSE)","v":"B"}]
["02136","MA","A","standard",{"$f":"VLOOKUP(B450,ceva_zone!A:B,2,FALSE)","v":"F"},{"$f":"VLOOKUP(B450,ceva_zone!A:C,3,FALSE)","v":"B"}]
["02137","MA","Y","remote",{"$f":"VLOOKUP(B451,ceva_zone!A:B,2,FALSE)","v":"F"},{"$f":"VLOOKUP(B451,ceva_zone!A:C,3,FALSE)","v":"B"}]
["02108","MA","L","remote",{"$f":"VLOOKUP(B452,ceva_zone!A:B,2,FALSE)","v":"F"},{"$f":"VLOOKUP(B452,ceva_zone!A:C,3,FALSE)","v":"B"}]
["02199","MA","Y","remote",{"$f":"VLOOKUP(B453,ceva_zone!A:B,2,FALSE)","v":"F"},{"$f":"VLOOKUP(B453,ceva_zone!A:C,3,FALSE)","v":"B"}]
["02109","MA","Y","remote",{"$f":"VLOOKUP(B454,ceva_zone!A:B,2,FALSE)","v":"F"},{"$f":"VLOOKUP(B454,ceva_zone!A:C,3,FALSE)","v":"B"}]
["02184","MA","E","remote",{"$f":"VLOOKUP(B455,ceva_zone!A:B,2,FALSE)","v":"F"},{"$f":"VLOOKUP(B455,ceva_zone!A:C,3,FALSE)","v":"B"}]
["02185","MA","Y","remote",{"$f":"VLOOKUP(B456,ceva_zone!A:B,2,FALSE)","v":"F"},{"$f":"VLOOKUP(B456,ceva_zone!A:C,3,FALSE)","v":"B"}]
["02142","MA","Y","remote",{"$f":"VLOOKUP(B457,ceva_zone!A:B,2,FALSE)","v":"F"},{"$f":"VLOOKUP(B457,ceva_zone!A:C,3,FALSE)","v":"B"}]
["02141","MA","Y","remote",{"$f":"VLOOKUP(B458,ceva_zone!A:B,2,FALSE)","v":"F"},{"$f":"VLOOKUP(B458,ceva_zone!A:C,3,FALSE)","v":"B"}]
["02140","MA","L","remote",{"$f":"VLOOKUP(B459,ceva_zone!A:B,2,FALSE)","v":"F"},{"$f":"VLOOKUP(B459,ceva_zone!A:C,3,FALSE)","v":"B"}]
["02138","MA","Y","remote",{"$f":"VLOOKUP(B460,ceva_zone!A:B,2,FALSE)","v":"F"},{"$f":"VLOOKUP(B460,ceva_zone!A:C,3,FALSE)","v":"B"}]
["02139","MA","Y","remote",{"$f":"VLOOKUP(B461,ceva_zone!A:B,2,FALSE)","v":"F"},{"$f":"VLOOKUP(B461,ceva_zone!A:C,3,FALSE)","v":"B"}]
["02150","MA","Y","remote",{"$f":"VLOOKUP(B462,ceva_zone!A:B,2,FALSE)","v":"F"},{"$f":"VLOOKUP(B462,ceva_zone!A:C,3,FALSE)","v":"B"}]
["02152","MA","Y","remote",{"$f":"VLOOKUP(B463,ceva_zone!A:B,2,FALSE)","v":"F"},{"$f":"VLOOKUP(B463,ceva_zone!A:C,3,FALSE)","v":"B"}]
["02143","MA","L","remote",{"$f":"VLOOKUP(B464,ceva_zone!A:B,2,FALSE)","v":"F"},{"$f":"VLOOKUP(B464,ceva_zone!A:C,3,FALSE)","v":"B"}]
["02186","MA","E","remote",{"$f":"VLOOKUP(B465,ceva_zone!A:B,2,FALSE)","v":"F"},{"$f":"VLOOKUP(B465,ceva_zone!A:C,3,FALSE)","v":"B"}]
["02196","RI","Y","remote",{"$f":"VLOOKUP(B466,ceva_zone!A:B,2,FALSE)","v":"F"},{"$f":"VLOOKUP(B466,ceva_zone!A:C,3,FALSE)","v":"B"}]
["02189","MA","B","standard",{"$f":"VLOOKUP(B467,ceva_zone!A:B,2,FALSE)","v":"F"},{"$f":"VLOOKUP(B467,ceva_zone!A:C,3,FALSE)","v":"B"}]
["02149","MA","Y","remote",{"$f":"VLOOKUP(B468,ceva_zone!A:B,2,FALSE)","v":"F"},{"$f":"VLOOKUP(B468,ceva_zone!A:C,3,FALSE)","v":"B"}]
["02180","MA","Y","remote",{"$f":"VLOOKUP(B469,ceva_zone!A:B,2,FALSE)","v":"F"},{"$f":"VLOOKUP(B469,ceva_zone!A:C,3,FALSE)","v":"B"}]
["02123","MA","Y","remote",{"$f":"VLOOKUP(B470,ceva_zone!A:B,2,FALSE)","v":"F"},{"$f":"VLOOKUP(B470,ceva_zone!A:C,3,FALSE)","v":"B"}]
["02169","MA","E","remote",{"$f":"VLOOKUP(B471,ceva_zone!A:B,2,FALSE)","v":"F"},{"$f":"VLOOKUP(B471,ceva_zone!A:C,3,FALSE)","v":"B"}]
["02148","MA","Y","remote",{"$f":"VLOOKUP(B472,ceva_zone!A:B,2,FALSE)","v":"F"},{"$f":"VLOOKUP(B472,ceva_zone!A:C,3,FALSE)","v":"B"}]
["02171","MA","L","remote",{"$f":"VLOOKUP(B473,ceva_zone!A:B,2,FALSE)","v":"F"},{"$f":"VLOOKUP(B473,ceva_zone!A:C,3,FALSE)","v":"B"}]
["02153","MA","B","standard",{"$f":"VLOOKUP(B474,ceva_zone!A:B,2,FALSE)","v":"F"},{"$f":"VLOOKUP(B474,ceva_zone!A:C,3,FALSE)","v":"B"}]
["02155","MA","Y","remote",{"$f":"VLOOKUP(B475,ceva_zone!A:B,2,FALSE)","v":"F"},{"$f":"VLOOKUP(B475,ceva_zone!A:C,3,FALSE)","v":"B"}]
["02176","MA","Y","remote",{"$f":"VLOOKUP(B476,ceva_zone!A:B,2,FALSE)","v":"F"},{"$f":"VLOOKUP(B476,ceva_zone!A:C,3,FALSE)","v":"B"}]
["02187","MA","E","remote",{"$f":"VLOOKUP(B477,ceva_zone!A:B,2,FALSE)","v":"F"},{"$f":"VLOOKUP(B477,ceva_zone!A:C,3,FALSE)","v":"B"}]
["02191","MA","E","remote",{"$f":"VLOOKUP(B478,ceva_zone!A:B,2,FALSE)","v":"F"},{"$f":"VLOOKUP(B478,ceva_zone!A:C,3,FALSE)","v":"B"}]
["02170","MA","L","remote",{"$f":"VLOOKUP(B479,ceva_zone!A:B,2,FALSE)","v":"F"},{"$f":"VLOOKUP(B479,ceva_zone!A:C,3,FALSE)","v":"B"}]
["02190","MA","D","standard",{"$f":"VLOOKUP(B480,ceva_zone!A:B,2,FALSE)","v":"F"},{"$f":"VLOOKUP(B480,ceva_zone!A:C,3,FALSE)","v":"B"}]
["02145","MA","Y","remote",{"$f":"VLOOKUP(B481,ceva_zone!A:B,2,FALSE)","v":"F"},{"$f":"VLOOKUP(B481,ceva_zone!A:C,3,FALSE)","v":"B"}]
["02144","MA","L","remote",{"$f":"VLOOKUP(B482,ceva_zone!A:B,2,FALSE)","v":"F"},{"$f":"VLOOKUP(B482,ceva_zone!A:C,3,FALSE)","v":"B"}]
["02156","MA","Y","remote",{"$f":"VLOOKUP(B483,ceva_zone!A:B,2,FALSE)","v":"F"},{"$f":"VLOOKUP(B483,ceva_zone!A:C,3,FALSE)","v":"B"}]
["02188","MA","A","standard",{"$f":"VLOOKUP(B484,ceva_zone!A:B,2,FALSE)","v":"F"},{"$f":"VLOOKUP(B484,ceva_zone!A:C,3,FALSE)","v":"B"}]
["02201","MA","Y","remote",{"$f":"VLOOKUP(B485,ceva_zone!A:B,2,FALSE)","v":"F"},{"$f":"VLOOKUP(B485,ceva_zone!A:C,3,FALSE)","v":"B"}]
["02298","MA","B","standard",{"$f":"VLOOKUP(B486,ceva_zone!A:B,2,FALSE)","v":"F"},{"$f":"VLOOKUP(B486,ceva_zone!A:C,3,FALSE)","v":"B"}]
["02204","MA","Y","remote",{"$f":"VLOOKUP(B487,ceva_zone!A:B,2,FALSE)","v":"F"},{"$f":"VLOOKUP(B487,ceva_zone!A:C,3,FALSE)","v":"B"}]
["02205","MA","O","remote",{"$f":"VLOOKUP(B488,ceva_zone!A:B,2,FALSE)","v":"F"},{"$f":"VLOOKUP(B488,ceva_zone!A:C,3,FALSE)","v":"B"}]
["02206","MA","Y","remote",{"$f":"VLOOKUP(B489,ceva_zone!A:B,2,FALSE)","v":"F"},{"$f":"VLOOKUP(B489,ceva_zone!A:C,3,FALSE)","v":"B"}]
["02207","MA","Y","remote",{"$f":"VLOOKUP(B490,ceva_zone!A:B,2,FALSE)","v":"F"},{"$f":"VLOOKUP(B490,ceva_zone!A:C,3,FALSE)","v":"B"}]
["02210","MA","Y","remote",{"$f":"VLOOKUP(B491,ceva_zone!A:B,2,FALSE)","v":"F"},{"$f":"VLOOKUP(B491,ceva_zone!A:C,3,FALSE)","v":"B"}]
["02211","MA","Y","remote",{"$f":"VLOOKUP(B492,ceva_zone!A:B,2,FALSE)","v":"F"},{"$f":"VLOOKUP(B492,ceva_zone!A:C,3,FALSE)","v":"B"}]
["02212","MA","Y","remote",{"$f":"VLOOKUP(B493,ceva_zone!A:B,2,FALSE)","v":"F"},{"$f":"VLOOKUP(B493,ceva_zone!A:C,3,FALSE)","v":"B"}]
["02215","MA","Y","remote",{"$f":"VLOOKUP(B494,ceva_zone!A:B,2,FALSE)","v":"F"},{"$f":"VLOOKUP(B494,ceva_zone!A:C,3,FALSE)","v":"B"}]
["02216","MA","Y","remote",{"$f":"VLOOKUP(B495,ceva_zone!A:B,2,FALSE)","v":"F"},{"$f":"VLOOKUP(B495,ceva_zone!A:C,3,FALSE)","v":"B"}]
["02217","MA","Y","remote",{"$f":"VLOOKUP(B496,ceva_zone!A:B,2,FALSE)","v":"F"},{"$f":"VLOOKUP(B496,ceva_zone!A:C,3,FALSE)","v":"B"}]
["02222","MA","Y","remote",{"$f":"VLOOKUP(B497,ceva_zone!A:B,2,FALSE)","v":"F"},{"$f":"VLOOKUP(B497,ceva_zone!A:C,3,FALSE)","v":"B"}]
["02203","MA","Y","remote",{"$f":"VLOOKUP(B498,ceva_zone!A:B,2,FALSE)","v":"F"},{"$f":"VLOOKUP(B498,ceva_zone!A:C,3,FALSE)","v":"B"}]
["02297","MA","Y","remote",{"$f":"VLOOKUP(B499,ceva_zone!A:B,2,FALSE)","v":"F"},{"$f":"VLOOKUP(B499,ceva_zone!A:C,3,FALSE)","v":"B"}]
["02295","MA","F","remote",{"$f":"VLOOKUP(B500,ceva_zone!A:B,2,FALSE)","v":"F"},{"$f":"VLOOKUP(B500,ceva_zone!A:C,3,FALSE)","v":"B"}]
["02293","MA","Y","remote",{"$f":"VLOOKUP(B501,ceva_zone!A:B,2,FALSE)","v":"F"},{"$f":"VLOOKUP(B501,ceva_zone!A:C,3,FALSE)","v":"B"}]
["02241","MA","Y","remote",{"$f":"VLOOKUP(B502,ceva_zone!A:B,2,FALSE)","v":"F"},{"$f":"VLOOKUP(B502,ceva_zone!A:C,3,FALSE)","v":"B"}]
["02266","MA","Y","remote",{"$f":"VLOOKUP(B503,ceva_zone!A:B,2,FALSE)","v":"F"},{"$f":"VLOOKUP(B503,ceva_zone!A:C,3,FALSE)","v":"B"}]
["02283","MA","Y","remote",{"$f":"VLOOKUP(B504,ceva_zone!A:B,2,FALSE)","v":"F"},{"$f":"VLOOKUP(B504,ceva_zone!A:C,3,FALSE)","v":"B"}]
["02284","MA","Y","remote",{"$f":"VLOOKUP(B505,ceva_zone!A:B,2,FALSE)","v":"F"},{"$f":"VLOOKUP(B505,ceva_zone!A:C,3,FALSE)","v":"B"}]
["02239","MA","F","remote",{"$f":"VLOOKUP(B506,ceva_zone!A:B,2,FALSE)","v":"F"},{"$f":"VLOOKUP(B506,ceva_zone!A:C,3,FALSE)","v":"B"}]
["02238","MA","Y","remote",{"$f":"VLOOKUP(B507,ceva_zone!A:B,2,FALSE)","v":"F"},{"$f":"VLOOKUP(B507,ceva_zone!A:C,3,FALSE)","v":"B"}]
["02228","MA","Y","remote",{"$f":"VLOOKUP(B508,ceva_zone!A:B,2,FALSE)","v":"F"},{"$f":"VLOOKUP(B508,ceva_zone!A:C,3,FALSE)","v":"B"}]
["02269","MA","E","remote",{"$f":"VLOOKUP(B509,ceva_zone!A:B,2,FALSE)","v":"F"},{"$f":"VLOOKUP(B509,ceva_zone!A:C,3,FALSE)","v":"B"}]
["02351","MA","D","standard",{"$f":"VLOOKUP(B510,ceva_zone!A:B,2,FALSE)","v":"F"},{"$f":"VLOOKUP(B510,ceva_zone!A:C,3,FALSE)","v":"B"}]
["02339","MA","A","standard",{"$f":"VLOOKUP(B511,ceva_zone!A:B,2,FALSE)","v":"F"},{"$f":"VLOOKUP(B511,ceva_zone!A:C,3,FALSE)","v":"B"}]
["02300","MA","N","remote",{"$f":"VLOOKUP(B512,ceva_zone!A:B,2,FALSE)","v":"F"},{"$f":"VLOOKUP(B512,ceva_zone!A:C,3,FALSE)","v":"B"}]
["02322","MA","D","standard",{"$f":"VLOOKUP(B513,ceva_zone!A:B,2,FALSE)","v":"F"},{"$f":"VLOOKUP(B513,ceva_zone!A:C,3,FALSE)","v":"B"}]
["02361","MA","D","standard",{"$f":"VLOOKUP(B514,ceva_zone!A:B,2,FALSE)","v":"F"},{"$f":"VLOOKUP(B514,ceva_zone!A:C,3,FALSE)","v":"B"}]
["02325","MA","A","standard",{"$f":"VLOOKUP(B515,ceva_zone!A:B,2,FALSE)","v":"F"},{"$f":"VLOOKUP(B515,ceva_zone!A:C,3,FALSE)","v":"B"}]
["02324","MA","A","standard",{"$f":"VLOOKUP(B516,ceva_zone!A:B,2,FALSE)","v":"F"},{"$f":"VLOOKUP(B516,ceva_zone!A:C,3,FALSE)","v":"B"}]
["02302","MA","C","standard",{"$f":"VLOOKUP(B517,ceva_zone!A:B,2,FALSE)","v":"F"},{"$f":"VLOOKUP(B517,ceva_zone!A:C,3,FALSE)","v":"B"}]
["02303","MA","A","standard",{"$f":"VLOOKUP(B518,ceva_zone!A:B,2,FALSE)","v":"F"},{"$f":"VLOOKUP(B518,ceva_zone!A:C,3,FALSE)","v":"B"}]
["02305","MA","B","standard",{"$f":"VLOOKUP(B519,ceva_zone!A:B,2,FALSE)","v":"F"},{"$f":"VLOOKUP(B519,ceva_zone!A:C,3,FALSE)","v":"B"}]
["02301","MA","A","standard",{"$f":"VLOOKUP(B520,ceva_zone!A:B,2,FALSE)","v":"F"},{"$f":"VLOOKUP(B520,ceva_zone!A:C,3,FALSE)","v":"B"}]
["02304","MA","B","standard",{"$f":"VLOOKUP(B521,ceva_zone!A:B,2,FALSE)","v":"F"},{"$f":"VLOOKUP(B521,ceva_zone!A:C,3,FALSE)","v":"B"}]
["02327","MA","A","standard",{"$f":"VLOOKUP(B522,ceva_zone!A:B,2,FALSE)","v":"F"},{"$f":"VLOOKUP(B522,ceva_zone!A:C,3,FALSE)","v":"B"}]
["02330","MA","D","standard",{"$f":"VLOOKUP(B523,ceva_zone!A:B,2,FALSE)","v":"F"},{"$f":"VLOOKUP(B523,ceva_zone!A:C,3,FALSE)","v":"B"}]
["02332","MA","A","standard",{"$f":"VLOOKUP(B524,ceva_zone!A:B,2,FALSE)","v":"F"},{"$f":"VLOOKUP(B524,ceva_zone!A:C,3,FALSE)","v":"B"}]
["02331","MA","D","standard",{"$f":"VLOOKUP(B525,ceva_zone!A:B,2,FALSE)","v":"F"},{"$f":"VLOOKUP(B525,ceva_zone!A:C,3,FALSE)","v":"B"}]
["02333","MA","A","standard",{"$f":"VLOOKUP(B526,ceva_zone!A:B,2,FALSE)","v":"F"},{"$f":"VLOOKUP(B526,ceva_zone!A:C,3,FALSE)","v":"B"}]
["02355","MA","D","standard",{"$f":"VLOOKUP(B527,ceva_zone!A:B,2,FALSE)","v":"F"},{"$f":"VLOOKUP(B527,ceva_zone!A:C,3,FALSE)","v":"B"}]
["02359","MA","A","standard",{"$f":"VLOOKUP(B528,ceva_zone!A:B,2,FALSE)","v":"F"},{"$f":"VLOOKUP(B528,ceva_zone!A:C,3,FALSE)","v":"B"}]
["02334","MA","A","standard",{"$f":"VLOOKUP(B529,ceva_zone!A:B,2,FALSE)","v":"F"},{"$f":"VLOOKUP(B529,ceva_zone!A:C,3,FALSE)","v":"B"}]
["02356","MA","A","standard",{"$f":"VLOOKUP(B530,ceva_zone!A:B,2,FALSE)","v":"F"},{"$f":"VLOOKUP(B530,ceva_zone!A:C,3,FALSE)","v":"B"}]
["02375","MA","A","standard",{"$f":"VLOOKUP(B531,ceva_zone!A:B,2,FALSE)","v":"F"},{"$f":"VLOOKUP(B531,ceva_zone!A:C,3,FALSE)","v":"B"}]
["02337","MA","B","standard",{"$f":"VLOOKUP(B532,ceva_zone!A:B,2,FALSE)","v":"F"},{"$f":"VLOOKUP(B532,ceva_zone!A:C,3,FALSE)","v":"B"}]
["02338","MA","C","standard",{"$f":"VLOOKUP(B533,ceva_zone!A:B,2,FALSE)","v":"F"},{"$f":"VLOOKUP(B533,ceva_zone!A:C,3,FALSE)","v":"B"}]
["02340","MA","A","standard",{"$f":"VLOOKUP(B534,ceva_zone!A:B,2,FALSE)","v":"F"},{"$f":"VLOOKUP(B534,ceva_zone!A:C,3,FALSE)","v":"B"}]
["02341","MA","B","standard",{"$f":"VLOOKUP(B535,ceva_zone!A:B,2,FALSE)","v":"F"},{"$f":"VLOOKUP(B535,ceva_zone!A:C,3,FALSE)","v":"B"}]
["02343","MA","A","standard",{"$f":"VLOOKUP(B536,ceva_zone!A:B,2,FALSE)","v":"F"},{"$f":"VLOOKUP(B536,ceva_zone!A:C,3,FALSE)","v":"B"}]
["02364","MA","D","standard",{"$f":"VLOOKUP(B537,ceva_zone!A:B,2,FALSE)","v":"F"},{"$f":"VLOOKUP(B537,ceva_zone!A:C,3,FALSE)","v":"B"}]
["02347","MA","C","standard",{"$f":"VLOOKUP(B538,ceva_zone!A:B,2,FALSE)","v":"F"},{"$f":"VLOOKUP(B538,ceva_zone!A:C,3,FALSE)","v":"B"}]
["02345","MA","B","standard",{"$f":"VLOOKUP(B539,ceva_zone!A:B,2,FALSE)","v":"F"},{"$f":"VLOOKUP(B539,ceva_zone!A:C,3,FALSE)","v":"B"}]
["02348","MA","E","remote",{"$f":"VLOOKUP(B540,ceva_zone!A:B,2,FALSE)","v":"F"},{"$f":"VLOOKUP(B540,ceva_zone!A:C,3,FALSE)","v":"B"}]
["02349","MA","C","standard",{"$f":"VLOOKUP(B541,ceva_zone!A:B,2,FALSE)","v":"F"},{"$f":"VLOOKUP(B541,ceva_zone!A:C,3,FALSE)","v":"B"}]
["02346","MA","D","standard",{"$f":"VLOOKUP(B542,ceva_zone!A:B,2,FALSE)","v":"F"},{"$f":"VLOOKUP(B542,ceva_zone!A:C,3,FALSE)","v":"B"}]
["02344","MA","D","standard",{"$f":"VLOOKUP(B543,ceva_zone!A:B,2,FALSE)","v":"F"},{"$f":"VLOOKUP(B543,ceva_zone!A:C,3,FALSE)","v":"B"}]
["02350","MA","A","standard",{"$f":"VLOOKUP(B544,ceva_zone!A:B,2,FALSE)","v":"F"},{"$f":"VLOOKUP(B544,ceva_zone!A:C,3,FALSE)","v":"B"}]
["02358","MA","A","standard",{"$f":"VLOOKUP(B545,ceva_zone!A:B,2,FALSE)","v":"F"},{"$f":"VLOOKUP(B545,ceva_zone!A:C,3,FALSE)","v":"B"}]
["02357","MA","A","standard",{"$f":"VLOOKUP(B546,ceva_zone!A:B,2,FALSE)","v":"F"},{"$f":"VLOOKUP(B546,ceva_zone!A:C,3,FALSE)","v":"B"}]
["02360","MA","B","standard",{"$f":"VLOOKUP(B547,ceva_zone!A:B,2,FALSE)","v":"F"},{"$f":"VLOOKUP(B547,ceva_zone!A:C,3,FALSE)","v":"B"}]
["02362","MA","D","standard",{"$f":"VLOOKUP(B548,ceva_zone!A:B,2,FALSE)","v":"F"},{"$f":"VLOOKUP(B548,ceva_zone!A:C,3,FALSE)","v":"B"}]
["02367","MA","D","standard",{"$f":"VLOOKUP(B549,ceva_zone!A:B,2,FALSE)","v":"F"},{"$f":"VLOOKUP(B549,ceva_zone!A:C,3,FALSE)","v":"B"}]
["02368","MA","B","standard",{"$f":"VLOOKUP(B550,ceva_zone!A:B,2,FALSE)","v":"F"},{"$f":"VLOOKUP(B550,ceva_zone!A:C,3,FALSE)","v":"B"}]
["02370","MA","E","remote",{"$f":"VLOOKUP(B551,ceva_zone!A:B,2,FALSE)","v":"F"},{"$f":"VLOOKUP(B551,ceva_zone!A:C,3,FALSE)","v":"B"}]
["02366","MA","F","remote",{"$f":"VLOOKUP(B552,ceva_zone!A:B,2,FALSE)","v":"F"},{"$f":"VLOOKUP(B552,ceva_zone!A:C,3,FALSE)","v":"B"}]
["02379","MA","A","standard",{"$f":"VLOOKUP(B553,ceva_zone!A:B,2,FALSE)","v":"F"},{"$f":"VLOOKUP(B553,ceva_zone!A:C,3,FALSE)","v":"B"}]
["02381","MA","C","standard",{"$f":"VLOOKUP(B554,ceva_zone!A:B,2,FALSE)","v":"F"},{"$f":"VLOOKUP(B554,ceva_zone!A:C,3,FALSE)","v":"B"}]
["02382","MA","E","remote",{"$f":"VLOOKUP(B555,ceva_zone!A:B,2,FALSE)","v":"F"},{"$f":"VLOOKUP(B555,ceva_zone!A:C,3,FALSE)","v":"B"}]
["02474","MA","Y","remote",{"$f":"VLOOKUP(B556,ceva_zone!A:B,2,FALSE)","v":"F"},{"$f":"VLOOKUP(B556,ceva_zone!A:C,3,FALSE)","v":"B"}]
["02476","MA","Y","remote",{"$f":"VLOOKUP(B557,ceva_zone!A:B,2,FALSE)","v":"F"},{"$f":"VLOOKUP(B557,ceva_zone!A:C,3,FALSE)","v":"B"}]
["02475","MA","O","remote",{"$f":"VLOOKUP(B558,ceva_zone!A:B,2,FALSE)","v":"F"},{"$f":"VLOOKUP(B558,ceva_zone!A:C,3,FALSE)","v":"B"}]
["02457","MA","D","standard",{"$f":"VLOOKUP(B559,ceva_zone!A:B,2,FALSE)","v":"F"},{"$f":"VLOOKUP(B559,ceva_zone!A:C,3,FALSE)","v":"B"}]
["02478","MA","O","remote",{"$f":"VLOOKUP(B560,ceva_zone!A:B,2,FALSE)","v":"F"},{"$f":"VLOOKUP(B560,ceva_zone!A:C,3,FALSE)","v":"B"}]
["02446","MA","Y","remote",{"$f":"VLOOKUP(B561,ceva_zone!A:B,2,FALSE)","v":"F"},{"$f":"VLOOKUP(B561,ceva_zone!A:C,3,FALSE)","v":"B"}]
["02445","MA","L","remote",{"$f":"VLOOKUP(B562,ceva_zone!A:B,2,FALSE)","v":"F"},{"$f":"VLOOKUP(B562,ceva_zone!A:C,3,FALSE)","v":"B"}]
["02455","MA","E","remote",{"$f":"VLOOKUP(B563,ceva_zone!A:B,2,FALSE)","v":"F"},{"$f":"VLOOKUP(B563,ceva_zone!A:C,3,FALSE)","v":"B"}]
["02447","MA","L","remote",{"$f":"VLOOKUP(B564,ceva_zone!A:B,2,FALSE)","v":"F"},{"$f":"VLOOKUP(B564,ceva_zone!A:C,3,FALSE)","v":"B"}]
["02467","MA","L","remote",{"$f":"VLOOKUP(B565,ceva_zone!A:B,2,FALSE)","v":"F"},{"$f":"VLOOKUP(B565,ceva_zone!A:C,3,FALSE)","v":"B"}]
["02421","MA","L","remote",{"$f":"VLOOKUP(B566,ceva_zone!A:B,2,FALSE)","v":"F"},{"$f":"VLOOKUP(B566,ceva_zone!A:C,3,FALSE)","v":"B"}]
["02420","MA","Y","remote",{"$f":"VLOOKUP(B567,ceva_zone!A:B,2,FALSE)","v":"F"},{"$f":"VLOOKUP(B567,ceva_zone!A:C,3,FALSE)","v":"B"}]
["02494","MA","B","standard",{"$f":"VLOOKUP(B568,ceva_zone!A:B,2,FALSE)","v":"F"},{"$f":"VLOOKUP(B568,ceva_zone!A:C,3,FALSE)","v":"B"}]
["02492","MA","A","standard",{"$f":"VLOOKUP(B569,ceva_zone!A:B,2,FALSE)","v":"F"},{"$f":"VLOOKUP(B569,ceva_zone!A:C,3,FALSE)","v":"B"}]
["02456","MA","A","standard",{"$f":"VLOOKUP(B570,ceva_zone!A:B,2,FALSE)","v":"F"},{"$f":"VLOOKUP(B570,ceva_zone!A:C,3,FALSE)","v":"B"}]
["02458","MA","A","standard",{"$f":"VLOOKUP(B571,ceva_zone!A:B,2,FALSE)","v":"F"},{"$f":"VLOOKUP(B571,ceva_zone!A:C,3,FALSE)","v":"B"}]
["02462","MA","E","remote",{"$f":"VLOOKUP(B572,ceva_zone!A:B,2,FALSE)","v":"F"},{"$f":"VLOOKUP(B572,ceva_zone!A:C,3,FALSE)","v":"B"}]
["02464","MA","A","standard",{"$f":"VLOOKUP(B573,ceva_zone!A:B,2,FALSE)","v":"F"},{"$f":"VLOOKUP(B573,ceva_zone!A:C,3,FALSE)","v":"B"}]
["02459","MA","B","standard",{"$f":"VLOOKUP(B574,ceva_zone!A:B,2,FALSE)","v":"F"},{"$f":"VLOOKUP(B574,ceva_zone!A:C,3,FALSE)","v":"B"}]
["02461","MA","A","standard",{"$f":"VLOOKUP(B575,ceva_zone!A:B,2,FALSE)","v":"F"},{"$f":"VLOOKUP(B575,ceva_zone!A:C,3,FALSE)","v":"B"}]
["02460","MA","A","standard",{"$f":"VLOOKUP(B576,ceva_zone!A:B,2,FALSE)","v":"F"},{"$f":"VLOOKUP(B576,ceva_zone!A:C,3,FALSE)","v":"B"}]
["02495","MA","A","standard",{"$f":"VLOOKUP(B577,ceva_zone!A:B,2,FALSE)","v":"F"},{"$f":"VLOOKUP(B577,ceva_zone!A:C,3,FALSE)","v":"B"}]
["02468","MA","H","remote",{"$f":"VLOOKUP(B578,ceva_zone!A:B,2,FALSE)","v":"F"},{"$f":"VLOOKUP(B578,ceva_zone!A:C,3,FALSE)","v":"B"}]
["02454","MA","E","remote",{"$f":"VLOOKUP(B579,ceva_zone!A:B,2,FALSE)","v":"F"},{"$f":"VLOOKUP(B579,ceva_zone!A:C,3,FALSE)","v":"B"}]
["02453","MA","E","remote",{"$f":"VLOOKUP(B580,ceva_zone!A:B,2,FALSE)","v":"F"},{"$f":"VLOOKUP(B580,ceva_zone!A:C,3,FALSE)","v":"B"}]
["02452","MA","F","remote",{"$f":"VLOOKUP(B581,ceva_zone!A:B,2,FALSE)","v":"F"},{"$f":"VLOOKUP(B581,ceva_zone!A:C,3,FALSE)","v":"B"}]
["02451","MA","R","remote",{"$f":"VLOOKUP(B582,ceva_zone!A:B,2,FALSE)","v":"F"},{"$f":"VLOOKUP(B582,ceva_zone!A:C,3,FALSE)","v":"B"}]
["02466","MA","E","remote",{"$f":"VLOOKUP(B583,ceva_zone!A:B,2,FALSE)","v":"F"},{"$f":"VLOOKUP(B583,ceva_zone!A:C,3,FALSE)","v":"B"}]
["02472","MA","E","remote",{"$f":"VLOOKUP(B584,ceva_zone!A:B,2,FALSE)","v":"F"},{"$f":"VLOOKUP(B584,ceva_zone!A:C,3,FALSE)","v":"B"}]
["02477","MA","D","standard",{"$f":"VLOOKUP(B585,ceva_zone!A:B,2,FALSE)","v":"F"},{"$f":"VLOOKUP(B585,ceva_zone!A:C,3,FALSE)","v":"B"}]
["02471","MA","Y","remote",{"$f":"VLOOKUP(B586,ceva_zone!A:B,2,FALSE)","v":"F"},{"$f":"VLOOKUP(B586,ceva_zone!A:C,3,FALSE)","v":"B"}]
["02479","MA","H","remote",{"$f":"VLOOKUP(B587,ceva_zone!A:B,2,FALSE)","v":"F"},{"$f":"VLOOKUP(B587,ceva_zone!A:C,3,FALSE)","v":"B"}]
["02481","MA","A","standard",{"$f":"VLOOKUP(B588,ceva_zone!A:B,2,FALSE)","v":"F"},{"$f":"VLOOKUP(B588,ceva_zone!A:C,3,FALSE)","v":"B"}]
["02482","MA","A","standard",{"$f":"VLOOKUP(B589,ceva_zone!A:B,2,FALSE)","v":"F"},{"$f":"VLOOKUP(B589,ceva_zone!A:C,3,FALSE)","v":"B"}]
["02465","MA","A","standard",{"$f":"VLOOKUP(B590,ceva_zone!A:B,2,FALSE)","v":"F"},{"$f":"VLOOKUP(B590,ceva_zone!A:C,3,FALSE)","v":"B"}]
["02493","MA","E","remote",{"$f":"VLOOKUP(B591,ceva_zone!A:B,2,FALSE)","v":"F"},{"$f":"VLOOKUP(B591,ceva_zone!A:C,3,FALSE)","v":"B"}]
["02532","MA","F","remote",{"$f":"VLOOKUP(B592,ceva_zone!A:B,2,FALSE)","v":"F"},{"$f":"VLOOKUP(B592,ceva_zone!A:C,3,FALSE)","v":"B"}]
["02559","MA","Y","remote",{"$f":"VLOOKUP(B593,ceva_zone!A:B,2,FALSE)","v":"F"},{"$f":"VLOOKUP(B593,ceva_zone!A:C,3,FALSE)","v":"B"}]
["02542","MA","Y","remote",{"$f":"VLOOKUP(B594,ceva_zone!A:B,2,FALSE)","v":"F"},{"$f":"VLOOKUP(B594,ceva_zone!A:C,3,FALSE)","v":"B"}]
["02534","MA","Y","remote",{"$f":"VLOOKUP(B595,ceva_zone!A:B,2,FALSE)","v":"F"},{"$f":"VLOOKUP(B595,ceva_zone!A:C,3,FALSE)","v":"B"}]
["02539","MA","Y","remote",{"$f":"VLOOKUP(B596,ceva_zone!A:B,2,FALSE)","v":"F"},{"$f":"VLOOKUP(B596,ceva_zone!A:C,3,FALSE)","v":"B"}]
["02535","MA","Y","remote",{"$f":"VLOOKUP(B597,ceva_zone!A:B,2,FALSE)","v":"F"},{"$f":"VLOOKUP(B597,ceva_zone!A:C,3,FALSE)","v":"B"}]
["02541","MA","F","remote",{"$f":"VLOOKUP(B598,ceva_zone!A:B,2,FALSE)","v":"F"},{"$f":"VLOOKUP(B598,ceva_zone!A:C,3,FALSE)","v":"B"}]
["02536","MA","Y","remote",{"$f":"VLOOKUP(B599,ceva_zone!A:B,2,FALSE)","v":"F"},{"$f":"VLOOKUP(B599,ceva_zone!A:C,3,FALSE)","v":"B"}]
["02537","MA","Y","remote",{"$f":"VLOOKUP(B600,ceva_zone!A:B,2,FALSE)","v":"F"},{"$f":"VLOOKUP(B600,ceva_zone!A:C,3,FALSE)","v":"B"}]
["02538","MA","F","remote",{"$f":"VLOOKUP(B601,ceva_zone!A:B,2,FALSE)","v":"F"},{"$f":"VLOOKUP(B601,ceva_zone!A:C,3,FALSE)","v":"B"}]
["02540","MA","Y","remote",{"$f":"VLOOKUP(B602,ceva_zone!A:B,2,FALSE)","v":"F"},{"$f":"VLOOKUP(B602,ceva_zone!A:C,3,FALSE)","v":"B"}]
["02543","MA","Y","remote",{"$f":"VLOOKUP(B603,ceva_zone!A:B,2,FALSE)","v":"F"},{"$f":"VLOOKUP(B603,ceva_zone!A:C,3,FALSE)","v":"B"}]
["02552","MA","Y","remote",{"$f":"VLOOKUP(B604,ceva_zone!A:B,2,FALSE)","v":"F"},{"$f":"VLOOKUP(B604,ceva_zone!A:C,3,FALSE)","v":"B"}]
["02553","MA","Y","remote",{"$f":"VLOOKUP(B605,ceva_zone!A:B,2,FALSE)","v":"F"},{"$f":"VLOOKUP(B605,ceva_zone!A:C,3,FALSE)","v":"B"}]
["02556","MA","Y","remote",{"$f":"VLOOKUP(B606,ceva_zone!A:B,2,FALSE)","v":"F"},{"$f":"VLOOKUP(B606,ceva_zone!A:C,3,FALSE)","v":"B"}]
["02584","MA","Y","remote",{"$f":"VLOOKUP(B607,ceva_zone!A:B,2,FALSE)","v":"F"},{"$f":"VLOOKUP(B607,ceva_zone!A:C,3,FALSE)","v":"B"}]
["02554","MA","Y","remote",{"$f":"VLOOKUP(B608,ceva_zone!A:B,2,FALSE)","v":"F"},{"$f":"VLOOKUP(B608,ceva_zone!A:C,3,FALSE)","v":"B"}]
["02564","MA","Y","remote",{"$f":"VLOOKUP(B609,ceva_zone!A:B,2,FALSE)","v":"F"},{"$f":"VLOOKUP(B609,ceva_zone!A:C,3,FALSE)","v":"B"}]
["02565","MA","F","remote",{"$f":"VLOOKUP(B610,ceva_zone!A:B,2,FALSE)","v":"F"},{"$f":"VLOOKUP(B610,ceva_zone!A:C,3,FALSE)","v":"B"}]
["02568","MA","Y","remote",{"$f":"VLOOKUP(B611,ceva_zone!A:B,2,FALSE)","v":"F"},{"$f":"VLOOKUP(B611,ceva_zone!A:C,3,FALSE)","v":"B"}]
["02557","MA","Y","remote",{"$f":"VLOOKUP(B612,ceva_zone!A:B,2,FALSE)","v":"F"},{"$f":"VLOOKUP(B612,ceva_zone!A:C,3,FALSE)","v":"B"}]
["02558","MA","F","remote",{"$f":"VLOOKUP(B613,ceva_zone!A:B,2,FALSE)","v":"F"},{"$f":"VLOOKUP(B613,ceva_zone!A:C,3,FALSE)","v":"B"}]
["02561","MA","F","remote",{"$f":"VLOOKUP(B614,ceva_zone!A:B,2,FALSE)","v":"F"},{"$f":"VLOOKUP(B614,ceva_zone!A:C,3,FALSE)","v":"B"}]
["02562","MA","F","remote",{"$f":"VLOOKUP(B615,ceva_zone!A:B,2,FALSE)","v":"F"},{"$f":"VLOOKUP(B615,ceva_zone!A:C,3,FALSE)","v":"B"}]
["02563","MA","F","remote",{"$f":"VLOOKUP(B616,ceva_zone!A:B,2,FALSE)","v":"F"},{"$f":"VLOOKUP(B616,ceva_zone!A:C,3,FALSE)","v":"B"}]
["02573","MA","Y","remote",{"$f":"VLOOKUP(B617,ceva_zone!A:B,2,FALSE)","v":"F"},{"$f":"VLOOKUP(B617,ceva_zone!A:C,3,FALSE)","v":"B"}]
["02571","MA","F","remote",{"$f":"VLOOKUP(B618,ceva_zone!A:B,2,FALSE)","v":"F"},{"$f":"VLOOKUP(B618,ceva_zone!A:C,3,FALSE)","v":"B"}]
["02574","MA","Y","remote",{"$f":"VLOOKUP(B619,ceva_zone!A:B,2,FALSE)","v":"F"},{"$f":"VLOOKUP(B619,ceva_zone!A:C,3,FALSE)","v":"B"}]
["02575","MA","Y","remote",{"$f":"VLOOKUP(B620,ceva_zone!A:B,2,FALSE)","v":"F"},{"$f":"VLOOKUP(B620,ceva_zone!A:C,3,FALSE)","v":"B"}]
["02576","MA","F","remote",{"$f":"VLOOKUP(B621,ceva_zone!A:B,2,FALSE)","v":"F"},{"$f":"VLOOKUP(B621,ceva_zone!A:C,3,FALSE)","v":"B"}]
["02630","MA","Y","remote",{"$f":"VLOOKUP(B622,ceva_zone!A:B,2,FALSE)","v":"F"},{"$f":"VLOOKUP(B622,ceva_zone!A:C,3,FALSE)","v":"B"}]
["02668","MA","Y","remote",{"$f":"VLOOKUP(B623,ceva_zone!A:B,2,FALSE)","v":"F"},{"$f":"VLOOKUP(B623,ceva_zone!A:C,3,FALSE)","v":"B"}]
["02664","MA","Y","remote",{"$f":"VLOOKUP(B624,ceva_zone!A:B,2,FALSE)","v":"F"},{"$f":"VLOOKUP(B624,ceva_zone!A:C,3,FALSE)","v":"B"}]
["02631","MA","Y","remote",{"$f":"VLOOKUP(B625,ceva_zone!A:B,2,FALSE)","v":"F"},{"$f":"VLOOKUP(B625,ceva_zone!A:C,3,FALSE)","v":"B"}]
["02645","MA","Y","remote",{"$f":"VLOOKUP(B626,ceva_zone!A:B,2,FALSE)","v":"F"},{"$f":"VLOOKUP(B626,ceva_zone!A:C,3,FALSE)","v":"B"}]
["02634","MA","Y","remote",{"$f":"VLOOKUP(B627,ceva_zone!A:B,2,FALSE)","v":"F"},{"$f":"VLOOKUP(B627,ceva_zone!A:C,3,FALSE)","v":"B"}]
["02632","MA","Y","remote",{"$f":"VLOOKUP(B628,ceva_zone!A:B,2,FALSE)","v":"F"},{"$f":"VLOOKUP(B628,ceva_zone!A:C,3,FALSE)","v":"B"}]
["02636","MA","F","remote",{"$f":"VLOOKUP(B629,ceva_zone!A:B,2,FALSE)","v":"F"},{"$f":"VLOOKUP(B629,ceva_zone!A:C,3,FALSE)","v":"B"}]
["02633","MA","Y","remote",{"$f":"VLOOKUP(B630,ceva_zone!A:B,2,FALSE)","v":"F"},{"$f":"VLOOKUP(B630,ceva_zone!A:C,3,FALSE)","v":"B"}]
["02635","MA","Y","remote",{"$f":"VLOOKUP(B631,ceva_zone!A:B,2,FALSE)","v":"F"},{"$f":"VLOOKUP(B631,ceva_zone!A:C,3,FALSE)","v":"B"}]
["02637","MA","Y","remote",{"$f":"VLOOKUP(B632,ceva_zone!A:B,2,FALSE)","v":"F"},{"$f":"VLOOKUP(B632,ceva_zone!A:C,3,FALSE)","v":"B"}]
["02638","MA","Y","remote",{"$f":"VLOOKUP(B633,ceva_zone!A:B,2,FALSE)","v":"F"},{"$f":"VLOOKUP(B633,ceva_zone!A:C,3,FALSE)","v":"B"}]
["02639","MA","Y","remote",{"$f":"VLOOKUP(B634,ceva_zone!A:B,2,FALSE)","v":"F"},{"$f":"VLOOKUP(B634,ceva_zone!A:C,3,FALSE)","v":"B"}]
["02641","MA","Y","remote",{"$f":"VLOOKUP(B635,ceva_zone!A:B,2,FALSE)","v":"F"},{"$f":"VLOOKUP(B635,ceva_zone!A:C,3,FALSE)","v":"B"}]
["02643","MA","Y","remote",{"$f":"VLOOKUP(B636,ceva_zone!A:B,2,FALSE)","v":"F"},{"$f":"VLOOKUP(B636,ceva_zone!A:C,3,FALSE)","v":"B"}]
["02642","MA","Y","remote",{"$f":"VLOOKUP(B637,ceva_zone!A:B,2,FALSE)","v":"F"},{"$f":"VLOOKUP(B637,ceva_zone!A:C,3,FALSE)","v":"B"}]
["02644","MA","Y","remote",{"$f":"VLOOKUP(B638,ceva_zone!A:B,2,FALSE)","v":"F"},{"$f":"VLOOKUP(B638,ceva_zone!A:C,3,FALSE)","v":"B"}]
["02646","MA","Y","remote",{"$f":"VLOOKUP(B639,ceva_zone!A:B,2,FALSE)","v":"F"},{"$f":"VLOOKUP(B639,ceva_zone!A:C,3,FALSE)","v":"B"}]
["02601","MA","Y","remote",{"$f":"VLOOKUP(B640,ceva_zone!A:B,2,FALSE)","v":"F"},{"$f":"VLOOKUP(B640,ceva_zone!A:C,3,FALSE)","v":"B"}]
["02647","MA","Y","remote",{"$f":"VLOOKUP(B641,ceva_zone!A:B,2,FALSE)","v":"F"},{"$f":"VLOOKUP(B641,ceva_zone!A:C,3,FALSE)","v":"B"}]
["02648","MA","Y","remote",{"$f":"VLOOKUP(B642,ceva_zone!A:B,2,FALSE)","v":"F"},{"$f":"VLOOKUP(B642,ceva_zone!A:C,3,FALSE)","v":"B"}]
["02649","MA","Y","remote",{"$f":"VLOOKUP(B643,ceva_zone!A:B,2,FALSE)","v":"F"},{"$f":"VLOOKUP(B643,ceva_zone!A:C,3,FALSE)","v":"B"}]
["02650","MA","Y","remote",{"$f":"VLOOKUP(B644,ceva_zone!A:B,2,FALSE)","v":"F"},{"$f":"VLOOKUP(B644,ceva_zone!A:C,3,FALSE)","v":"B"}]
["02651","MA","Y","remote",{"$f":"VLOOKUP(B645,ceva_zone!A:B,2,FALSE)","v":"F"},{"$f":"VLOOKUP(B645,ceva_zone!A:C,3,FALSE)","v":"B"}]
["02652","MA","Y","remote",{"$f":"VLOOKUP(B646,ceva_zone!A:B,2,FALSE)","v":"F"},{"$f":"VLOOKUP(B646,ceva_zone!A:C,3,FALSE)","v":"B"}]
["02653","MA","Y","remote",{"$f":"VLOOKUP(B647,ceva_zone!A:B,2,FALSE)","v":"F"},{"$f":"VLOOKUP(B647,ceva_zone!A:C,3,FALSE)","v":"B"}]
["02655","MA","Y","remote",{"$f":"VLOOKUP(B648,ceva_zone!A:B,2,FALSE)","v":"F"},{"$f":"VLOOKUP(B648,ceva_zone!A:C,3,FALSE)","v":"B"}]
["02657","MA","Y","remote",{"$f":"VLOOKUP(B649,ceva_zone!A:B,2,FALSE)","v":"F"},{"$f":"VLOOKUP(B649,ceva_zone!A:C,3,FALSE)","v":"B"}]
["02659","MA","Y","remote",{"$f":"VLOOKUP(B650,ceva_zone!A:B,2,FALSE)","v":"F"},{"$f":"VLOOKUP(B650,ceva_zone!A:C,3,FALSE)","v":"B"}]
["02660","MA","Y","remote",{"$f":"VLOOKUP(B651,ceva_zone!A:B,2,FALSE)","v":"F"},{"$f":"VLOOKUP(B651,ceva_zone!A:C,3,FALSE)","v":"B"}]
["02661","MA","Y","remote",{"$f":"VLOOKUP(B652,ceva_zone!A:B,2,FALSE)","v":"F"},{"$f":"VLOOKUP(B652,ceva_zone!A:C,3,FALSE)","v":"B"}]
["02662","MA","Y","remote",{"$f":"VLOOKUP(B653,ceva_zone!A:B,2,FALSE)","v":"F"},{"$f":"VLOOKUP(B653,ceva_zone!A:C,3,FALSE)","v":"B"}]
["02663","MA","Y","remote",{"$f":"VLOOKUP(B654,ceva_zone!A:B,2,FALSE)","v":"F"},{"$f":"VLOOKUP(B654,ceva_zone!A:C,3,FALSE)","v":"B"}]
["02673","MA","Y","remote",{"$f":"VLOOKUP(B655,ceva_zone!A:B,2,FALSE)","v":"F"},{"$f":"VLOOKUP(B655,ceva_zone!A:C,3,FALSE)","v":"B"}]
["02666","MA","Y","remote",{"$f":"VLOOKUP(B656,ceva_zone!A:B,2,FALSE)","v":"F"},{"$f":"VLOOKUP(B656,ceva_zone!A:C,3,FALSE)","v":"B"}]
["02667","MA","Y","remote",{"$f":"VLOOKUP(B657,ceva_zone!A:B,2,FALSE)","v":"F"},{"$f":"VLOOKUP(B657,ceva_zone!A:C,3,FALSE)","v":"B"}]
["02669","MA","Y","remote",{"$f":"VLOOKUP(B658,ceva_zone!A:B,2,FALSE)","v":"F"},{"$f":"VLOOKUP(B658,ceva_zone!A:C,3,FALSE)","v":"B"}]
["02670","MA","Y","remote",{"$f":"VLOOKUP(B659,ceva_zone!A:B,2,FALSE)","v":"F"},{"$f":"VLOOKUP(B659,ceva_zone!A:C,3,FALSE)","v":"B"}]
["02671","MA","Y","remote",{"$f":"VLOOKUP(B660,ceva_zone!A:B,2,FALSE)","v":"F"},{"$f":"VLOOKUP(B660,ceva_zone!A:C,3,FALSE)","v":"B"}]
["02672","MA","Y","remote",{"$f":"VLOOKUP(B661,ceva_zone!A:B,2,FALSE)","v":"F"},{"$f":"VLOOKUP(B661,ceva_zone!A:C,3,FALSE)","v":"B"}]
["02675","MA","Y","remote",{"$f":"VLOOKUP(B662,ceva_zone!A:B,2,FALSE)","v":"F"},{"$f":"VLOOKUP(B662,ceva_zone!A:C,3,FALSE)","v":"B"}]
["02743","MA","E","remote",{"$f":"VLOOKUP(B663,ceva_zone!A:B,2,FALSE)","v":"F"},{"$f":"VLOOKUP(B663,ceva_zone!A:C,3,FALSE)","v":"B"}]
["02702","MA","D","standard",{"$f":"VLOOKUP(B664,ceva_zone!A:B,2,FALSE)","v":"F"},{"$f":"VLOOKUP(B664,ceva_zone!A:C,3,FALSE)","v":"B"}]
["02703","MA","C","standard",{"$f":"VLOOKUP(B665,ceva_zone!A:B,2,FALSE)","v":"F"},{"$f":"VLOOKUP(B665,ceva_zone!A:C,3,FALSE)","v":"B"}]
["02763","MA","D","standard",{"$f":"VLOOKUP(B666,ceva_zone!A:B,2,FALSE)","v":"F"},{"$f":"VLOOKUP(B666,ceva_zone!A:C,3,FALSE)","v":"B"}]
["02722","MA","E","remote",{"$f":"VLOOKUP(B667,ceva_zone!A:B,2,FALSE)","v":"F"},{"$f":"VLOOKUP(B667,ceva_zone!A:C,3,FALSE)","v":"B"}]
["02779","MA","B","standard",{"$f":"VLOOKUP(B668,ceva_zone!A:B,2,FALSE)","v":"F"},{"$f":"VLOOKUP(B668,ceva_zone!A:C,3,FALSE)","v":"B"}]
["02712","MA","C","standard",{"$f":"VLOOKUP(B669,ceva_zone!A:B,2,FALSE)","v":"F"},{"$f":"VLOOKUP(B669,ceva_zone!A:C,3,FALSE)","v":"B"}]
["02713","MA","Y","remote",{"$f":"VLOOKUP(B670,ceva_zone!A:B,2,FALSE)","v":"F"},{"$f":"VLOOKUP(B670,ceva_zone!A:C,3,FALSE)","v":"B"}]
["02747","MA","D","standard",{"$f":"VLOOKUP(B671,ceva_zone!A:B,2,FALSE)","v":"F"},{"$f":"VLOOKUP(B671,ceva_zone!A:C,3,FALSE)","v":"B"}]
["02714","MA","H","remote",{"$f":"VLOOKUP(B672,ceva_zone!A:B,2,FALSE)","v":"F"},{"$f":"VLOOKUP(B672,ceva_zone!A:C,3,FALSE)","v":"B"}]
["02748","MA","H","remote",{"$f":"VLOOKUP(B673,ceva_zone!A:B,2,FALSE)","v":"F"},{"$f":"VLOOKUP(B673,ceva_zone!A:C,3,FALSE)","v":"B"}]
["02715","MA","E","remote",{"$f":"VLOOKUP(B674,ceva_zone!A:B,2,FALSE)","v":"F"},{"$f":"VLOOKUP(B674,ceva_zone!A:C,3,FALSE)","v":"B"}]
["02764","MA","H","remote",{"$f":"VLOOKUP(B675,ceva_zone!A:B,2,FALSE)","v":"F"},{"$f":"VLOOKUP(B675,ceva_zone!A:C,3,FALSE)","v":"B"}]
["02741","MA","F","remote",{"$f":"VLOOKUP(B676,ceva_zone!A:B,2,FALSE)","v":"F"},{"$f":"VLOOKUP(B676,ceva_zone!A:C,3,FALSE)","v":"B"}]
["02717","MA","D","standard",{"$f":"VLOOKUP(B677,ceva_zone!A:B,2,FALSE)","v":"F"},{"$f":"VLOOKUP(B677,ceva_zone!A:C,3,FALSE)","v":"B"}]
["02718","MA","C","standard",{"$f":"VLOOKUP(B678,ceva_zone!A:B,2,FALSE)","v":"F"},{"$f":"VLOOKUP(B678,ceva_zone!A:C,3,FALSE)","v":"B"}]
["02719","MA","Y","remote",{"$f":"VLOOKUP(B679,ceva_zone!A:B,2,FALSE)","v":"F"},{"$f":"VLOOKUP(B679,ceva_zone!A:C,3,FALSE)","v":"B"}]
["02720","MA","B","standard",{"$f":"VLOOKUP(B680,ceva_zone!A:B,2,FALSE)","v":"F"},{"$f":"VLOOKUP(B680,ceva_zone!A:C,3,FALSE)","v":"B"}]
["02725","MA","E","remote",{"$f":"VLOOKUP(B681,ceva_zone!A:B,2,FALSE)","v":"F"},{"$f":"VLOOKUP(B681,ceva_zone!A:C,3,FALSE)","v":"B"}]
["02724","MA","E","remote",{"$f":"VLOOKUP(B682,ceva_zone!A:B,2,FALSE)","v":"F"},{"$f":"VLOOKUP(B682,ceva_zone!A:C,3,FALSE)","v":"B"}]
["02723","MA","E","remote",{"$f":"VLOOKUP(B683,ceva_zone!A:B,2,FALSE)","v":"F"},{"$f":"VLOOKUP(B683,ceva_zone!A:C,3,FALSE)","v":"B"}]
["02721","MA","E","remote",{"$f":"VLOOKUP(B684,ceva_zone!A:B,2,FALSE)","v":"F"},{"$f":"VLOOKUP(B684,ceva_zone!A:C,3,FALSE)","v":"B"}]
["02726","MA","E","remote",{"$f":"VLOOKUP(B685,ceva_zone!A:B,2,FALSE)","v":"F"},{"$f":"VLOOKUP(B685,ceva_zone!A:C,3,FALSE)","v":"B"}]
["02790","MA","E","remote",{"$f":"VLOOKUP(B686,ceva_zone!A:B,2,FALSE)","v":"F"},{"$f":"VLOOKUP(B686,ceva_zone!A:C,3,FALSE)","v":"B"}]
["02738","MA","H","remote",{"$f":"VLOOKUP(B687,ceva_zone!A:B,2,FALSE)","v":"F"},{"$f":"VLOOKUP(B687,ceva_zone!A:C,3,FALSE)","v":"B"}]
["02739","MA","Y","remote",{"$f":"VLOOKUP(B688,ceva_zone!A:B,2,FALSE)","v":"F"},{"$f":"VLOOKUP(B688,ceva_zone!A:C,3,FALSE)","v":"B"}]
["02761","MA","A","standard",{"$f":"VLOOKUP(B689,ceva_zone!A:B,2,FALSE)","v":"F"},{"$f":"VLOOKUP(B689,ceva_zone!A:C,3,FALSE)","v":"B"}]
["02745","MA","D","standard",{"$f":"VLOOKUP(B690,ceva_zone!A:B,2,FALSE)","v":"F"},{"$f":"VLOOKUP(B690,ceva_zone!A:C,3,FALSE)","v":"B"}]
["02746","MA","E","remote",{"$f":"VLOOKUP(B691,ceva_zone!A:B,2,FALSE)","v":"F"},{"$f":"VLOOKUP(B691,ceva_zone!A:C,3,FALSE)","v":"B"}]
["02744","MA","H","remote",{"$f":"VLOOKUP(B692,ceva_zone!A:B,2,FALSE)","v":"F"},{"$f":"VLOOKUP(B692,ceva_zone!A:C,3,FALSE)","v":"B"}]
["02740","MA","D","standard",{"$f":"VLOOKUP(B693,ceva_zone!A:B,2,FALSE)","v":"F"},{"$f":"VLOOKUP(B693,ceva_zone!A:C,3,FALSE)","v":"B"}]
["02742","MA","B","standard",{"$f":"VLOOKUP(B694,ceva_zone!A:B,2,FALSE)","v":"F"},{"$f":"VLOOKUP(B694,ceva_zone!A:C,3,FALSE)","v":"B"}]
["02762","MA","C","standard",{"$f":"VLOOKUP(B695,ceva_zone!A:B,2,FALSE)","v":"F"},{"$f":"VLOOKUP(B695,ceva_zone!A:C,3,FALSE)","v":"B"}]
["02760","MA","C","standard",{"$f":"VLOOKUP(B696,ceva_zone!A:B,2,FALSE)","v":"F"},{"$f":"VLOOKUP(B696,ceva_zone!A:C,3,FALSE)","v":"B"}]
["02766","MA","D","standard",{"$f":"VLOOKUP(B697,ceva_zone!A:B,2,FALSE)","v":"F"},{"$f":"VLOOKUP(B697,ceva_zone!A:C,3,FALSE)","v":"B"}]
["02767","MA","D","standard",{"$f":"VLOOKUP(B698,ceva_zone!A:B,2,FALSE)","v":"F"},{"$f":"VLOOKUP(B698,ceva_zone!A:C,3,FALSE)","v":"B"}]
["02768","MA","C","standard",{"$f":"VLOOKUP(B699,ceva_zone!A:B,2,FALSE)","v":"F"},{"$f":"VLOOKUP(B699,ceva_zone!A:C,3,FALSE)","v":"B"}]
["02769","MA","B","standard",{"$f":"VLOOKUP(B700,ceva_zone!A:B,2,FALSE)","v":"F"},{"$f":"VLOOKUP(B700,ceva_zone!A:C,3,FALSE)","v":"B"}]
["02770","MA","H","remote",{"$f":"VLOOKUP(B701,ceva_zone!A:B,2,FALSE)","v":"F"},{"$f":"VLOOKUP(B701,ceva_zone!A:C,3,FALSE)","v":"B"}]
["02771","MA","H","remote",{"$f":"VLOOKUP(B702,ceva_zone!A:B,2,FALSE)","v":"F"},{"$f":"VLOOKUP(B702,ceva_zone!A:C,3,FALSE)","v":"B"}]
["02777","MA","E","remote",{"$f":"VLOOKUP(B703,ceva_zone!A:B,2,FALSE)","v":"F"},{"$f":"VLOOKUP(B703,ceva_zone!A:C,3,FALSE)","v":"B"}]
["02780","MA","C","standard",{"$f":"VLOOKUP(B704,ceva_zone!A:B,2,FALSE)","v":"F"},{"$f":"VLOOKUP(B704,ceva_zone!A:C,3,FALSE)","v":"B"}]
["02783","MA","B","standard",{"$f":"VLOOKUP(B705,ceva_zone!A:B,2,FALSE)","v":"F"},{"$f":"VLOOKUP(B705,ceva_zone!A:C,3,FALSE)","v":"B"}]
["02791","MA","Y","remote",{"$f":"VLOOKUP(B706,ceva_zone!A:B,2,FALSE)","v":"F"},{"$f":"VLOOKUP(B706,ceva_zone!A:C,3,FALSE)","v":"B"}]
["02801","RI","Y","remote",{"$f":"VLOOKUP(B707,ceva_zone!A:B,2,FALSE)","v":"F"},{"$f":"VLOOKUP(B707,ceva_zone!A:C,3,FALSE)","v":"B"}]
["02802","RI","F","remote",{"$f":"VLOOKUP(B708,ceva_zone!A:B,2,FALSE)","v":"F"},{"$f":"VLOOKUP(B708,ceva_zone!A:C,3,FALSE)","v":"B"}]
["02804","RI","Y","remote",{"$f":"VLOOKUP(B709,ceva_zone!A:B,2,FALSE)","v":"F"},{"$f":"VLOOKUP(B709,ceva_zone!A:C,3,FALSE)","v":"B"}]
["02806","RI","Y","remote",{"$f":"VLOOKUP(B710,ceva_zone!A:B,2,FALSE)","v":"F"},{"$f":"VLOOKUP(B710,ceva_zone!A:C,3,FALSE)","v":"B"}]
["02807","RI","Y","remote",{"$f":"VLOOKUP(B711,ceva_zone!A:B,2,FALSE)","v":"F"},{"$f":"VLOOKUP(B711,ceva_zone!A:C,3,FALSE)","v":"B"}]
["02882","RI","Y","remote",{"$f":"VLOOKUP(B712,ceva_zone!A:B,2,FALSE)","v":"F"},{"$f":"VLOOKUP(B712,ceva_zone!A:C,3,FALSE)","v":"B"}]
["02808","RI","Y","remote",{"$f":"VLOOKUP(B713,ceva_zone!A:B,2,FALSE)","v":"F"},{"$f":"VLOOKUP(B713,ceva_zone!A:C,3,FALSE)","v":"B"}]
["02809","RI","Y","remote",{"$f":"VLOOKUP(B714,ceva_zone!A:B,2,FALSE)","v":"F"},{"$f":"VLOOKUP(B714,ceva_zone!A:C,3,FALSE)","v":"B"}]
["02830","RI","F","remote",{"$f":"VLOOKUP(B715,ceva_zone!A:B,2,FALSE)","v":"F"},{"$f":"VLOOKUP(B715,ceva_zone!A:C,3,FALSE)","v":"B"}]
["02812","RI","Y","remote",{"$f":"VLOOKUP(B716,ceva_zone!A:B,2,FALSE)","v":"F"},{"$f":"VLOOKUP(B716,ceva_zone!A:C,3,FALSE)","v":"B"}]
["02863","RI","D","standard",{"$f":"VLOOKUP(B717,ceva_zone!A:B,2,FALSE)","v":"F"},{"$f":"VLOOKUP(B717,ceva_zone!A:C,3,FALSE)","v":"B"}]
["02862","RI","F","remote",{"$f":"VLOOKUP(B718,ceva_zone!A:B,2,FALSE)","v":"F"},{"$f":"VLOOKUP(B718,ceva_zone!A:C,3,FALSE)","v":"B"}]
["02813","RI","Y","remote",{"$f":"VLOOKUP(B719,ceva_zone!A:B,2,FALSE)","v":"F"},{"$f":"VLOOKUP(B719,ceva_zone!A:C,3,FALSE)","v":"B"}]
["02814","RI","Y","remote",{"$f":"VLOOKUP(B720,ceva_zone!A:B,2,FALSE)","v":"F"},{"$f":"VLOOKUP(B720,ceva_zone!A:C,3,FALSE)","v":"B"}]
["02815","RI","Y","remote",{"$f":"VLOOKUP(B721,ceva_zone!A:B,2,FALSE)","v":"F"},{"$f":"VLOOKUP(B721,ceva_zone!A:C,3,FALSE)","v":"B"}]
["02889","RI","Y","remote",{"$f":"VLOOKUP(B722,ceva_zone!A:B,2,FALSE)","v":"F"},{"$f":"VLOOKUP(B722,ceva_zone!A:C,3,FALSE)","v":"B"}]
["02816","RI","Y","remote",{"$f":"VLOOKUP(B723,ceva_zone!A:B,2,FALSE)","v":"F"},{"$f":"VLOOKUP(B723,ceva_zone!A:C,3,FALSE)","v":"B"}]
["02864","RI","E","remote",{"$f":"VLOOKUP(B724,ceva_zone!A:B,2,FALSE)","v":"F"},{"$f":"VLOOKUP(B724,ceva_zone!A:C,3,FALSE)","v":"B"}]
["02861","RI","C","standard",{"$f":"VLOOKUP(B725,ceva_zone!A:B,2,FALSE)","v":"F"},{"$f":"VLOOKUP(B725,ceva_zone!A:C,3,FALSE)","v":"B"}]
["02818","RI","Y","remote",{"$f":"VLOOKUP(B726,ceva_zone!A:B,2,FALSE)","v":"F"},{"$f":"VLOOKUP(B726,ceva_zone!A:C,3,FALSE)","v":"B"}]
["02879","RI","Y","remote",{"$f":"VLOOKUP(B727,ceva_zone!A:B,2,FALSE)","v":"F"},{"$f":"VLOOKUP(B727,ceva_zone!A:C,3,FALSE)","v":"B"}]
["02817","RI","Y","remote",{"$f":"VLOOKUP(B728,ceva_zone!A:B,2,FALSE)","v":"F"},{"$f":"VLOOKUP(B728,ceva_zone!A:C,3,FALSE)","v":"B"}]
["02822","RI","Y","remote",{"$f":"VLOOKUP(B729,ceva_zone!A:B,2,FALSE)","v":"F"},{"$f":"VLOOKUP(B729,ceva_zone!A:C,3,FALSE)","v":"B"}]
["02874","RI","Y","remote",{"$f":"VLOOKUP(B730,ceva_zone!A:B,2,FALSE)","v":"F"},{"$f":"VLOOKUP(B730,ceva_zone!A:C,3,FALSE)","v":"B"}]
["02823","RI","Y","remote",{"$f":"VLOOKUP(B731,ceva_zone!A:B,2,FALSE)","v":"F"},{"$f":"VLOOKUP(B731,ceva_zone!A:C,3,FALSE)","v":"B"}]
["02824","RI","Y","remote",{"$f":"VLOOKUP(B732,ceva_zone!A:B,2,FALSE)","v":"F"},{"$f":"VLOOKUP(B732,ceva_zone!A:C,3,FALSE)","v":"B"}]
["02825","RI","Y","remote",{"$f":"VLOOKUP(B733,ceva_zone!A:B,2,FALSE)","v":"F"},{"$f":"VLOOKUP(B733,ceva_zone!A:C,3,FALSE)","v":"B"}]
["02826","RI","Y","remote",{"$f":"VLOOKUP(B734,ceva_zone!A:B,2,FALSE)","v":"F"},{"$f":"VLOOKUP(B734,ceva_zone!A:C,3,FALSE)","v":"B"}]
["02827","RI","Y","remote",{"$f":"VLOOKUP(B735,ceva_zone!A:B,2,FALSE)","v":"F"},{"$f":"VLOOKUP(B735,ceva_zone!A:C,3,FALSE)","v":"B"}]
["02828","RI","Y","remote",{"$f":"VLOOKUP(B736,ceva_zone!A:B,2,FALSE)","v":"F"},{"$f":"VLOOKUP(B736,ceva_zone!A:C,3,FALSE)","v":"B"}]
["02829","RI","Y","remote",{"$f":"VLOOKUP(B737,ceva_zone!A:B,2,FALSE)","v":"F"},{"$f":"VLOOKUP(B737,ceva_zone!A:C,3,FALSE)","v":"B"}]
["02831","RI","Y","remote",{"$f":"VLOOKUP(B738,ceva_zone!A:B,2,FALSE)","v":"F"},{"$f":"VLOOKUP(B738,ceva_zone!A:C,3,FALSE)","v":"B"}]
["02832","RI","Y","remote",{"$f":"VLOOKUP(B739,ceva_zone!A:B,2,FALSE)","v":"F"},{"$f":"VLOOKUP(B739,ceva_zone!A:C,3,FALSE)","v":"B"}]
["02833","RI","Y","remote",{"$f":"VLOOKUP(B740,ceva_zone!A:B,2,FALSE)","v":"F"},{"$f":"VLOOKUP(B740,ceva_zone!A:C,3,FALSE)","v":"B"}]
["02894","RI","Y","remote",{"$f":"VLOOKUP(B741,ceva_zone!A:B,2,FALSE)","v":"F"},{"$f":"VLOOKUP(B741,ceva_zone!A:C,3,FALSE)","v":"B"}]
["02835","RI","Y","remote",{"$f":"VLOOKUP(B742,ceva_zone!A:B,2,FALSE)","v":"F"},{"$f":"VLOOKUP(B742,ceva_zone!A:C,3,FALSE)","v":"B"}]
["02836","RI","Y","remote",{"$f":"VLOOKUP(B743,ceva_zone!A:B,2,FALSE)","v":"F"},{"$f":"VLOOKUP(B743,ceva_zone!A:C,3,FALSE)","v":"B"}]
["02881","RI","Y","remote",{"$f":"VLOOKUP(B744,ceva_zone!A:B,2,FALSE)","v":"F"},{"$f":"VLOOKUP(B744,ceva_zone!A:C,3,FALSE)","v":"B"}]
["02865","RI","E","remote",{"$f":"VLOOKUP(B745,ceva_zone!A:B,2,FALSE)","v":"F"},{"$f":"VLOOKUP(B745,ceva_zone!A:C,3,FALSE)","v":"B"}]
["02838","RI","F","remote",{"$f":"VLOOKUP(B746,ceva_zone!A:B,2,FALSE)","v":"F"},{"$f":"VLOOKUP(B746,ceva_zone!A:C,3,FALSE)","v":"B"}]
["02837","RI","Y","remote",{"$f":"VLOOKUP(B747,ceva_zone!A:B,2,FALSE)","v":"F"},{"$f":"VLOOKUP(B747,ceva_zone!A:C,3,FALSE)","v":"B"}]
["02839","RI","Y","remote",{"$f":"VLOOKUP(B748,ceva_zone!A:B,2,FALSE)","v":"F"},{"$f":"VLOOKUP(B748,ceva_zone!A:C,3,FALSE)","v":"B"}]
["02840","RI","Y","remote",{"$f":"VLOOKUP(B749,ceva_zone!A:B,2,FALSE)","v":"F"},{"$f":"VLOOKUP(B749,ceva_zone!A:C,3,FALSE)","v":"B"}]
["02842","RI","Y","remote",{"$f":"VLOOKUP(B750,ceva_zone!A:B,2,FALSE)","v":"F"},{"$f":"VLOOKUP(B750,ceva_zone!A:C,3,FALSE)","v":"B"}]
["02891","RI","Y","remote",{"$f":"VLOOKUP(B751,ceva_zone!A:B,2,FALSE)","v":"F"},{"$f":"VLOOKUP(B751,ceva_zone!A:C,3,FALSE)","v":"B"}]
["02841","RI","Y","remote",{"$f":"VLOOKUP(B752,ceva_zone!A:B,2,FALSE)","v":"F"},{"$f":"VLOOKUP(B752,ceva_zone!A:C,3,FALSE)","v":"B"}]
["02852","RI","Y","remote",{"$f":"VLOOKUP(B753,ceva_zone!A:B,2,FALSE)","v":"F"},{"$f":"VLOOKUP(B753,ceva_zone!A:C,3,FALSE)","v":"B"}]
["02854","RI","F","remote",{"$f":"VLOOKUP(B754,ceva_zone!A:B,2,FALSE)","v":"F"},{"$f":"VLOOKUP(B754,ceva_zone!A:C,3,FALSE)","v":"B"}]
["02857","RI","Y","remote",{"$f":"VLOOKUP(B755,ceva_zone!A:B,2,FALSE)","v":"F"},{"$f":"VLOOKUP(B755,ceva_zone!A:C,3,FALSE)","v":"B"}]
["02896","RI","F","remote",{"$f":"VLOOKUP(B756,ceva_zone!A:B,2,FALSE)","v":"F"},{"$f":"VLOOKUP(B756,ceva_zone!A:C,3,FALSE)","v":"B"}]
["02895","RI","C","standard",{"$f":"VLOOKUP(B757,ceva_zone!A:B,2,FALSE)","v":"F"},{"$f":"VLOOKUP(B757,ceva_zone!A:C,3,FALSE)","v":"B"}]
["02858","RI","Y","remote",{"$f":"VLOOKUP(B758,ceva_zone!A:B,2,FALSE)","v":"F"},{"$f":"VLOOKUP(B758,ceva_zone!A:C,3,FALSE)","v":"B"}]
["02859","RI","Y","remote",{"$f":"VLOOKUP(B759,ceva_zone!A:B,2,FALSE)","v":"F"},{"$f":"VLOOKUP(B759,ceva_zone!A:C,3,FALSE)","v":"B"}]
["02860","RI","E","remote",{"$f":"VLOOKUP(B760,ceva_zone!A:B,2,FALSE)","v":"F"},{"$f":"VLOOKUP(B760,ceva_zone!A:C,3,FALSE)","v":"B"}]
["02883","RI","Y","remote",{"$f":"VLOOKUP(B761,ceva_zone!A:B,2,FALSE)","v":"F"},{"$f":"VLOOKUP(B761,ceva_zone!A:C,3,FALSE)","v":"B"}]
["02871","RI","Y","remote",{"$f":"VLOOKUP(B762,ceva_zone!A:B,2,FALSE)","v":"F"},{"$f":"VLOOKUP(B762,ceva_zone!A:C,3,FALSE)","v":"B"}]
["02872","RI","Y","remote",{"$f":"VLOOKUP(B763,ceva_zone!A:B,2,FALSE)","v":"F"},{"$f":"VLOOKUP(B763,ceva_zone!A:C,3,FALSE)","v":"B"}]
["02898","RI","Y","remote",{"$f":"VLOOKUP(B764,ceva_zone!A:B,2,FALSE)","v":"F"},{"$f":"VLOOKUP(B764,ceva_zone!A:C,3,FALSE)","v":"B"}]
["02875","RI","Y","remote",{"$f":"VLOOKUP(B765,ceva_zone!A:B,2,FALSE)","v":"F"},{"$f":"VLOOKUP(B765,ceva_zone!A:C,3,FALSE)","v":"B"}]
["02892","RI","Y","remote",{"$f":"VLOOKUP(B766,ceva_zone!A:B,2,FALSE)","v":"F"},{"$f":"VLOOKUP(B766,ceva_zone!A:C,3,FALSE)","v":"B"}]
["02873","RI","Y","remote",{"$f":"VLOOKUP(B767,ceva_zone!A:B,2,FALSE)","v":"F"},{"$f":"VLOOKUP(B767,ceva_zone!A:C,3,FALSE)","v":"B"}]
["02876","RI","F","remote",{"$f":"VLOOKUP(B768,ceva_zone!A:B,2,FALSE)","v":"F"},{"$f":"VLOOKUP(B768,ceva_zone!A:C,3,FALSE)","v":"B"}]
["02877","RI","Y","remote",{"$f":"VLOOKUP(B769,ceva_zone!A:B,2,FALSE)","v":"F"},{"$f":"VLOOKUP(B769,ceva_zone!A:C,3,FALSE)","v":"B"}]
["02878","RI","H","remote",{"$f":"VLOOKUP(B770,ceva_zone!A:B,2,FALSE)","v":"F"},{"$f":"VLOOKUP(B770,ceva_zone!A:C,3,FALSE)","v":"B"}]
["02880","RI","Y","remote",{"$f":"VLOOKUP(B771,ceva_zone!A:B,2,FALSE)","v":"F"},{"$f":"VLOOKUP(B771,ceva_zone!A:C,3,FALSE)","v":"B"}]
["02885","RI","Y","remote",{"$f":"VLOOKUP(B772,ceva_zone!A:B,2,FALSE)","v":"F"},{"$f":"VLOOKUP(B772,ceva_zone!A:C,3,FALSE)","v":"B"}]
["02888","RI","Y","remote",{"$f":"VLOOKUP(B773,ceva_zone!A:B,2,FALSE)","v":"F"},{"$f":"VLOOKUP(B773,ceva_zone!A:C,3,FALSE)","v":"B"}]
["02886","RI","Y","remote",{"$f":"VLOOKUP(B774,ceva_zone!A:B,2,FALSE)","v":"F"},{"$f":"VLOOKUP(B774,ceva_zone!A:C,3,FALSE)","v":"B"}]
["02887","RI","C","standard",{"$f":"VLOOKUP(B775,ceva_zone!A:B,2,FALSE)","v":"F"},{"$f":"VLOOKUP(B775,ceva_zone!A:C,3,FALSE)","v":"B"}]
["02893","RI","Y","remote",{"$f":"VLOOKUP(B776,ceva_zone!A:B,2,FALSE)","v":"F"},{"$f":"VLOOKUP(B776,ceva_zone!A:C,3,FALSE)","v":"B"}]
["02940","RI","F","remote",{"$f":"VLOOKUP(B777,ceva_zone!A:B,2,FALSE)","v":"F"},{"$f":"VLOOKUP(B777,ceva_zone!A:C,3,FALSE)","v":"B"}]
["02901","RI","F","remote",{"$f":"VLOOKUP(B778,ceva_zone!A:B,2,FALSE)","v":"F"},{"$f":"VLOOKUP(B778,ceva_zone!A:C,3,FALSE)","v":"B"}]
["02911","RI","H","remote",{"$f":"VLOOKUP(B779,ceva_zone!A:B,2,FALSE)","v":"F"},{"$f":"VLOOKUP(B779,ceva_zone!A:C,3,FALSE)","v":"B"}]
["02904","RI","Y","remote",{"$f":"VLOOKUP(B780,ceva_zone!A:B,2,FALSE)","v":"F"},{"$f":"VLOOKUP(B780,ceva_zone!A:C,3,FALSE)","v":"B"}]
["02905","RI","E","remote",{"$f":"VLOOKUP(B781,ceva_zone!A:B,2,FALSE)","v":"F"},{"$f":"VLOOKUP(B781,ceva_zone!A:C,3,FALSE)","v":"B"}]
["02921","RI","Y","remote",{"$f":"VLOOKUP(B782,ceva_zone!A:B,2,FALSE)","v":"F"},{"$f":"VLOOKUP(B782,ceva_zone!A:C,3,FALSE)","v":"B"}]
["02920","RI","Y","remote",{"$f":"VLOOKUP(B783,ceva_zone!A:B,2,FALSE)","v":"F"},{"$f":"VLOOKUP(B783,ceva_zone!A:C,3,FALSE)","v":"B"}]
["02910","RI","H","remote",{"$f":"VLOOKUP(B784,ceva_zone!A:B,2,FALSE)","v":"F"},{"$f":"VLOOKUP(B784,ceva_zone!A:C,3,FALSE)","v":"B"}]
["02907","RI","E","remote",{"$f":"VLOOKUP(B785,ceva_zone!A:B,2,FALSE)","v":"F"},{"$f":"VLOOKUP(B785,ceva_zone!A:C,3,FALSE)","v":"B"}]
["02916","RI","E","remote",{"$f":"VLOOKUP(B786,ceva_zone!A:B,2,FALSE)","v":"F"},{"$f":"VLOOKUP(B786,ceva_zone!A:C,3,FALSE)","v":"B"}]
["02915","RI","E","remote",{"$f":"VLOOKUP(B787,ceva_zone!A:B,2,FALSE)","v":"F"},{"$f":"VLOOKUP(B787,ceva_zone!A:C,3,FALSE)","v":"B"}]
["02914","RI","E","remote",{"$f":"VLOOKUP(B788,ceva_zone!A:B,2,FALSE)","v":"F"},{"$f":"VLOOKUP(B788,ceva_zone!A:C,3,FALSE)","v":"B"}]
["02917","RI","H","remote",{"$f":"VLOOKUP(B789,ceva_zone!A:B,2,FALSE)","v":"F"},{"$f":"VLOOKUP(B789,ceva_zone!A:C,3,FALSE)","v":"B"}]
["02919","RI","H","remote",{"$f":"VLOOKUP(B790,ceva_zone!A:B,2,FALSE)","v":"F"},{"$f":"VLOOKUP(B790,ceva_zone!A:C,3,FALSE)","v":"B"}]
["02902","RI","E","remote",{"$f":"VLOOKUP(B791,ceva_zone!A:B,2,FALSE)","v":"F"},{"$f":"VLOOKUP(B791,ceva_zone!A:C,3,FALSE)","v":"B"}]
["02909","RI","E","remote",{"$f":"VLOOKUP(B792,ceva_zone!A:B,2,FALSE)","v":"F"},{"$f":"VLOOKUP(B792,ceva_zone!A:C,3,FALSE)","v":"B"}]
["02912","RI","E","remote",{"$f":"VLOOKUP(B793,ceva_zone!A:B,2,FALSE)","v":"F"},{"$f":"VLOOKUP(B793,ceva_zone!A:C,3,FALSE)","v":"B"}]
["02903","RI","E","remote",{"$f":"VLOOKUP(B794,ceva_zone!A:B,2,FALSE)","v":"F"},{"$f":"VLOOKUP(B794,ceva_zone!A:C,3,FALSE)","v":"B"}]
["02906","RI","E","remote",{"$f":"VLOOKUP(B795,ceva_zone!A:B,2,FALSE)","v":"F"},{"$f":"VLOOKUP(B795,ceva_zone!A:C,3,FALSE)","v":"B"}]
["02908","RI","E","remote",{"$f":"VLOOKUP(B796,ceva_zone!A:B,2,FALSE)","v":"F"},{"$f":"VLOOKUP(B796,ceva_zone!A:C,3,FALSE)","v":"B"}]
["02918","RI","D","standard",{"$f":"VLOOKUP(B797,ceva_zone!A:B,2,FALSE)","v":"F"},{"$f":"VLOOKUP(B797,ceva_zone!A:C,3,FALSE)","v":"B"}]
["03031","NH","C","standard",{"$f":"VLOOKUP(B798,ceva_zone!A:B,2,FALSE)","v":"F"},{"$f":"VLOOKUP(B798,ceva_zone!A:C,3,FALSE)","v":"B"}]
["03032","NH","D","standard",{"$f":"VLOOKUP(B799,ceva_zone!A:B,2,FALSE)","v":"F"},{"$f":"VLOOKUP(B799,ceva_zone!A:C,3,FALSE)","v":"B"}]
["03033","NH","B","standard",{"$f":"VLOOKUP(B800,ceva_zone!A:B,2,FALSE)","v":"F"},{"$f":"VLOOKUP(B800,ceva_zone!A:C,3,FALSE)","v":"B"}]
["03034","NH","A","standard",{"$f":"VLOOKUP(B801,ceva_zone!A:B,2,FALSE)","v":"F"},{"$f":"VLOOKUP(B801,ceva_zone!A:C,3,FALSE)","v":"B"}]
["03036","NH","A","standard",{"$f":"VLOOKUP(B802,ceva_zone!A:B,2,FALSE)","v":"F"},{"$f":"VLOOKUP(B802,ceva_zone!A:C,3,FALSE)","v":"B"}]
["03037","NH","E","remote",{"$f":"VLOOKUP(B803,ceva_zone!A:B,2,FALSE)","v":"F"},{"$f":"VLOOKUP(B803,ceva_zone!A:C,3,FALSE)","v":"B"}]
["03038","NH","D","standard",{"$f":"VLOOKUP(B804,ceva_zone!A:B,2,FALSE)","v":"F"},{"$f":"VLOOKUP(B804,ceva_zone!A:C,3,FALSE)","v":"B"}]
["03046","NH","F","remote",{"$f":"VLOOKUP(B805,ceva_zone!A:B,2,FALSE)","v":"F"},{"$f":"VLOOKUP(B805,ceva_zone!A:C,3,FALSE)","v":"B"}]
["03045","NH","F","remote",{"$f":"VLOOKUP(B806,ceva_zone!A:B,2,FALSE)","v":"F"},{"$f":"VLOOKUP(B806,ceva_zone!A:C,3,FALSE)","v":"B"}]
["03040","NH","C","standard",{"$f":"VLOOKUP(B807,ceva_zone!A:B,2,FALSE)","v":"F"},{"$f":"VLOOKUP(B807,ceva_zone!A:C,3,FALSE)","v":"B"}]
["03041","NH","A","standard",{"$f":"VLOOKUP(B808,ceva_zone!A:B,2,FALSE)","v":"F"},{"$f":"VLOOKUP(B808,ceva_zone!A:C,3,FALSE)","v":"B"}]
["03042","NH","A","standard",{"$f":"VLOOKUP(B809,ceva_zone!A:B,2,FALSE)","v":"F"},{"$f":"VLOOKUP(B809,ceva_zone!A:C,3,FALSE)","v":"B"}]
["03043","NH","F","remote",{"$f":"VLOOKUP(B810,ceva_zone!A:B,2,FALSE)","v":"F"},{"$f":"VLOOKUP(B810,ceva_zone!A:C,3,FALSE)","v":"B"}]
["03044","NH","A","standard",{"$f":"VLOOKUP(B811,ceva_zone!A:B,2,FALSE)","v":"F"},{"$f":"VLOOKUP(B811,ceva_zone!A:C,3,FALSE)","v":"B"}]
["03047","NH","F","remote",{"$f":"VLOOKUP(B812,ceva_zone!A:B,2,FALSE)","v":"F"},{"$f":"VLOOKUP(B812,ceva_zone!A:C,3,FALSE)","v":"B"}]
["03048","NH","F","remote",{"$f":"VLOOKUP(B813,ceva_zone!A:B,2,FALSE)","v":"F"},{"$f":"VLOOKUP(B813,ceva_zone!A:C,3,FALSE)","v":"B"}]
["03049","NH","F","remote",{"$f":"VLOOKUP(B814,ceva_zone!A:B,2,FALSE)","v":"F"},{"$f":"VLOOKUP(B814,ceva_zone!A:C,3,FALSE)","v":"B"}]
["03061","NH","E","remote",{"$f":"VLOOKUP(B815,ceva_zone!A:B,2,FALSE)","v":"F"},{"$f":"VLOOKUP(B815,ceva_zone!A:C,3,FALSE)","v":"B"}]
["03051","NH","B","standard",{"$f":"VLOOKUP(B816,ceva_zone!A:B,2,FALSE)","v":"F"},{"$f":"VLOOKUP(B816,ceva_zone!A:C,3,FALSE)","v":"B"}]
["03053","NH","A","standard",{"$f":"VLOOKUP(B817,ceva_zone!A:B,2,FALSE)","v":"F"},{"$f":"VLOOKUP(B817,ceva_zone!A:C,3,FALSE)","v":"B"}]
["03082","NH","F","remote",{"$f":"VLOOKUP(B818,ceva_zone!A:B,2,FALSE)","v":"F"},{"$f":"VLOOKUP(B818,ceva_zone!A:C,3,FALSE)","v":"B"}]
["03052","NH","C","standard",{"$f":"VLOOKUP(B819,ceva_zone!A:B,2,FALSE)","v":"F"},{"$f":"VLOOKUP(B819,ceva_zone!A:C,3,FALSE)","v":"B"}]
["03054","NH","E","remote",{"$f":"VLOOKUP(B820,ceva_zone!A:B,2,FALSE)","v":"F"},{"$f":"VLOOKUP(B820,ceva_zone!A:C,3,FALSE)","v":"B"}]
["03055","NH","F","remote",{"$f":"VLOOKUP(B821,ceva_zone!A:B,2,FALSE)","v":"F"},{"$f":"VLOOKUP(B821,ceva_zone!A:C,3,FALSE)","v":"B"}]
["03057","NH","F","remote",{"$f":"VLOOKUP(B822,ceva_zone!A:B,2,FALSE)","v":"F"},{"$f":"VLOOKUP(B822,ceva_zone!A:C,3,FALSE)","v":"B"}]
["03060","NH","A","standard",{"$f":"VLOOKUP(B823,ceva_zone!A:B,2,FALSE)","v":"F"},{"$f":"VLOOKUP(B823,ceva_zone!A:C,3,FALSE)","v":"B"}]
["03062","NH","A","standard",{"$f":"VLOOKUP(B824,ceva_zone!A:B,2,FALSE)","v":"F"},{"$f":"VLOOKUP(B824,ceva_zone!A:C,3,FALSE)","v":"B"}]
["03063","NH","A","standard",{"$f":"VLOOKUP(B825,ceva_zone!A:B,2,FALSE)","v":"F"},{"$f":"VLOOKUP(B825,ceva_zone!A:C,3,FALSE)","v":"B"}]
["03064","NH","A","standard",{"$f":"VLOOKUP(B826,ceva_zone!A:B,2,FALSE)","v":"F"},{"$f":"VLOOKUP(B826,ceva_zone!A:C,3,FALSE)","v":"B"}]
["03070","NH","F","remote",{"$f":"VLOOKUP(B827,ceva_zone!A:B,2,FALSE)","v":"F"},{"$f":"VLOOKUP(B827,ceva_zone!A:C,3,FALSE)","v":"B"}]
["03071","NH","F","remote",{"$f":"VLOOKUP(B828,ceva_zone!A:B,2,FALSE)","v":"F"},{"$f":"VLOOKUP(B828,ceva_zone!A:C,3,FALSE)","v":"B"}]
["03073","NH","D","standard",{"$f":"VLOOKUP(B829,ceva_zone!A:B,2,FALSE)","v":"F"},{"$f":"VLOOKUP(B829,ceva_zone!A:C,3,FALSE)","v":"B"}]
["03076","NH","D","standard",{"$f":"VLOOKUP(B830,ceva_zone!A:B,2,FALSE)","v":"F"},{"$f":"VLOOKUP(B830,ceva_zone!A:C,3,FALSE)","v":"B"}]
["03077","NH","D","standard",{"$f":"VLOOKUP(B831,ceva_zone!A:B,2,FALSE)","v":"F"},{"$f":"VLOOKUP(B831,ceva_zone!A:C,3,FALSE)","v":"B"}]
["03079","NH","A","standard",{"$f":"VLOOKUP(B832,ceva_zone!A:B,2,FALSE)","v":"F"},{"$f":"VLOOKUP(B832,ceva_zone!A:C,3,FALSE)","v":"B"}]
["03084","NH","F","remote",{"$f":"VLOOKUP(B833,ceva_zone!A:B,2,FALSE)","v":"F"},{"$f":"VLOOKUP(B833,ceva_zone!A:C,3,FALSE)","v":"B"}]
["03086","NH","F","remote",{"$f":"VLOOKUP(B834,ceva_zone!A:B,2,FALSE)","v":"F"},{"$f":"VLOOKUP(B834,ceva_zone!A:C,3,FALSE)","v":"B"}]
["03087","NH","D","standard",{"$f":"VLOOKUP(B835,ceva_zone!A:B,2,FALSE)","v":"F"},{"$f":"VLOOKUP(B835,ceva_zone!A:C,3,FALSE)","v":"B"}]
["03100","NH","F","remote",{"$f":"VLOOKUP(B836,ceva_zone!A:B,2,FALSE)","v":"F"},{"$f":"VLOOKUP(B836,ceva_zone!A:C,3,FALSE)","v":"B"}]
["03110","NH","E","remote",{"$f":"VLOOKUP(B837,ceva_zone!A:B,2,FALSE)","v":"F"},{"$f":"VLOOKUP(B837,ceva_zone!A:C,3,FALSE)","v":"B"}]
["03105","NH","D","standard",{"$f":"VLOOKUP(B838,ceva_zone!A:B,2,FALSE)","v":"F"},{"$f":"VLOOKUP(B838,ceva_zone!A:C,3,FALSE)","v":"B"}]
["03106","NH","B","standard",{"$f":"VLOOKUP(B839,ceva_zone!A:B,2,FALSE)","v":"F"},{"$f":"VLOOKUP(B839,ceva_zone!A:C,3,FALSE)","v":"B"}]
["03108","NH","E","remote",{"$f":"VLOOKUP(B840,ceva_zone!A:B,2,FALSE)","v":"F"},{"$f":"VLOOKUP(B840,ceva_zone!A:C,3,FALSE)","v":"B"}]
["03104","NH","B","standard",{"$f":"VLOOKUP(B841,ceva_zone!A:B,2,FALSE)","v":"F"},{"$f":"VLOOKUP(B841,ceva_zone!A:C,3,FALSE)","v":"B"}]
["03111","NH","D","standard",{"$f":"VLOOKUP(B842,ceva_zone!A:B,2,FALSE)","v":"F"},{"$f":"VLOOKUP(B842,ceva_zone!A:C,3,FALSE)","v":"B"}]
["03101","NH","B","standard",{"$f":"VLOOKUP(B843,ceva_zone!A:B,2,FALSE)","v":"F"},{"$f":"VLOOKUP(B843,ceva_zone!A:C,3,FALSE)","v":"B"}]
["03107","NH","E","remote",{"$f":"VLOOKUP(B844,ceva_zone!A:B,2,FALSE)","v":"F"},{"$f":"VLOOKUP(B844,ceva_zone!A:C,3,FALSE)","v":"B"}]
["03109","NH","A","standard",{"$f":"VLOOKUP(B845,ceva_zone!A:B,2,FALSE)","v":"F"},{"$f":"VLOOKUP(B845,ceva_zone!A:C,3,FALSE)","v":"B"}]
["03103","NH","A","standard",{"$f":"VLOOKUP(B846,ceva_zone!A:B,2,FALSE)","v":"F"},{"$f":"VLOOKUP(B846,ceva_zone!A:C,3,FALSE)","v":"B"}]
["03102","NH","E","remote",{"$f":"VLOOKUP(B847,ceva_zone!A:B,2,FALSE)","v":"F"},{"$f":"VLOOKUP(B847,ceva_zone!A:C,3,FALSE)","v":"B"}]
["03275","NH","D","standard",{"$f":"VLOOKUP(B848,ceva_zone!A:B,2,FALSE)","v":"F"},{"$f":"VLOOKUP(B848,ceva_zone!A:C,3,FALSE)","v":"B"}]
["03216","NH","Y","remote",{"$f":"VLOOKUP(B849,ceva_zone!A:B,2,FALSE)","v":"F"},{"$f":"VLOOKUP(B849,ceva_zone!A:C,3,FALSE)","v":"B"}]
["03217","NH","Y","remote",{"$f":"VLOOKUP(B850,ceva_zone!A:B,2,FALSE)","v":"F"},{"$f":"VLOOKUP(B850,ceva_zone!A:C,3,FALSE)","v":"B"}]
["03218","NH","Y","remote",{"$f":"VLOOKUP(B851,ceva_zone!A:B,2,FALSE)","v":"F"},{"$f":"VLOOKUP(B851,ceva_zone!A:C,3,FALSE)","v":"B"}]
["03223","NH","Y","remote",{"$f":"VLOOKUP(B852,ceva_zone!A:B,2,FALSE)","v":"F"},{"$f":"VLOOKUP(B852,ceva_zone!A:C,3,FALSE)","v":"B"}]
["03220","NH","Y","remote",{"$f":"VLOOKUP(B853,ceva_zone!A:B,2,FALSE)","v":"F"},{"$f":"VLOOKUP(B853,ceva_zone!A:C,3,FALSE)","v":"B"}]
["03221","NH","Y","remote",{"$f":"VLOOKUP(B854,ceva_zone!A:B,2,FALSE)","v":"F"},{"$f":"VLOOKUP(B854,ceva_zone!A:C,3,FALSE)","v":"B"}]
["03222","NH","Y","remote",{"$f":"VLOOKUP(B855,ceva_zone!A:B,2,FALSE)","v":"F"},{"$f":"VLOOKUP(B855,ceva_zone!A:C,3,FALSE)","v":"B"}]
["03285","NH","Y","remote",{"$f":"VLOOKUP(B856,ceva_zone!A:B,2,FALSE)","v":"F"},{"$f":"VLOOKUP(B856,ceva_zone!A:C,3,FALSE)","v":"B"}]
["03224","NH","Y","remote",{"$f":"VLOOKUP(B857,ceva_zone!A:B,2,FALSE)","v":"F"},{"$f":"VLOOKUP(B857,ceva_zone!A:C,3,FALSE)","v":"B"}]
["03225","NH","Y","remote",{"$f":"VLOOKUP(B858,ceva_zone!A:B,2,FALSE)","v":"F"},{"$f":"VLOOKUP(B858,ceva_zone!A:C,3,FALSE)","v":"B"}]
["03226","NH","Y","remote",{"$f":"VLOOKUP(B859,ceva_zone!A:B,2,FALSE)","v":"F"},{"$f":"VLOOKUP(B859,ceva_zone!A:C,3,FALSE)","v":"B"}]
["03227","NH","Y","remote",{"$f":"VLOOKUP(B860,ceva_zone!A:B,2,FALSE)","v":"F"},{"$f":"VLOOKUP(B860,ceva_zone!A:C,3,FALSE)","v":"B"}]
["03229","NH","F","remote",{"$f":"VLOOKUP(B861,ceva_zone!A:B,2,FALSE)","v":"F"},{"$f":"VLOOKUP(B861,ceva_zone!A:C,3,FALSE)","v":"B"}]
["03230","NH","Y","remote",{"$f":"VLOOKUP(B862,ceva_zone!A:B,2,FALSE)","v":"F"},{"$f":"VLOOKUP(B862,ceva_zone!A:C,3,FALSE)","v":"B"}]
["03231","NH","Y","remote",{"$f":"VLOOKUP(B863,ceva_zone!A:B,2,FALSE)","v":"F"},{"$f":"VLOOKUP(B863,ceva_zone!A:C,3,FALSE)","v":"B"}]
["03233","NH","Y","remote",{"$f":"VLOOKUP(B864,ceva_zone!A:B,2,FALSE)","v":"F"},{"$f":"VLOOKUP(B864,ceva_zone!A:C,3,FALSE)","v":"B"}]
["03234","NH","F","remote",{"$f":"VLOOKUP(B865,ceva_zone!A:B,2,FALSE)","v":"F"},{"$f":"VLOOKUP(B865,ceva_zone!A:C,3,FALSE)","v":"B"}]
["03235","NH","Y","remote",{"$f":"VLOOKUP(B866,ceva_zone!A:B,2,FALSE)","v":"F"},{"$f":"VLOOKUP(B866,ceva_zone!A:C,3,FALSE)","v":"B"}]
["03249","NH","Y","remote",{"$f":"VLOOKUP(B867,ceva_zone!A:B,2,FALSE)","v":"F"},{"$f":"VLOOKUP(B867,ceva_zone!A:C,3,FALSE)","v":"B"}]
["03247","NH","Y","remote",{"$f":"VLOOKUP(B868,ceva_zone!A:B,2,FALSE)","v":"F"},{"$f":"VLOOKUP(B868,ceva_zone!A:C,3,FALSE)","v":"B"}]
["03246","NH","Y","remote",{"$f":"VLOOKUP(B869,ceva_zone!A:B,2,FALSE)","v":"F"},{"$f":"VLOOKUP(B869,ceva_zone!A:C,3,FALSE)","v":"B"}]
["03237","NH","Y","remote",{"$f":"VLOOKUP(B870,ceva_zone!A:B,2,FALSE)","v":"F"},{"$f":"VLOOKUP(B870,ceva_zone!A:C,3,FALSE)","v":"B"}]
["03238","NH","Y","remote",{"$f":"VLOOKUP(B871,ceva_zone!A:B,2,FALSE)","v":"F"},{"$f":"VLOOKUP(B871,ceva_zone!A:C,3,FALSE)","v":"B"}]
["03240","NH","Y","remote",{"$f":"VLOOKUP(B872,ceva_zone!A:B,2,FALSE)","v":"F"},{"$f":"VLOOKUP(B872,ceva_zone!A:C,3,FALSE)","v":"B"}]
["03241","NH","Y","remote",{"$f":"VLOOKUP(B873,ceva_zone!A:B,2,FALSE)","v":"F"},{"$f":"VLOOKUP(B873,ceva_zone!A:C,3,FALSE)","v":"B"}]
["03242","NH","Y","remote",{"$f":"VLOOKUP(B874,ceva_zone!A:B,2,FALSE)","v":"F"},{"$f":"VLOOKUP(B874,ceva_zone!A:C,3,FALSE)","v":"B"}]
["03243","NH","Y","remote",{"$f":"VLOOKUP(B875,ceva_zone!A:B,2,FALSE)","v":"F"},{"$f":"VLOOKUP(B875,ceva_zone!A:C,3,FALSE)","v":"B"}]
["03244","NH","Y","remote",{"$f":"VLOOKUP(B876,ceva_zone!A:B,2,FALSE)","v":"F"},{"$f":"VLOOKUP(B876,ceva_zone!A:C,3,FALSE)","v":"B"}]
["03245","NH","Y","remote",{"$f":"VLOOKUP(B877,ceva_zone!A:B,2,FALSE)","v":"F"},{"$f":"VLOOKUP(B877,ceva_zone!A:C,3,FALSE)","v":"B"}]
["03251","NH","Y","remote",{"$f":"VLOOKUP(B878,ceva_zone!A:B,2,FALSE)","v":"F"},{"$f":"VLOOKUP(B878,ceva_zone!A:C,3,FALSE)","v":"B"}]
["03252","NH","Y","remote",{"$f":"VLOOKUP(B879,ceva_zone!A:B,2,FALSE)","v":"F"},{"$f":"VLOOKUP(B879,ceva_zone!A:C,3,FALSE)","v":"B"}]
["03253","NH","Y","remote",{"$f":"VLOOKUP(B880,ceva_zone!A:B,2,FALSE)","v":"F"},{"$f":"VLOOKUP(B880,ceva_zone!A:C,3,FALSE)","v":"B"}]
["03254","NH","Y","remote",{"$f":"VLOOKUP(B881,ceva_zone!A:B,2,FALSE)","v":"F"},{"$f":"VLOOKUP(B881,ceva_zone!A:C,3,FALSE)","v":"B"}]
["03256","NH","Y","remote",{"$f":"VLOOKUP(B882,ceva_zone!A:B,2,FALSE)","v":"F"},{"$f":"VLOOKUP(B882,ceva_zone!A:C,3,FALSE)","v":"B"}]
["03257","NH","Y","remote",{"$f":"VLOOKUP(B883,ceva_zone!A:B,2,FALSE)","v":"F"},{"$f":"VLOOKUP(B883,ceva_zone!A:C,3,FALSE)","v":"B"}]
["03255","NH","Y","remote",{"$f":"VLOOKUP(B884,ceva_zone!A:B,2,FALSE)","v":"F"},{"$f":"VLOOKUP(B884,ceva_zone!A:C,3,FALSE)","v":"B"}]
["03258","NH","E","remote",{"$f":"VLOOKUP(B885,ceva_zone!A:B,2,FALSE)","v":"F"},{"$f":"VLOOKUP(B885,ceva_zone!A:C,3,FALSE)","v":"B"}]
["03259","NH","Y","remote",{"$f":"VLOOKUP(B886,ceva_zone!A:B,2,FALSE)","v":"F"},{"$f":"VLOOKUP(B886,ceva_zone!A:C,3,FALSE)","v":"B"}]
["03260","NH","Y","remote",{"$f":"VLOOKUP(B887,ceva_zone!A:B,2,FALSE)","v":"F"},{"$f":"VLOOKUP(B887,ceva_zone!A:C,3,FALSE)","v":"B"}]
["03262","NH","Y","remote",{"$f":"VLOOKUP(B888,ceva_zone!A:B,2,FALSE)","v":"F"},{"$f":"VLOOKUP(B888,ceva_zone!A:C,3,FALSE)","v":"B"}]
["03276","NH","Y","remote",{"$f":"VLOOKUP(B889,ceva_zone!A:B,2,FALSE)","v":"F"},{"$f":"VLOOKUP(B889,ceva_zone!A:C,3,FALSE)","v":"B"}]
["03261","NH","D","standard",{"$f":"VLOOKUP(B890,ceva_zone!A:B,2,FALSE)","v":"F"},{"$f":"VLOOKUP(B890,ceva_zone!A:C,3,FALSE)","v":"B"}]
["03290","NH","D","standard",{"$f":"VLOOKUP(B891,ceva_zone!A:B,2,FALSE)","v":"F"},{"$f":"VLOOKUP(B891,ceva_zone!A:C,3,FALSE)","v":"B"}]
["03263","NH","Y","remote",{"$f":"VLOOKUP(B892,ceva_zone!A:B,2,FALSE)","v":"F"},{"$f":"VLOOKUP(B892,ceva_zone!A:C,3,FALSE)","v":"B"}]
["03264","NH","Y","remote",{"$f":"VLOOKUP(B893,ceva_zone!A:B,2,FALSE)","v":"F"},{"$f":"VLOOKUP(B893,ceva_zone!A:C,3,FALSE)","v":"B"}]
["03266","NH","Y","remote",{"$f":"VLOOKUP(B894,ceva_zone!A:B,2,FALSE)","v":"F"},{"$f":"VLOOKUP(B894,ceva_zone!A:C,3,FALSE)","v":"B"}]
["03268","NH","Y","remote",{"$f":"VLOOKUP(B895,ceva_zone!A:B,2,FALSE)","v":"F"},{"$f":"VLOOKUP(B895,ceva_zone!A:C,3,FALSE)","v":"B"}]
["03269","NH","Y","remote",{"$f":"VLOOKUP(B896,ceva_zone!A:B,2,FALSE)","v":"F"},{"$f":"VLOOKUP(B896,ceva_zone!A:C,3,FALSE)","v":"B"}]
["03272","NH","Y","remote",{"$f":"VLOOKUP(B897,ceva_zone!A:B,2,FALSE)","v":"F"},{"$f":"VLOOKUP(B897,ceva_zone!A:C,3,FALSE)","v":"B"}]
["03273","NH","Y","remote",{"$f":"VLOOKUP(B898,ceva_zone!A:B,2,FALSE)","v":"F"},{"$f":"VLOOKUP(B898,ceva_zone!A:C,3,FALSE)","v":"B"}]
["03274","NH","Y","remote",{"$f":"VLOOKUP(B899,ceva_zone!A:B,2,FALSE)","v":"F"},{"$f":"VLOOKUP(B899,ceva_zone!A:C,3,FALSE)","v":"B"}]
["03298","NH","Y","remote",{"$f":"VLOOKUP(B900,ceva_zone!A:B,2,FALSE)","v":"F"},{"$f":"VLOOKUP(B900,ceva_zone!A:C,3,FALSE)","v":"B"}]
["03299","NH","Y","remote",{"$f":"VLOOKUP(B901,ceva_zone!A:B,2,FALSE)","v":"F"},{"$f":"VLOOKUP(B901,ceva_zone!A:C,3,FALSE)","v":"B"}]
["03278","NH","Y","remote",{"$f":"VLOOKUP(B902,ceva_zone!A:B,2,FALSE)","v":"F"},{"$f":"VLOOKUP(B902,ceva_zone!A:C,3,FALSE)","v":"B"}]
["03279","NH","Y","remote",{"$f":"VLOOKUP(B903,ceva_zone!A:B,2,FALSE)","v":"F"},{"$f":"VLOOKUP(B903,ceva_zone!A:C,3,FALSE)","v":"B"}]
["03280","NH","Y","remote",{"$f":"VLOOKUP(B904,ceva_zone!A:B,2,FALSE)","v":"F"},{"$f":"VLOOKUP(B904,ceva_zone!A:C,3,FALSE)","v":"B"}]
["03215","NH","Y","remote",{"$f":"VLOOKUP(B905,ceva_zone!A:B,2,FALSE)","v":"F"},{"$f":"VLOOKUP(B905,ceva_zone!A:C,3,FALSE)","v":"B"}]
["03281","NH","F","remote",{"$f":"VLOOKUP(B906,ceva_zone!A:B,2,FALSE)","v":"F"},{"$f":"VLOOKUP(B906,ceva_zone!A:C,3,FALSE)","v":"B"}]
["03282","NH","Y","remote",{"$f":"VLOOKUP(B907,ceva_zone!A:B,2,FALSE)","v":"F"},{"$f":"VLOOKUP(B907,ceva_zone!A:C,3,FALSE)","v":"B"}]
["03291","NH","C","standard",{"$f":"VLOOKUP(B908,ceva_zone!A:B,2,FALSE)","v":"F"},{"$f":"VLOOKUP(B908,ceva_zone!A:C,3,FALSE)","v":"B"}]
["03284","NH","Y","remote",{"$f":"VLOOKUP(B909,ceva_zone!A:B,2,FALSE)","v":"F"},{"$f":"VLOOKUP(B909,ceva_zone!A:C,3,FALSE)","v":"B"}]
["03287","NH","Y","remote",{"$f":"VLOOKUP(B910,ceva_zone!A:B,2,FALSE)","v":"F"},{"$f":"VLOOKUP(B910,ceva_zone!A:C,3,FALSE)","v":"B"}]
["03289","NH","Y","remote",{"$f":"VLOOKUP(B911,ceva_zone!A:B,2,FALSE)","v":"F"},{"$f":"VLOOKUP(B911,ceva_zone!A:C,3,FALSE)","v":"B"}]
["03293","NH","Y","remote",{"$f":"VLOOKUP(B912,ceva_zone!A:B,2,FALSE)","v":"F"},{"$f":"VLOOKUP(B912,ceva_zone!A:C,3,FALSE)","v":"B"}]
["03303","NH","Y","remote",{"$f":"VLOOKUP(B913,ceva_zone!A:B,2,FALSE)","v":"F"},{"$f":"VLOOKUP(B913,ceva_zone!A:C,3,FALSE)","v":"B"}]
["03304","NH","F","remote",{"$f":"VLOOKUP(B914,ceva_zone!A:B,2,FALSE)","v":"F"},{"$f":"VLOOKUP(B914,ceva_zone!A:C,3,FALSE)","v":"B"}]
["03302","NH","F","remote",{"$f":"VLOOKUP(B915,ceva_zone!A:B,2,FALSE)","v":"F"},{"$f":"VLOOKUP(B915,ceva_zone!A:C,3,FALSE)","v":"B"}]
["03305","NH","C","standard",{"$f":"VLOOKUP(B916,ceva_zone!A:B,2,FALSE)","v":"F"},{"$f":"VLOOKUP(B916,ceva_zone!A:C,3,FALSE)","v":"B"}]
["03301","NH","B","standard",{"$f":"VLOOKUP(B917,ceva_zone!A:B,2,FALSE)","v":"F"},{"$f":"VLOOKUP(B917,ceva_zone!A:C,3,FALSE)","v":"B"}]
["03307","NH","F","remote",{"$f":"VLOOKUP(B918,ceva_zone!A:B,2,FALSE)","v":"F"},{"$f":"VLOOKUP(B918,ceva_zone!A:C,3,FALSE)","v":"B"}]
["03440","NH","Y","remote",{"$f":"VLOOKUP(B919,ceva_zone!A:B,2,FALSE)","v":"F"},{"$f":"VLOOKUP(B919,ceva_zone!A:C,3,FALSE)","v":"B"}]
["03441","NH","Y","remote",{"$f":"VLOOKUP(B920,ceva_zone!A:B,2,FALSE)","v":"F"},{"$f":"VLOOKUP(B920,ceva_zone!A:C,3,FALSE)","v":"B"}]
["03442","NH","Y","remote",{"$f":"VLOOKUP(B921,ceva_zone!A:B,2,FALSE)","v":"F"},{"$f":"VLOOKUP(B921,ceva_zone!A:C,3,FALSE)","v":"B"}]
["03443","NH","Y","remote",{"$f":"VLOOKUP(B922,ceva_zone!A:B,2,FALSE)","v":"F"},{"$f":"VLOOKUP(B922,ceva_zone!A:C,3,FALSE)","v":"B"}]
["03444","NH","Y","remote",{"$f":"VLOOKUP(B923,ceva_zone!A:B,2,FALSE)","v":"F"},{"$f":"VLOOKUP(B923,ceva_zone!A:C,3,FALSE)","v":"B"}]
["03445","NH","Y","remote",{"$f":"VLOOKUP(B924,ceva_zone!A:B,2,FALSE)","v":"F"},{"$f":"VLOOKUP(B924,ceva_zone!A:C,3,FALSE)","v":"B"}]
["03446","NH","Y","remote",{"$f":"VLOOKUP(B925,ceva_zone!A:B,2,FALSE)","v":"F"},{"$f":"VLOOKUP(B925,ceva_zone!A:C,3,FALSE)","v":"B"}]
["03447","NH","Y","remote",{"$f":"VLOOKUP(B926,ceva_zone!A:B,2,FALSE)","v":"F"},{"$f":"VLOOKUP(B926,ceva_zone!A:C,3,FALSE)","v":"B"}]
["03448","NH","Y","remote",{"$f":"VLOOKUP(B927,ceva_zone!A:B,2,FALSE)","v":"F"},{"$f":"VLOOKUP(B927,ceva_zone!A:C,3,FALSE)","v":"B"}]
["03449","NH","Y","remote",{"$f":"VLOOKUP(B928,ceva_zone!A:B,2,FALSE)","v":"F"},{"$f":"VLOOKUP(B928,ceva_zone!A:C,3,FALSE)","v":"B"}]
["03450","NH","Y","remote",{"$f":"VLOOKUP(B929,ceva_zone!A:B,2,FALSE)","v":"F"},{"$f":"VLOOKUP(B929,ceva_zone!A:C,3,FALSE)","v":"B"}]
["03451","NH","Y","remote",{"$f":"VLOOKUP(B930,ceva_zone!A:B,2,FALSE)","v":"F"},{"$f":"VLOOKUP(B930,ceva_zone!A:C,3,FALSE)","v":"B"}]
["03452","NH","F","remote",{"$f":"VLOOKUP(B931,ceva_zone!A:B,2,FALSE)","v":"F"},{"$f":"VLOOKUP(B931,ceva_zone!A:C,3,FALSE)","v":"B"}]
["03431","NH","Y","remote",{"$f":"VLOOKUP(B932,ceva_zone!A:B,2,FALSE)","v":"F"},{"$f":"VLOOKUP(B932,ceva_zone!A:C,3,FALSE)","v":"B"}]
["03435","NH","Y","remote",{"$f":"VLOOKUP(B933,ceva_zone!A:B,2,FALSE)","v":"F"},{"$f":"VLOOKUP(B933,ceva_zone!A:C,3,FALSE)","v":"B"}]
["03455","NH","Y","remote",{"$f":"VLOOKUP(B934,ceva_zone!A:B,2,FALSE)","v":"F"},{"$f":"VLOOKUP(B934,ceva_zone!A:C,3,FALSE)","v":"B"}]
["03456","NH","Y","remote",{"$f":"VLOOKUP(B935,ceva_zone!A:B,2,FALSE)","v":"F"},{"$f":"VLOOKUP(B935,ceva_zone!A:C,3,FALSE)","v":"B"}]
["03457","NH","Y","remote",{"$f":"VLOOKUP(B936,ceva_zone!A:B,2,FALSE)","v":"F"},{"$f":"VLOOKUP(B936,ceva_zone!A:C,3,FALSE)","v":"B"}]
["03458","NH","F","remote",{"$f":"VLOOKUP(B937,ceva_zone!A:B,2,FALSE)","v":"F"},{"$f":"VLOOKUP(B937,ceva_zone!A:C,3,FALSE)","v":"B"}]
["03470","NH","Y","remote",{"$f":"VLOOKUP(B938,ceva_zone!A:B,2,FALSE)","v":"F"},{"$f":"VLOOKUP(B938,ceva_zone!A:C,3,FALSE)","v":"B"}]
["03461","NH","F","remote",{"$f":"VLOOKUP(B939,ceva_zone!A:B,2,FALSE)","v":"F"},{"$f":"VLOOKUP(B939,ceva_zone!A:C,3,FALSE)","v":"B"}]
["03462","NH","Y","remote",{"$f":"VLOOKUP(B940,ceva_zone!A:B,2,FALSE)","v":"F"},{"$f":"VLOOKUP(B940,ceva_zone!A:C,3,FALSE)","v":"B"}]
["03464","NH","Y","remote",{"$f":"VLOOKUP(B941,ceva_zone!A:B,2,FALSE)","v":"F"},{"$f":"VLOOKUP(B941,ceva_zone!A:C,3,FALSE)","v":"B"}]
["03465","NH","Y","remote",{"$f":"VLOOKUP(B942,ceva_zone!A:B,2,FALSE)","v":"F"},{"$f":"VLOOKUP(B942,ceva_zone!A:C,3,FALSE)","v":"B"}]
["03466","NH","Y","remote",{"$f":"VLOOKUP(B943,ceva_zone!A:B,2,FALSE)","v":"F"},{"$f":"VLOOKUP(B943,ceva_zone!A:C,3,FALSE)","v":"B"}]
["03468","NH","F","remote",{"$f":"VLOOKUP(B944,ceva_zone!A:B,2,FALSE)","v":"F"},{"$f":"VLOOKUP(B944,ceva_zone!A:C,3,FALSE)","v":"B"}]
["03469","NH","Y","remote",{"$f":"VLOOKUP(B945,ceva_zone!A:B,2,FALSE)","v":"F"},{"$f":"VLOOKUP(B945,ceva_zone!A:C,3,FALSE)","v":"B"}]
["03467","NH","Y","remote",{"$f":"VLOOKUP(B946,ceva_zone!A:B,2,FALSE)","v":"F"},{"$f":"VLOOKUP(B946,ceva_zone!A:C,3,FALSE)","v":"B"}]
["03570","NH","Y","remote",{"$f":"VLOOKUP(B947,ceva_zone!A:B,2,FALSE)","v":"F"},{"$f":"VLOOKUP(B947,ceva_zone!A:C,3,FALSE)","v":"B"}]
["03574","NH","Y","remote",{"$f":"VLOOKUP(B948,ceva_zone!A:B,2,FALSE)","v":"F"},{"$f":"VLOOKUP(B948,ceva_zone!A:C,3,FALSE)","v":"B"}]
["03575","NH","Y","remote",{"$f":"VLOOKUP(B949,ceva_zone!A:B,2,FALSE)","v":"F"},{"$f":"VLOOKUP(B949,ceva_zone!A:C,3,FALSE)","v":"B"}]
["03576","NH","Y","remote",{"$f":"VLOOKUP(B950,ceva_zone!A:B,2,FALSE)","v":"F"},{"$f":"VLOOKUP(B950,ceva_zone!A:C,3,FALSE)","v":"B"}]
["03579","NH","Y","remote",{"$f":"VLOOKUP(B951,ceva_zone!A:B,2,FALSE)","v":"F"},{"$f":"VLOOKUP(B951,ceva_zone!A:C,3,FALSE)","v":"B"}]
["03580","NH","Y","remote",{"$f":"VLOOKUP(B952,ceva_zone!A:B,2,FALSE)","v":"F"},{"$f":"VLOOKUP(B952,ceva_zone!A:C,3,FALSE)","v":"B"}]
["03581","NH","Y","remote",{"$f":"VLOOKUP(B953,ceva_zone!A:B,2,FALSE)","v":"F"},{"$f":"VLOOKUP(B953,ceva_zone!A:C,3,FALSE)","v":"B"}]
["03582","NH","Y","remote",{"$f":"VLOOKUP(B954,ceva_zone!A:B,2,FALSE)","v":"F"},{"$f":"VLOOKUP(B954,ceva_zone!A:C,3,FALSE)","v":"B"}]
["03583","NH","Y","remote",{"$f":"VLOOKUP(B955,ceva_zone!A:B,2,FALSE)","v":"F"},{"$f":"VLOOKUP(B955,ceva_zone!A:C,3,FALSE)","v":"B"}]
["03584","NH","Y","remote",{"$f":"VLOOKUP(B956,ceva_zone!A:B,2,FALSE)","v":"F"},{"$f":"VLOOKUP(B956,ceva_zone!A:C,3,FALSE)","v":"B"}]
["03585","NH","Y","remote",{"$f":"VLOOKUP(B957,ceva_zone!A:B,2,FALSE)","v":"F"},{"$f":"VLOOKUP(B957,ceva_zone!A:C,3,FALSE)","v":"B"}]
["03561","NH","Y","remote",{"$f":"VLOOKUP(B958,ceva_zone!A:B,2,FALSE)","v":"F"},{"$f":"VLOOKUP(B958,ceva_zone!A:C,3,FALSE)","v":"B"}]
["03588","NH","Y","remote",{"$f":"VLOOKUP(B959,ceva_zone!A:B,2,FALSE)","v":"F"},{"$f":"VLOOKUP(B959,ceva_zone!A:C,3,FALSE)","v":"B"}]
["03589","NH","Y","remote",{"$f":"VLOOKUP(B960,ceva_zone!A:B,2,FALSE)","v":"F"},{"$f":"VLOOKUP(B960,ceva_zone!A:C,3,FALSE)","v":"B"}]
["03590","NH","Y","remote",{"$f":"VLOOKUP(B961,ceva_zone!A:B,2,FALSE)","v":"F"},{"$f":"VLOOKUP(B961,ceva_zone!A:C,3,FALSE)","v":"B"}]
["03592","NH","Y","remote",{"$f":"VLOOKUP(B962,ceva_zone!A:B,2,FALSE)","v":"F"},{"$f":"VLOOKUP(B962,ceva_zone!A:C,3,FALSE)","v":"B"}]
["03593","NH","Y","remote",{"$f":"VLOOKUP(B963,ceva_zone!A:B,2,FALSE)","v":"F"},{"$f":"VLOOKUP(B963,ceva_zone!A:C,3,FALSE)","v":"B"}]
["03586","NH","Y","remote",{"$f":"VLOOKUP(B964,ceva_zone!A:B,2,FALSE)","v":"F"},{"$f":"VLOOKUP(B964,ceva_zone!A:C,3,FALSE)","v":"B"}]
["03595","NH","Y","remote",{"$f":"VLOOKUP(B965,ceva_zone!A:B,2,FALSE)","v":"F"},{"$f":"VLOOKUP(B965,ceva_zone!A:C,3,FALSE)","v":"B"}]
["03597","NH","Y","remote",{"$f":"VLOOKUP(B966,ceva_zone!A:B,2,FALSE)","v":"F"},{"$f":"VLOOKUP(B966,ceva_zone!A:C,3,FALSE)","v":"B"}]
["03598","NH","Y","remote",{"$f":"VLOOKUP(B967,ceva_zone!A:B,2,FALSE)","v":"F"},{"$f":"VLOOKUP(B967,ceva_zone!A:C,3,FALSE)","v":"B"}]
["03601","NH","Y","remote",{"$f":"VLOOKUP(B968,ceva_zone!A:B,2,FALSE)","v":"F"},{"$f":"VLOOKUP(B968,ceva_zone!A:C,3,FALSE)","v":"B"}]
["03602","NH","Y","remote",{"$f":"VLOOKUP(B969,ceva_zone!A:B,2,FALSE)","v":"F"},{"$f":"VLOOKUP(B969,ceva_zone!A:C,3,FALSE)","v":"B"}]
["03603","NH","Y","remote",{"$f":"VLOOKUP(B970,ceva_zone!A:B,2,FALSE)","v":"F"},{"$f":"VLOOKUP(B970,ceva_zone!A:C,3,FALSE)","v":"B"}]
["03604","NH","Y","remote",{"$f":"VLOOKUP(B971,ceva_zone!A:B,2,FALSE)","v":"F"},{"$f":"VLOOKUP(B971,ceva_zone!A:C,3,FALSE)","v":"B"}]
["03605","NH","Y","remote",{"$f":"VLOOKUP(B972,ceva_zone!A:B,2,FALSE)","v":"F"},{"$f":"VLOOKUP(B972,ceva_zone!A:C,3,FALSE)","v":"B"}]
["03609","NH","Y","remote",{"$f":"VLOOKUP(B973,ceva_zone!A:B,2,FALSE)","v":"F"},{"$f":"VLOOKUP(B973,ceva_zone!A:C,3,FALSE)","v":"B"}]
["03607","NH","Y","remote",{"$f":"VLOOKUP(B974,ceva_zone!A:B,2,FALSE)","v":"F"},{"$f":"VLOOKUP(B974,ceva_zone!A:C,3,FALSE)","v":"B"}]
["03608","NH","Y","remote",{"$f":"VLOOKUP(B975,ceva_zone!A:B,2,FALSE)","v":"F"},{"$f":"VLOOKUP(B975,ceva_zone!A:C,3,FALSE)","v":"B"}]
["03740","NH","Y","remote",{"$f":"VLOOKUP(B976,ceva_zone!A:B,2,FALSE)","v":"F"},{"$f":"VLOOKUP(B976,ceva_zone!A:C,3,FALSE)","v":"B"}]
["03741","NH","Y","remote",{"$f":"VLOOKUP(B977,ceva_zone!A:B,2,FALSE)","v":"F"},{"$f":"VLOOKUP(B977,ceva_zone!A:C,3,FALSE)","v":"B"}]
["03743","NH","Y","remote",{"$f":"VLOOKUP(B978,ceva_zone!A:B,2,FALSE)","v":"F"},{"$f":"VLOOKUP(B978,ceva_zone!A:C,3,FALSE)","v":"B"}]
["03745","NH","Y","remote",{"$f":"VLOOKUP(B979,ceva_zone!A:B,2,FALSE)","v":"F"},{"$f":"VLOOKUP(B979,ceva_zone!A:C,3,FALSE)","v":"B"}]
["03746","NH","Y","remote",{"$f":"VLOOKUP(B980,ceva_zone!A:B,2,FALSE)","v":"F"},{"$f":"VLOOKUP(B980,ceva_zone!A:C,3,FALSE)","v":"B"}]
["03748","NH","Y","remote",{"$f":"VLOOKUP(B981,ceva_zone!A:B,2,FALSE)","v":"F"},{"$f":"VLOOKUP(B981,ceva_zone!A:C,3,FALSE)","v":"B"}]
["03749","NH","Y","remote",{"$f":"VLOOKUP(B982,ceva_zone!A:B,2,FALSE)","v":"F"},{"$f":"VLOOKUP(B982,ceva_zone!A:C,3,FALSE)","v":"B"}]
["03750","NH","Y","remote",{"$f":"VLOOKUP(B983,ceva_zone!A:B,2,FALSE)","v":"F"},{"$f":"VLOOKUP(B983,ceva_zone!A:C,3,FALSE)","v":"B"}]
["03751","NH","Y","remote",{"$f":"VLOOKUP(B984,ceva_zone!A:B,2,FALSE)","v":"F"},{"$f":"VLOOKUP(B984,ceva_zone!A:C,3,FALSE)","v":"B"}]
["03752","NH","Y","remote",{"$f":"VLOOKUP(B985,ceva_zone!A:B,2,FALSE)","v":"F"},{"$f":"VLOOKUP(B985,ceva_zone!A:C,3,FALSE)","v":"B"}]
["03753","NH","Y","remote",{"$f":"VLOOKUP(B986,ceva_zone!A:B,2,FALSE)","v":"F"},{"$f":"VLOOKUP(B986,ceva_zone!A:C,3,FALSE)","v":"B"}]
["03754","NH","Y","remote",{"$f":"VLOOKUP(B987,ceva_zone!A:B,2,FALSE)","v":"F"},{"$f":"VLOOKUP(B987,ceva_zone!A:C,3,FALSE)","v":"B"}]
["03755","NH","Y","remote",{"$f":"VLOOKUP(B988,ceva_zone!A:B,2,FALSE)","v":"F"},{"$f":"VLOOKUP(B988,ceva_zone!A:C,3,FALSE)","v":"B"}]
["03765","NH","Y","remote",{"$f":"VLOOKUP(B989,ceva_zone!A:B,2,FALSE)","v":"F"},{"$f":"VLOOKUP(B989,ceva_zone!A:C,3,FALSE)","v":"B"}]
["03756","NH","Y","remote",{"$f":"VLOOKUP(B990,ceva_zone!A:B,2,FALSE)","v":"F"},{"$f":"VLOOKUP(B990,ceva_zone!A:C,3,FALSE)","v":"B"}]
["03766","NH","Y","remote",{"$f":"VLOOKUP(B991,ceva_zone!A:B,2,FALSE)","v":"F"},{"$f":"VLOOKUP(B991,ceva_zone!A:C,3,FALSE)","v":"B"}]
["03768","NH","Y","remote",{"$f":"VLOOKUP(B992,ceva_zone!A:B,2,FALSE)","v":"F"},{"$f":"VLOOKUP(B992,ceva_zone!A:C,3,FALSE)","v":"B"}]
["03769","NH","Y","remote",{"$f":"VLOOKUP(B993,ceva_zone!A:B,2,FALSE)","v":"F"},{"$f":"VLOOKUP(B993,ceva_zone!A:C,3,FALSE)","v":"B"}]
["03770","NH","Y","remote",{"$f":"VLOOKUP(B994,ceva_zone!A:B,2,FALSE)","v":"F"},{"$f":"VLOOKUP(B994,ceva_zone!A:C,3,FALSE)","v":"B"}]
["03771","NH","Y","remote",{"$f":"VLOOKUP(B995,ceva_zone!A:B,2,FALSE)","v":"F"},{"$f":"VLOOKUP(B995,ceva_zone!A:C,3,FALSE)","v":"B"}]
["03773","NH","Y","remote",{"$f":"VLOOKUP(B996,ceva_zone!A:B,2,FALSE)","v":"F"},{"$f":"VLOOKUP(B996,ceva_zone!A:C,3,FALSE)","v":"B"}]
["03774","NH","Y","remote",{"$f":"VLOOKUP(B997,ceva_zone!A:B,2,FALSE)","v":"F"},{"$f":"VLOOKUP(B997,ceva_zone!A:C,3,FALSE)","v":"B"}]
["03777","NH","Y","remote",{"$f":"VLOOKUP(B998,ceva_zone!A:B,2,FALSE)","v":"F"},{"$f":"VLOOKUP(B998,ceva_zone!A:C,3,FALSE)","v":"B"}]
["03779","NH","Y","remote",{"$f":"VLOOKUP(B999,ceva_zone!A:B,2,FALSE)","v":"F"},{"$f":"VLOOKUP(B999,ceva_zone!A:C,3,FALSE)","v":"B"}]
["03780","NH","Y","remote",{"$f":"VLOOKUP(B1000,ceva_zone!A:B,2,FALSE)","v":"F"},{"$f":"VLOOKUP(B1000,ceva_zone!A:C,3,FALSE)","v":"B"}]
["03781","NH","Y","remote",{"$f":"VLOOKUP(B1001,ceva_zone!A:B,2,FALSE)","v":"F"},{"$f":"VLOOKUP(B1001,ceva_zone!A:C,3,FALSE)","v":"B"}]
["03782","NH","Y","remote",{"$f":"VLOOKUP(B1002,ceva_zone!A:B,2,FALSE)","v":"F"},{"$f":"VLOOKUP(B1002,ceva_zone!A:C,3,FALSE)","v":"B"}]
["03784","NH","Y","remote",{"$f":"VLOOKUP(B1003,ceva_zone!A:B,2,FALSE)","v":"F"},{"$f":"VLOOKUP(B1003,ceva_zone!A:C,3,FALSE)","v":"B"}]
["03785","NH","Y","remote",{"$f":"VLOOKUP(B1004,ceva_zone!A:B,2,FALSE)","v":"F"},{"$f":"VLOOKUP(B1004,ceva_zone!A:C,3,FALSE)","v":"B"}]
["03809","NH","Y","remote",{"$f":"VLOOKUP(B1005,ceva_zone!A:B,2,FALSE)","v":"F"},{"$f":"VLOOKUP(B1005,ceva_zone!A:C,3,FALSE)","v":"B"}]
["03810","NH","Y","remote",{"$f":"VLOOKUP(B1006,ceva_zone!A:B,2,FALSE)","v":"F"},{"$f":"VLOOKUP(B1006,ceva_zone!A:C,3,FALSE)","v":"B"}]
["03811","NH","H","remote",{"$f":"VLOOKUP(B1007,ceva_zone!A:B,2,FALSE)","v":"F"},{"$f":"VLOOKUP(B1007,ceva_zone!A:C,3,FALSE)","v":"B"}]
["03825","NH","C","standard",{"$f":"VLOOKUP(B1008,ceva_zone!A:B,2,FALSE)","v":"F"},{"$f":"VLOOKUP(B1008,ceva_zone!A:C,3,FALSE)","v":"B"}]
["03812","NH","Y","remote",{"$f":"VLOOKUP(B1009,ceva_zone!A:B,2,FALSE)","v":"F"},{"$f":"VLOOKUP(B1009,ceva_zone!A:C,3,FALSE)","v":"B"}]
["03833","NH","C","standard",{"$f":"VLOOKUP(B1010,ceva_zone!A:B,2,FALSE)","v":"F"},{"$f":"VLOOKUP(B1010,ceva_zone!A:C,3,FALSE)","v":"B"}]
["03813","NH","Y","remote",{"$f":"VLOOKUP(B1011,ceva_zone!A:B,2,FALSE)","v":"F"},{"$f":"VLOOKUP(B1011,ceva_zone!A:C,3,FALSE)","v":"B"}]
["03814","NH","Y","remote",{"$f":"VLOOKUP(B1012,ceva_zone!A:B,2,FALSE)","v":"F"},{"$f":"VLOOKUP(B1012,ceva_zone!A:C,3,FALSE)","v":"B"}]
["03815","NH","E","remote",{"$f":"VLOOKUP(B1013,ceva_zone!A:B,2,FALSE)","v":"F"},{"$f":"VLOOKUP(B1013,ceva_zone!A:C,3,FALSE)","v":"B"}]
["03816","NH","Y","remote",{"$f":"VLOOKUP(B1014,ceva_zone!A:B,2,FALSE)","v":"F"},{"$f":"VLOOKUP(B1014,ceva_zone!A:C,3,FALSE)","v":"B"}]
["03817","NH","Y","remote",{"$f":"VLOOKUP(B1015,ceva_zone!A:B,2,FALSE)","v":"F"},{"$f":"VLOOKUP(B1015,ceva_zone!A:C,3,FALSE)","v":"B"}]
["03818","NH","Y","remote",{"$f":"VLOOKUP(B1016,ceva_zone!A:B,2,FALSE)","v":"F"},{"$f":"VLOOKUP(B1016,ceva_zone!A:C,3,FALSE)","v":"B"}]
["03805","NH","F","remote",{"$f":"VLOOKUP(B1017,ceva_zone!A:B,2,FALSE)","v":"F"},{"$f":"VLOOKUP(B1017,ceva_zone!A:C,3,FALSE)","v":"B"}]
["03819","NH","E","remote",{"$f":"VLOOKUP(B1018,ceva_zone!A:B,2,FALSE)","v":"F"},{"$f":"VLOOKUP(B1018,ceva_zone!A:C,3,FALSE)","v":"B"}]
["03821","NH","E","remote",{"$f":"VLOOKUP(B1019,ceva_zone!A:B,2,FALSE)","v":"F"},{"$f":"VLOOKUP(B1019,ceva_zone!A:C,3,FALSE)","v":"B"}]
["03820","NH","D","standard",{"$f":"VLOOKUP(B1020,ceva_zone!A:B,2,FALSE)","v":"F"},{"$f":"VLOOKUP(B1020,ceva_zone!A:C,3,FALSE)","v":"B"}]
["03822","NH","B","standard",{"$f":"VLOOKUP(B1021,ceva_zone!A:B,2,FALSE)","v":"F"},{"$f":"VLOOKUP(B1021,ceva_zone!A:C,3,FALSE)","v":"B"}]
["03824","NH","D","standard",{"$f":"VLOOKUP(B1022,ceva_zone!A:B,2,FALSE)","v":"F"},{"$f":"VLOOKUP(B1022,ceva_zone!A:C,3,FALSE)","v":"B"}]
["03826","NH","A","standard",{"$f":"VLOOKUP(B1023,ceva_zone!A:B,2,FALSE)","v":"F"},{"$f":"VLOOKUP(B1023,ceva_zone!A:C,3,FALSE)","v":"B"}]
["03827","NH","D","standard",{"$f":"VLOOKUP(B1024,ceva_zone!A:B,2,FALSE)","v":"F"},{"$f":"VLOOKUP(B1024,ceva_zone!A:C,3,FALSE)","v":"B"}]
["03868","NH","E","remote",{"$f":"VLOOKUP(B1025,ceva_zone!A:B,2,FALSE)","v":"F"},{"$f":"VLOOKUP(B1025,ceva_zone!A:C,3,FALSE)","v":"B"}]
["03830","NH","Y","remote",{"$f":"VLOOKUP(B1026,ceva_zone!A:B,2,FALSE)","v":"F"},{"$f":"VLOOKUP(B1026,ceva_zone!A:C,3,FALSE)","v":"B"}]
["03832","NH","Y","remote",{"$f":"VLOOKUP(B1027,ceva_zone!A:B,2,FALSE)","v":"F"},{"$f":"VLOOKUP(B1027,ceva_zone!A:C,3,FALSE)","v":"B"}]
["03835","NH","F","remote",{"$f":"VLOOKUP(B1028,ceva_zone!A:B,2,FALSE)","v":"F"},{"$f":"VLOOKUP(B1028,ceva_zone!A:C,3,FALSE)","v":"B"}]
["03836","NH","Y","remote",{"$f":"VLOOKUP(B1029,ceva_zone!A:B,2,FALSE)","v":"F"},{"$f":"VLOOKUP(B1029,ceva_zone!A:C,3,FALSE)","v":"B"}]
["03837","NH","Y","remote",{"$f":"VLOOKUP(B1030,ceva_zone!A:B,2,FALSE)","v":"F"},{"$f":"VLOOKUP(B1030,ceva_zone!A:C,3,FALSE)","v":"B"}]
["03838","NH","Y","remote",{"$f":"VLOOKUP(B1031,ceva_zone!A:B,2,FALSE)","v":"F"},{"$f":"VLOOKUP(B1031,ceva_zone!A:C,3,FALSE)","v":"B"}]
["03839","NH","C","standard",{"$f":"VLOOKUP(B1032,ceva_zone!A:B,2,FALSE)","v":"F"},{"$f":"VLOOKUP(B1032,ceva_zone!A:C,3,FALSE)","v":"B"}]
["03840","NH","A","standard",{"$f":"VLOOKUP(B1033,ceva_zone!A:B,2,FALSE)","v":"F"},{"$f":"VLOOKUP(B1033,ceva_zone!A:C,3,FALSE)","v":"B"}]
["03841","NH","B","standard",{"$f":"VLOOKUP(B1034,ceva_zone!A:B,2,FALSE)","v":"F"},{"$f":"VLOOKUP(B1034,ceva_zone!A:C,3,FALSE)","v":"B"}]
["03842","NH","A","standard",{"$f":"VLOOKUP(B1035,ceva_zone!A:B,2,FALSE)","v":"F"},{"$f":"VLOOKUP(B1035,ceva_zone!A:C,3,FALSE)","v":"B"}]
["03843","NH","E","remote",{"$f":"VLOOKUP(B1036,ceva_zone!A:B,2,FALSE)","v":"F"},{"$f":"VLOOKUP(B1036,ceva_zone!A:C,3,FALSE)","v":"B"}]
["03844","NH","A","standard",{"$f":"VLOOKUP(B1037,ceva_zone!A:B,2,FALSE)","v":"F"},{"$f":"VLOOKUP(B1037,ceva_zone!A:C,3,FALSE)","v":"B"}]
["03845","NH","Y","remote",{"$f":"VLOOKUP(B1038,ceva_zone!A:B,2,FALSE)","v":"F"},{"$f":"VLOOKUP(B1038,ceva_zone!A:C,3,FALSE)","v":"B"}]
["03846","NH","Y","remote",{"$f":"VLOOKUP(B1039,ceva_zone!A:B,2,FALSE)","v":"F"},{"$f":"VLOOKUP(B1039,ceva_zone!A:C,3,FALSE)","v":"B"}]
["03847","NH","Y","remote",{"$f":"VLOOKUP(B1040,ceva_zone!A:B,2,FALSE)","v":"F"},{"$f":"VLOOKUP(B1040,ceva_zone!A:C,3,FALSE)","v":"B"}]
["03848","NH","C","standard",{"$f":"VLOOKUP(B1041,ceva_zone!A:B,2,FALSE)","v":"F"},{"$f":"VLOOKUP(B1041,ceva_zone!A:C,3,FALSE)","v":"B"}]
["03804","ME","A","standard",{"$f":"VLOOKUP(B1042,ceva_zone!A:B,2,FALSE)","v":"F"},{"$f":"VLOOKUP(B1042,ceva_zone!A:C,3,FALSE)","v":"B"}]
["03861","NH","B","standard",{"$f":"VLOOKUP(B1043,ceva_zone!A:B,2,FALSE)","v":"F"},{"$f":"VLOOKUP(B1043,ceva_zone!A:C,3,FALSE)","v":"B"}]
["03823","NH","C","standard",{"$f":"VLOOKUP(B1044,ceva_zone!A:B,2,FALSE)","v":"F"},{"$f":"VLOOKUP(B1044,ceva_zone!A:C,3,FALSE)","v":"B"}]
["03849","NH","Y","remote",{"$f":"VLOOKUP(B1045,ceva_zone!A:B,2,FALSE)","v":"F"},{"$f":"VLOOKUP(B1045,ceva_zone!A:C,3,FALSE)","v":"B"}]
["03850","NH","Y","remote",{"$f":"VLOOKUP(B1046,ceva_zone!A:B,2,FALSE)","v":"F"},{"$f":"VLOOKUP(B1046,ceva_zone!A:C,3,FALSE)","v":"B"}]
["03851","NH","E","remote",{"$f":"VLOOKUP(B1047,ceva_zone!A:B,2,FALSE)","v":"F"},{"$f":"VLOOKUP(B1047,ceva_zone!A:C,3,FALSE)","v":"B"}]
["03852","NH","Y","remote",{"$f":"VLOOKUP(B1048,ceva_zone!A:B,2,FALSE)","v":"F"},{"$f":"VLOOKUP(B1048,ceva_zone!A:C,3,FALSE)","v":"B"}]
["03853","NH","Y","remote",{"$f":"VLOOKUP(B1049,ceva_zone!A:B,2,FALSE)","v":"F"},{"$f":"VLOOKUP(B1049,ceva_zone!A:C,3,FALSE)","v":"B"}]
["03854","NH","A","standard",{"$f":"VLOOKUP(B1050,ceva_zone!A:B,2,FALSE)","v":"F"},{"$f":"VLOOKUP(B1050,ceva_zone!A:C,3,FALSE)","v":"B"}]
["03855","NH","Y","remote",{"$f":"VLOOKUP(B1051,ceva_zone!A:B,2,FALSE)","v":"F"},{"$f":"VLOOKUP(B1051,ceva_zone!A:C,3,FALSE)","v":"B"}]
["03856","NH","L","remote",{"$f":"VLOOKUP(B1052,ceva_zone!A:B,2,FALSE)","v":"F"},{"$f":"VLOOKUP(B1052,ceva_zone!A:C,3,FALSE)","v":"B"}]
["03801","NH","A","standard",{"$f":"VLOOKUP(B1053,ceva_zone!A:B,2,FALSE)","v":"F"},{"$f":"VLOOKUP(B1053,ceva_zone!A:C,3,FALSE)","v":"B"}]
["03857","NH","A","standard",{"$f":"VLOOKUP(B1054,ceva_zone!A:B,2,FALSE)","v":"F"},{"$f":"VLOOKUP(B1054,ceva_zone!A:C,3,FALSE)","v":"B"}]
["03858","NH","B","standard",{"$f":"VLOOKUP(B1055,ceva_zone!A:B,2,FALSE)","v":"F"},{"$f":"VLOOKUP(B1055,ceva_zone!A:C,3,FALSE)","v":"B"}]
["03859","NH","B","standard",{"$f":"VLOOKUP(B1056,ceva_zone!A:B,2,FALSE)","v":"F"},{"$f":"VLOOKUP(B1056,ceva_zone!A:C,3,FALSE)","v":"B"}]
["03860","NH","Y","remote",{"$f":"VLOOKUP(B1057,ceva_zone!A:B,2,FALSE)","v":"F"},{"$f":"VLOOKUP(B1057,ceva_zone!A:C,3,FALSE)","v":"B"}]
["03862","NH","D","standard",{"$f":"VLOOKUP(B1058,ceva_zone!A:B,2,FALSE)","v":"F"},{"$f":"VLOOKUP(B1058,ceva_zone!A:C,3,FALSE)","v":"B"}]
["03864","NH","Y","remote",{"$f":"VLOOKUP(B1059,ceva_zone!A:B,2,FALSE)","v":"F"},{"$f":"VLOOKUP(B1059,ceva_zone!A:C,3,FALSE)","v":"B"}]
["03865","NH","E","remote",{"$f":"VLOOKUP(B1060,ceva_zone!A:B,2,FALSE)","v":"F"},{"$f":"VLOOKUP(B1060,ceva_zone!A:C,3,FALSE)","v":"B"}]
["03802","NH","A","standard",{"$f":"VLOOKUP(B1061,ceva_zone!A:B,2,FALSE)","v":"F"},{"$f":"VLOOKUP(B1061,ceva_zone!A:C,3,FALSE)","v":"B"}]
["03803","NH","A","standard",{"$f":"VLOOKUP(B1062,ceva_zone!A:B,2,FALSE)","v":"F"},{"$f":"VLOOKUP(B1062,ceva_zone!A:C,3,FALSE)","v":"B"}]
["03867","NH","E","remote",{"$f":"VLOOKUP(B1063,ceva_zone!A:B,2,FALSE)","v":"F"},{"$f":"VLOOKUP(B1063,ceva_zone!A:C,3,FALSE)","v":"B"}]
["03869","NH","F","remote",{"$f":"VLOOKUP(B1064,ceva_zone!A:B,2,FALSE)","v":"F"},{"$f":"VLOOKUP(B1064,ceva_zone!A:C,3,FALSE)","v":"B"}]
["03870","NH","A","standard",{"$f":"VLOOKUP(B1065,ceva_zone!A:B,2,FALSE)","v":"F"},{"$f":"VLOOKUP(B1065,ceva_zone!A:C,3,FALSE)","v":"B"}]
["03871","NH","E","remote",{"$f":"VLOOKUP(B1066,ceva_zone!A:B,2,FALSE)","v":"F"},{"$f":"VLOOKUP(B1066,ceva_zone!A:C,3,FALSE)","v":"B"}]
["03866","NH","C","standard",{"$f":"VLOOKUP(B1067,ceva_zone!A:B,2,FALSE)","v":"F"},{"$f":"VLOOKUP(B1067,ceva_zone!A:C,3,FALSE)","v":"B"}]
["03872","NH","Y","remote",{"$f":"VLOOKUP(B1068,ceva_zone!A:B,2,FALSE)","v":"F"},{"$f":"VLOOKUP(B1068,ceva_zone!A:C,3,FALSE)","v":"B"}]
["03873","NH","E","remote",{"$f":"VLOOKUP(B1069,ceva_zone!A:B,2,FALSE)","v":"F"},{"$f":"VLOOKUP(B1069,ceva_zone!A:C,3,FALSE)","v":"B"}]
["03874","NH","H","remote",{"$f":"VLOOKUP(B1070,ceva_zone!A:B,2,FALSE)","v":"F"},{"$f":"VLOOKUP(B1070,ceva_zone!A:C,3,FALSE)","v":"B"}]
["03875","NH","Y","remote",{"$f":"VLOOKUP(B1071,ceva_zone!A:B,2,FALSE)","v":"F"},{"$f":"VLOOKUP(B1071,ceva_zone!A:C,3,FALSE)","v":"B"}]
["03878","NH","F","remote",{"$f":"VLOOKUP(B1072,ceva_zone!A:B,2,FALSE)","v":"F"},{"$f":"VLOOKUP(B1072,ceva_zone!A:C,3,FALSE)","v":"B"}]
["03882","NH","Y","remote",{"$f":"VLOOKUP(B1073,ceva_zone!A:B,2,FALSE)","v":"F"},{"$f":"VLOOKUP(B1073,ceva_zone!A:C,3,FALSE)","v":"B"}]
["03883","NH","Y","remote",{"$f":"VLOOKUP(B1074,ceva_zone!A:B,2,FALSE)","v":"F"},{"$f":"VLOOKUP(B1074,ceva_zone!A:C,3,FALSE)","v":"B"}]
["03884","NH","E","remote",{"$f":"VLOOKUP(B1075,ceva_zone!A:B,2,FALSE)","v":"F"},{"$f":"VLOOKUP(B1075,ceva_zone!A:C,3,FALSE)","v":"B"}]
["03885","NH","A","standard",{"$f":"VLOOKUP(B1076,ceva_zone!A:B,2,FALSE)","v":"F"},{"$f":"VLOOKUP(B1076,ceva_zone!A:C,3,FALSE)","v":"B"}]
["03886","NH","Y","remote",{"$f":"VLOOKUP(B1077,ceva_zone!A:B,2,FALSE)","v":"F"},{"$f":"VLOOKUP(B1077,ceva_zone!A:C,3,FALSE)","v":"B"}]
["03887","NH","Y","remote",{"$f":"VLOOKUP(B1078,ceva_zone!A:B,2,FALSE)","v":"F"},{"$f":"VLOOKUP(B1078,ceva_zone!A:C,3,FALSE)","v":"B"}]
["03890","NH","Y","remote",{"$f":"VLOOKUP(B1079,ceva_zone!A:B,2,FALSE)","v":"F"},{"$f":"VLOOKUP(B1079,ceva_zone!A:C,3,FALSE)","v":"B"}]
["03894","NH","Y","remote",{"$f":"VLOOKUP(B1080,ceva_zone!A:B,2,FALSE)","v":"F"},{"$f":"VLOOKUP(B1080,ceva_zone!A:C,3,FALSE)","v":"B"}]
["03896","NH","Y","remote",{"$f":"VLOOKUP(B1081,ceva_zone!A:B,2,FALSE)","v":"F"},{"$f":"VLOOKUP(B1081,ceva_zone!A:C,3,FALSE)","v":"B"}]
["03897","NH","Y","remote",{"$f":"VLOOKUP(B1082,ceva_zone!A:B,2,FALSE)","v":"F"},{"$f":"VLOOKUP(B1082,ceva_zone!A:C,3,FALSE)","v":"B"}]
["03901","ME","F","remote",{"$f":"VLOOKUP(B1083,ceva_zone!A:B,2,FALSE)","v":"F"},{"$f":"VLOOKUP(B1083,ceva_zone!A:C,3,FALSE)","v":"B"}]
["03902","ME","F","remote",{"$f":"VLOOKUP(B1084,ceva_zone!A:B,2,FALSE)","v":"F"},{"$f":"VLOOKUP(B1084,ceva_zone!A:C,3,FALSE)","v":"B"}]
["03903","ME","F","remote",{"$f":"VLOOKUP(B1085,ceva_zone!A:B,2,FALSE)","v":"F"},{"$f":"VLOOKUP(B1085,ceva_zone!A:C,3,FALSE)","v":"B"}]
["03904","ME","F","remote",{"$f":"VLOOKUP(B1086,ceva_zone!A:B,2,FALSE)","v":"F"},{"$f":"VLOOKUP(B1086,ceva_zone!A:C,3,FALSE)","v":"B"}]
["03905","ME","F","remote",{"$f":"VLOOKUP(B1087,ceva_zone!A:B,2,FALSE)","v":"F"},{"$f":"VLOOKUP(B1087,ceva_zone!A:C,3,FALSE)","v":"B"}]
["03906","ME","F","remote",{"$f":"VLOOKUP(B1088,ceva_zone!A:B,2,FALSE)","v":"F"},{"$f":"VLOOKUP(B1088,ceva_zone!A:C,3,FALSE)","v":"B"}]
["03907","ME","F","remote",{"$f":"VLOOKUP(B1089,ceva_zone!A:B,2,FALSE)","v":"F"},{"$f":"VLOOKUP(B1089,ceva_zone!A:C,3,FALSE)","v":"B"}]
["03908","ME","F","remote",{"$f":"VLOOKUP(B1090,ceva_zone!A:B,2,FALSE)","v":"F"},{"$f":"VLOOKUP(B1090,ceva_zone!A:C,3,FALSE)","v":"B"}]
["03909","ME","F","remote",{"$f":"VLOOKUP(B1091,ceva_zone!A:B,2,FALSE)","v":"F"},{"$f":"VLOOKUP(B1091,ceva_zone!A:C,3,FALSE)","v":"B"}]
["03910","ME","F","remote",{"$f":"VLOOKUP(B1092,ceva_zone!A:B,2,FALSE)","v":"F"},{"$f":"VLOOKUP(B1092,ceva_zone!A:C,3,FALSE)","v":"B"}]
["03911","ME","F","remote",{"$f":"VLOOKUP(B1093,ceva_zone!A:B,2,FALSE)","v":"F"},{"$f":"VLOOKUP(B1093,ceva_zone!A:C,3,FALSE)","v":"B"}]
["04001","ME","Y","remote",{"$f":"VLOOKUP(B1094,ceva_zone!A:B,2,FALSE)","v":"F"},{"$f":"VLOOKUP(B1094,ceva_zone!A:C,3,FALSE)","v":"B"}]
["04002","ME","Y","remote",{"$f":"VLOOKUP(B1095,ceva_zone!A:B,2,FALSE)","v":"F"},{"$f":"VLOOKUP(B1095,ceva_zone!A:C,3,FALSE)","v":"B"}]
["04005","ME","Y","remote",{"$f":"VLOOKUP(B1096,ceva_zone!A:B,2,FALSE)","v":"F"},{"$f":"VLOOKUP(B1096,ceva_zone!A:C,3,FALSE)","v":"B"}]
["04003","ME","Y","remote",{"$f":"VLOOKUP(B1097,ceva_zone!A:B,2,FALSE)","v":"F"},{"$f":"VLOOKUP(B1097,ceva_zone!A:C,3,FALSE)","v":"B"}]
["04004","ME","Y","remote",{"$f":"VLOOKUP(B1098,ceva_zone!A:B,2,FALSE)","v":"F"},{"$f":"VLOOKUP(B1098,ceva_zone!A:C,3,FALSE)","v":"B"}]
["04007","ME","F","remote",{"$f":"VLOOKUP(B1099,ceva_zone!A:B,2,FALSE)","v":"F"},{"$f":"VLOOKUP(B1099,ceva_zone!A:C,3,FALSE)","v":"B"}]
["04006","ME","Y","remote",{"$f":"VLOOKUP(B1100,ceva_zone!A:B,2,FALSE)","v":"F"},{"$f":"VLOOKUP(B1100,ceva_zone!A:C,3,FALSE)","v":"B"}]
["04011","ME","Y","remote",{"$f":"VLOOKUP(B1101,ceva_zone!A:B,2,FALSE)","v":"F"},{"$f":"VLOOKUP(B1101,ceva_zone!A:C,3,FALSE)","v":"B"}]
["04008","ME","Y","remote",{"$f":"VLOOKUP(B1102,ceva_zone!A:B,2,FALSE)","v":"F"},{"$f":"VLOOKUP(B1102,ceva_zone!A:C,3,FALSE)","v":"B"}]
["04009","ME","Y","remote",{"$f":"VLOOKUP(B1103,ceva_zone!A:B,2,FALSE)","v":"F"},{"$f":"VLOOKUP(B1103,ceva_zone!A:C,3,FALSE)","v":"B"}]
["04010","ME","Y","remote",{"$f":"VLOOKUP(B1104,ceva_zone!A:B,2,FALSE)","v":"F"},{"$f":"VLOOKUP(B1104,ceva_zone!A:C,3,FALSE)","v":"B"}]
["04013","ME","Y","remote",{"$f":"VLOOKUP(B1105,ceva_zone!A:B,2,FALSE)","v":"F"},{"$f":"VLOOKUP(B1105,ceva_zone!A:C,3,FALSE)","v":"B"}]
["04072","ME","Y","remote",{"$f":"VLOOKUP(B1106,ceva_zone!A:B,2,FALSE)","v":"F"},{"$f":"VLOOKUP(B1106,ceva_zone!A:C,3,FALSE)","v":"B"}]
["04014","ME","F","remote",{"$f":"VLOOKUP(B1107,ceva_zone!A:B,2,FALSE)","v":"F"},{"$f":"VLOOKUP(B1107,ceva_zone!A:C,3,FALSE)","v":"B"}]
["04015","ME","Y","remote",{"$f":"VLOOKUP(B1108,ceva_zone!A:B,2,FALSE)","v":"F"},{"$f":"VLOOKUP(B1108,ceva_zone!A:C,3,FALSE)","v":"B"}]
["04016","ME","Y","remote",{"$f":"VLOOKUP(B1109,ceva_zone!A:B,2,FALSE)","v":"F"},{"$f":"VLOOKUP(B1109,ceva_zone!A:C,3,FALSE)","v":"B"}]
["04017","ME","Y","remote",{"$f":"VLOOKUP(B1110,ceva_zone!A:B,2,FALSE)","v":"F"},{"$f":"VLOOKUP(B1110,ceva_zone!A:C,3,FALSE)","v":"B"}]
["04019","ME","Y","remote",{"$f":"VLOOKUP(B1111,ceva_zone!A:B,2,FALSE)","v":"F"},{"$f":"VLOOKUP(B1111,ceva_zone!A:C,3,FALSE)","v":"B"}]
["04020","ME","Y","remote",{"$f":"VLOOKUP(B1112,ceva_zone!A:B,2,FALSE)","v":"F"},{"$f":"VLOOKUP(B1112,ceva_zone!A:C,3,FALSE)","v":"B"}]
["04021","ME","Y","remote",{"$f":"VLOOKUP(B1113,ceva_zone!A:B,2,FALSE)","v":"F"},{"$f":"VLOOKUP(B1113,ceva_zone!A:C,3,FALSE)","v":"B"}]
["04022","ME","Y","remote",{"$f":"VLOOKUP(B1114,ceva_zone!A:B,2,FALSE)","v":"F"},{"$f":"VLOOKUP(B1114,ceva_zone!A:C,3,FALSE)","v":"B"}]
["04024","ME","Y","remote",{"$f":"VLOOKUP(B1115,ceva_zone!A:B,2,FALSE)","v":"F"},{"$f":"VLOOKUP(B1115,ceva_zone!A:C,3,FALSE)","v":"B"}]
["04027","ME","Y","remote",{"$f":"VLOOKUP(B1116,ceva_zone!A:B,2,FALSE)","v":"F"},{"$f":"VLOOKUP(B1116,ceva_zone!A:C,3,FALSE)","v":"B"}]
["04028","ME","Y","remote",{"$f":"VLOOKUP(B1117,ceva_zone!A:B,2,FALSE)","v":"F"},{"$f":"VLOOKUP(B1117,ceva_zone!A:C,3,FALSE)","v":"B"}]
["04029","ME","Y","remote",{"$f":"VLOOKUP(B1118,ceva_zone!A:B,2,FALSE)","v":"F"},{"$f":"VLOOKUP(B1118,ceva_zone!A:C,3,FALSE)","v":"B"}]
["04030","ME","Y","remote",{"$f":"VLOOKUP(B1119,ceva_zone!A:B,2,FALSE)","v":"F"},{"$f":"VLOOKUP(B1119,ceva_zone!A:C,3,FALSE)","v":"B"}]
["04034","ME","Y","remote",{"$f":"VLOOKUP(B1120,ceva_zone!A:B,2,FALSE)","v":"F"},{"$f":"VLOOKUP(B1120,ceva_zone!A:C,3,FALSE)","v":"B"}]
["04033","ME","Y","remote",{"$f":"VLOOKUP(B1121,ceva_zone!A:B,2,FALSE)","v":"F"},{"$f":"VLOOKUP(B1121,ceva_zone!A:C,3,FALSE)","v":"B"}]
["04032","ME","Y","remote",{"$f":"VLOOKUP(B1122,ceva_zone!A:B,2,FALSE)","v":"F"},{"$f":"VLOOKUP(B1122,ceva_zone!A:C,3,FALSE)","v":"B"}]
["04037","ME","Y","remote",{"$f":"VLOOKUP(B1123,ceva_zone!A:B,2,FALSE)","v":"F"},{"$f":"VLOOKUP(B1123,ceva_zone!A:C,3,FALSE)","v":"B"}]
["04038","ME","Y","remote",{"$f":"VLOOKUP(B1124,ceva_zone!A:B,2,FALSE)","v":"F"},{"$f":"VLOOKUP(B1124,ceva_zone!A:C,3,FALSE)","v":"B"}]
["04039","ME","Y","remote",{"$f":"VLOOKUP(B1125,ceva_zone!A:B,2,FALSE)","v":"F"},{"$f":"VLOOKUP(B1125,ceva_zone!A:C,3,FALSE)","v":"B"}]
["04040","ME","Y","remote",{"$f":"VLOOKUP(B1126,ceva_zone!A:B,2,FALSE)","v":"F"},{"$f":"VLOOKUP(B1126,ceva_zone!A:C,3,FALSE)","v":"B"}]
["04041","ME","Y","remote",{"$f":"VLOOKUP(B1127,ceva_zone!A:B,2,FALSE)","v":"F"},{"$f":"VLOOKUP(B1127,ceva_zone!A:C,3,FALSE)","v":"B"}]
["04042","ME","Y","remote",{"$f":"VLOOKUP(B1128,ceva_zone!A:B,2,FALSE)","v":"F"},{"$f":"VLOOKUP(B1128,ceva_zone!A:C,3,FALSE)","v":"B"}]
["04043","ME","F","remote",{"$f":"VLOOKUP(B1129,ceva_zone!A:B,2,FALSE)","v":"F"},{"$f":"VLOOKUP(B1129,ceva_zone!A:C,3,FALSE)","v":"B"}]
["04046","ME","Y","remote",{"$f":"VLOOKUP(B1130,ceva_zone!A:B,2,FALSE)","v":"F"},{"$f":"VLOOKUP(B1130,ceva_zone!A:C,3,FALSE)","v":"B"}]
["04047","ME","Y","remote",{"$f":"VLOOKUP(B1131,ceva_zone!A:B,2,FALSE)","v":"F"},{"$f":"VLOOKUP(B1131,ceva_zone!A:C,3,FALSE)","v":"B"}]
["04048","ME","Y","remote",{"$f":"VLOOKUP(B1132,ceva_zone!A:B,2,FALSE)","v":"F"},{"$f":"VLOOKUP(B1132,ceva_zone!A:C,3,FALSE)","v":"B"}]
["04049","ME","Y","remote",{"$f":"VLOOKUP(B1133,ceva_zone!A:B,2,FALSE)","v":"F"},{"$f":"VLOOKUP(B1133,ceva_zone!A:C,3,FALSE)","v":"B"}]
["04050","ME","Y","remote",{"$f":"VLOOKUP(B1134,ceva_zone!A:B,2,FALSE)","v":"F"},{"$f":"VLOOKUP(B1134,ceva_zone!A:C,3,FALSE)","v":"B"}]
["04051","ME","Y","remote",{"$f":"VLOOKUP(B1135,ceva_zone!A:B,2,FALSE)","v":"F"},{"$f":"VLOOKUP(B1135,ceva_zone!A:C,3,FALSE)","v":"B"}]
["04095","ME","Y","remote",{"$f":"VLOOKUP(B1136,ceva_zone!A:B,2,FALSE)","v":"F"},{"$f":"VLOOKUP(B1136,ceva_zone!A:C,3,FALSE)","v":"B"}]
["04054","ME","F","remote",{"$f":"VLOOKUP(B1137,ceva_zone!A:B,2,FALSE)","v":"F"},{"$f":"VLOOKUP(B1137,ceva_zone!A:C,3,FALSE)","v":"B"}]
["04055","ME","Y","remote",{"$f":"VLOOKUP(B1138,ceva_zone!A:B,2,FALSE)","v":"F"},{"$f":"VLOOKUP(B1138,ceva_zone!A:C,3,FALSE)","v":"B"}]
["04056","ME","Y","remote",{"$f":"VLOOKUP(B1139,ceva_zone!A:B,2,FALSE)","v":"F"},{"$f":"VLOOKUP(B1139,ceva_zone!A:C,3,FALSE)","v":"B"}]
["04057","ME","Y","remote",{"$f":"VLOOKUP(B1140,ceva_zone!A:B,2,FALSE)","v":"F"},{"$f":"VLOOKUP(B1140,ceva_zone!A:C,3,FALSE)","v":"B"}]
["04061","ME","Y","remote",{"$f":"VLOOKUP(B1141,ceva_zone!A:B,2,FALSE)","v":"F"},{"$f":"VLOOKUP(B1141,ceva_zone!A:C,3,FALSE)","v":"B"}]
["04097","ME","Y","remote",{"$f":"VLOOKUP(B1142,ceva_zone!A:B,2,FALSE)","v":"F"},{"$f":"VLOOKUP(B1142,ceva_zone!A:C,3,FALSE)","v":"B"}]
["04063","ME","Y","remote",{"$f":"VLOOKUP(B1143,ceva_zone!A:B,2,FALSE)","v":"F"},{"$f":"VLOOKUP(B1143,ceva_zone!A:C,3,FALSE)","v":"B"}]
["04064","ME","Y","remote",{"$f":"VLOOKUP(B1144,ceva_zone!A:B,2,FALSE)","v":"F"},{"$f":"VLOOKUP(B1144,ceva_zone!A:C,3,FALSE)","v":"B"}]
["04066","ME","Y","remote",{"$f":"VLOOKUP(B1145,ceva_zone!A:B,2,FALSE)","v":"F"},{"$f":"VLOOKUP(B1145,ceva_zone!A:C,3,FALSE)","v":"B"}]
["04086","ME","Y","remote",{"$f":"VLOOKUP(B1146,ceva_zone!A:B,2,FALSE)","v":"F"},{"$f":"VLOOKUP(B1146,ceva_zone!A:C,3,FALSE)","v":"B"}]
["04074","ME","Y","remote",{"$f":"VLOOKUP(B1147,ceva_zone!A:B,2,FALSE)","v":"F"},{"$f":"VLOOKUP(B1147,ceva_zone!A:C,3,FALSE)","v":"B"}]
["04068","ME","Y","remote",{"$f":"VLOOKUP(B1148,ceva_zone!A:B,2,FALSE)","v":"F"},{"$f":"VLOOKUP(B1148,ceva_zone!A:C,3,FALSE)","v":"B"}]
["04069","ME","Y","remote",{"$f":"VLOOKUP(B1149,ceva_zone!A:B,2,FALSE)","v":"F"},{"$f":"VLOOKUP(B1149,ceva_zone!A:C,3,FALSE)","v":"B"}]
["04071","ME","Y","remote",{"$f":"VLOOKUP(B1150,ceva_zone!A:B,2,FALSE)","v":"F"},{"$f":"VLOOKUP(B1150,ceva_zone!A:C,3,FALSE)","v":"B"}]
["04073","ME","Y","remote",{"$f":"VLOOKUP(B1151,ceva_zone!A:B,2,FALSE)","v":"F"},{"$f":"VLOOKUP(B1151,ceva_zone!A:C,3,FALSE)","v":"B"}]
["04070","ME","Y","remote",{"$f":"VLOOKUP(B1152,ceva_zone!A:B,2,FALSE)","v":"F"},{"$f":"VLOOKUP(B1152,ceva_zone!A:C,3,FALSE)","v":"B"}]
["04075","ME","Y","remote",{"$f":"VLOOKUP(B1153,ceva_zone!A:B,2,FALSE)","v":"F"},{"$f":"VLOOKUP(B1153,ceva_zone!A:C,3,FALSE)","v":"B"}]
["04076","ME","Y","remote",{"$f":"VLOOKUP(B1154,ceva_zone!A:B,2,FALSE)","v":"F"},{"$f":"VLOOKUP(B1154,ceva_zone!A:C,3,FALSE)","v":"B"}]
["04077","ME","Y","remote",{"$f":"VLOOKUP(B1155,ceva_zone!A:B,2,FALSE)","v":"F"},{"$f":"VLOOKUP(B1155,ceva_zone!A:C,3,FALSE)","v":"B"}]
["04078","ME","Y","remote",{"$f":"VLOOKUP(B1156,ceva_zone!A:B,2,FALSE)","v":"F"},{"$f":"VLOOKUP(B1156,ceva_zone!A:C,3,FALSE)","v":"B"}]
["04079","ME","Y","remote",{"$f":"VLOOKUP(B1157,ceva_zone!A:B,2,FALSE)","v":"F"},{"$f":"VLOOKUP(B1157,ceva_zone!A:C,3,FALSE)","v":"B"}]
["04082","ME","Y","remote",{"$f":"VLOOKUP(B1158,ceva_zone!A:B,2,FALSE)","v":"F"},{"$f":"VLOOKUP(B1158,ceva_zone!A:C,3,FALSE)","v":"B"}]
["04083","ME","Y","remote",{"$f":"VLOOKUP(B1159,ceva_zone!A:B,2,FALSE)","v":"F"},{"$f":"VLOOKUP(B1159,ceva_zone!A:C,3,FALSE)","v":"B"}]
["04084","ME","Y","remote",{"$f":"VLOOKUP(B1160,ceva_zone!A:B,2,FALSE)","v":"F"},{"$f":"VLOOKUP(B1160,ceva_zone!A:C,3,FALSE)","v":"B"}]
["04085","ME","Y","remote",{"$f":"VLOOKUP(B1161,ceva_zone!A:B,2,FALSE)","v":"F"},{"$f":"VLOOKUP(B1161,ceva_zone!A:C,3,FALSE)","v":"B"}]
["04087","ME","Y","remote",{"$f":"VLOOKUP(B1162,ceva_zone!A:B,2,FALSE)","v":"F"},{"$f":"VLOOKUP(B1162,ceva_zone!A:C,3,FALSE)","v":"B"}]
["04088","ME","Y","remote",{"$f":"VLOOKUP(B1163,ceva_zone!A:B,2,FALSE)","v":"F"},{"$f":"VLOOKUP(B1163,ceva_zone!A:C,3,FALSE)","v":"B"}]
["04090","ME","F","remote",{"$f":"VLOOKUP(B1164,ceva_zone!A:B,2,FALSE)","v":"F"},{"$f":"VLOOKUP(B1164,ceva_zone!A:C,3,FALSE)","v":"B"}]
["04091","ME","Y","remote",{"$f":"VLOOKUP(B1165,ceva_zone!A:B,2,FALSE)","v":"F"},{"$f":"VLOOKUP(B1165,ceva_zone!A:C,3,FALSE)","v":"B"}]
["04093","ME","Y","remote",{"$f":"VLOOKUP(B1166,ceva_zone!A:B,2,FALSE)","v":"F"},{"$f":"VLOOKUP(B1166,ceva_zone!A:C,3,FALSE)","v":"B"}]
["04094","ME","F","remote",{"$f":"VLOOKUP(B1167,ceva_zone!A:B,2,FALSE)","v":"F"},{"$f":"VLOOKUP(B1167,ceva_zone!A:C,3,FALSE)","v":"B"}]
["04092","ME","Y","remote",{"$f":"VLOOKUP(B1168,ceva_zone!A:B,2,FALSE)","v":"F"},{"$f":"VLOOKUP(B1168,ceva_zone!A:C,3,FALSE)","v":"B"}]
["04098","ME","Y","remote",{"$f":"VLOOKUP(B1169,ceva_zone!A:B,2,FALSE)","v":"F"},{"$f":"VLOOKUP(B1169,ceva_zone!A:C,3,FALSE)","v":"B"}]
["04062","ME","Y","remote",{"$f":"VLOOKUP(B1170,ceva_zone!A:B,2,FALSE)","v":"F"},{"$f":"VLOOKUP(B1170,ceva_zone!A:C,3,FALSE)","v":"B"}]
["04096","ME","Y","remote",{"$f":"VLOOKUP(B1171,ceva_zone!A:B,2,FALSE)","v":"F"},{"$f":"VLOOKUP(B1171,ceva_zone!A:C,3,FALSE)","v":"B"}]
["04107","ME","Y","remote",{"$f":"VLOOKUP(B1172,ceva_zone!A:B,2,FALSE)","v":"F"},{"$f":"VLOOKUP(B1172,ceva_zone!A:C,3,FALSE)","v":"B"}]
["04110","ME","Y","remote",{"$f":"VLOOKUP(B1173,ceva_zone!A:B,2,FALSE)","v":"F"},{"$f":"VLOOKUP(B1173,ceva_zone!A:C,3,FALSE)","v":"B"}]
["04109","ME","Y","remote",{"$f":"VLOOKUP(B1174,ceva_zone!A:B,2,FALSE)","v":"F"},{"$f":"VLOOKUP(B1174,ceva_zone!A:C,3,FALSE)","v":"B"}]
["04105","ME","Y","remote",{"$f":"VLOOKUP(B1175,ceva_zone!A:B,2,FALSE)","v":"F"},{"$f":"VLOOKUP(B1175,ceva_zone!A:C,3,FALSE)","v":"B"}]
["04108","ME","Y","remote",{"$f":"VLOOKUP(B1176,ceva_zone!A:B,2,FALSE)","v":"F"},{"$f":"VLOOKUP(B1176,ceva_zone!A:C,3,FALSE)","v":"B"}]
["04112","ME","Y","remote",{"$f":"VLOOKUP(B1177,ceva_zone!A:B,2,FALSE)","v":"F"},{"$f":"VLOOKUP(B1177,ceva_zone!A:C,3,FALSE)","v":"B"}]
["04116","ME","Y","remote",{"$f":"VLOOKUP(B1178,ceva_zone!A:B,2,FALSE)","v":"F"},{"$f":"VLOOKUP(B1178,ceva_zone!A:C,3,FALSE)","v":"B"}]
["04122","ME","Y","remote",{"$f":"VLOOKUP(B1179,ceva_zone!A:B,2,FALSE)","v":"F"},{"$f":"VLOOKUP(B1179,ceva_zone!A:C,3,FALSE)","v":"B"}]
["04123","ME","Y","remote",{"$f":"VLOOKUP(B1180,ceva_zone!A:B,2,FALSE)","v":"F"},{"$f":"VLOOKUP(B1180,ceva_zone!A:C,3,FALSE)","v":"B"}]
["04106","ME","Y","remote",{"$f":"VLOOKUP(B1181,ceva_zone!A:B,2,FALSE)","v":"F"},{"$f":"VLOOKUP(B1181,ceva_zone!A:C,3,FALSE)","v":"B"}]
["04104","MA","Y","remote",{"$f":"VLOOKUP(B1182,ceva_zone!A:B,2,FALSE)","v":"F"},{"$f":"VLOOKUP(B1182,ceva_zone!A:C,3,FALSE)","v":"B"}]
["04103","ME","Y","remote",{"$f":"VLOOKUP(B1183,ceva_zone!A:B,2,FALSE)","v":"F"},{"$f":"VLOOKUP(B1183,ceva_zone!A:C,3,FALSE)","v":"B"}]
["04124","ME","Y","remote",{"$f":"VLOOKUP(B1184,ceva_zone!A:B,2,FALSE)","v":"F"},{"$f":"VLOOKUP(B1184,ceva_zone!A:C,3,FALSE)","v":"B"}]
["04101","ME","Y","remote",{"$f":"VLOOKUP(B1185,ceva_zone!A:B,2,FALSE)","v":"F"},{"$f":"VLOOKUP(B1185,ceva_zone!A:C,3,FALSE)","v":"B"}]
["04102","ME","Y","remote",{"$f":"VLOOKUP(B1186,ceva_zone!A:B,2,FALSE)","v":"F"},{"$f":"VLOOKUP(B1186,ceva_zone!A:C,3,FALSE)","v":"B"}]
["04212","ME","Y","remote",{"$f":"VLOOKUP(B1187,ceva_zone!A:B,2,FALSE)","v":"F"},{"$f":"VLOOKUP(B1187,ceva_zone!A:C,3,FALSE)","v":"B"}]
["04216","ME","Y","remote",{"$f":"VLOOKUP(B1188,ceva_zone!A:B,2,FALSE)","v":"F"},{"$f":"VLOOKUP(B1188,ceva_zone!A:C,3,FALSE)","v":"B"}]
["04210","ME","Y","remote",{"$f":"VLOOKUP(B1189,ceva_zone!A:B,2,FALSE)","v":"F"},{"$f":"VLOOKUP(B1189,ceva_zone!A:C,3,FALSE)","v":"B"}]
["04211","ME","Y","remote",{"$f":"VLOOKUP(B1190,ceva_zone!A:B,2,FALSE)","v":"F"},{"$f":"VLOOKUP(B1190,ceva_zone!A:C,3,FALSE)","v":"B"}]
["04217","ME","Y","remote",{"$f":"VLOOKUP(B1191,ceva_zone!A:B,2,FALSE)","v":"F"},{"$f":"VLOOKUP(B1191,ceva_zone!A:C,3,FALSE)","v":"B"}]
["04219","ME","Y","remote",{"$f":"VLOOKUP(B1192,ceva_zone!A:B,2,FALSE)","v":"F"},{"$f":"VLOOKUP(B1192,ceva_zone!A:C,3,FALSE)","v":"B"}]
["04220","ME","Y","remote",{"$f":"VLOOKUP(B1193,ceva_zone!A:B,2,FALSE)","v":"F"},{"$f":"VLOOKUP(B1193,ceva_zone!A:C,3,FALSE)","v":"B"}]
["04221","ME","Y","remote",{"$f":"VLOOKUP(B1194,ceva_zone!A:B,2,FALSE)","v":"F"},{"$f":"VLOOKUP(B1194,ceva_zone!A:C,3,FALSE)","v":"B"}]
["04223","ME","Y","remote",{"$f":"VLOOKUP(B1195,ceva_zone!A:B,2,FALSE)","v":"F"},{"$f":"VLOOKUP(B1195,ceva_zone!A:C,3,FALSE)","v":"B"}]
["04224","ME","Y","remote",{"$f":"VLOOKUP(B1196,ceva_zone!A:B,2,FALSE)","v":"F"},{"$f":"VLOOKUP(B1196,ceva_zone!A:C,3,FALSE)","v":"B"}]
["04225","ME","Y","remote",{"$f":"VLOOKUP(B1197,ceva_zone!A:B,2,FALSE)","v":"F"},{"$f":"VLOOKUP(B1197,ceva_zone!A:C,3,FALSE)","v":"B"}]
["04222","ME","Y","remote",{"$f":"VLOOKUP(B1198,ceva_zone!A:B,2,FALSE)","v":"F"},{"$f":"VLOOKUP(B1198,ceva_zone!A:C,3,FALSE)","v":"B"}]
["04226","ME","Y","remote",{"$f":"VLOOKUP(B1199,ceva_zone!A:B,2,FALSE)","v":"F"},{"$f":"VLOOKUP(B1199,ceva_zone!A:C,3,FALSE)","v":"B"}]
["04227","ME","Y","remote",{"$f":"VLOOKUP(B1200,ceva_zone!A:B,2,FALSE)","v":"F"},{"$f":"VLOOKUP(B1200,ceva_zone!A:C,3,FALSE)","v":"B"}]
["04228","ME","Y","remote",{"$f":"VLOOKUP(B1201,ceva_zone!A:B,2,FALSE)","v":"F"},{"$f":"VLOOKUP(B1201,ceva_zone!A:C,3,FALSE)","v":"B"}]
["04230","ME","Y","remote",{"$f":"VLOOKUP(B1202,ceva_zone!A:B,2,FALSE)","v":"F"},{"$f":"VLOOKUP(B1202,ceva_zone!A:C,3,FALSE)","v":"B"}]
["04231","ME","Y","remote",{"$f":"VLOOKUP(B1203,ceva_zone!A:B,2,FALSE)","v":"F"},{"$f":"VLOOKUP(B1203,ceva_zone!A:C,3,FALSE)","v":"B"}]
["04234","ME","Y","remote",{"$f":"VLOOKUP(B1204,ceva_zone!A:B,2,FALSE)","v":"F"},{"$f":"VLOOKUP(B1204,ceva_zone!A:C,3,FALSE)","v":"B"}]
["04236","ME","Y","remote",{"$f":"VLOOKUP(B1205,ceva_zone!A:B,2,FALSE)","v":"F"},{"$f":"VLOOKUP(B1205,ceva_zone!A:C,3,FALSE)","v":"B"}]
["04237","ME","Y","remote",{"$f":"VLOOKUP(B1206,ceva_zone!A:B,2,FALSE)","v":"F"},{"$f":"VLOOKUP(B1206,ceva_zone!A:C,3,FALSE)","v":"B"}]
["04238","ME","Y","remote",{"$f":"VLOOKUP(B1207,ceva_zone!A:B,2,FALSE)","v":"F"},{"$f":"VLOOKUP(B1207,ceva_zone!A:C,3,FALSE)","v":"B"}]
["04239","ME","Y","remote",{"$f":"VLOOKUP(B1208,ceva_zone!A:B,2,FALSE)","v":"F"},{"$f":"VLOOKUP(B1208,ceva_zone!A:C,3,FALSE)","v":"B"}]
["04262","ME","Y","remote",{"$f":"VLOOKUP(B1209,ceva_zone!A:B,2,FALSE)","v":"F"},{"$f":"VLOOKUP(B1209,ceva_zone!A:C,3,FALSE)","v":"B"}]
["04263","ME","Y","remote",{"$f":"VLOOKUP(B1210,ceva_zone!A:B,2,FALSE)","v":"F"},{"$f":"VLOOKUP(B1210,ceva_zone!A:C,3,FALSE)","v":"B"}]
["04243","ME","Y","remote",{"$f":"VLOOKUP(B1211,ceva_zone!A:B,2,FALSE)","v":"F"},{"$f":"VLOOKUP(B1211,ceva_zone!A:C,3,FALSE)","v":"B"}]
["04240","ME","Y","remote",{"$f":"VLOOKUP(B1212,ceva_zone!A:B,2,FALSE)","v":"F"},{"$f":"VLOOKUP(B1212,ceva_zone!A:C,3,FALSE)","v":"B"}]
["04241","ME","Y","remote",{"$f":"VLOOKUP(B1213,ceva_zone!A:B,2,FALSE)","v":"F"},{"$f":"VLOOKUP(B1213,ceva_zone!A:C,3,FALSE)","v":"B"}]
["04250","ME","Y","remote",{"$f":"VLOOKUP(B1214,ceva_zone!A:B,2,FALSE)","v":"F"},{"$f":"VLOOKUP(B1214,ceva_zone!A:C,3,FALSE)","v":"B"}]
["04252","ME","Y","remote",{"$f":"VLOOKUP(B1215,ceva_zone!A:B,2,FALSE)","v":"F"},{"$f":"VLOOKUP(B1215,ceva_zone!A:C,3,FALSE)","v":"B"}]
["04253","ME","Y","remote",{"$f":"VLOOKUP(B1216,ceva_zone!A:B,2,FALSE)","v":"F"},{"$f":"VLOOKUP(B1216,ceva_zone!A:C,3,FALSE)","v":"B"}]
["04254","ME","Y","remote",{"$f":"VLOOKUP(B1217,ceva_zone!A:B,2,FALSE)","v":"F"},{"$f":"VLOOKUP(B1217,ceva_zone!A:C,3,FALSE)","v":"B"}]
["04255","ME","Y","remote",{"$f":"VLOOKUP(B1218,ceva_zone!A:B,2,FALSE)","v":"F"},{"$f":"VLOOKUP(B1218,ceva_zone!A:C,3,FALSE)","v":"B"}]
["04256","ME","Y","remote",{"$f":"VLOOKUP(B1219,ceva_zone!A:B,2,FALSE)","v":"F"},{"$f":"VLOOKUP(B1219,ceva_zone!A:C,3,FALSE)","v":"B"}]
["04257","ME","Y","remote",{"$f":"VLOOKUP(B1220,ceva_zone!A:B,2,FALSE)","v":"F"},{"$f":"VLOOKUP(B1220,ceva_zone!A:C,3,FALSE)","v":"B"}]
["04258","ME","Y","remote",{"$f":"VLOOKUP(B1221,ceva_zone!A:B,2,FALSE)","v":"F"},{"$f":"VLOOKUP(B1221,ceva_zone!A:C,3,FALSE)","v":"B"}]
["04259","ME","Y","remote",{"$f":"VLOOKUP(B1222,ceva_zone!A:B,2,FALSE)","v":"F"},{"$f":"VLOOKUP(B1222,ceva_zone!A:C,3,FALSE)","v":"B"}]
["04260","ME","Y","remote",{"$f":"VLOOKUP(B1223,ceva_zone!A:B,2,FALSE)","v":"F"},{"$f":"VLOOKUP(B1223,ceva_zone!A:C,3,FALSE)","v":"B"}]
["04261","ME","Y","remote",{"$f":"VLOOKUP(B1224,ceva_zone!A:B,2,FALSE)","v":"F"},{"$f":"VLOOKUP(B1224,ceva_zone!A:C,3,FALSE)","v":"B"}]
["04265","ME","Y","remote",{"$f":"VLOOKUP(B1225,ceva_zone!A:B,2,FALSE)","v":"F"},{"$f":"VLOOKUP(B1225,ceva_zone!A:C,3,FALSE)","v":"B"}]
["04266","ME","Y","remote",{"$f":"VLOOKUP(B1226,ceva_zone!A:B,2,FALSE)","v":"F"},{"$f":"VLOOKUP(B1226,ceva_zone!A:C,3,FALSE)","v":"B"}]
["04267","ME","Y","remote",{"$f":"VLOOKUP(B1227,ceva_zone!A:B,2,FALSE)","v":"F"},{"$f":"VLOOKUP(B1227,ceva_zone!A:C,3,FALSE)","v":"B"}]
["04268","ME","Y","remote",{"$f":"VLOOKUP(B1228,ceva_zone!A:B,2,FALSE)","v":"F"},{"$f":"VLOOKUP(B1228,ceva_zone!A:C,3,FALSE)","v":"B"}]
["04270","ME","Y","remote",{"$f":"VLOOKUP(B1229,ceva_zone!A:B,2,FALSE)","v":"F"},{"$f":"VLOOKUP(B1229,ceva_zone!A:C,3,FALSE)","v":"B"}]
["04271","ME","Y","remote",{"$f":"VLOOKUP(B1230,ceva_zone!A:B,2,FALSE)","v":"F"},{"$f":"VLOOKUP(B1230,ceva_zone!A:C,3,FALSE)","v":"B"}]
["04290","ME","Y","remote",{"$f":"VLOOKUP(B1231,ceva_zone!A:B,2,FALSE)","v":"F"},{"$f":"VLOOKUP(B1231,ceva_zone!A:C,3,FALSE)","v":"B"}]
["04274","ME","Y","remote",{"$f":"VLOOKUP(B1232,ceva_zone!A:B,2,FALSE)","v":"F"},{"$f":"VLOOKUP(B1232,ceva_zone!A:C,3,FALSE)","v":"B"}]
["04275","ME","Y","remote",{"$f":"VLOOKUP(B1233,ceva_zone!A:B,2,FALSE)","v":"F"},{"$f":"VLOOKUP(B1233,ceva_zone!A:C,3,FALSE)","v":"B"}]
["04276","ME","Y","remote",{"$f":"VLOOKUP(B1234,ceva_zone!A:B,2,FALSE)","v":"F"},{"$f":"VLOOKUP(B1234,ceva_zone!A:C,3,FALSE)","v":"B"}]
["04280","ME","Y","remote",{"$f":"VLOOKUP(B1235,ceva_zone!A:B,2,FALSE)","v":"F"},{"$f":"VLOOKUP(B1235,ceva_zone!A:C,3,FALSE)","v":"B"}]
["04281","ME","Y","remote",{"$f":"VLOOKUP(B1236,ceva_zone!A:B,2,FALSE)","v":"F"},{"$f":"VLOOKUP(B1236,ceva_zone!A:C,3,FALSE)","v":"B"}]
["04289","ME","Y","remote",{"$f":"VLOOKUP(B1237,ceva_zone!A:B,2,FALSE)","v":"F"},{"$f":"VLOOKUP(B1237,ceva_zone!A:C,3,FALSE)","v":"B"}]
["04282","ME","Y","remote",{"$f":"VLOOKUP(B1238,ceva_zone!A:B,2,FALSE)","v":"F"},{"$f":"VLOOKUP(B1238,ceva_zone!A:C,3,FALSE)","v":"B"}]
["04284","ME","Y","remote",{"$f":"VLOOKUP(B1239,ceva_zone!A:B,2,FALSE)","v":"F"},{"$f":"VLOOKUP(B1239,ceva_zone!A:C,3,FALSE)","v":"B"}]
["04285","ME","Y","remote",{"$f":"VLOOKUP(B1240,ceva_zone!A:B,2,FALSE)","v":"F"},{"$f":"VLOOKUP(B1240,ceva_zone!A:C,3,FALSE)","v":"B"}]
["04286","ME","Y","remote",{"$f":"VLOOKUP(B1241,ceva_zone!A:B,2,FALSE)","v":"F"},{"$f":"VLOOKUP(B1241,ceva_zone!A:C,3,FALSE)","v":"B"}]
["04287","ME","Y","remote",{"$f":"VLOOKUP(B1242,ceva_zone!A:B,2,FALSE)","v":"F"},{"$f":"VLOOKUP(B1242,ceva_zone!A:C,3,FALSE)","v":"B"}]
["04288","ME","Y","remote",{"$f":"VLOOKUP(B1243,ceva_zone!A:B,2,FALSE)","v":"F"},{"$f":"VLOOKUP(B1243,ceva_zone!A:C,3,FALSE)","v":"B"}]
["04291","ME","Y","remote",{"$f":"VLOOKUP(B1244,ceva_zone!A:B,2,FALSE)","v":"F"},{"$f":"VLOOKUP(B1244,ceva_zone!A:C,3,FALSE)","v":"B"}]
["04292","ME","Y","remote",{"$f":"VLOOKUP(B1245,ceva_zone!A:B,2,FALSE)","v":"F"},{"$f":"VLOOKUP(B1245,ceva_zone!A:C,3,FALSE)","v":"B"}]
["04294","ME","Y","remote",{"$f":"VLOOKUP(B1246,ceva_zone!A:B,2,FALSE)","v":"F"},{"$f":"VLOOKUP(B1246,ceva_zone!A:C,3,FALSE)","v":"B"}]
["04338","ME","Y","remote",{"$f":"VLOOKUP(B1247,ceva_zone!A:B,2,FALSE)","v":"F"},{"$f":"VLOOKUP(B1247,ceva_zone!A:C,3,FALSE)","v":"B"}]
["04330","ME","Y","remote",{"$f":"VLOOKUP(B1248,ceva_zone!A:B,2,FALSE)","v":"F"},{"$f":"VLOOKUP(B1248,ceva_zone!A:C,3,FALSE)","v":"B"}]
["04332","ME","Y","remote",{"$f":"VLOOKUP(B1249,ceva_zone!A:B,2,FALSE)","v":"F"},{"$f":"VLOOKUP(B1249,ceva_zone!A:C,3,FALSE)","v":"B"}]
["04333","ME","Y","remote",{"$f":"VLOOKUP(B1250,ceva_zone!A:B,2,FALSE)","v":"F"},{"$f":"VLOOKUP(B1250,ceva_zone!A:C,3,FALSE)","v":"B"}]
["04336","ME","Y","remote",{"$f":"VLOOKUP(B1251,ceva_zone!A:B,2,FALSE)","v":"F"},{"$f":"VLOOKUP(B1251,ceva_zone!A:C,3,FALSE)","v":"B"}]
["04341","ME","Y","remote",{"$f":"VLOOKUP(B1252,ceva_zone!A:B,2,FALSE)","v":"F"},{"$f":"VLOOKUP(B1252,ceva_zone!A:C,3,FALSE)","v":"B"}]
["04342","ME","Y","remote",{"$f":"VLOOKUP(B1253,ceva_zone!A:B,2,FALSE)","v":"F"},{"$f":"VLOOKUP(B1253,ceva_zone!A:C,3,FALSE)","v":"B"}]
["04343","ME","Y","remote",{"$f":"VLOOKUP(B1254,ceva_zone!A:B,2,FALSE)","v":"F"},{"$f":"VLOOKUP(B1254,ceva_zone!A:C,3,FALSE)","v":"B"}]
["04344","ME","Y","remote",{"$f":"VLOOKUP(B1255,ceva_zone!A:B,2,FALSE)","v":"F"},{"$f":"VLOOKUP(B1255,ceva_zone!A:C,3,FALSE)","v":"B"}]
["04345","ME","Y","remote",{"$f":"VLOOKUP(B1256,ceva_zone!A:B,2,FALSE)","v":"F"},{"$f":"VLOOKUP(B1256,ceva_zone!A:C,3,FALSE)","v":"B"}]
["04346","ME","Y","remote",{"$f":"VLOOKUP(B1257,ceva_zone!A:B,2,FALSE)","v":"F"},{"$f":"VLOOKUP(B1257,ceva_zone!A:C,3,FALSE)","v":"B"}]
["04347","ME","Y","remote",{"$f":"VLOOKUP(B1258,ceva_zone!A:B,2,FALSE)","v":"F"},{"$f":"VLOOKUP(B1258,ceva_zone!A:C,3,FALSE)","v":"B"}]
["04348","ME","Y","remote",{"$f":"VLOOKUP(B1259,ceva_zone!A:B,2,FALSE)","v":"F"},{"$f":"VLOOKUP(B1259,ceva_zone!A:C,3,FALSE)","v":"B"}]
["04349","ME","Y","remote",{"$f":"VLOOKUP(B1260,ceva_zone!A:B,2,FALSE)","v":"F"},{"$f":"VLOOKUP(B1260,ceva_zone!A:C,3,FALSE)","v":"B"}]
["04350","ME","Y","remote",{"$f":"VLOOKUP(B1261,ceva_zone!A:B,2,FALSE)","v":"F"},{"$f":"VLOOKUP(B1261,ceva_zone!A:C,3,FALSE)","v":"B"}]
["04351","ME","Y","remote",{"$f":"VLOOKUP(B1262,ceva_zone!A:B,2,FALSE)","v":"F"},{"$f":"VLOOKUP(B1262,ceva_zone!A:C,3,FALSE)","v":"B"}]
["04352","ME","Y","remote",{"$f":"VLOOKUP(B1263,ceva_zone!A:B,2,FALSE)","v":"F"},{"$f":"VLOOKUP(B1263,ceva_zone!A:C,3,FALSE)","v":"B"}]
["04353","ME","Y","remote",{"$f":"VLOOKUP(B1264,ceva_zone!A:B,2,FALSE)","v":"F"},{"$f":"VLOOKUP(B1264,ceva_zone!A:C,3,FALSE)","v":"B"}]
["04354","ME","Y","remote",{"$f":"VLOOKUP(B1265,ceva_zone!A:B,2,FALSE)","v":"F"},{"$f":"VLOOKUP(B1265,ceva_zone!A:C,3,FALSE)","v":"B"}]
["04355","ME","Y","remote",{"$f":"VLOOKUP(B1266,ceva_zone!A:B,2,FALSE)","v":"F"},{"$f":"VLOOKUP(B1266,ceva_zone!A:C,3,FALSE)","v":"B"}]
["04357","ME","Y","remote",{"$f":"VLOOKUP(B1267,ceva_zone!A:B,2,FALSE)","v":"F"},{"$f":"VLOOKUP(B1267,ceva_zone!A:C,3,FALSE)","v":"B"}]
["04358","ME","Y","remote",{"$f":"VLOOKUP(B1268,ceva_zone!A:B,2,FALSE)","v":"F"},{"$f":"VLOOKUP(B1268,ceva_zone!A:C,3,FALSE)","v":"B"}]
["04359","ME","Y","remote",{"$f":"VLOOKUP(B1269,ceva_zone!A:B,2,FALSE)","v":"F"},{"$f":"VLOOKUP(B1269,ceva_zone!A:C,3,FALSE)","v":"B"}]
["04360","ME","Y","remote",{"$f":"VLOOKUP(B1270,ceva_zone!A:B,2,FALSE)","v":"F"},{"$f":"VLOOKUP(B1270,ceva_zone!A:C,3,FALSE)","v":"B"}]
["04363","ME","Y","remote",{"$f":"VLOOKUP(B1271,ceva_zone!A:B,2,FALSE)","v":"F"},{"$f":"VLOOKUP(B1271,ceva_zone!A:C,3,FALSE)","v":"B"}]
["04364","ME","Y","remote",{"$f":"VLOOKUP(B1272,ceva_zone!A:B,2,FALSE)","v":"F"},{"$f":"VLOOKUP(B1272,ceva_zone!A:C,3,FALSE)","v":"B"}]
["04406","ME","Y","remote",{"$f":"VLOOKUP(B1273,ceva_zone!A:B,2,FALSE)","v":"F"},{"$f":"VLOOKUP(B1273,ceva_zone!A:C,3,FALSE)","v":"B"}]
["04408","ME","Y","remote",{"$f":"VLOOKUP(B1274,ceva_zone!A:B,2,FALSE)","v":"F"},{"$f":"VLOOKUP(B1274,ceva_zone!A:C,3,FALSE)","v":"B"}]
["04401","ME","Y","remote",{"$f":"VLOOKUP(B1275,ceva_zone!A:B,2,FALSE)","v":"F"},{"$f":"VLOOKUP(B1275,ceva_zone!A:C,3,FALSE)","v":"B"}]
["04402","ME","Y","remote",{"$f":"VLOOKUP(B1276,ceva_zone!A:B,2,FALSE)","v":"F"},{"$f":"VLOOKUP(B1276,ceva_zone!A:C,3,FALSE)","v":"B"}]
["04410","ME","Y","remote",{"$f":"VLOOKUP(B1277,ceva_zone!A:B,2,FALSE)","v":"F"},{"$f":"VLOOKUP(B1277,ceva_zone!A:C,3,FALSE)","v":"B"}]
["04411","ME","Y","remote",{"$f":"VLOOKUP(B1278,ceva_zone!A:B,2,FALSE)","v":"F"},{"$f":"VLOOKUP(B1278,ceva_zone!A:C,3,FALSE)","v":"B"}]
["04412","ME","Y","remote",{"$f":"VLOOKUP(B1279,ceva_zone!A:B,2,FALSE)","v":"F"},{"$f":"VLOOKUP(B1279,ceva_zone!A:C,3,FALSE)","v":"B"}]
["04413","ME","Y","remote",{"$f":"VLOOKUP(B1280,ceva_zone!A:B,2,FALSE)","v":"F"},{"$f":"VLOOKUP(B1280,ceva_zone!A:C,3,FALSE)","v":"B"}]
["04414","ME","Y","remote",{"$f":"VLOOKUP(B1281,ceva_zone!A:B,2,FALSE)","v":"F"},{"$f":"VLOOKUP(B1281,ceva_zone!A:C,3,FALSE)","v":"B"}]
["04481","ME","Y","remote",{"$f":"VLOOKUP(B1282,ceva_zone!A:B,2,FALSE)","v":"F"},{"$f":"VLOOKUP(B1282,ceva_zone!A:C,3,FALSE)","v":"B"}]
["04415","ME","Y","remote",{"$f":"VLOOKUP(B1283,ceva_zone!A:B,2,FALSE)","v":"F"},{"$f":"VLOOKUP(B1283,ceva_zone!A:C,3,FALSE)","v":"B"}]
["04416","ME","Y","remote",{"$f":"VLOOKUP(B1284,ceva_zone!A:B,2,FALSE)","v":"F"},{"$f":"VLOOKUP(B1284,ceva_zone!A:C,3,FALSE)","v":"B"}]
["04417","ME","Y","remote",{"$f":"VLOOKUP(B1285,ceva_zone!A:B,2,FALSE)","v":"F"},{"$f":"VLOOKUP(B1285,ceva_zone!A:C,3,FALSE)","v":"B"}]
["04418","ME","Y","remote",{"$f":"VLOOKUP(B1286,ceva_zone!A:B,2,FALSE)","v":"F"},{"$f":"VLOOKUP(B1286,ceva_zone!A:C,3,FALSE)","v":"B"}]
["04419","ME","Y","remote",{"$f":"VLOOKUP(B1287,ceva_zone!A:B,2,FALSE)","v":"F"},{"$f":"VLOOKUP(B1287,ceva_zone!A:C,3,FALSE)","v":"B"}]
["04420","ME","Y","remote",{"$f":"VLOOKUP(B1288,ceva_zone!A:B,2,FALSE)","v":"F"},{"$f":"VLOOKUP(B1288,ceva_zone!A:C,3,FALSE)","v":"B"}]
["04421","ME","Y","remote",{"$f":"VLOOKUP(B1289,ceva_zone!A:B,2,FALSE)","v":"F"},{"$f":"VLOOKUP(B1289,ceva_zone!A:C,3,FALSE)","v":"B"}]
["04422","ME","Y","remote",{"$f":"VLOOKUP(B1290,ceva_zone!A:B,2,FALSE)","v":"F"},{"$f":"VLOOKUP(B1290,ceva_zone!A:C,3,FALSE)","v":"B"}]
["04424","ME","Y","remote",{"$f":"VLOOKUP(B1291,ceva_zone!A:B,2,FALSE)","v":"F"},{"$f":"VLOOKUP(B1291,ceva_zone!A:C,3,FALSE)","v":"B"}]
["04492","ME","Y","remote",{"$f":"VLOOKUP(B1292,ceva_zone!A:B,2,FALSE)","v":"F"},{"$f":"VLOOKUP(B1292,ceva_zone!A:C,3,FALSE)","v":"B"}]
["04463","ME","Y","remote",{"$f":"VLOOKUP(B1293,ceva_zone!A:B,2,FALSE)","v":"F"},{"$f":"VLOOKUP(B1293,ceva_zone!A:C,3,FALSE)","v":"B"}]
["04426","ME","Y","remote",{"$f":"VLOOKUP(B1294,ceva_zone!A:B,2,FALSE)","v":"F"},{"$f":"VLOOKUP(B1294,ceva_zone!A:C,3,FALSE)","v":"B"}]
["04427","ME","Y","remote",{"$f":"VLOOKUP(B1295,ceva_zone!A:B,2,FALSE)","v":"F"},{"$f":"VLOOKUP(B1295,ceva_zone!A:C,3,FALSE)","v":"B"}]
["04428","ME","Y","remote",{"$f":"VLOOKUP(B1296,ceva_zone!A:B,2,FALSE)","v":"F"},{"$f":"VLOOKUP(B1296,ceva_zone!A:C,3,FALSE)","v":"B"}]
["04429","ME","Y","remote",{"$f":"VLOOKUP(B1297,ceva_zone!A:B,2,FALSE)","v":"F"},{"$f":"VLOOKUP(B1297,ceva_zone!A:C,3,FALSE)","v":"B"}]
["04430","ME","Y","remote",{"$f":"VLOOKUP(B1298,ceva_zone!A:B,2,FALSE)","v":"F"},{"$f":"VLOOKUP(B1298,ceva_zone!A:C,3,FALSE)","v":"B"}]
["04431","ME","Y","remote",{"$f":"VLOOKUP(B1299,ceva_zone!A:B,2,FALSE)","v":"F"},{"$f":"VLOOKUP(B1299,ceva_zone!A:C,3,FALSE)","v":"B"}]
["04434","ME","Y","remote",{"$f":"VLOOKUP(B1300,ceva_zone!A:B,2,FALSE)","v":"F"},{"$f":"VLOOKUP(B1300,ceva_zone!A:C,3,FALSE)","v":"B"}]
["04435","ME","Y","remote",{"$f":"VLOOKUP(B1301,ceva_zone!A:B,2,FALSE)","v":"F"},{"$f":"VLOOKUP(B1301,ceva_zone!A:C,3,FALSE)","v":"B"}]
["04438","ME","Y","remote",{"$f":"VLOOKUP(B1302,ceva_zone!A:B,2,FALSE)","v":"F"},{"$f":"VLOOKUP(B1302,ceva_zone!A:C,3,FALSE)","v":"B"}]
["04441","ME","Y","remote",{"$f":"VLOOKUP(B1303,ceva_zone!A:B,2,FALSE)","v":"F"},{"$f":"VLOOKUP(B1303,ceva_zone!A:C,3,FALSE)","v":"B"}]
["04485","ME","Y","remote",{"$f":"VLOOKUP(B1304,ceva_zone!A:B,2,FALSE)","v":"F"},{"$f":"VLOOKUP(B1304,ceva_zone!A:C,3,FALSE)","v":"B"}]
["04442","ME","Y","remote",{"$f":"VLOOKUP(B1305,ceva_zone!A:B,2,FALSE)","v":"F"},{"$f":"VLOOKUP(B1305,ceva_zone!A:C,3,FALSE)","v":"B"}]
["04443","ME","Y","remote",{"$f":"VLOOKUP(B1306,ceva_zone!A:B,2,FALSE)","v":"F"},{"$f":"VLOOKUP(B1306,ceva_zone!A:C,3,FALSE)","v":"B"}]
["04444","ME","Y","remote",{"$f":"VLOOKUP(B1307,ceva_zone!A:B,2,FALSE)","v":"F"},{"$f":"VLOOKUP(B1307,ceva_zone!A:C,3,FALSE)","v":"B"}]
["04448","ME","Y","remote",{"$f":"VLOOKUP(B1308,ceva_zone!A:B,2,FALSE)","v":"F"},{"$f":"VLOOKUP(B1308,ceva_zone!A:C,3,FALSE)","v":"B"}]
["04449","ME","Y","remote",{"$f":"VLOOKUP(B1309,ceva_zone!A:B,2,FALSE)","v":"F"},{"$f":"VLOOKUP(B1309,ceva_zone!A:C,3,FALSE)","v":"B"}]
["04450","ME","Y","remote",{"$f":"VLOOKUP(B1310,ceva_zone!A:B,2,FALSE)","v":"F"},{"$f":"VLOOKUP(B1310,ceva_zone!A:C,3,FALSE)","v":"B"}]
["04451","ME","Y","remote",{"$f":"VLOOKUP(B1311,ceva_zone!A:B,2,FALSE)","v":"F"},{"$f":"VLOOKUP(B1311,ceva_zone!A:C,3,FALSE)","v":"B"}]
["04453","ME","Y","remote",{"$f":"VLOOKUP(B1312,ceva_zone!A:B,2,FALSE)","v":"F"},{"$f":"VLOOKUP(B1312,ceva_zone!A:C,3,FALSE)","v":"B"}]
["04454","ME","Y","remote",{"$f":"VLOOKUP(B1313,ceva_zone!A:B,2,FALSE)","v":"F"},{"$f":"VLOOKUP(B1313,ceva_zone!A:C,3,FALSE)","v":"B"}]
["04455","ME","Y","remote",{"$f":"VLOOKUP(B1314,ceva_zone!A:B,2,FALSE)","v":"F"},{"$f":"VLOOKUP(B1314,ceva_zone!A:C,3,FALSE)","v":"B"}]
["04456","ME","Y","remote",{"$f":"VLOOKUP(B1315,ceva_zone!A:B,2,FALSE)","v":"F"},{"$f":"VLOOKUP(B1315,ceva_zone!A:C,3,FALSE)","v":"B"}]
["04457","ME","Y","remote",{"$f":"VLOOKUP(B1316,ceva_zone!A:B,2,FALSE)","v":"F"},{"$f":"VLOOKUP(B1316,ceva_zone!A:C,3,FALSE)","v":"B"}]
["04459","ME","Y","remote",{"$f":"VLOOKUP(B1317,ceva_zone!A:B,2,FALSE)","v":"F"},{"$f":"VLOOKUP(B1317,ceva_zone!A:C,3,FALSE)","v":"B"}]
["04460","ME","Y","remote",{"$f":"VLOOKUP(B1318,ceva_zone!A:B,2,FALSE)","v":"F"},{"$f":"VLOOKUP(B1318,ceva_zone!A:C,3,FALSE)","v":"B"}]
["04461","ME","Y","remote",{"$f":"VLOOKUP(B1319,ceva_zone!A:B,2,FALSE)","v":"F"},{"$f":"VLOOKUP(B1319,ceva_zone!A:C,3,FALSE)","v":"B"}]
["04462","ME","Y","remote",{"$f":"VLOOKUP(B1320,ceva_zone!A:B,2,FALSE)","v":"F"},{"$f":"VLOOKUP(B1320,ceva_zone!A:C,3,FALSE)","v":"B"}]
["04464","ME","Y","remote",{"$f":"VLOOKUP(B1321,ceva_zone!A:B,2,FALSE)","v":"F"},{"$f":"VLOOKUP(B1321,ceva_zone!A:C,3,FALSE)","v":"B"}]
["04471","ME","Y","remote",{"$f":"VLOOKUP(B1322,ceva_zone!A:B,2,FALSE)","v":"F"},{"$f":"VLOOKUP(B1322,ceva_zone!A:C,3,FALSE)","v":"B"}]
["04468","ME","Y","remote",{"$f":"VLOOKUP(B1323,ceva_zone!A:B,2,FALSE)","v":"F"},{"$f":"VLOOKUP(B1323,ceva_zone!A:C,3,FALSE)","v":"B"}]
["04472","ME","Y","remote",{"$f":"VLOOKUP(B1324,ceva_zone!A:B,2,FALSE)","v":"F"},{"$f":"VLOOKUP(B1324,ceva_zone!A:C,3,FALSE)","v":"B"}]
["04469","ME","Y","remote",{"$f":"VLOOKUP(B1325,ceva_zone!A:B,2,FALSE)","v":"F"},{"$f":"VLOOKUP(B1325,ceva_zone!A:C,3,FALSE)","v":"B"}]
["04473","ME","Y","remote",{"$f":"VLOOKUP(B1326,ceva_zone!A:B,2,FALSE)","v":"F"},{"$f":"VLOOKUP(B1326,ceva_zone!A:C,3,FALSE)","v":"B"}]
["04474","ME","Y","remote",{"$f":"VLOOKUP(B1327,ceva_zone!A:B,2,FALSE)","v":"F"},{"$f":"VLOOKUP(B1327,ceva_zone!A:C,3,FALSE)","v":"B"}]
["04475","ME","Y","remote",{"$f":"VLOOKUP(B1328,ceva_zone!A:B,2,FALSE)","v":"F"},{"$f":"VLOOKUP(B1328,ceva_zone!A:C,3,FALSE)","v":"B"}]
["04476","ME","Y","remote",{"$f":"VLOOKUP(B1329,ceva_zone!A:B,2,FALSE)","v":"F"},{"$f":"VLOOKUP(B1329,ceva_zone!A:C,3,FALSE)","v":"B"}]
["04467","ME","Y","remote",{"$f":"VLOOKUP(B1330,ceva_zone!A:B,2,FALSE)","v":"F"},{"$f":"VLOOKUP(B1330,ceva_zone!A:C,3,FALSE)","v":"B"}]
["04478","ME","Y","remote",{"$f":"VLOOKUP(B1331,ceva_zone!A:B,2,FALSE)","v":"F"},{"$f":"VLOOKUP(B1331,ceva_zone!A:C,3,FALSE)","v":"B"}]
["04479","ME","Y","remote",{"$f":"VLOOKUP(B1332,ceva_zone!A:B,2,FALSE)","v":"F"},{"$f":"VLOOKUP(B1332,ceva_zone!A:C,3,FALSE)","v":"B"}]
["04487","ME","Y","remote",{"$f":"VLOOKUP(B1333,ceva_zone!A:B,2,FALSE)","v":"F"},{"$f":"VLOOKUP(B1333,ceva_zone!A:C,3,FALSE)","v":"B"}]
["04488","ME","Y","remote",{"$f":"VLOOKUP(B1334,ceva_zone!A:B,2,FALSE)","v":"F"},{"$f":"VLOOKUP(B1334,ceva_zone!A:C,3,FALSE)","v":"B"}]
["04489","ME","Y","remote",{"$f":"VLOOKUP(B1335,ceva_zone!A:B,2,FALSE)","v":"F"},{"$f":"VLOOKUP(B1335,ceva_zone!A:C,3,FALSE)","v":"B"}]
["04490","ME","Y","remote",{"$f":"VLOOKUP(B1336,ceva_zone!A:B,2,FALSE)","v":"F"},{"$f":"VLOOKUP(B1336,ceva_zone!A:C,3,FALSE)","v":"B"}]
["04491","ME","Y","remote",{"$f":"VLOOKUP(B1337,ceva_zone!A:B,2,FALSE)","v":"F"},{"$f":"VLOOKUP(B1337,ceva_zone!A:C,3,FALSE)","v":"B"}]
["04493","ME","Y","remote",{"$f":"VLOOKUP(B1338,ceva_zone!A:B,2,FALSE)","v":"F"},{"$f":"VLOOKUP(B1338,ceva_zone!A:C,3,FALSE)","v":"B"}]
["04495","ME","Y","remote",{"$f":"VLOOKUP(B1339,ceva_zone!A:B,2,FALSE)","v":"F"},{"$f":"VLOOKUP(B1339,ceva_zone!A:C,3,FALSE)","v":"B"}]
["04496","ME","Y","remote",{"$f":"VLOOKUP(B1340,ceva_zone!A:B,2,FALSE)","v":"F"},{"$f":"VLOOKUP(B1340,ceva_zone!A:C,3,FALSE)","v":"B"}]
["04497","ME","Y","remote",{"$f":"VLOOKUP(B1341,ceva_zone!A:B,2,FALSE)","v":"F"},{"$f":"VLOOKUP(B1341,ceva_zone!A:C,3,FALSE)","v":"B"}]
["04535","ME","Y","remote",{"$f":"VLOOKUP(B1342,ceva_zone!A:B,2,FALSE)","v":"F"},{"$f":"VLOOKUP(B1342,ceva_zone!A:C,3,FALSE)","v":"B"}]
["04530","ME","Y","remote",{"$f":"VLOOKUP(B1343,ceva_zone!A:B,2,FALSE)","v":"F"},{"$f":"VLOOKUP(B1343,ceva_zone!A:C,3,FALSE)","v":"B"}]
["04537","ME","Y","remote",{"$f":"VLOOKUP(B1344,ceva_zone!A:B,2,FALSE)","v":"F"},{"$f":"VLOOKUP(B1344,ceva_zone!A:C,3,FALSE)","v":"B"}]
["04549","ME","Y","remote",{"$f":"VLOOKUP(B1345,ceva_zone!A:B,2,FALSE)","v":"F"},{"$f":"VLOOKUP(B1345,ceva_zone!A:C,3,FALSE)","v":"B"}]
["04538","ME","Y","remote",{"$f":"VLOOKUP(B1346,ceva_zone!A:B,2,FALSE)","v":"F"},{"$f":"VLOOKUP(B1346,ceva_zone!A:C,3,FALSE)","v":"B"}]
["04570","ME","Y","remote",{"$f":"VLOOKUP(B1347,ceva_zone!A:B,2,FALSE)","v":"F"},{"$f":"VLOOKUP(B1347,ceva_zone!A:C,3,FALSE)","v":"B"}]
["04539","ME","Y","remote",{"$f":"VLOOKUP(B1348,ceva_zone!A:B,2,FALSE)","v":"F"},{"$f":"VLOOKUP(B1348,ceva_zone!A:C,3,FALSE)","v":"B"}]
["04541","ME","Y","remote",{"$f":"VLOOKUP(B1349,ceva_zone!A:B,2,FALSE)","v":"F"},{"$f":"VLOOKUP(B1349,ceva_zone!A:C,3,FALSE)","v":"B"}]
["04563","ME","Y","remote",{"$f":"VLOOKUP(B1350,ceva_zone!A:B,2,FALSE)","v":"F"},{"$f":"VLOOKUP(B1350,ceva_zone!A:C,3,FALSE)","v":"B"}]
["04543","ME","Y","remote",{"$f":"VLOOKUP(B1351,ceva_zone!A:B,2,FALSE)","v":"F"},{"$f":"VLOOKUP(B1351,ceva_zone!A:C,3,FALSE)","v":"B"}]
["04544","ME","Y","remote",{"$f":"VLOOKUP(B1352,ceva_zone!A:B,2,FALSE)","v":"F"},{"$f":"VLOOKUP(B1352,ceva_zone!A:C,3,FALSE)","v":"B"}]
["04556","ME","Y","remote",{"$f":"VLOOKUP(B1353,ceva_zone!A:B,2,FALSE)","v":"F"},{"$f":"VLOOKUP(B1353,ceva_zone!A:C,3,FALSE)","v":"B"}]
["04547","ME","Y","remote",{"$f":"VLOOKUP(B1354,ceva_zone!A:B,2,FALSE)","v":"F"},{"$f":"VLOOKUP(B1354,ceva_zone!A:C,3,FALSE)","v":"B"}]
["04548","ME","Y","remote",{"$f":"VLOOKUP(B1355,ceva_zone!A:B,2,FALSE)","v":"F"},{"$f":"VLOOKUP(B1355,ceva_zone!A:C,3,FALSE)","v":"B"}]
["04551","ME","Y","remote",{"$f":"VLOOKUP(B1356,ceva_zone!A:B,2,FALSE)","v":"F"},{"$f":"VLOOKUP(B1356,ceva_zone!A:C,3,FALSE)","v":"B"}]
["04554","ME","Y","remote",{"$f":"VLOOKUP(B1357,ceva_zone!A:B,2,FALSE)","v":"F"},{"$f":"VLOOKUP(B1357,ceva_zone!A:C,3,FALSE)","v":"B"}]
["04558","ME","Y","remote",{"$f":"VLOOKUP(B1358,ceva_zone!A:B,2,FALSE)","v":"F"},{"$f":"VLOOKUP(B1358,ceva_zone!A:C,3,FALSE)","v":"B"}]
["04553","ME","Y","remote",{"$f":"VLOOKUP(B1359,ceva_zone!A:B,2,FALSE)","v":"F"},{"$f":"VLOOKUP(B1359,ceva_zone!A:C,3,FALSE)","v":"B"}]
["04555","ME","Y","remote",{"$f":"VLOOKUP(B1360,ceva_zone!A:B,2,FALSE)","v":"F"},{"$f":"VLOOKUP(B1360,ceva_zone!A:C,3,FALSE)","v":"B"}]
["04562","ME","Y","remote",{"$f":"VLOOKUP(B1361,ceva_zone!A:B,2,FALSE)","v":"F"},{"$f":"VLOOKUP(B1361,ceva_zone!A:C,3,FALSE)","v":"B"}]
["04564","ME","Y","remote",{"$f":"VLOOKUP(B1362,ceva_zone!A:B,2,FALSE)","v":"F"},{"$f":"VLOOKUP(B1362,ceva_zone!A:C,3,FALSE)","v":"B"}]
["04565","ME","Y","remote",{"$f":"VLOOKUP(B1363,ceva_zone!A:B,2,FALSE)","v":"F"},{"$f":"VLOOKUP(B1363,ceva_zone!A:C,3,FALSE)","v":"B"}]
["04568","ME","Y","remote",{"$f":"VLOOKUP(B1364,ceva_zone!A:B,2,FALSE)","v":"F"},{"$f":"VLOOKUP(B1364,ceva_zone!A:C,3,FALSE)","v":"B"}]
["04571","ME","Y","remote",{"$f":"VLOOKUP(B1365,ceva_zone!A:B,2,FALSE)","v":"F"},{"$f":"VLOOKUP(B1365,ceva_zone!A:C,3,FALSE)","v":"B"}]
["04572","ME","Y","remote",{"$f":"VLOOKUP(B1366,ceva_zone!A:B,2,FALSE)","v":"F"},{"$f":"VLOOKUP(B1366,ceva_zone!A:C,3,FALSE)","v":"B"}]
["04573","ME","Y","remote",{"$f":"VLOOKUP(B1367,ceva_zone!A:B,2,FALSE)","v":"F"},{"$f":"VLOOKUP(B1367,ceva_zone!A:C,3,FALSE)","v":"B"}]
["04574","ME","Y","remote",{"$f":"VLOOKUP(B1368,ceva_zone!A:B,2,FALSE)","v":"F"},{"$f":"VLOOKUP(B1368,ceva_zone!A:C,3,FALSE)","v":"B"}]
["04575","ME","Y","remote",{"$f":"VLOOKUP(B1369,ceva_zone!A:B,2,FALSE)","v":"F"},{"$f":"VLOOKUP(B1369,ceva_zone!A:C,3,FALSE)","v":"B"}]
["04576","ME","Y","remote",{"$f":"VLOOKUP(B1370,ceva_zone!A:B,2,FALSE)","v":"F"},{"$f":"VLOOKUP(B1370,ceva_zone!A:C,3,FALSE)","v":"B"}]
["04578","ME","Y","remote",{"$f":"VLOOKUP(B1371,ceva_zone!A:B,2,FALSE)","v":"F"},{"$f":"VLOOKUP(B1371,ceva_zone!A:C,3,FALSE)","v":"B"}]
["04579","ME","Y","remote",{"$f":"VLOOKUP(B1372,ceva_zone!A:B,2,FALSE)","v":"F"},{"$f":"VLOOKUP(B1372,ceva_zone!A:C,3,FALSE)","v":"B"}]
["04606","ME","Y","remote",{"$f":"VLOOKUP(B1373,ceva_zone!A:B,2,FALSE)","v":"F"},{"$f":"VLOOKUP(B1373,ceva_zone!A:C,3,FALSE)","v":"B"}]
["04609","ME","Y","remote",{"$f":"VLOOKUP(B1374,ceva_zone!A:B,2,FALSE)","v":"F"},{"$f":"VLOOKUP(B1374,ceva_zone!A:C,3,FALSE)","v":"B"}]
["04653","ME","Y","remote",{"$f":"VLOOKUP(B1375,ceva_zone!A:B,2,FALSE)","v":"F"},{"$f":"VLOOKUP(B1375,ceva_zone!A:C,3,FALSE)","v":"B"}]
["04611","ME","Y","remote",{"$f":"VLOOKUP(B1376,ceva_zone!A:B,2,FALSE)","v":"F"},{"$f":"VLOOKUP(B1376,ceva_zone!A:C,3,FALSE)","v":"B"}]
["04612","ME","Y","remote",{"$f":"VLOOKUP(B1377,ceva_zone!A:B,2,FALSE)","v":"F"},{"$f":"VLOOKUP(B1377,ceva_zone!A:C,3,FALSE)","v":"B"}]
["04613","ME","Y","remote",{"$f":"VLOOKUP(B1378,ceva_zone!A:B,2,FALSE)","v":"F"},{"$f":"VLOOKUP(B1378,ceva_zone!A:C,3,FALSE)","v":"B"}]
["04614","ME","Y","remote",{"$f":"VLOOKUP(B1379,ceva_zone!A:B,2,FALSE)","v":"F"},{"$f":"VLOOKUP(B1379,ceva_zone!A:C,3,FALSE)","v":"B"}]
["04616","ME","Y","remote",{"$f":"VLOOKUP(B1380,ceva_zone!A:B,2,FALSE)","v":"F"},{"$f":"VLOOKUP(B1380,ceva_zone!A:C,3,FALSE)","v":"B"}]
["04617","ME","Y","remote",{"$f":"VLOOKUP(B1381,ceva_zone!A:B,2,FALSE)","v":"F"},{"$f":"VLOOKUP(B1381,ceva_zone!A:C,3,FALSE)","v":"B"}]
["04619","ME","Y","remote",{"$f":"VLOOKUP(B1382,ceva_zone!A:B,2,FALSE)","v":"F"},{"$f":"VLOOKUP(B1382,ceva_zone!A:C,3,FALSE)","v":"B"}]
["04622","ME","Y","remote",{"$f":"VLOOKUP(B1383,ceva_zone!A:B,2,FALSE)","v":"F"},{"$f":"VLOOKUP(B1383,ceva_zone!A:C,3,FALSE)","v":"B"}]
["04623","ME","Y","remote",{"$f":"VLOOKUP(B1384,ceva_zone!A:B,2,FALSE)","v":"F"},{"$f":"VLOOKUP(B1384,ceva_zone!A:C,3,FALSE)","v":"B"}]
["04624","ME","Y","remote",{"$f":"VLOOKUP(B1385,ceva_zone!A:B,2,FALSE)","v":"F"},{"$f":"VLOOKUP(B1385,ceva_zone!A:C,3,FALSE)","v":"B"}]
["04625","ME","Y","remote",{"$f":"VLOOKUP(B1386,ceva_zone!A:B,2,FALSE)","v":"F"},{"$f":"VLOOKUP(B1386,ceva_zone!A:C,3,FALSE)","v":"B"}]
["04626","ME","Y","remote",{"$f":"VLOOKUP(B1387,ceva_zone!A:B,2,FALSE)","v":"F"},{"$f":"VLOOKUP(B1387,ceva_zone!A:C,3,FALSE)","v":"B"}]
["04627","ME","Y","remote",{"$f":"VLOOKUP(B1388,ceva_zone!A:B,2,FALSE)","v":"F"},{"$f":"VLOOKUP(B1388,ceva_zone!A:C,3,FALSE)","v":"B"}]
["04628","ME","Y","remote",{"$f":"VLOOKUP(B1389,ceva_zone!A:B,2,FALSE)","v":"F"},{"$f":"VLOOKUP(B1389,ceva_zone!A:C,3,FALSE)","v":"B"}]
["04629","ME","Y","remote",{"$f":"VLOOKUP(B1390,ceva_zone!A:B,2,FALSE)","v":"F"},{"$f":"VLOOKUP(B1390,ceva_zone!A:C,3,FALSE)","v":"B"}]
["04630","ME","Y","remote",{"$f":"VLOOKUP(B1391,ceva_zone!A:B,2,FALSE)","v":"F"},{"$f":"VLOOKUP(B1391,ceva_zone!A:C,3,FALSE)","v":"B"}]
["04631","ME","Y","remote",{"$f":"VLOOKUP(B1392,ceva_zone!A:B,2,FALSE)","v":"F"},{"$f":"VLOOKUP(B1392,ceva_zone!A:C,3,FALSE)","v":"B"}]
["04605","ME","Y","remote",{"$f":"VLOOKUP(B1393,ceva_zone!A:B,2,FALSE)","v":"F"},{"$f":"VLOOKUP(B1393,ceva_zone!A:C,3,FALSE)","v":"B"}]
["04634","ME","Y","remote",{"$f":"VLOOKUP(B1394,ceva_zone!A:B,2,FALSE)","v":"F"},{"$f":"VLOOKUP(B1394,ceva_zone!A:C,3,FALSE)","v":"B"}]
["04635","ME","Y","remote",{"$f":"VLOOKUP(B1395,ceva_zone!A:B,2,FALSE)","v":"F"},{"$f":"VLOOKUP(B1395,ceva_zone!A:C,3,FALSE)","v":"B"}]
["04607","ME","Y","remote",{"$f":"VLOOKUP(B1396,ceva_zone!A:B,2,FALSE)","v":"F"},{"$f":"VLOOKUP(B1396,ceva_zone!A:C,3,FALSE)","v":"B"}]
["04637","ME","Y","remote",{"$f":"VLOOKUP(B1397,ceva_zone!A:B,2,FALSE)","v":"F"},{"$f":"VLOOKUP(B1397,ceva_zone!A:C,3,FALSE)","v":"B"}]
["04640","ME","Y","remote",{"$f":"VLOOKUP(B1398,ceva_zone!A:B,2,FALSE)","v":"F"},{"$f":"VLOOKUP(B1398,ceva_zone!A:C,3,FALSE)","v":"B"}]
["04642","ME","Y","remote",{"$f":"VLOOKUP(B1399,ceva_zone!A:B,2,FALSE)","v":"F"},{"$f":"VLOOKUP(B1399,ceva_zone!A:C,3,FALSE)","v":"B"}]
["04643","ME","Y","remote",{"$f":"VLOOKUP(B1400,ceva_zone!A:B,2,FALSE)","v":"F"},{"$f":"VLOOKUP(B1400,ceva_zone!A:C,3,FALSE)","v":"B"}]
["04644","ME","Y","remote",{"$f":"VLOOKUP(B1401,ceva_zone!A:B,2,FALSE)","v":"F"},{"$f":"VLOOKUP(B1401,ceva_zone!A:C,3,FALSE)","v":"B"}]
["04645","ME","Y","remote",{"$f":"VLOOKUP(B1402,ceva_zone!A:B,2,FALSE)","v":"F"},{"$f":"VLOOKUP(B1402,ceva_zone!A:C,3,FALSE)","v":"B"}]
["04646","ME","Y","remote",{"$f":"VLOOKUP(B1403,ceva_zone!A:B,2,FALSE)","v":"F"},{"$f":"VLOOKUP(B1403,ceva_zone!A:C,3,FALSE)","v":"B"}]
["04648","ME","Y","remote",{"$f":"VLOOKUP(B1404,ceva_zone!A:B,2,FALSE)","v":"F"},{"$f":"VLOOKUP(B1404,ceva_zone!A:C,3,FALSE)","v":"B"}]
["04649","ME","Y","remote",{"$f":"VLOOKUP(B1405,ceva_zone!A:B,2,FALSE)","v":"F"},{"$f":"VLOOKUP(B1405,ceva_zone!A:C,3,FALSE)","v":"B"}]
["04650","ME","Y","remote",{"$f":"VLOOKUP(B1406,ceva_zone!A:B,2,FALSE)","v":"F"},{"$f":"VLOOKUP(B1406,ceva_zone!A:C,3,FALSE)","v":"B"}]
["04652","ME","Y","remote",{"$f":"VLOOKUP(B1407,ceva_zone!A:B,2,FALSE)","v":"F"},{"$f":"VLOOKUP(B1407,ceva_zone!A:C,3,FALSE)","v":"B"}]
["04654","ME","Y","remote",{"$f":"VLOOKUP(B1408,ceva_zone!A:B,2,FALSE)","v":"F"},{"$f":"VLOOKUP(B1408,ceva_zone!A:C,3,FALSE)","v":"B"}]
["04686","ME","Y","remote",{"$f":"VLOOKUP(B1409,ceva_zone!A:B,2,FALSE)","v":"F"},{"$f":"VLOOKUP(B1409,ceva_zone!A:C,3,FALSE)","v":"B"}]
["04655","ME","Y","remote",{"$f":"VLOOKUP(B1410,ceva_zone!A:B,2,FALSE)","v":"F"},{"$f":"VLOOKUP(B1410,ceva_zone!A:C,3,FALSE)","v":"B"}]
["04657","ME","Y","remote",{"$f":"VLOOKUP(B1411,ceva_zone!A:B,2,FALSE)","v":"F"},{"$f":"VLOOKUP(B1411,ceva_zone!A:C,3,FALSE)","v":"B"}]
["04658","ME","Y","remote",{"$f":"VLOOKUP(B1412,ceva_zone!A:B,2,FALSE)","v":"F"},{"$f":"VLOOKUP(B1412,ceva_zone!A:C,3,FALSE)","v":"B"}]
["04660","ME","Y","remote",{"$f":"VLOOKUP(B1413,ceva_zone!A:B,2,FALSE)","v":"F"},{"$f":"VLOOKUP(B1413,ceva_zone!A:C,3,FALSE)","v":"B"}]
["04664","ME","Y","remote",{"$f":"VLOOKUP(B1414,ceva_zone!A:B,2,FALSE)","v":"F"},{"$f":"VLOOKUP(B1414,ceva_zone!A:C,3,FALSE)","v":"B"}]
["04662","ME","Y","remote",{"$f":"VLOOKUP(B1415,ceva_zone!A:B,2,FALSE)","v":"F"},{"$f":"VLOOKUP(B1415,ceva_zone!A:C,3,FALSE)","v":"B"}]
["04666","ME","Y","remote",{"$f":"VLOOKUP(B1416,ceva_zone!A:B,2,FALSE)","v":"F"},{"$f":"VLOOKUP(B1416,ceva_zone!A:C,3,FALSE)","v":"B"}]
["04667","ME","Y","remote",{"$f":"VLOOKUP(B1417,ceva_zone!A:B,2,FALSE)","v":"F"},{"$f":"VLOOKUP(B1417,ceva_zone!A:C,3,FALSE)","v":"B"}]
["04668","ME","Y","remote",{"$f":"VLOOKUP(B1418,ceva_zone!A:B,2,FALSE)","v":"F"},{"$f":"VLOOKUP(B1418,ceva_zone!A:C,3,FALSE)","v":"B"}]
["04669","ME","Y","remote",{"$f":"VLOOKUP(B1419,ceva_zone!A:B,2,FALSE)","v":"F"},{"$f":"VLOOKUP(B1419,ceva_zone!A:C,3,FALSE)","v":"B"}]
["04671","ME","Y","remote",{"$f":"VLOOKUP(B1420,ceva_zone!A:B,2,FALSE)","v":"F"},{"$f":"VLOOKUP(B1420,ceva_zone!A:C,3,FALSE)","v":"B"}]
["04672","ME","Y","remote",{"$f":"VLOOKUP(B1421,ceva_zone!A:B,2,FALSE)","v":"F"},{"$f":"VLOOKUP(B1421,ceva_zone!A:C,3,FALSE)","v":"B"}]
["04673","ME","Y","remote",{"$f":"VLOOKUP(B1422,ceva_zone!A:B,2,FALSE)","v":"F"},{"$f":"VLOOKUP(B1422,ceva_zone!A:C,3,FALSE)","v":"B"}]
["04674","ME","Y","remote",{"$f":"VLOOKUP(B1423,ceva_zone!A:B,2,FALSE)","v":"F"},{"$f":"VLOOKUP(B1423,ceva_zone!A:C,3,FALSE)","v":"B"}]
["04675","ME","Y","remote",{"$f":"VLOOKUP(B1424,ceva_zone!A:B,2,FALSE)","v":"F"},{"$f":"VLOOKUP(B1424,ceva_zone!A:C,3,FALSE)","v":"B"}]
["04676","ME","Y","remote",{"$f":"VLOOKUP(B1425,ceva_zone!A:B,2,FALSE)","v":"F"},{"$f":"VLOOKUP(B1425,ceva_zone!A:C,3,FALSE)","v":"B"}]
["04677","ME","Y","remote",{"$f":"VLOOKUP(B1426,ceva_zone!A:B,2,FALSE)","v":"F"},{"$f":"VLOOKUP(B1426,ceva_zone!A:C,3,FALSE)","v":"B"}]
["04679","ME","Y","remote",{"$f":"VLOOKUP(B1427,ceva_zone!A:B,2,FALSE)","v":"F"},{"$f":"VLOOKUP(B1427,ceva_zone!A:C,3,FALSE)","v":"B"}]
["04680","ME","Y","remote",{"$f":"VLOOKUP(B1428,ceva_zone!A:B,2,FALSE)","v":"F"},{"$f":"VLOOKUP(B1428,ceva_zone!A:C,3,FALSE)","v":"B"}]
["04681","ME","Y","remote",{"$f":"VLOOKUP(B1429,ceva_zone!A:B,2,FALSE)","v":"F"},{"$f":"VLOOKUP(B1429,ceva_zone!A:C,3,FALSE)","v":"B"}]
["04683","ME","Y","remote",{"$f":"VLOOKUP(B1430,ceva_zone!A:B,2,FALSE)","v":"F"},{"$f":"VLOOKUP(B1430,ceva_zone!A:C,3,FALSE)","v":"B"}]
["04684","ME","Y","remote",{"$f":"VLOOKUP(B1431,ceva_zone!A:B,2,FALSE)","v":"F"},{"$f":"VLOOKUP(B1431,ceva_zone!A:C,3,FALSE)","v":"B"}]
["04685","ME","Y","remote",{"$f":"VLOOKUP(B1432,ceva_zone!A:B,2,FALSE)","v":"F"},{"$f":"VLOOKUP(B1432,ceva_zone!A:C,3,FALSE)","v":"B"}]
["04691","ME","Y","remote",{"$f":"VLOOKUP(B1433,ceva_zone!A:B,2,FALSE)","v":"F"},{"$f":"VLOOKUP(B1433,ceva_zone!A:C,3,FALSE)","v":"B"}]
["04693","ME","Y","remote",{"$f":"VLOOKUP(B1434,ceva_zone!A:B,2,FALSE)","v":"F"},{"$f":"VLOOKUP(B1434,ceva_zone!A:C,3,FALSE)","v":"B"}]
["04694","ME","Y","remote",{"$f":"VLOOKUP(B1435,ceva_zone!A:B,2,FALSE)","v":"F"},{"$f":"VLOOKUP(B1435,ceva_zone!A:C,3,FALSE)","v":"B"}]
["04737","ME","Y","remote",{"$f":"VLOOKUP(B1436,ceva_zone!A:B,2,FALSE)","v":"F"},{"$f":"VLOOKUP(B1436,ceva_zone!A:C,3,FALSE)","v":"B"}]
["04732","ME","Y","remote",{"$f":"VLOOKUP(B1437,ceva_zone!A:B,2,FALSE)","v":"F"},{"$f":"VLOOKUP(B1437,ceva_zone!A:C,3,FALSE)","v":"B"}]
["04733","ME","Y","remote",{"$f":"VLOOKUP(B1438,ceva_zone!A:B,2,FALSE)","v":"F"},{"$f":"VLOOKUP(B1438,ceva_zone!A:C,3,FALSE)","v":"B"}]
["04734","ME","Y","remote",{"$f":"VLOOKUP(B1439,ceva_zone!A:B,2,FALSE)","v":"F"},{"$f":"VLOOKUP(B1439,ceva_zone!A:C,3,FALSE)","v":"B"}]
["04735","ME","Y","remote",{"$f":"VLOOKUP(B1440,ceva_zone!A:B,2,FALSE)","v":"F"},{"$f":"VLOOKUP(B1440,ceva_zone!A:C,3,FALSE)","v":"B"}]
["04736","ME","Y","remote",{"$f":"VLOOKUP(B1441,ceva_zone!A:B,2,FALSE)","v":"F"},{"$f":"VLOOKUP(B1441,ceva_zone!A:C,3,FALSE)","v":"B"}]
["04738","ME","Y","remote",{"$f":"VLOOKUP(B1442,ceva_zone!A:B,2,FALSE)","v":"F"},{"$f":"VLOOKUP(B1442,ceva_zone!A:C,3,FALSE)","v":"B"}]
["04739","ME","Y","remote",{"$f":"VLOOKUP(B1443,ceva_zone!A:B,2,FALSE)","v":"F"},{"$f":"VLOOKUP(B1443,ceva_zone!A:C,3,FALSE)","v":"B"}]
["04740","ME","Y","remote",{"$f":"VLOOKUP(B1444,ceva_zone!A:B,2,FALSE)","v":"F"},{"$f":"VLOOKUP(B1444,ceva_zone!A:C,3,FALSE)","v":"B"}]
["04741","ME","Y","remote",{"$f":"VLOOKUP(B1445,ceva_zone!A:B,2,FALSE)","v":"F"},{"$f":"VLOOKUP(B1445,ceva_zone!A:C,3,FALSE)","v":"B"}]
["04742","ME","Y","remote",{"$f":"VLOOKUP(B1446,ceva_zone!A:B,2,FALSE)","v":"F"},{"$f":"VLOOKUP(B1446,ceva_zone!A:C,3,FALSE)","v":"B"}]
["04743","ME","Y","remote",{"$f":"VLOOKUP(B1447,ceva_zone!A:B,2,FALSE)","v":"F"},{"$f":"VLOOKUP(B1447,ceva_zone!A:C,3,FALSE)","v":"B"}]
["04744","ME","Y","remote",{"$f":"VLOOKUP(B1448,ceva_zone!A:B,2,FALSE)","v":"F"},{"$f":"VLOOKUP(B1448,ceva_zone!A:C,3,FALSE)","v":"B"}]
["04745","ME","Y","remote",{"$f":"VLOOKUP(B1449,ceva_zone!A:B,2,FALSE)","v":"F"},{"$f":"VLOOKUP(B1449,ceva_zone!A:C,3,FALSE)","v":"B"}]
["04746","ME","Y","remote",{"$f":"VLOOKUP(B1450,ceva_zone!A:B,2,FALSE)","v":"F"},{"$f":"VLOOKUP(B1450,ceva_zone!A:C,3,FALSE)","v":"B"}]
["04730","ME","Y","remote",{"$f":"VLOOKUP(B1451,ceva_zone!A:B,2,FALSE)","v":"F"},{"$f":"VLOOKUP(B1451,ceva_zone!A:C,3,FALSE)","v":"B"}]
["04761","ME","Y","remote",{"$f":"VLOOKUP(B1452,ceva_zone!A:B,2,FALSE)","v":"F"},{"$f":"VLOOKUP(B1452,ceva_zone!A:C,3,FALSE)","v":"B"}]
["04747","ME","Y","remote",{"$f":"VLOOKUP(B1453,ceva_zone!A:B,2,FALSE)","v":"F"},{"$f":"VLOOKUP(B1453,ceva_zone!A:C,3,FALSE)","v":"B"}]
["04750","ME","Y","remote",{"$f":"VLOOKUP(B1454,ceva_zone!A:B,2,FALSE)","v":"F"},{"$f":"VLOOKUP(B1454,ceva_zone!A:C,3,FALSE)","v":"B"}]
["04751","ME","Y","remote",{"$f":"VLOOKUP(B1455,ceva_zone!A:B,2,FALSE)","v":"F"},{"$f":"VLOOKUP(B1455,ceva_zone!A:C,3,FALSE)","v":"B"}]
["04756","ME","Y","remote",{"$f":"VLOOKUP(B1456,ceva_zone!A:B,2,FALSE)","v":"F"},{"$f":"VLOOKUP(B1456,ceva_zone!A:C,3,FALSE)","v":"B"}]
["04757","ME","Y","remote",{"$f":"VLOOKUP(B1457,ceva_zone!A:B,2,FALSE)","v":"F"},{"$f":"VLOOKUP(B1457,ceva_zone!A:C,3,FALSE)","v":"B"}]
["04758","ME","Y","remote",{"$f":"VLOOKUP(B1458,ceva_zone!A:B,2,FALSE)","v":"F"},{"$f":"VLOOKUP(B1458,ceva_zone!A:C,3,FALSE)","v":"B"}]
["04760","ME","Y","remote",{"$f":"VLOOKUP(B1459,ceva_zone!A:B,2,FALSE)","v":"F"},{"$f":"VLOOKUP(B1459,ceva_zone!A:C,3,FALSE)","v":"B"}]
["04762","ME","Y","remote",{"$f":"VLOOKUP(B1460,ceva_zone!A:B,2,FALSE)","v":"F"},{"$f":"VLOOKUP(B1460,ceva_zone!A:C,3,FALSE)","v":"B"}]
["04763","ME","Y","remote",{"$f":"VLOOKUP(B1461,ceva_zone!A:B,2,FALSE)","v":"F"},{"$f":"VLOOKUP(B1461,ceva_zone!A:C,3,FALSE)","v":"B"}]
["04764","ME","Y","remote",{"$f":"VLOOKUP(B1462,ceva_zone!A:B,2,FALSE)","v":"F"},{"$f":"VLOOKUP(B1462,ceva_zone!A:C,3,FALSE)","v":"B"}]
["04765","ME","Y","remote",{"$f":"VLOOKUP(B1463,ceva_zone!A:B,2,FALSE)","v":"F"},{"$f":"VLOOKUP(B1463,ceva_zone!A:C,3,FALSE)","v":"B"}]
["04766","ME","Y","remote",{"$f":"VLOOKUP(B1464,ceva_zone!A:B,2,FALSE)","v":"F"},{"$f":"VLOOKUP(B1464,ceva_zone!A:C,3,FALSE)","v":"B"}]
["04768","ME","Y","remote",{"$f":"VLOOKUP(B1465,ceva_zone!A:B,2,FALSE)","v":"F"},{"$f":"VLOOKUP(B1465,ceva_zone!A:C,3,FALSE)","v":"B"}]
["04769","ME","Y","remote",{"$f":"VLOOKUP(B1466,ceva_zone!A:B,2,FALSE)","v":"F"},{"$f":"VLOOKUP(B1466,ceva_zone!A:C,3,FALSE)","v":"B"}]
["04772","ME","Y","remote",{"$f":"VLOOKUP(B1467,ceva_zone!A:B,2,FALSE)","v":"F"},{"$f":"VLOOKUP(B1467,ceva_zone!A:C,3,FALSE)","v":"B"}]
["04773","ME","Y","remote",{"$f":"VLOOKUP(B1468,ceva_zone!A:B,2,FALSE)","v":"F"},{"$f":"VLOOKUP(B1468,ceva_zone!A:C,3,FALSE)","v":"B"}]
["04774","ME","Y","remote",{"$f":"VLOOKUP(B1469,ceva_zone!A:B,2,FALSE)","v":"F"},{"$f":"VLOOKUP(B1469,ceva_zone!A:C,3,FALSE)","v":"B"}]
["04775","ME","Y","remote",{"$f":"VLOOKUP(B1470,ceva_zone!A:B,2,FALSE)","v":"F"},{"$f":"VLOOKUP(B1470,ceva_zone!A:C,3,FALSE)","v":"B"}]
["04776","ME","Y","remote",{"$f":"VLOOKUP(B1471,ceva_zone!A:B,2,FALSE)","v":"F"},{"$f":"VLOOKUP(B1471,ceva_zone!A:C,3,FALSE)","v":"B"}]
["04777","ME","Y","remote",{"$f":"VLOOKUP(B1472,ceva_zone!A:B,2,FALSE)","v":"F"},{"$f":"VLOOKUP(B1472,ceva_zone!A:C,3,FALSE)","v":"B"}]
["04779","ME","Y","remote",{"$f":"VLOOKUP(B1473,ceva_zone!A:B,2,FALSE)","v":"F"},{"$f":"VLOOKUP(B1473,ceva_zone!A:C,3,FALSE)","v":"B"}]
["04780","ME","Y","remote",{"$f":"VLOOKUP(B1474,ceva_zone!A:B,2,FALSE)","v":"F"},{"$f":"VLOOKUP(B1474,ceva_zone!A:C,3,FALSE)","v":"B"}]
["04781","ME","Y","remote",{"$f":"VLOOKUP(B1475,ceva_zone!A:B,2,FALSE)","v":"F"},{"$f":"VLOOKUP(B1475,ceva_zone!A:C,3,FALSE)","v":"B"}]
["04783","ME","Y","remote",{"$f":"VLOOKUP(B1476,ceva_zone!A:B,2,FALSE)","v":"F"},{"$f":"VLOOKUP(B1476,ceva_zone!A:C,3,FALSE)","v":"B"}]
["04785","ME","Y","remote",{"$f":"VLOOKUP(B1477,ceva_zone!A:B,2,FALSE)","v":"F"},{"$f":"VLOOKUP(B1477,ceva_zone!A:C,3,FALSE)","v":"B"}]
["04786","ME","Y","remote",{"$f":"VLOOKUP(B1478,ceva_zone!A:B,2,FALSE)","v":"F"},{"$f":"VLOOKUP(B1478,ceva_zone!A:C,3,FALSE)","v":"B"}]
["04787","ME","Y","remote",{"$f":"VLOOKUP(B1479,ceva_zone!A:B,2,FALSE)","v":"F"},{"$f":"VLOOKUP(B1479,ceva_zone!A:C,3,FALSE)","v":"B"}]
["04847","ME","Y","remote",{"$f":"VLOOKUP(B1480,ceva_zone!A:B,2,FALSE)","v":"F"},{"$f":"VLOOKUP(B1480,ceva_zone!A:C,3,FALSE)","v":"B"}]
["04843","ME","Y","remote",{"$f":"VLOOKUP(B1481,ceva_zone!A:B,2,FALSE)","v":"F"},{"$f":"VLOOKUP(B1481,ceva_zone!A:C,3,FALSE)","v":"B"}]
["04846","ME","Y","remote",{"$f":"VLOOKUP(B1482,ceva_zone!A:B,2,FALSE)","v":"F"},{"$f":"VLOOKUP(B1482,ceva_zone!A:C,3,FALSE)","v":"B"}]
["04848","ME","Y","remote",{"$f":"VLOOKUP(B1483,ceva_zone!A:B,2,FALSE)","v":"F"},{"$f":"VLOOKUP(B1483,ceva_zone!A:C,3,FALSE)","v":"B"}]
["04849","ME","Y","remote",{"$f":"VLOOKUP(B1484,ceva_zone!A:B,2,FALSE)","v":"F"},{"$f":"VLOOKUP(B1484,ceva_zone!A:C,3,FALSE)","v":"B"}]
["04850","ME","Y","remote",{"$f":"VLOOKUP(B1485,ceva_zone!A:B,2,FALSE)","v":"F"},{"$f":"VLOOKUP(B1485,ceva_zone!A:C,3,FALSE)","v":"B"}]
["04851","ME","Y","remote",{"$f":"VLOOKUP(B1486,ceva_zone!A:B,2,FALSE)","v":"F"},{"$f":"VLOOKUP(B1486,ceva_zone!A:C,3,FALSE)","v":"B"}]
["04852","ME","Y","remote",{"$f":"VLOOKUP(B1487,ceva_zone!A:B,2,FALSE)","v":"F"},{"$f":"VLOOKUP(B1487,ceva_zone!A:C,3,FALSE)","v":"B"}]
["04853","ME","Y","remote",{"$f":"VLOOKUP(B1488,ceva_zone!A:B,2,FALSE)","v":"F"},{"$f":"VLOOKUP(B1488,ceva_zone!A:C,3,FALSE)","v":"B"}]
["04854","ME","Y","remote",{"$f":"VLOOKUP(B1489,ceva_zone!A:B,2,FALSE)","v":"F"},{"$f":"VLOOKUP(B1489,ceva_zone!A:C,3,FALSE)","v":"B"}]
["04855","ME","Y","remote",{"$f":"VLOOKUP(B1490,ceva_zone!A:B,2,FALSE)","v":"F"},{"$f":"VLOOKUP(B1490,ceva_zone!A:C,3,FALSE)","v":"B"}]
["04841","ME","Y","remote",{"$f":"VLOOKUP(B1491,ceva_zone!A:B,2,FALSE)","v":"F"},{"$f":"VLOOKUP(B1491,ceva_zone!A:C,3,FALSE)","v":"B"}]
["04856","ME","Y","remote",{"$f":"VLOOKUP(B1492,ceva_zone!A:B,2,FALSE)","v":"F"},{"$f":"VLOOKUP(B1492,ceva_zone!A:C,3,FALSE)","v":"B"}]
["04858","ME","Y","remote",{"$f":"VLOOKUP(B1493,ceva_zone!A:B,2,FALSE)","v":"F"},{"$f":"VLOOKUP(B1493,ceva_zone!A:C,3,FALSE)","v":"B"}]
["04859","ME","Y","remote",{"$f":"VLOOKUP(B1494,ceva_zone!A:B,2,FALSE)","v":"F"},{"$f":"VLOOKUP(B1494,ceva_zone!A:C,3,FALSE)","v":"B"}]
["04860","ME","Y","remote",{"$f":"VLOOKUP(B1495,ceva_zone!A:B,2,FALSE)","v":"F"},{"$f":"VLOOKUP(B1495,ceva_zone!A:C,3,FALSE)","v":"B"}]
["04861","ME","Y","remote",{"$f":"VLOOKUP(B1496,ceva_zone!A:B,2,FALSE)","v":"F"},{"$f":"VLOOKUP(B1496,ceva_zone!A:C,3,FALSE)","v":"B"}]
["04862","ME","Y","remote",{"$f":"VLOOKUP(B1497,ceva_zone!A:B,2,FALSE)","v":"F"},{"$f":"VLOOKUP(B1497,ceva_zone!A:C,3,FALSE)","v":"B"}]
["04863","ME","Y","remote",{"$f":"VLOOKUP(B1498,ceva_zone!A:B,2,FALSE)","v":"F"},{"$f":"VLOOKUP(B1498,ceva_zone!A:C,3,FALSE)","v":"B"}]
["04864","ME","Y","remote",{"$f":"VLOOKUP(B1499,ceva_zone!A:B,2,FALSE)","v":"F"},{"$f":"VLOOKUP(B1499,ceva_zone!A:C,3,FALSE)","v":"B"}]
["04865","ME","Y","remote",{"$f":"VLOOKUP(B1500,ceva_zone!A:B,2,FALSE)","v":"F"},{"$f":"VLOOKUP(B1500,ceva_zone!A:C,3,FALSE)","v":"B"}]
["04910","ME","Y","remote",{"$f":"VLOOKUP(B1501,ceva_zone!A:B,2,FALSE)","v":"F"},{"$f":"VLOOKUP(B1501,ceva_zone!A:C,3,FALSE)","v":"B"}]
["04911","ME","Y","remote",{"$f":"VLOOKUP(B1502,ceva_zone!A:B,2,FALSE)","v":"F"},{"$f":"VLOOKUP(B1502,ceva_zone!A:C,3,FALSE)","v":"B"}]
["04912","ME","Y","remote",{"$f":"VLOOKUP(B1503,ceva_zone!A:B,2,FALSE)","v":"F"},{"$f":"VLOOKUP(B1503,ceva_zone!A:C,3,FALSE)","v":"B"}]
["04915","ME","Y","remote",{"$f":"VLOOKUP(B1504,ceva_zone!A:B,2,FALSE)","v":"F"},{"$f":"VLOOKUP(B1504,ceva_zone!A:C,3,FALSE)","v":"B"}]
["04917","ME","Y","remote",{"$f":"VLOOKUP(B1505,ceva_zone!A:B,2,FALSE)","v":"F"},{"$f":"VLOOKUP(B1505,ceva_zone!A:C,3,FALSE)","v":"B"}]
["04918","ME","Y","remote",{"$f":"VLOOKUP(B1506,ceva_zone!A:B,2,FALSE)","v":"F"},{"$f":"VLOOKUP(B1506,ceva_zone!A:C,3,FALSE)","v":"B"}]
["04937","ME","Y","remote",{"$f":"VLOOKUP(B1507,ceva_zone!A:B,2,FALSE)","v":"F"},{"$f":"VLOOKUP(B1507,ceva_zone!A:C,3,FALSE)","v":"B"}]
["04920","ME","Y","remote",{"$f":"VLOOKUP(B1508,ceva_zone!A:B,2,FALSE)","v":"F"},{"$f":"VLOOKUP(B1508,ceva_zone!A:C,3,FALSE)","v":"B"}]
["04921","ME","Y","remote",{"$f":"VLOOKUP(B1509,ceva_zone!A:B,2,FALSE)","v":"F"},{"$f":"VLOOKUP(B1509,ceva_zone!A:C,3,FALSE)","v":"B"}]
["04922","ME","Y","remote",{"$f":"VLOOKUP(B1510,ceva_zone!A:B,2,FALSE)","v":"F"},{"$f":"VLOOKUP(B1510,ceva_zone!A:C,3,FALSE)","v":"B"}]
["04923","ME","Y","remote",{"$f":"VLOOKUP(B1511,ceva_zone!A:B,2,FALSE)","v":"F"},{"$f":"VLOOKUP(B1511,ceva_zone!A:C,3,FALSE)","v":"B"}]
["04924","ME","Y","remote",{"$f":"VLOOKUP(B1512,ceva_zone!A:B,2,FALSE)","v":"F"},{"$f":"VLOOKUP(B1512,ceva_zone!A:C,3,FALSE)","v":"B"}]
["04925","ME","Y","remote",{"$f":"VLOOKUP(B1513,ceva_zone!A:B,2,FALSE)","v":"F"},{"$f":"VLOOKUP(B1513,ceva_zone!A:C,3,FALSE)","v":"B"}]
["04926","ME","Y","remote",{"$f":"VLOOKUP(B1514,ceva_zone!A:B,2,FALSE)","v":"F"},{"$f":"VLOOKUP(B1514,ceva_zone!A:C,3,FALSE)","v":"B"}]
["04927","ME","Y","remote",{"$f":"VLOOKUP(B1515,ceva_zone!A:B,2,FALSE)","v":"F"},{"$f":"VLOOKUP(B1515,ceva_zone!A:C,3,FALSE)","v":"B"}]
["04928","ME","Y","remote",{"$f":"VLOOKUP(B1516,ceva_zone!A:B,2,FALSE)","v":"F"},{"$f":"VLOOKUP(B1516,ceva_zone!A:C,3,FALSE)","v":"B"}]
["04929","ME","Y","remote",{"$f":"VLOOKUP(B1517,ceva_zone!A:B,2,FALSE)","v":"F"},{"$f":"VLOOKUP(B1517,ceva_zone!A:C,3,FALSE)","v":"B"}]
["04930","ME","Y","remote",{"$f":"VLOOKUP(B1518,ceva_zone!A:B,2,FALSE)","v":"F"},{"$f":"VLOOKUP(B1518,ceva_zone!A:C,3,FALSE)","v":"B"}]
["04932","ME","Y","remote",{"$f":"VLOOKUP(B1519,ceva_zone!A:B,2,FALSE)","v":"F"},{"$f":"VLOOKUP(B1519,ceva_zone!A:C,3,FALSE)","v":"B"}]
["04933","ME","Y","remote",{"$f":"VLOOKUP(B1520,ceva_zone!A:B,2,FALSE)","v":"F"},{"$f":"VLOOKUP(B1520,ceva_zone!A:C,3,FALSE)","v":"B"}]
["04935","ME","Y","remote",{"$f":"VLOOKUP(B1521,ceva_zone!A:B,2,FALSE)","v":"F"},{"$f":"VLOOKUP(B1521,ceva_zone!A:C,3,FALSE)","v":"B"}]
["04936","ME","Y","remote",{"$f":"VLOOKUP(B1522,ceva_zone!A:B,2,FALSE)","v":"F"},{"$f":"VLOOKUP(B1522,ceva_zone!A:C,3,FALSE)","v":"B"}]
["04938","ME","Y","remote",{"$f":"VLOOKUP(B1523,ceva_zone!A:B,2,FALSE)","v":"F"},{"$f":"VLOOKUP(B1523,ceva_zone!A:C,3,FALSE)","v":"B"}]
["04940","ME","Y","remote",{"$f":"VLOOKUP(B1524,ceva_zone!A:B,2,FALSE)","v":"F"},{"$f":"VLOOKUP(B1524,ceva_zone!A:C,3,FALSE)","v":"B"}]
["04941","ME","Y","remote",{"$f":"VLOOKUP(B1525,ceva_zone!A:B,2,FALSE)","v":"F"},{"$f":"VLOOKUP(B1525,ceva_zone!A:C,3,FALSE)","v":"B"}]
["04939","ME","Y","remote",{"$f":"VLOOKUP(B1526,ceva_zone!A:B,2,FALSE)","v":"F"},{"$f":"VLOOKUP(B1526,ceva_zone!A:C,3,FALSE)","v":"B"}]
["04942","ME","Y","remote",{"$f":"VLOOKUP(B1527,ceva_zone!A:B,2,FALSE)","v":"F"},{"$f":"VLOOKUP(B1527,ceva_zone!A:C,3,FALSE)","v":"B"}]
["04943","ME","Y","remote",{"$f":"VLOOKUP(B1528,ceva_zone!A:B,2,FALSE)","v":"F"},{"$f":"VLOOKUP(B1528,ceva_zone!A:C,3,FALSE)","v":"B"}]
["04944","ME","Y","remote",{"$f":"VLOOKUP(B1529,ceva_zone!A:B,2,FALSE)","v":"F"},{"$f":"VLOOKUP(B1529,ceva_zone!A:C,3,FALSE)","v":"B"}]
["04945","ME","Y","remote",{"$f":"VLOOKUP(B1530,ceva_zone!A:B,2,FALSE)","v":"F"},{"$f":"VLOOKUP(B1530,ceva_zone!A:C,3,FALSE)","v":"B"}]
["04947","ME","Y","remote",{"$f":"VLOOKUP(B1531,ceva_zone!A:B,2,FALSE)","v":"F"},{"$f":"VLOOKUP(B1531,ceva_zone!A:C,3,FALSE)","v":"B"}]
["04949","ME","Y","remote",{"$f":"VLOOKUP(B1532,ceva_zone!A:B,2,FALSE)","v":"F"},{"$f":"VLOOKUP(B1532,ceva_zone!A:C,3,FALSE)","v":"B"}]
["04950","ME","Y","remote",{"$f":"VLOOKUP(B1533,ceva_zone!A:B,2,FALSE)","v":"F"},{"$f":"VLOOKUP(B1533,ceva_zone!A:C,3,FALSE)","v":"B"}]
["04951","ME","Y","remote",{"$f":"VLOOKUP(B1534,ceva_zone!A:B,2,FALSE)","v":"F"},{"$f":"VLOOKUP(B1534,ceva_zone!A:C,3,FALSE)","v":"B"}]
["04952","ME","Y","remote",{"$f":"VLOOKUP(B1535,ceva_zone!A:B,2,FALSE)","v":"F"},{"$f":"VLOOKUP(B1535,ceva_zone!A:C,3,FALSE)","v":"B"}]
["04954","ME","Y","remote",{"$f":"VLOOKUP(B1536,ceva_zone!A:B,2,FALSE)","v":"F"},{"$f":"VLOOKUP(B1536,ceva_zone!A:C,3,FALSE)","v":"B"}]
["04955","ME","Y","remote",{"$f":"VLOOKUP(B1537,ceva_zone!A:B,2,FALSE)","v":"F"},{"$f":"VLOOKUP(B1537,ceva_zone!A:C,3,FALSE)","v":"B"}]
["04956","ME","Y","remote",{"$f":"VLOOKUP(B1538,ceva_zone!A:B,2,FALSE)","v":"F"},{"$f":"VLOOKUP(B1538,ceva_zone!A:C,3,FALSE)","v":"B"}]
["04953","ME","Y","remote",{"$f":"VLOOKUP(B1539,ceva_zone!A:B,2,FALSE)","v":"F"},{"$f":"VLOOKUP(B1539,ceva_zone!A:C,3,FALSE)","v":"B"}]
["04957","ME","Y","remote",{"$f":"VLOOKUP(B1540,ceva_zone!A:B,2,FALSE)","v":"F"},{"$f":"VLOOKUP(B1540,ceva_zone!A:C,3,FALSE)","v":"B"}]
["04958","ME","Y","remote",{"$f":"VLOOKUP(B1541,ceva_zone!A:B,2,FALSE)","v":"F"},{"$f":"VLOOKUP(B1541,ceva_zone!A:C,3,FALSE)","v":"B"}]
["04961","ME","Y","remote",{"$f":"VLOOKUP(B1542,ceva_zone!A:B,2,FALSE)","v":"F"},{"$f":"VLOOKUP(B1542,ceva_zone!A:C,3,FALSE)","v":"B"}]
["04962","ME","Y","remote",{"$f":"VLOOKUP(B1543,ceva_zone!A:B,2,FALSE)","v":"F"},{"$f":"VLOOKUP(B1543,ceva_zone!A:C,3,FALSE)","v":"B"}]
["04963","ME","Y","remote",{"$f":"VLOOKUP(B1544,ceva_zone!A:B,2,FALSE)","v":"F"},{"$f":"VLOOKUP(B1544,ceva_zone!A:C,3,FALSE)","v":"B"}]
["04964","ME","Y","remote",{"$f":"VLOOKUP(B1545,ceva_zone!A:B,2,FALSE)","v":"F"},{"$f":"VLOOKUP(B1545,ceva_zone!A:C,3,FALSE)","v":"B"}]
["04965","ME","Y","remote",{"$f":"VLOOKUP(B1546,ceva_zone!A:B,2,FALSE)","v":"F"},{"$f":"VLOOKUP(B1546,ceva_zone!A:C,3,FALSE)","v":"B"}]
["04966","ME","Y","remote",{"$f":"VLOOKUP(B1547,ceva_zone!A:B,2,FALSE)","v":"F"},{"$f":"VLOOKUP(B1547,ceva_zone!A:C,3,FALSE)","v":"B"}]
["04967","ME","Y","remote",{"$f":"VLOOKUP(B1548,ceva_zone!A:B,2,FALSE)","v":"F"},{"$f":"VLOOKUP(B1548,ceva_zone!A:C,3,FALSE)","v":"B"}]
["04969","ME","Y","remote",{"$f":"VLOOKUP(B1549,ceva_zone!A:B,2,FALSE)","v":"F"},{"$f":"VLOOKUP(B1549,ceva_zone!A:C,3,FALSE)","v":"B"}]
["04970","ME","Y","remote",{"$f":"VLOOKUP(B1550,ceva_zone!A:B,2,FALSE)","v":"F"},{"$f":"VLOOKUP(B1550,ceva_zone!A:C,3,FALSE)","v":"B"}]
["04971","ME","Y","remote",{"$f":"VLOOKUP(B1551,ceva_zone!A:B,2,FALSE)","v":"F"},{"$f":"VLOOKUP(B1551,ceva_zone!A:C,3,FALSE)","v":"B"}]
["04972","ME","Y","remote",{"$f":"VLOOKUP(B1552,ceva_zone!A:B,2,FALSE)","v":"F"},{"$f":"VLOOKUP(B1552,ceva_zone!A:C,3,FALSE)","v":"B"}]
["04973","ME","Y","remote",{"$f":"VLOOKUP(B1553,ceva_zone!A:B,2,FALSE)","v":"F"},{"$f":"VLOOKUP(B1553,ceva_zone!A:C,3,FALSE)","v":"B"}]
["04974","ME","Y","remote",{"$f":"VLOOKUP(B1554,ceva_zone!A:B,2,FALSE)","v":"F"},{"$f":"VLOOKUP(B1554,ceva_zone!A:C,3,FALSE)","v":"B"}]
["04975","ME","Y","remote",{"$f":"VLOOKUP(B1555,ceva_zone!A:B,2,FALSE)","v":"F"},{"$f":"VLOOKUP(B1555,ceva_zone!A:C,3,FALSE)","v":"B"}]
["04976","ME","Y","remote",{"$f":"VLOOKUP(B1556,ceva_zone!A:B,2,FALSE)","v":"F"},{"$f":"VLOOKUP(B1556,ceva_zone!A:C,3,FALSE)","v":"B"}]
["04978","ME","Y","remote",{"$f":"VLOOKUP(B1557,ceva_zone!A:B,2,FALSE)","v":"F"},{"$f":"VLOOKUP(B1557,ceva_zone!A:C,3,FALSE)","v":"B"}]
["04979","ME","Y","remote",{"$f":"VLOOKUP(B1558,ceva_zone!A:B,2,FALSE)","v":"F"},{"$f":"VLOOKUP(B1558,ceva_zone!A:C,3,FALSE)","v":"B"}]
["04981","ME","Y","remote",{"$f":"VLOOKUP(B1559,ceva_zone!A:B,2,FALSE)","v":"F"},{"$f":"VLOOKUP(B1559,ceva_zone!A:C,3,FALSE)","v":"B"}]
["04982","ME","Y","remote",{"$f":"VLOOKUP(B1560,ceva_zone!A:B,2,FALSE)","v":"F"},{"$f":"VLOOKUP(B1560,ceva_zone!A:C,3,FALSE)","v":"B"}]
["04983","ME","Y","remote",{"$f":"VLOOKUP(B1561,ceva_zone!A:B,2,FALSE)","v":"F"},{"$f":"VLOOKUP(B1561,ceva_zone!A:C,3,FALSE)","v":"B"}]
["04984","ME","Y","remote",{"$f":"VLOOKUP(B1562,ceva_zone!A:B,2,FALSE)","v":"F"},{"$f":"VLOOKUP(B1562,ceva_zone!A:C,3,FALSE)","v":"B"}]
["04986","ME","Y","remote",{"$f":"VLOOKUP(B1563,ceva_zone!A:B,2,FALSE)","v":"F"},{"$f":"VLOOKUP(B1563,ceva_zone!A:C,3,FALSE)","v":"B"}]
["04987","ME","Y","remote",{"$f":"VLOOKUP(B1564,ceva_zone!A:B,2,FALSE)","v":"F"},{"$f":"VLOOKUP(B1564,ceva_zone!A:C,3,FALSE)","v":"B"}]
["04988","ME","Y","remote",{"$f":"VLOOKUP(B1565,ceva_zone!A:B,2,FALSE)","v":"F"},{"$f":"VLOOKUP(B1565,ceva_zone!A:C,3,FALSE)","v":"B"}]
["04989","ME","Y","remote",{"$f":"VLOOKUP(B1566,ceva_zone!A:B,2,FALSE)","v":"F"},{"$f":"VLOOKUP(B1566,ceva_zone!A:C,3,FALSE)","v":"B"}]
["04901","ME","Y","remote",{"$f":"VLOOKUP(B1567,ceva_zone!A:B,2,FALSE)","v":"F"},{"$f":"VLOOKUP(B1567,ceva_zone!A:C,3,FALSE)","v":"B"}]
["04903","ME","Y","remote",{"$f":"VLOOKUP(B1568,ceva_zone!A:B,2,FALSE)","v":"F"},{"$f":"VLOOKUP(B1568,ceva_zone!A:C,3,FALSE)","v":"B"}]
["04992","ME","Y","remote",{"$f":"VLOOKUP(B1569,ceva_zone!A:B,2,FALSE)","v":"F"},{"$f":"VLOOKUP(B1569,ceva_zone!A:C,3,FALSE)","v":"B"}]
["04985","ME","Y","remote",{"$f":"VLOOKUP(B1570,ceva_zone!A:B,2,FALSE)","v":"F"},{"$f":"VLOOKUP(B1570,ceva_zone!A:C,3,FALSE)","v":"B"}]
["05030","VT","Y","remote",{"$f":"VLOOKUP(B1571,ceva_zone!A:B,2,FALSE)","v":"F"},{"$f":"VLOOKUP(B1571,ceva_zone!A:C,3,FALSE)","v":"B"}]
["05031","VT","Y","remote",{"$f":"VLOOKUP(B1572,ceva_zone!A:B,2,FALSE)","v":"F"},{"$f":"VLOOKUP(B1572,ceva_zone!A:C,3,FALSE)","v":"B"}]
["05083","VT","Y","remote",{"$f":"VLOOKUP(B1573,ceva_zone!A:B,2,FALSE)","v":"F"},{"$f":"VLOOKUP(B1573,ceva_zone!A:C,3,FALSE)","v":"B"}]
["05060","VT","Y","remote",{"$f":"VLOOKUP(B1574,ceva_zone!A:B,2,FALSE)","v":"F"},{"$f":"VLOOKUP(B1574,ceva_zone!A:C,3,FALSE)","v":"B"}]
["05032","VT","Y","remote",{"$f":"VLOOKUP(B1575,ceva_zone!A:B,2,FALSE)","v":"F"},{"$f":"VLOOKUP(B1575,ceva_zone!A:C,3,FALSE)","v":"B"}]
["05081","VT","Y","remote",{"$f":"VLOOKUP(B1576,ceva_zone!A:B,2,FALSE)","v":"F"},{"$f":"VLOOKUP(B1576,ceva_zone!A:C,3,FALSE)","v":"B"}]
["05033","VT","Y","remote",{"$f":"VLOOKUP(B1577,ceva_zone!A:B,2,FALSE)","v":"F"},{"$f":"VLOOKUP(B1577,ceva_zone!A:C,3,FALSE)","v":"B"}]
["05055","VT","Y","remote",{"$f":"VLOOKUP(B1578,ceva_zone!A:B,2,FALSE)","v":"F"},{"$f":"VLOOKUP(B1578,ceva_zone!A:C,3,FALSE)","v":"B"}]
["05035","VT","Y","remote",{"$f":"VLOOKUP(B1579,ceva_zone!A:B,2,FALSE)","v":"F"},{"$f":"VLOOKUP(B1579,ceva_zone!A:C,3,FALSE)","v":"B"}]
["05034","VT","Y","remote",{"$f":"VLOOKUP(B1580,ceva_zone!A:B,2,FALSE)","v":"F"},{"$f":"VLOOKUP(B1580,ceva_zone!A:C,3,FALSE)","v":"B"}]
["05036","VT","Y","remote",{"$f":"VLOOKUP(B1581,ceva_zone!A:B,2,FALSE)","v":"F"},{"$f":"VLOOKUP(B1581,ceva_zone!A:C,3,FALSE)","v":"B"}]
["05037","VT","Y","remote",{"$f":"VLOOKUP(B1582,ceva_zone!A:B,2,FALSE)","v":"F"},{"$f":"VLOOKUP(B1582,ceva_zone!A:C,3,FALSE)","v":"B"}]
["05038","VT","Y","remote",{"$f":"VLOOKUP(B1583,ceva_zone!A:B,2,FALSE)","v":"F"},{"$f":"VLOOKUP(B1583,ceva_zone!A:C,3,FALSE)","v":"B"}]
["05039","VT","Y","remote",{"$f":"VLOOKUP(B1584,ceva_zone!A:B,2,FALSE)","v":"F"},{"$f":"VLOOKUP(B1584,ceva_zone!A:C,3,FALSE)","v":"B"}]
["05079","VT","Y","remote",{"$f":"VLOOKUP(B1585,ceva_zone!A:B,2,FALSE)","v":"F"},{"$f":"VLOOKUP(B1585,ceva_zone!A:C,3,FALSE)","v":"B"}]
["05068","VT","Y","remote",{"$f":"VLOOKUP(B1586,ceva_zone!A:B,2,FALSE)","v":"F"},{"$f":"VLOOKUP(B1586,ceva_zone!A:C,3,FALSE)","v":"B"}]
["05041","VT","Y","remote",{"$f":"VLOOKUP(B1587,ceva_zone!A:B,2,FALSE)","v":"F"},{"$f":"VLOOKUP(B1587,ceva_zone!A:C,3,FALSE)","v":"B"}]
["05076","VT","Y","remote",{"$f":"VLOOKUP(B1588,ceva_zone!A:B,2,FALSE)","v":"F"},{"$f":"VLOOKUP(B1588,ceva_zone!A:C,3,FALSE)","v":"B"}]
["05040","VT","Y","remote",{"$f":"VLOOKUP(B1589,ceva_zone!A:B,2,FALSE)","v":"F"},{"$f":"VLOOKUP(B1589,ceva_zone!A:C,3,FALSE)","v":"B"}]
["05086","VT","Y","remote",{"$f":"VLOOKUP(B1590,ceva_zone!A:B,2,FALSE)","v":"F"},{"$f":"VLOOKUP(B1590,ceva_zone!A:C,3,FALSE)","v":"B"}]
["05042","VT","Y","remote",{"$f":"VLOOKUP(B1591,ceva_zone!A:B,2,FALSE)","v":"F"},{"$f":"VLOOKUP(B1591,ceva_zone!A:C,3,FALSE)","v":"B"}]
["05043","VT","Y","remote",{"$f":"VLOOKUP(B1592,ceva_zone!A:B,2,FALSE)","v":"F"},{"$f":"VLOOKUP(B1592,ceva_zone!A:C,3,FALSE)","v":"B"}]
["05045","VT","Y","remote",{"$f":"VLOOKUP(B1593,ceva_zone!A:B,2,FALSE)","v":"F"},{"$f":"VLOOKUP(B1593,ceva_zone!A:C,3,FALSE)","v":"B"}]
["05089","VT","Y","remote",{"$f":"VLOOKUP(B1594,ceva_zone!A:B,2,FALSE)","v":"F"},{"$f":"VLOOKUP(B1594,ceva_zone!A:C,3,FALSE)","v":"B"}]
["05046","VT","Y","remote",{"$f":"VLOOKUP(B1595,ceva_zone!A:B,2,FALSE)","v":"F"},{"$f":"VLOOKUP(B1595,ceva_zone!A:C,3,FALSE)","v":"B"}]
["05062","VT","Y","remote",{"$f":"VLOOKUP(B1596,ceva_zone!A:B,2,FALSE)","v":"F"},{"$f":"VLOOKUP(B1596,ceva_zone!A:C,3,FALSE)","v":"B"}]
["05047","VT","Y","remote",{"$f":"VLOOKUP(B1597,ceva_zone!A:B,2,FALSE)","v":"F"},{"$f":"VLOOKUP(B1597,ceva_zone!A:C,3,FALSE)","v":"B"}]
["05048","VT","Y","remote",{"$f":"VLOOKUP(B1598,ceva_zone!A:B,2,FALSE)","v":"F"},{"$f":"VLOOKUP(B1598,ceva_zone!A:C,3,FALSE)","v":"B"}]
["05049","VT","Y","remote",{"$f":"VLOOKUP(B1599,ceva_zone!A:B,2,FALSE)","v":"F"},{"$f":"VLOOKUP(B1599,ceva_zone!A:C,3,FALSE)","v":"B"}]
["05053","VT","Y","remote",{"$f":"VLOOKUP(B1600,ceva_zone!A:B,2,FALSE)","v":"F"},{"$f":"VLOOKUP(B1600,ceva_zone!A:C,3,FALSE)","v":"B"}]
["05001","VT","Y","remote",{"$f":"VLOOKUP(B1601,ceva_zone!A:B,2,FALSE)","v":"F"},{"$f":"VLOOKUP(B1601,ceva_zone!A:C,3,FALSE)","v":"B"}]
["05050","VT","Y","remote",{"$f":"VLOOKUP(B1602,ceva_zone!A:B,2,FALSE)","v":"F"},{"$f":"VLOOKUP(B1602,ceva_zone!A:C,3,FALSE)","v":"B"}]
["05052","VT","Y","remote",{"$f":"VLOOKUP(B1603,ceva_zone!A:B,2,FALSE)","v":"F"},{"$f":"VLOOKUP(B1603,ceva_zone!A:C,3,FALSE)","v":"B"}]
["05054","VT","Y","remote",{"$f":"VLOOKUP(B1604,ceva_zone!A:B,2,FALSE)","v":"F"},{"$f":"VLOOKUP(B1604,ceva_zone!A:C,3,FALSE)","v":"B"}]
["05051","VT","Y","remote",{"$f":"VLOOKUP(B1605,ceva_zone!A:B,2,FALSE)","v":"F"},{"$f":"VLOOKUP(B1605,ceva_zone!A:C,3,FALSE)","v":"B"}]
["05069","VT","Y","remote",{"$f":"VLOOKUP(B1606,ceva_zone!A:B,2,FALSE)","v":"F"},{"$f":"VLOOKUP(B1606,ceva_zone!A:C,3,FALSE)","v":"B"}]
["05077","VT","Y","remote",{"$f":"VLOOKUP(B1607,ceva_zone!A:B,2,FALSE)","v":"F"},{"$f":"VLOOKUP(B1607,ceva_zone!A:C,3,FALSE)","v":"B"}]
["05072","VT","Y","remote",{"$f":"VLOOKUP(B1608,ceva_zone!A:B,2,FALSE)","v":"F"},{"$f":"VLOOKUP(B1608,ceva_zone!A:C,3,FALSE)","v":"B"}]
["05085","VT","Y","remote",{"$f":"VLOOKUP(B1609,ceva_zone!A:B,2,FALSE)","v":"F"},{"$f":"VLOOKUP(B1609,ceva_zone!A:C,3,FALSE)","v":"B"}]
["05056","VT","Y","remote",{"$f":"VLOOKUP(B1610,ceva_zone!A:B,2,FALSE)","v":"F"},{"$f":"VLOOKUP(B1610,ceva_zone!A:C,3,FALSE)","v":"B"}]
["05058","VT","Y","remote",{"$f":"VLOOKUP(B1611,ceva_zone!A:B,2,FALSE)","v":"F"},{"$f":"VLOOKUP(B1611,ceva_zone!A:C,3,FALSE)","v":"B"}]
["05091","VT","Y","remote",{"$f":"VLOOKUP(B1612,ceva_zone!A:B,2,FALSE)","v":"F"},{"$f":"VLOOKUP(B1612,ceva_zone!A:C,3,FALSE)","v":"B"}]
["05059","VT","Y","remote",{"$f":"VLOOKUP(B1613,ceva_zone!A:B,2,FALSE)","v":"F"},{"$f":"VLOOKUP(B1613,ceva_zone!A:C,3,FALSE)","v":"B"}]
["05061","VT","Y","remote",{"$f":"VLOOKUP(B1614,ceva_zone!A:B,2,FALSE)","v":"F"},{"$f":"VLOOKUP(B1614,ceva_zone!A:C,3,FALSE)","v":"B"}]
["05075","VT","Y","remote",{"$f":"VLOOKUP(B1615,ceva_zone!A:B,2,FALSE)","v":"F"},{"$f":"VLOOKUP(B1615,ceva_zone!A:C,3,FALSE)","v":"B"}]
["05070","VT","Y","remote",{"$f":"VLOOKUP(B1616,ceva_zone!A:B,2,FALSE)","v":"F"},{"$f":"VLOOKUP(B1616,ceva_zone!A:C,3,FALSE)","v":"B"}]
["05071","VT","Y","remote",{"$f":"VLOOKUP(B1617,ceva_zone!A:B,2,FALSE)","v":"F"},{"$f":"VLOOKUP(B1617,ceva_zone!A:C,3,FALSE)","v":"B"}]
["05065","VT","Y","remote",{"$f":"VLOOKUP(B1618,ceva_zone!A:B,2,FALSE)","v":"F"},{"$f":"VLOOKUP(B1618,ceva_zone!A:C,3,FALSE)","v":"B"}]
["05067","VT","Y","remote",{"$f":"VLOOKUP(B1619,ceva_zone!A:B,2,FALSE)","v":"F"},{"$f":"VLOOKUP(B1619,ceva_zone!A:C,3,FALSE)","v":"B"}]
["05073","VT","Y","remote",{"$f":"VLOOKUP(B1620,ceva_zone!A:B,2,FALSE)","v":"F"},{"$f":"VLOOKUP(B1620,ceva_zone!A:C,3,FALSE)","v":"B"}]
["05074","VT","Y","remote",{"$f":"VLOOKUP(B1621,ceva_zone!A:B,2,FALSE)","v":"F"},{"$f":"VLOOKUP(B1621,ceva_zone!A:C,3,FALSE)","v":"B"}]
["05084","VT","Y","remote",{"$f":"VLOOKUP(B1622,ceva_zone!A:B,2,FALSE)","v":"F"},{"$f":"VLOOKUP(B1622,ceva_zone!A:C,3,FALSE)","v":"B"}]
["05009","VT","Y","remote",{"$f":"VLOOKUP(B1623,ceva_zone!A:B,2,FALSE)","v":"F"},{"$f":"VLOOKUP(B1623,ceva_zone!A:C,3,FALSE)","v":"B"}]
["05088","VT","Y","remote",{"$f":"VLOOKUP(B1624,ceva_zone!A:B,2,FALSE)","v":"F"},{"$f":"VLOOKUP(B1624,ceva_zone!A:C,3,FALSE)","v":"B"}]
["05151","VT","Y","remote",{"$f":"VLOOKUP(B1625,ceva_zone!A:B,2,FALSE)","v":"F"},{"$f":"VLOOKUP(B1625,ceva_zone!A:C,3,FALSE)","v":"B"}]
["05143","VT","Y","remote",{"$f":"VLOOKUP(B1626,ceva_zone!A:B,2,FALSE)","v":"F"},{"$f":"VLOOKUP(B1626,ceva_zone!A:C,3,FALSE)","v":"B"}]
["05144","VT","Y","remote",{"$f":"VLOOKUP(B1627,ceva_zone!A:B,2,FALSE)","v":"F"},{"$f":"VLOOKUP(B1627,ceva_zone!A:C,3,FALSE)","v":"B"}]
["05101","VT","Y","remote",{"$f":"VLOOKUP(B1628,ceva_zone!A:B,2,FALSE)","v":"F"},{"$f":"VLOOKUP(B1628,ceva_zone!A:C,3,FALSE)","v":"B"}]
["05148","VT","Y","remote",{"$f":"VLOOKUP(B1629,ceva_zone!A:B,2,FALSE)","v":"F"},{"$f":"VLOOKUP(B1629,ceva_zone!A:C,3,FALSE)","v":"B"}]
["05141","VT","Y","remote",{"$f":"VLOOKUP(B1630,ceva_zone!A:B,2,FALSE)","v":"F"},{"$f":"VLOOKUP(B1630,ceva_zone!A:C,3,FALSE)","v":"B"}]
["05142","VT","Y","remote",{"$f":"VLOOKUP(B1631,ceva_zone!A:B,2,FALSE)","v":"F"},{"$f":"VLOOKUP(B1631,ceva_zone!A:C,3,FALSE)","v":"B"}]
["05156","VT","Y","remote",{"$f":"VLOOKUP(B1632,ceva_zone!A:B,2,FALSE)","v":"F"},{"$f":"VLOOKUP(B1632,ceva_zone!A:C,3,FALSE)","v":"B"}]
["05146","VT","Y","remote",{"$f":"VLOOKUP(B1633,ceva_zone!A:B,2,FALSE)","v":"F"},{"$f":"VLOOKUP(B1633,ceva_zone!A:C,3,FALSE)","v":"B"}]
["05149","VT","Y","remote",{"$f":"VLOOKUP(B1634,ceva_zone!A:B,2,FALSE)","v":"F"},{"$f":"VLOOKUP(B1634,ceva_zone!A:C,3,FALSE)","v":"B"}]
["05159","VT","Y","remote",{"$f":"VLOOKUP(B1635,ceva_zone!A:B,2,FALSE)","v":"F"},{"$f":"VLOOKUP(B1635,ceva_zone!A:C,3,FALSE)","v":"B"}]
["05150","VT","Y","remote",{"$f":"VLOOKUP(B1636,ceva_zone!A:B,2,FALSE)","v":"F"},{"$f":"VLOOKUP(B1636,ceva_zone!A:C,3,FALSE)","v":"B"}]
["05152","VT","Y","remote",{"$f":"VLOOKUP(B1637,ceva_zone!A:B,2,FALSE)","v":"F"},{"$f":"VLOOKUP(B1637,ceva_zone!A:C,3,FALSE)","v":"B"}]
["05153","VT","Y","remote",{"$f":"VLOOKUP(B1638,ceva_zone!A:B,2,FALSE)","v":"F"},{"$f":"VLOOKUP(B1638,ceva_zone!A:C,3,FALSE)","v":"B"}]
["05155","VT","Y","remote",{"$f":"VLOOKUP(B1639,ceva_zone!A:B,2,FALSE)","v":"F"},{"$f":"VLOOKUP(B1639,ceva_zone!A:C,3,FALSE)","v":"B"}]
["05154","VT","Y","remote",{"$f":"VLOOKUP(B1640,ceva_zone!A:B,2,FALSE)","v":"F"},{"$f":"VLOOKUP(B1640,ceva_zone!A:C,3,FALSE)","v":"B"}]
["05161","VT","Y","remote",{"$f":"VLOOKUP(B1641,ceva_zone!A:B,2,FALSE)","v":"F"},{"$f":"VLOOKUP(B1641,ceva_zone!A:C,3,FALSE)","v":"B"}]
["05158","VT","Y","remote",{"$f":"VLOOKUP(B1642,ceva_zone!A:B,2,FALSE)","v":"F"},{"$f":"VLOOKUP(B1642,ceva_zone!A:C,3,FALSE)","v":"B"}]
["05201","VT","Y","remote",{"$f":"VLOOKUP(B1643,ceva_zone!A:B,2,FALSE)","v":"F"},{"$f":"VLOOKUP(B1643,ceva_zone!A:C,3,FALSE)","v":"B"}]
["05250","VT","Y","remote",{"$f":"VLOOKUP(B1644,ceva_zone!A:B,2,FALSE)","v":"F"},{"$f":"VLOOKUP(B1644,ceva_zone!A:C,3,FALSE)","v":"B"}]
["05257","VT","Y","remote",{"$f":"VLOOKUP(B1645,ceva_zone!A:B,2,FALSE)","v":"F"},{"$f":"VLOOKUP(B1645,ceva_zone!A:C,3,FALSE)","v":"B"}]
["05255","VT","Y","remote",{"$f":"VLOOKUP(B1646,ceva_zone!A:B,2,FALSE)","v":"F"},{"$f":"VLOOKUP(B1646,ceva_zone!A:C,3,FALSE)","v":"B"}]
["05254","VT","Y","remote",{"$f":"VLOOKUP(B1647,ceva_zone!A:B,2,FALSE)","v":"F"},{"$f":"VLOOKUP(B1647,ceva_zone!A:C,3,FALSE)","v":"B"}]
["05252","VT","Y","remote",{"$f":"VLOOKUP(B1648,ceva_zone!A:B,2,FALSE)","v":"F"},{"$f":"VLOOKUP(B1648,ceva_zone!A:C,3,FALSE)","v":"B"}]
["05251","VT","Y","remote",{"$f":"VLOOKUP(B1649,ceva_zone!A:B,2,FALSE)","v":"F"},{"$f":"VLOOKUP(B1649,ceva_zone!A:C,3,FALSE)","v":"B"}]
["05253","VT","Y","remote",{"$f":"VLOOKUP(B1650,ceva_zone!A:B,2,FALSE)","v":"F"},{"$f":"VLOOKUP(B1650,ceva_zone!A:C,3,FALSE)","v":"B"}]
["05260","VT","Y","remote",{"$f":"VLOOKUP(B1651,ceva_zone!A:B,2,FALSE)","v":"F"},{"$f":"VLOOKUP(B1651,ceva_zone!A:C,3,FALSE)","v":"B"}]
["05262","VT","Y","remote",{"$f":"VLOOKUP(B1652,ceva_zone!A:B,2,FALSE)","v":"F"},{"$f":"VLOOKUP(B1652,ceva_zone!A:C,3,FALSE)","v":"B"}]
["05261","VT","Y","remote",{"$f":"VLOOKUP(B1653,ceva_zone!A:B,2,FALSE)","v":"F"},{"$f":"VLOOKUP(B1653,ceva_zone!A:C,3,FALSE)","v":"B"}]
["05344","VT","Y","remote",{"$f":"VLOOKUP(B1654,ceva_zone!A:B,2,FALSE)","v":"F"},{"$f":"VLOOKUP(B1654,ceva_zone!A:C,3,FALSE)","v":"B"}]
["05302","VT","Y","remote",{"$f":"VLOOKUP(B1655,ceva_zone!A:B,2,FALSE)","v":"F"},{"$f":"VLOOKUP(B1655,ceva_zone!A:C,3,FALSE)","v":"B"}]
["05340","VT","Y","remote",{"$f":"VLOOKUP(B1656,ceva_zone!A:B,2,FALSE)","v":"F"},{"$f":"VLOOKUP(B1656,ceva_zone!A:C,3,FALSE)","v":"B"}]
["05303","VT","Y","remote",{"$f":"VLOOKUP(B1657,ceva_zone!A:B,2,FALSE)","v":"F"},{"$f":"VLOOKUP(B1657,ceva_zone!A:C,3,FALSE)","v":"B"}]
["05304","VT","Y","remote",{"$f":"VLOOKUP(B1658,ceva_zone!A:B,2,FALSE)","v":"F"},{"$f":"VLOOKUP(B1658,ceva_zone!A:C,3,FALSE)","v":"B"}]
["05301","VT","Y","remote",{"$f":"VLOOKUP(B1659,ceva_zone!A:B,2,FALSE)","v":"F"},{"$f":"VLOOKUP(B1659,ceva_zone!A:C,3,FALSE)","v":"B"}]
["05345","VT","Y","remote",{"$f":"VLOOKUP(B1660,ceva_zone!A:B,2,FALSE)","v":"F"},{"$f":"VLOOKUP(B1660,ceva_zone!A:C,3,FALSE)","v":"B"}]
["05341","VT","Y","remote",{"$f":"VLOOKUP(B1661,ceva_zone!A:B,2,FALSE)","v":"F"},{"$f":"VLOOKUP(B1661,ceva_zone!A:C,3,FALSE)","v":"B"}]
["05346","VT","Y","remote",{"$f":"VLOOKUP(B1662,ceva_zone!A:B,2,FALSE)","v":"F"},{"$f":"VLOOKUP(B1662,ceva_zone!A:C,3,FALSE)","v":"B"}]
["05343","VT","Y","remote",{"$f":"VLOOKUP(B1663,ceva_zone!A:B,2,FALSE)","v":"F"},{"$f":"VLOOKUP(B1663,ceva_zone!A:C,3,FALSE)","v":"B"}]
["05358","VT","Y","remote",{"$f":"VLOOKUP(B1664,ceva_zone!A:B,2,FALSE)","v":"F"},{"$f":"VLOOKUP(B1664,ceva_zone!A:C,3,FALSE)","v":"B"}]
["05353","VT","Y","remote",{"$f":"VLOOKUP(B1665,ceva_zone!A:B,2,FALSE)","v":"F"},{"$f":"VLOOKUP(B1665,ceva_zone!A:C,3,FALSE)","v":"B"}]
["05350","VT","Y","remote",{"$f":"VLOOKUP(B1666,ceva_zone!A:B,2,FALSE)","v":"F"},{"$f":"VLOOKUP(B1666,ceva_zone!A:C,3,FALSE)","v":"B"}]
["05342","VT","Y","remote",{"$f":"VLOOKUP(B1667,ceva_zone!A:B,2,FALSE)","v":"F"},{"$f":"VLOOKUP(B1667,ceva_zone!A:C,3,FALSE)","v":"B"}]
["05363","VT","Y","remote",{"$f":"VLOOKUP(B1668,ceva_zone!A:B,2,FALSE)","v":"F"},{"$f":"VLOOKUP(B1668,ceva_zone!A:C,3,FALSE)","v":"B"}]
["05356","VT","Y","remote",{"$f":"VLOOKUP(B1669,ceva_zone!A:B,2,FALSE)","v":"F"},{"$f":"VLOOKUP(B1669,ceva_zone!A:C,3,FALSE)","v":"B"}]
["05352","VT","Y","remote",{"$f":"VLOOKUP(B1670,ceva_zone!A:B,2,FALSE)","v":"F"},{"$f":"VLOOKUP(B1670,ceva_zone!A:C,3,FALSE)","v":"B"}]
["05351","VT","Y","remote",{"$f":"VLOOKUP(B1671,ceva_zone!A:B,2,FALSE)","v":"F"},{"$f":"VLOOKUP(B1671,ceva_zone!A:C,3,FALSE)","v":"B"}]
["05355","VT","Y","remote",{"$f":"VLOOKUP(B1672,ceva_zone!A:B,2,FALSE)","v":"F"},{"$f":"VLOOKUP(B1672,ceva_zone!A:C,3,FALSE)","v":"B"}]
["05359","VT","Y","remote",{"$f":"VLOOKUP(B1673,ceva_zone!A:B,2,FALSE)","v":"F"},{"$f":"VLOOKUP(B1673,ceva_zone!A:C,3,FALSE)","v":"B"}]
["05360","VT","Y","remote",{"$f":"VLOOKUP(B1674,ceva_zone!A:B,2,FALSE)","v":"F"},{"$f":"VLOOKUP(B1674,ceva_zone!A:C,3,FALSE)","v":"B"}]
["05354","VT","Y","remote",{"$f":"VLOOKUP(B1675,ceva_zone!A:B,2,FALSE)","v":"F"},{"$f":"VLOOKUP(B1675,ceva_zone!A:C,3,FALSE)","v":"B"}]
["05357","VT","Y","remote",{"$f":"VLOOKUP(B1676,ceva_zone!A:B,2,FALSE)","v":"F"},{"$f":"VLOOKUP(B1676,ceva_zone!A:C,3,FALSE)","v":"B"}]
["05361","VT","Y","remote",{"$f":"VLOOKUP(B1677,ceva_zone!A:B,2,FALSE)","v":"F"},{"$f":"VLOOKUP(B1677,ceva_zone!A:C,3,FALSE)","v":"B"}]
["05362","VT","Y","remote",{"$f":"VLOOKUP(B1678,ceva_zone!A:B,2,FALSE)","v":"F"},{"$f":"VLOOKUP(B1678,ceva_zone!A:C,3,FALSE)","v":"B"}]
["05474","VT","Y","remote",{"$f":"VLOOKUP(B1679,ceva_zone!A:B,2,FALSE)","v":"F"},{"$f":"VLOOKUP(B1679,ceva_zone!A:C,3,FALSE)","v":"B"}]
["05458","VT","Y","remote",{"$f":"VLOOKUP(B1680,ceva_zone!A:B,2,FALSE)","v":"F"},{"$f":"VLOOKUP(B1680,ceva_zone!A:C,3,FALSE)","v":"B"}]
["05491","VT","Y","remote",{"$f":"VLOOKUP(B1681,ceva_zone!A:B,2,FALSE)","v":"F"},{"$f":"VLOOKUP(B1681,ceva_zone!A:C,3,FALSE)","v":"B"}]
["05440","VT","Y","remote",{"$f":"VLOOKUP(B1682,ceva_zone!A:B,2,FALSE)","v":"F"},{"$f":"VLOOKUP(B1682,ceva_zone!A:C,3,FALSE)","v":"B"}]
["05471","VT","Y","remote",{"$f":"VLOOKUP(B1683,ceva_zone!A:B,2,FALSE)","v":"F"},{"$f":"VLOOKUP(B1683,ceva_zone!A:C,3,FALSE)","v":"B"}]
["05468","VT","Y","remote",{"$f":"VLOOKUP(B1684,ceva_zone!A:B,2,FALSE)","v":"F"},{"$f":"VLOOKUP(B1684,ceva_zone!A:C,3,FALSE)","v":"B"}]
["05441","VT","Y","remote",{"$f":"VLOOKUP(B1685,ceva_zone!A:B,2,FALSE)","v":"F"},{"$f":"VLOOKUP(B1685,ceva_zone!A:C,3,FALSE)","v":"B"}]
["05472","VT","Y","remote",{"$f":"VLOOKUP(B1686,ceva_zone!A:B,2,FALSE)","v":"F"},{"$f":"VLOOKUP(B1686,ceva_zone!A:C,3,FALSE)","v":"B"}]
["05459","VT","Y","remote",{"$f":"VLOOKUP(B1687,ceva_zone!A:B,2,FALSE)","v":"F"},{"$f":"VLOOKUP(B1687,ceva_zone!A:C,3,FALSE)","v":"B"}]
["05478","VT","Y","remote",{"$f":"VLOOKUP(B1688,ceva_zone!A:B,2,FALSE)","v":"F"},{"$f":"VLOOKUP(B1688,ceva_zone!A:C,3,FALSE)","v":"B"}]
["05442","VT","Y","remote",{"$f":"VLOOKUP(B1689,ceva_zone!A:B,2,FALSE)","v":"F"},{"$f":"VLOOKUP(B1689,ceva_zone!A:C,3,FALSE)","v":"B"}]
["05464","VT","Y","remote",{"$f":"VLOOKUP(B1690,ceva_zone!A:B,2,FALSE)","v":"F"},{"$f":"VLOOKUP(B1690,ceva_zone!A:C,3,FALSE)","v":"B"}]
["05492","VT","Y","remote",{"$f":"VLOOKUP(B1691,ceva_zone!A:B,2,FALSE)","v":"F"},{"$f":"VLOOKUP(B1691,ceva_zone!A:C,3,FALSE)","v":"B"}]
["05447","VT","Y","remote",{"$f":"VLOOKUP(B1692,ceva_zone!A:B,2,FALSE)","v":"F"},{"$f":"VLOOKUP(B1692,ceva_zone!A:C,3,FALSE)","v":"B"}]
["05476","VT","Y","remote",{"$f":"VLOOKUP(B1693,ceva_zone!A:B,2,FALSE)","v":"F"},{"$f":"VLOOKUP(B1693,ceva_zone!A:C,3,FALSE)","v":"B"}]
["05450","VT","Y","remote",{"$f":"VLOOKUP(B1694,ceva_zone!A:B,2,FALSE)","v":"F"},{"$f":"VLOOKUP(B1694,ceva_zone!A:C,3,FALSE)","v":"B"}]
["05444","VT","Y","remote",{"$f":"VLOOKUP(B1695,ceva_zone!A:B,2,FALSE)","v":"F"},{"$f":"VLOOKUP(B1695,ceva_zone!A:C,3,FALSE)","v":"B"}]
["05477","VT","Y","remote",{"$f":"VLOOKUP(B1696,ceva_zone!A:B,2,FALSE)","v":"F"},{"$f":"VLOOKUP(B1696,ceva_zone!A:C,3,FALSE)","v":"B"}]
["05443","VT","Y","remote",{"$f":"VLOOKUP(B1697,ceva_zone!A:B,2,FALSE)","v":"F"},{"$f":"VLOOKUP(B1697,ceva_zone!A:C,3,FALSE)","v":"B"}]
["05494","VT","Y","remote",{"$f":"VLOOKUP(B1698,ceva_zone!A:B,2,FALSE)","v":"F"},{"$f":"VLOOKUP(B1698,ceva_zone!A:C,3,FALSE)","v":"B"}]
["05452","VT","Y","remote",{"$f":"VLOOKUP(B1699,ceva_zone!A:B,2,FALSE)","v":"F"},{"$f":"VLOOKUP(B1699,ceva_zone!A:C,3,FALSE)","v":"B"}]
["05401","VT","Y","remote",{"$f":"VLOOKUP(B1700,ceva_zone!A:B,2,FALSE)","v":"F"},{"$f":"VLOOKUP(B1700,ceva_zone!A:C,3,FALSE)","v":"B"}]
["05403","VT","Y","remote",{"$f":"VLOOKUP(B1701,ceva_zone!A:B,2,FALSE)","v":"F"},{"$f":"VLOOKUP(B1701,ceva_zone!A:C,3,FALSE)","v":"B"}]
["05487","VT","Y","remote",{"$f":"VLOOKUP(B1702,ceva_zone!A:B,2,FALSE)","v":"F"},{"$f":"VLOOKUP(B1702,ceva_zone!A:C,3,FALSE)","v":"B"}]
["05408","VT","Y","remote",{"$f":"VLOOKUP(B1703,ceva_zone!A:B,2,FALSE)","v":"F"},{"$f":"VLOOKUP(B1703,ceva_zone!A:C,3,FALSE)","v":"B"}]
["05407","VT","Y","remote",{"$f":"VLOOKUP(B1704,ceva_zone!A:B,2,FALSE)","v":"F"},{"$f":"VLOOKUP(B1704,ceva_zone!A:C,3,FALSE)","v":"B"}]
["05406","VT","Y","remote",{"$f":"VLOOKUP(B1705,ceva_zone!A:B,2,FALSE)","v":"F"},{"$f":"VLOOKUP(B1705,ceva_zone!A:C,3,FALSE)","v":"B"}]
["05405","VT","Y","remote",{"$f":"VLOOKUP(B1706,ceva_zone!A:B,2,FALSE)","v":"F"},{"$f":"VLOOKUP(B1706,ceva_zone!A:C,3,FALSE)","v":"B"}]
["05404","VT","Y","remote",{"$f":"VLOOKUP(B1707,ceva_zone!A:B,2,FALSE)","v":"F"},{"$f":"VLOOKUP(B1707,ceva_zone!A:C,3,FALSE)","v":"B"}]
["05402","VT","Y","remote",{"$f":"VLOOKUP(B1708,ceva_zone!A:B,2,FALSE)","v":"F"},{"$f":"VLOOKUP(B1708,ceva_zone!A:C,3,FALSE)","v":"B"}]
["05481","VT","Y","remote",{"$f":"VLOOKUP(B1709,ceva_zone!A:B,2,FALSE)","v":"F"},{"$f":"VLOOKUP(B1709,ceva_zone!A:C,3,FALSE)","v":"B"}]
["05446","VT","Y","remote",{"$f":"VLOOKUP(B1710,ceva_zone!A:B,2,FALSE)","v":"F"},{"$f":"VLOOKUP(B1710,ceva_zone!A:C,3,FALSE)","v":"B"}]
["05445","VT","Y","remote",{"$f":"VLOOKUP(B1711,ceva_zone!A:B,2,FALSE)","v":"F"},{"$f":"VLOOKUP(B1711,ceva_zone!A:C,3,FALSE)","v":"B"}]
["05449","VT","Y","remote",{"$f":"VLOOKUP(B1712,ceva_zone!A:B,2,FALSE)","v":"F"},{"$f":"VLOOKUP(B1712,ceva_zone!A:C,3,FALSE)","v":"B"}]
["05439","VT","Y","remote",{"$f":"VLOOKUP(B1713,ceva_zone!A:B,2,FALSE)","v":"F"},{"$f":"VLOOKUP(B1713,ceva_zone!A:C,3,FALSE)","v":"B"}]
["05483","VT","Y","remote",{"$f":"VLOOKUP(B1714,ceva_zone!A:B,2,FALSE)","v":"F"},{"$f":"VLOOKUP(B1714,ceva_zone!A:C,3,FALSE)","v":"B"}]
["05448","VT","Y","remote",{"$f":"VLOOKUP(B1715,ceva_zone!A:B,2,FALSE)","v":"F"},{"$f":"VLOOKUP(B1715,ceva_zone!A:C,3,FALSE)","v":"B"}]
["05457","VT","Y","remote",{"$f":"VLOOKUP(B1716,ceva_zone!A:B,2,FALSE)","v":"F"},{"$f":"VLOOKUP(B1716,ceva_zone!A:C,3,FALSE)","v":"B"}]
["05454","VT","Y","remote",{"$f":"VLOOKUP(B1717,ceva_zone!A:B,2,FALSE)","v":"F"},{"$f":"VLOOKUP(B1717,ceva_zone!A:C,3,FALSE)","v":"B"}]
["05451","VT","Y","remote",{"$f":"VLOOKUP(B1718,ceva_zone!A:B,2,FALSE)","v":"F"},{"$f":"VLOOKUP(B1718,ceva_zone!A:C,3,FALSE)","v":"B"}]
["05453","VT","Y","remote",{"$f":"VLOOKUP(B1719,ceva_zone!A:B,2,FALSE)","v":"F"},{"$f":"VLOOKUP(B1719,ceva_zone!A:C,3,FALSE)","v":"B"}]
["05455","VT","Y","remote",{"$f":"VLOOKUP(B1720,ceva_zone!A:B,2,FALSE)","v":"F"},{"$f":"VLOOKUP(B1720,ceva_zone!A:C,3,FALSE)","v":"B"}]
["05456","VT","Y","remote",{"$f":"VLOOKUP(B1721,ceva_zone!A:B,2,FALSE)","v":"F"},{"$f":"VLOOKUP(B1721,ceva_zone!A:C,3,FALSE)","v":"B"}]
["05463","VT","Y","remote",{"$f":"VLOOKUP(B1722,ceva_zone!A:B,2,FALSE)","v":"F"},{"$f":"VLOOKUP(B1722,ceva_zone!A:C,3,FALSE)","v":"B"}]
["05488","VT","Y","remote",{"$f":"VLOOKUP(B1723,ceva_zone!A:B,2,FALSE)","v":"F"},{"$f":"VLOOKUP(B1723,ceva_zone!A:C,3,FALSE)","v":"B"}]
["05460","VT","Y","remote",{"$f":"VLOOKUP(B1724,ceva_zone!A:B,2,FALSE)","v":"F"},{"$f":"VLOOKUP(B1724,ceva_zone!A:C,3,FALSE)","v":"B"}]
["05461","VT","Y","remote",{"$f":"VLOOKUP(B1725,ceva_zone!A:B,2,FALSE)","v":"F"},{"$f":"VLOOKUP(B1725,ceva_zone!A:C,3,FALSE)","v":"B"}]
["05462","VT","Y","remote",{"$f":"VLOOKUP(B1726,ceva_zone!A:B,2,FALSE)","v":"F"},{"$f":"VLOOKUP(B1726,ceva_zone!A:C,3,FALSE)","v":"B"}]
["05465","VT","Y","remote",{"$f":"VLOOKUP(B1727,ceva_zone!A:B,2,FALSE)","v":"F"},{"$f":"VLOOKUP(B1727,ceva_zone!A:C,3,FALSE)","v":"B"}]
["05466","VT","Y","remote",{"$f":"VLOOKUP(B1728,ceva_zone!A:B,2,FALSE)","v":"F"},{"$f":"VLOOKUP(B1728,ceva_zone!A:C,3,FALSE)","v":"B"}]
["05486","VT","Y","remote",{"$f":"VLOOKUP(B1729,ceva_zone!A:B,2,FALSE)","v":"F"},{"$f":"VLOOKUP(B1729,ceva_zone!A:C,3,FALSE)","v":"B"}]
["05473","VT","Y","remote",{"$f":"VLOOKUP(B1730,ceva_zone!A:B,2,FALSE)","v":"F"},{"$f":"VLOOKUP(B1730,ceva_zone!A:C,3,FALSE)","v":"B"}]
["05469","VT","Y","remote",{"$f":"VLOOKUP(B1731,ceva_zone!A:B,2,FALSE)","v":"F"},{"$f":"VLOOKUP(B1731,ceva_zone!A:C,3,FALSE)","v":"B"}]
["05470","VT","Y","remote",{"$f":"VLOOKUP(B1732,ceva_zone!A:B,2,FALSE)","v":"F"},{"$f":"VLOOKUP(B1732,ceva_zone!A:C,3,FALSE)","v":"B"}]
["05489","VT","Y","remote",{"$f":"VLOOKUP(B1733,ceva_zone!A:B,2,FALSE)","v":"F"},{"$f":"VLOOKUP(B1733,ceva_zone!A:C,3,FALSE)","v":"B"}]
["05485","VT","Y","remote",{"$f":"VLOOKUP(B1734,ceva_zone!A:B,2,FALSE)","v":"F"},{"$f":"VLOOKUP(B1734,ceva_zone!A:C,3,FALSE)","v":"B"}]
["05482","VT","Y","remote",{"$f":"VLOOKUP(B1735,ceva_zone!A:B,2,FALSE)","v":"F"},{"$f":"VLOOKUP(B1735,ceva_zone!A:C,3,FALSE)","v":"B"}]
["05479","VT","Y","remote",{"$f":"VLOOKUP(B1736,ceva_zone!A:B,2,FALSE)","v":"F"},{"$f":"VLOOKUP(B1736,ceva_zone!A:C,3,FALSE)","v":"B"}]
["05495","VT","Y","remote",{"$f":"VLOOKUP(B1737,ceva_zone!A:B,2,FALSE)","v":"F"},{"$f":"VLOOKUP(B1737,ceva_zone!A:C,3,FALSE)","v":"B"}]
["05490","VT","Y","remote",{"$f":"VLOOKUP(B1738,ceva_zone!A:B,2,FALSE)","v":"F"},{"$f":"VLOOKUP(B1738,ceva_zone!A:C,3,FALSE)","v":"B"}]
["05544","MA","B","standard",{"$f":"VLOOKUP(B1739,ceva_zone!A:B,2,FALSE)","v":"F"},{"$f":"VLOOKUP(B1739,ceva_zone!A:C,3,FALSE)","v":"B"}]
["05501","MA","Y","remote",{"$f":"VLOOKUP(B1740,ceva_zone!A:B,2,FALSE)","v":"F"},{"$f":"VLOOKUP(B1740,ceva_zone!A:C,3,FALSE)","v":"B"}]
["05640","VT","Y","remote",{"$f":"VLOOKUP(B1741,ceva_zone!A:B,2,FALSE)","v":"F"},{"$f":"VLOOKUP(B1741,ceva_zone!A:C,3,FALSE)","v":"B"}]
["05674","VT","Y","remote",{"$f":"VLOOKUP(B1742,ceva_zone!A:B,2,FALSE)","v":"F"},{"$f":"VLOOKUP(B1742,ceva_zone!A:C,3,FALSE)","v":"B"}]
["05678","VT","Y","remote",{"$f":"VLOOKUP(B1743,ceva_zone!A:B,2,FALSE)","v":"F"},{"$f":"VLOOKUP(B1743,ceva_zone!A:C,3,FALSE)","v":"B"}]
["05641","VT","Y","remote",{"$f":"VLOOKUP(B1744,ceva_zone!A:B,2,FALSE)","v":"F"},{"$f":"VLOOKUP(B1744,ceva_zone!A:C,3,FALSE)","v":"B"}]
["05602","VT","Y","remote",{"$f":"VLOOKUP(B1745,ceva_zone!A:B,2,FALSE)","v":"F"},{"$f":"VLOOKUP(B1745,ceva_zone!A:C,3,FALSE)","v":"B"}]
["05676","VT","Y","remote",{"$f":"VLOOKUP(B1746,ceva_zone!A:B,2,FALSE)","v":"F"},{"$f":"VLOOKUP(B1746,ceva_zone!A:C,3,FALSE)","v":"B"}]
["05680","VT","Y","remote",{"$f":"VLOOKUP(B1747,ceva_zone!A:B,2,FALSE)","v":"F"},{"$f":"VLOOKUP(B1747,ceva_zone!A:C,3,FALSE)","v":"B"}]
["05656","VT","Y","remote",{"$f":"VLOOKUP(B1748,ceva_zone!A:B,2,FALSE)","v":"F"},{"$f":"VLOOKUP(B1748,ceva_zone!A:C,3,FALSE)","v":"B"}]
["05647","VT","Y","remote",{"$f":"VLOOKUP(B1749,ceva_zone!A:B,2,FALSE)","v":"F"},{"$f":"VLOOKUP(B1749,ceva_zone!A:C,3,FALSE)","v":"B"}]
["05661","VT","Y","remote",{"$f":"VLOOKUP(B1750,ceva_zone!A:B,2,FALSE)","v":"F"},{"$f":"VLOOKUP(B1750,ceva_zone!A:C,3,FALSE)","v":"B"}]
["05648","VT","Y","remote",{"$f":"VLOOKUP(B1751,ceva_zone!A:B,2,FALSE)","v":"F"},{"$f":"VLOOKUP(B1751,ceva_zone!A:C,3,FALSE)","v":"B"}]
["05655","VT","Y","remote",{"$f":"VLOOKUP(B1752,ceva_zone!A:B,2,FALSE)","v":"F"},{"$f":"VLOOKUP(B1752,ceva_zone!A:C,3,FALSE)","v":"B"}]
["05660","VT","Y","remote",{"$f":"VLOOKUP(B1753,ceva_zone!A:B,2,FALSE)","v":"F"},{"$f":"VLOOKUP(B1753,ceva_zone!A:C,3,FALSE)","v":"B"}]
["05658","VT","Y","remote",{"$f":"VLOOKUP(B1754,ceva_zone!A:B,2,FALSE)","v":"F"},{"$f":"VLOOKUP(B1754,ceva_zone!A:C,3,FALSE)","v":"B"}]
["05669","VT","Y","remote",{"$f":"VLOOKUP(B1755,ceva_zone!A:B,2,FALSE)","v":"F"},{"$f":"VLOOKUP(B1755,ceva_zone!A:C,3,FALSE)","v":"B"}]
["05651","VT","Y","remote",{"$f":"VLOOKUP(B1756,ceva_zone!A:B,2,FALSE)","v":"F"},{"$f":"VLOOKUP(B1756,ceva_zone!A:C,3,FALSE)","v":"B"}]
["05649","VT","Y","remote",{"$f":"VLOOKUP(B1757,ceva_zone!A:B,2,FALSE)","v":"F"},{"$f":"VLOOKUP(B1757,ceva_zone!A:C,3,FALSE)","v":"B"}]
["05650","VT","Y","remote",{"$f":"VLOOKUP(B1758,ceva_zone!A:B,2,FALSE)","v":"F"},{"$f":"VLOOKUP(B1758,ceva_zone!A:C,3,FALSE)","v":"B"}]
["05666","VT","Y","remote",{"$f":"VLOOKUP(B1759,ceva_zone!A:B,2,FALSE)","v":"F"},{"$f":"VLOOKUP(B1759,ceva_zone!A:C,3,FALSE)","v":"B"}]
["05663","VT","Y","remote",{"$f":"VLOOKUP(B1760,ceva_zone!A:B,2,FALSE)","v":"F"},{"$f":"VLOOKUP(B1760,ceva_zone!A:C,3,FALSE)","v":"B"}]
["05653","VT","Y","remote",{"$f":"VLOOKUP(B1761,ceva_zone!A:B,2,FALSE)","v":"F"},{"$f":"VLOOKUP(B1761,ceva_zone!A:C,3,FALSE)","v":"B"}]
["05652","VT","Y","remote",{"$f":"VLOOKUP(B1762,ceva_zone!A:B,2,FALSE)","v":"F"},{"$f":"VLOOKUP(B1762,ceva_zone!A:C,3,FALSE)","v":"B"}]
["05657","VT","Y","remote",{"$f":"VLOOKUP(B1763,ceva_zone!A:B,2,FALSE)","v":"F"},{"$f":"VLOOKUP(B1763,ceva_zone!A:C,3,FALSE)","v":"B"}]
["05673","VT","Y","remote",{"$f":"VLOOKUP(B1764,ceva_zone!A:B,2,FALSE)","v":"F"},{"$f":"VLOOKUP(B1764,ceva_zone!A:C,3,FALSE)","v":"B"}]
["05654","VT","Y","remote",{"$f":"VLOOKUP(B1765,ceva_zone!A:B,2,FALSE)","v":"F"},{"$f":"VLOOKUP(B1765,ceva_zone!A:C,3,FALSE)","v":"B"}]
["05677","VT","Y","remote",{"$f":"VLOOKUP(B1766,ceva_zone!A:B,2,FALSE)","v":"F"},{"$f":"VLOOKUP(B1766,ceva_zone!A:C,3,FALSE)","v":"B"}]
["05681","VT","Y","remote",{"$f":"VLOOKUP(B1767,ceva_zone!A:B,2,FALSE)","v":"F"},{"$f":"VLOOKUP(B1767,ceva_zone!A:C,3,FALSE)","v":"B"}]
["05672","VT","Y","remote",{"$f":"VLOOKUP(B1768,ceva_zone!A:B,2,FALSE)","v":"F"},{"$f":"VLOOKUP(B1768,ceva_zone!A:C,3,FALSE)","v":"B"}]
["05620","VT","Y","remote",{"$f":"VLOOKUP(B1769,ceva_zone!A:B,2,FALSE)","v":"F"},{"$f":"VLOOKUP(B1769,ceva_zone!A:C,3,FALSE)","v":"B"}]
["05633","VT","Y","remote",{"$f":"VLOOKUP(B1770,ceva_zone!A:B,2,FALSE)","v":"F"},{"$f":"VLOOKUP(B1770,ceva_zone!A:C,3,FALSE)","v":"B"}]
["05601","VT","Y","remote",{"$f":"VLOOKUP(B1771,ceva_zone!A:B,2,FALSE)","v":"F"},{"$f":"VLOOKUP(B1771,ceva_zone!A:C,3,FALSE)","v":"B"}]
["05603","VT","Y","remote",{"$f":"VLOOKUP(B1772,ceva_zone!A:B,2,FALSE)","v":"F"},{"$f":"VLOOKUP(B1772,ceva_zone!A:C,3,FALSE)","v":"B"}]
["05604","VT","Y","remote",{"$f":"VLOOKUP(B1773,ceva_zone!A:B,2,FALSE)","v":"F"},{"$f":"VLOOKUP(B1773,ceva_zone!A:C,3,FALSE)","v":"B"}]
["05609","VT","Y","remote",{"$f":"VLOOKUP(B1774,ceva_zone!A:B,2,FALSE)","v":"F"},{"$f":"VLOOKUP(B1774,ceva_zone!A:C,3,FALSE)","v":"B"}]
["05662","VT","Y","remote",{"$f":"VLOOKUP(B1775,ceva_zone!A:B,2,FALSE)","v":"F"},{"$f":"VLOOKUP(B1775,ceva_zone!A:C,3,FALSE)","v":"B"}]
["05665","VT","Y","remote",{"$f":"VLOOKUP(B1776,ceva_zone!A:B,2,FALSE)","v":"F"},{"$f":"VLOOKUP(B1776,ceva_zone!A:C,3,FALSE)","v":"B"}]
["05664","VT","Y","remote",{"$f":"VLOOKUP(B1777,ceva_zone!A:B,2,FALSE)","v":"F"},{"$f":"VLOOKUP(B1777,ceva_zone!A:C,3,FALSE)","v":"B"}]
["05667","VT","Y","remote",{"$f":"VLOOKUP(B1778,ceva_zone!A:B,2,FALSE)","v":"F"},{"$f":"VLOOKUP(B1778,ceva_zone!A:C,3,FALSE)","v":"B"}]
["05675","VT","Y","remote",{"$f":"VLOOKUP(B1779,ceva_zone!A:B,2,FALSE)","v":"F"},{"$f":"VLOOKUP(B1779,ceva_zone!A:C,3,FALSE)","v":"B"}]
["05670","VT","Y","remote",{"$f":"VLOOKUP(B1780,ceva_zone!A:B,2,FALSE)","v":"F"},{"$f":"VLOOKUP(B1780,ceva_zone!A:C,3,FALSE)","v":"B"}]
["05671","VT","Y","remote",{"$f":"VLOOKUP(B1781,ceva_zone!A:B,2,FALSE)","v":"F"},{"$f":"VLOOKUP(B1781,ceva_zone!A:C,3,FALSE)","v":"B"}]
["05679","VT","Y","remote",{"$f":"VLOOKUP(B1782,ceva_zone!A:B,2,FALSE)","v":"F"},{"$f":"VLOOKUP(B1782,ceva_zone!A:C,3,FALSE)","v":"B"}]
["05682","VT","Y","remote",{"$f":"VLOOKUP(B1783,ceva_zone!A:B,2,FALSE)","v":"F"},{"$f":"VLOOKUP(B1783,ceva_zone!A:C,3,FALSE)","v":"B"}]
["05777","VT","Y","remote",{"$f":"VLOOKUP(B1784,ceva_zone!A:B,2,FALSE)","v":"F"},{"$f":"VLOOKUP(B1784,ceva_zone!A:C,3,FALSE)","v":"B"}]
["05759","VT","Y","remote",{"$f":"VLOOKUP(B1785,ceva_zone!A:B,2,FALSE)","v":"F"},{"$f":"VLOOKUP(B1785,ceva_zone!A:C,3,FALSE)","v":"B"}]
["05750","VT","Y","remote",{"$f":"VLOOKUP(B1786,ceva_zone!A:B,2,FALSE)","v":"F"},{"$f":"VLOOKUP(B1786,ceva_zone!A:C,3,FALSE)","v":"B"}]
["05753","VT","Y","remote",{"$f":"VLOOKUP(B1787,ceva_zone!A:B,2,FALSE)","v":"F"},{"$f":"VLOOKUP(B1787,ceva_zone!A:C,3,FALSE)","v":"B"}]
["05730","VT","Y","remote",{"$f":"VLOOKUP(B1788,ceva_zone!A:B,2,FALSE)","v":"F"},{"$f":"VLOOKUP(B1788,ceva_zone!A:C,3,FALSE)","v":"B"}]
["05731","VT","Y","remote",{"$f":"VLOOKUP(B1789,ceva_zone!A:B,2,FALSE)","v":"F"},{"$f":"VLOOKUP(B1789,ceva_zone!A:C,3,FALSE)","v":"B"}]
["05743","VT","Y","remote",{"$f":"VLOOKUP(B1790,ceva_zone!A:B,2,FALSE)","v":"F"},{"$f":"VLOOKUP(B1790,ceva_zone!A:C,3,FALSE)","v":"B"}]
["05764","VT","Y","remote",{"$f":"VLOOKUP(B1791,ceva_zone!A:B,2,FALSE)","v":"F"},{"$f":"VLOOKUP(B1791,ceva_zone!A:C,3,FALSE)","v":"B"}]
["05775","VT","Y","remote",{"$f":"VLOOKUP(B1792,ceva_zone!A:B,2,FALSE)","v":"F"},{"$f":"VLOOKUP(B1792,ceva_zone!A:C,3,FALSE)","v":"B"}]
["05732","VT","Y","remote",{"$f":"VLOOKUP(B1793,ceva_zone!A:B,2,FALSE)","v":"F"},{"$f":"VLOOKUP(B1793,ceva_zone!A:C,3,FALSE)","v":"B"}]
["05742","VT","Y","remote",{"$f":"VLOOKUP(B1794,ceva_zone!A:B,2,FALSE)","v":"F"},{"$f":"VLOOKUP(B1794,ceva_zone!A:C,3,FALSE)","v":"B"}]
["05733","VT","Y","remote",{"$f":"VLOOKUP(B1795,ceva_zone!A:B,2,FALSE)","v":"F"},{"$f":"VLOOKUP(B1795,ceva_zone!A:C,3,FALSE)","v":"B"}]
["05734","VT","Y","remote",{"$f":"VLOOKUP(B1796,ceva_zone!A:B,2,FALSE)","v":"F"},{"$f":"VLOOKUP(B1796,ceva_zone!A:C,3,FALSE)","v":"B"}]
["05761","VT","Y","remote",{"$f":"VLOOKUP(B1797,ceva_zone!A:B,2,FALSE)","v":"F"},{"$f":"VLOOKUP(B1797,ceva_zone!A:C,3,FALSE)","v":"B"}]
["05757","VT","Y","remote",{"$f":"VLOOKUP(B1798,ceva_zone!A:B,2,FALSE)","v":"F"},{"$f":"VLOOKUP(B1798,ceva_zone!A:C,3,FALSE)","v":"B"}]
["05735","VT","Y","remote",{"$f":"VLOOKUP(B1799,ceva_zone!A:B,2,FALSE)","v":"F"},{"$f":"VLOOKUP(B1799,ceva_zone!A:C,3,FALSE)","v":"B"}]
["05736","VT","Y","remote",{"$f":"VLOOKUP(B1800,ceva_zone!A:B,2,FALSE)","v":"F"},{"$f":"VLOOKUP(B1800,ceva_zone!A:C,3,FALSE)","v":"B"}]
["05739","VT","Y","remote",{"$f":"VLOOKUP(B1801,ceva_zone!A:B,2,FALSE)","v":"F"},{"$f":"VLOOKUP(B1801,ceva_zone!A:C,3,FALSE)","v":"B"}]
["05760","VT","Y","remote",{"$f":"VLOOKUP(B1802,ceva_zone!A:B,2,FALSE)","v":"F"},{"$f":"VLOOKUP(B1802,ceva_zone!A:C,3,FALSE)","v":"B"}]
["05737","VT","Y","remote",{"$f":"VLOOKUP(B1803,ceva_zone!A:B,2,FALSE)","v":"F"},{"$f":"VLOOKUP(B1803,ceva_zone!A:C,3,FALSE)","v":"B"}]
["05701","VT","Y","remote",{"$f":"VLOOKUP(B1804,ceva_zone!A:B,2,FALSE)","v":"F"},{"$f":"VLOOKUP(B1804,ceva_zone!A:C,3,FALSE)","v":"B"}]
["05738","VT","Y","remote",{"$f":"VLOOKUP(B1805,ceva_zone!A:B,2,FALSE)","v":"F"},{"$f":"VLOOKUP(B1805,ceva_zone!A:C,3,FALSE)","v":"B"}]
["05770","VT","Y","remote",{"$f":"VLOOKUP(B1806,ceva_zone!A:B,2,FALSE)","v":"F"},{"$f":"VLOOKUP(B1806,ceva_zone!A:C,3,FALSE)","v":"B"}]
["05740","VT","Y","remote",{"$f":"VLOOKUP(B1807,ceva_zone!A:B,2,FALSE)","v":"F"},{"$f":"VLOOKUP(B1807,ceva_zone!A:C,3,FALSE)","v":"B"}]
["05741","VT","Y","remote",{"$f":"VLOOKUP(B1808,ceva_zone!A:B,2,FALSE)","v":"F"},{"$f":"VLOOKUP(B1808,ceva_zone!A:C,3,FALSE)","v":"B"}]
["05767","VT","Y","remote",{"$f":"VLOOKUP(B1809,ceva_zone!A:B,2,FALSE)","v":"F"},{"$f":"VLOOKUP(B1809,ceva_zone!A:C,3,FALSE)","v":"B"}]
["05745","VT","Y","remote",{"$f":"VLOOKUP(B1810,ceva_zone!A:B,2,FALSE)","v":"F"},{"$f":"VLOOKUP(B1810,ceva_zone!A:C,3,FALSE)","v":"B"}]
["05744","VT","Y","remote",{"$f":"VLOOKUP(B1811,ceva_zone!A:B,2,FALSE)","v":"F"},{"$f":"VLOOKUP(B1811,ceva_zone!A:C,3,FALSE)","v":"B"}]
["05763","VT","Y","remote",{"$f":"VLOOKUP(B1812,ceva_zone!A:B,2,FALSE)","v":"F"},{"$f":"VLOOKUP(B1812,ceva_zone!A:C,3,FALSE)","v":"B"}]
["05746","VT","Y","remote",{"$f":"VLOOKUP(B1813,ceva_zone!A:B,2,FALSE)","v":"F"},{"$f":"VLOOKUP(B1813,ceva_zone!A:C,3,FALSE)","v":"B"}]
["05747","VT","Y","remote",{"$f":"VLOOKUP(B1814,ceva_zone!A:B,2,FALSE)","v":"F"},{"$f":"VLOOKUP(B1814,ceva_zone!A:C,3,FALSE)","v":"B"}]
["05748","VT","Y","remote",{"$f":"VLOOKUP(B1815,ceva_zone!A:B,2,FALSE)","v":"F"},{"$f":"VLOOKUP(B1815,ceva_zone!A:C,3,FALSE)","v":"B"}]
["05758","VT","Y","remote",{"$f":"VLOOKUP(B1816,ceva_zone!A:B,2,FALSE)","v":"F"},{"$f":"VLOOKUP(B1816,ceva_zone!A:C,3,FALSE)","v":"B"}]
["05768","VT","Y","remote",{"$f":"VLOOKUP(B1817,ceva_zone!A:B,2,FALSE)","v":"F"},{"$f":"VLOOKUP(B1817,ceva_zone!A:C,3,FALSE)","v":"B"}]
["05751","VT","Y","remote",{"$f":"VLOOKUP(B1818,ceva_zone!A:B,2,FALSE)","v":"F"},{"$f":"VLOOKUP(B1818,ceva_zone!A:C,3,FALSE)","v":"B"}]
["05769","VT","Y","remote",{"$f":"VLOOKUP(B1819,ceva_zone!A:B,2,FALSE)","v":"F"},{"$f":"VLOOKUP(B1819,ceva_zone!A:C,3,FALSE)","v":"B"}]
["05778","VT","Y","remote",{"$f":"VLOOKUP(B1820,ceva_zone!A:B,2,FALSE)","v":"F"},{"$f":"VLOOKUP(B1820,ceva_zone!A:C,3,FALSE)","v":"B"}]
["05766","VT","Y","remote",{"$f":"VLOOKUP(B1821,ceva_zone!A:B,2,FALSE)","v":"F"},{"$f":"VLOOKUP(B1821,ceva_zone!A:C,3,FALSE)","v":"B"}]
["05772","VT","Y","remote",{"$f":"VLOOKUP(B1822,ceva_zone!A:B,2,FALSE)","v":"F"},{"$f":"VLOOKUP(B1822,ceva_zone!A:C,3,FALSE)","v":"B"}]
["05762","VT","Y","remote",{"$f":"VLOOKUP(B1823,ceva_zone!A:B,2,FALSE)","v":"F"},{"$f":"VLOOKUP(B1823,ceva_zone!A:C,3,FALSE)","v":"B"}]
["05765","VT","Y","remote",{"$f":"VLOOKUP(B1824,ceva_zone!A:B,2,FALSE)","v":"F"},{"$f":"VLOOKUP(B1824,ceva_zone!A:C,3,FALSE)","v":"B"}]
["05702","VT","Y","remote",{"$f":"VLOOKUP(B1825,ceva_zone!A:B,2,FALSE)","v":"F"},{"$f":"VLOOKUP(B1825,ceva_zone!A:C,3,FALSE)","v":"B"}]
["05773","VT","Y","remote",{"$f":"VLOOKUP(B1826,ceva_zone!A:B,2,FALSE)","v":"F"},{"$f":"VLOOKUP(B1826,ceva_zone!A:C,3,FALSE)","v":"B"}]
["05774","VT","Y","remote",{"$f":"VLOOKUP(B1827,ceva_zone!A:B,2,FALSE)","v":"F"},{"$f":"VLOOKUP(B1827,ceva_zone!A:C,3,FALSE)","v":"B"}]
["05776","VT","Y","remote",{"$f":"VLOOKUP(B1828,ceva_zone!A:B,2,FALSE)","v":"F"},{"$f":"VLOOKUP(B1828,ceva_zone!A:C,3,FALSE)","v":"B"}]
["05820","VT","Y","remote",{"$f":"VLOOKUP(B1829,ceva_zone!A:B,2,FALSE)","v":"F"},{"$f":"VLOOKUP(B1829,ceva_zone!A:C,3,FALSE)","v":"B"}]
["05845","VT","Y","remote",{"$f":"VLOOKUP(B1830,ceva_zone!A:B,2,FALSE)","v":"F"},{"$f":"VLOOKUP(B1830,ceva_zone!A:C,3,FALSE)","v":"B"}]
["05821","VT","Y","remote",{"$f":"VLOOKUP(B1831,ceva_zone!A:B,2,FALSE)","v":"F"},{"$f":"VLOOKUP(B1831,ceva_zone!A:C,3,FALSE)","v":"B"}]
["05822","VT","Y","remote",{"$f":"VLOOKUP(B1832,ceva_zone!A:B,2,FALSE)","v":"F"},{"$f":"VLOOKUP(B1832,ceva_zone!A:C,3,FALSE)","v":"B"}]
["05875","VT","Y","remote",{"$f":"VLOOKUP(B1833,ceva_zone!A:B,2,FALSE)","v":"F"},{"$f":"VLOOKUP(B1833,ceva_zone!A:C,3,FALSE)","v":"B"}]
["05839","VT","Y","remote",{"$f":"VLOOKUP(B1834,ceva_zone!A:B,2,FALSE)","v":"F"},{"$f":"VLOOKUP(B1834,ceva_zone!A:C,3,FALSE)","v":"B"}]
["05823","VT","Y","remote",{"$f":"VLOOKUP(B1835,ceva_zone!A:B,2,FALSE)","v":"F"},{"$f":"VLOOKUP(B1835,ceva_zone!A:C,3,FALSE)","v":"B"}]
["05846","VT","Y","remote",{"$f":"VLOOKUP(B1836,ceva_zone!A:B,2,FALSE)","v":"F"},{"$f":"VLOOKUP(B1836,ceva_zone!A:C,3,FALSE)","v":"B"}]
["05860","VT","Y","remote",{"$f":"VLOOKUP(B1837,ceva_zone!A:B,2,FALSE)","v":"F"},{"$f":"VLOOKUP(B1837,ceva_zone!A:C,3,FALSE)","v":"B"}]
["05871","VT","Y","remote",{"$f":"VLOOKUP(B1838,ceva_zone!A:B,2,FALSE)","v":"F"},{"$f":"VLOOKUP(B1838,ceva_zone!A:C,3,FALSE)","v":"B"}]
["05832","VT","Y","remote",{"$f":"VLOOKUP(B1839,ceva_zone!A:B,2,FALSE)","v":"F"},{"$f":"VLOOKUP(B1839,ceva_zone!A:C,3,FALSE)","v":"B"}]
["05843","VT","Y","remote",{"$f":"VLOOKUP(B1840,ceva_zone!A:B,2,FALSE)","v":"F"},{"$f":"VLOOKUP(B1840,ceva_zone!A:C,3,FALSE)","v":"B"}]
["05872","VT","Y","remote",{"$f":"VLOOKUP(B1841,ceva_zone!A:B,2,FALSE)","v":"F"},{"$f":"VLOOKUP(B1841,ceva_zone!A:C,3,FALSE)","v":"B"}]
["05819","VT","Y","remote",{"$f":"VLOOKUP(B1842,ceva_zone!A:B,2,FALSE)","v":"F"},{"$f":"VLOOKUP(B1842,ceva_zone!A:C,3,FALSE)","v":"B"}]
["05824","VT","Y","remote",{"$f":"VLOOKUP(B1843,ceva_zone!A:B,2,FALSE)","v":"F"},{"$f":"VLOOKUP(B1843,ceva_zone!A:C,3,FALSE)","v":"B"}]
["05825","VT","Y","remote",{"$f":"VLOOKUP(B1844,ceva_zone!A:B,2,FALSE)","v":"F"},{"$f":"VLOOKUP(B1844,ceva_zone!A:C,3,FALSE)","v":"B"}]
["05826","VT","Y","remote",{"$f":"VLOOKUP(B1845,ceva_zone!A:B,2,FALSE)","v":"F"},{"$f":"VLOOKUP(B1845,ceva_zone!A:C,3,FALSE)","v":"B"}]
["05827","VT","Y","remote",{"$f":"VLOOKUP(B1846,ceva_zone!A:B,2,FALSE)","v":"F"},{"$f":"VLOOKUP(B1846,ceva_zone!A:C,3,FALSE)","v":"B"}]
["05828","VT","Y","remote",{"$f":"VLOOKUP(B1847,ceva_zone!A:B,2,FALSE)","v":"F"},{"$f":"VLOOKUP(B1847,ceva_zone!A:C,3,FALSE)","v":"B"}]
["05829","VT","Y","remote",{"$f":"VLOOKUP(B1848,ceva_zone!A:B,2,FALSE)","v":"F"},{"$f":"VLOOKUP(B1848,ceva_zone!A:C,3,FALSE)","v":"B"}]
["05830","VT","Y","remote",{"$f":"VLOOKUP(B1849,ceva_zone!A:B,2,FALSE)","v":"F"},{"$f":"VLOOKUP(B1849,ceva_zone!A:C,3,FALSE)","v":"B"}]
["05836","VT","Y","remote",{"$f":"VLOOKUP(B1850,ceva_zone!A:B,2,FALSE)","v":"F"},{"$f":"VLOOKUP(B1850,ceva_zone!A:C,3,FALSE)","v":"B"}]
["05833","VT","Y","remote",{"$f":"VLOOKUP(B1851,ceva_zone!A:B,2,FALSE)","v":"F"},{"$f":"VLOOKUP(B1851,ceva_zone!A:C,3,FALSE)","v":"B"}]
["05838","VT","Y","remote",{"$f":"VLOOKUP(B1852,ceva_zone!A:B,2,FALSE)","v":"F"},{"$f":"VLOOKUP(B1852,ceva_zone!A:C,3,FALSE)","v":"B"}]
["05855","VT","Y","remote",{"$f":"VLOOKUP(B1853,ceva_zone!A:B,2,FALSE)","v":"F"},{"$f":"VLOOKUP(B1853,ceva_zone!A:C,3,FALSE)","v":"B"}]
["05837","VT","Y","remote",{"$f":"VLOOKUP(B1854,ceva_zone!A:B,2,FALSE)","v":"F"},{"$f":"VLOOKUP(B1854,ceva_zone!A:C,3,FALSE)","v":"B"}]
["05851","VT","Y","remote",{"$f":"VLOOKUP(B1855,ceva_zone!A:B,2,FALSE)","v":"F"},{"$f":"VLOOKUP(B1855,ceva_zone!A:C,3,FALSE)","v":"B"}]
["05862","VT","Y","remote",{"$f":"VLOOKUP(B1856,ceva_zone!A:B,2,FALSE)","v":"F"},{"$f":"VLOOKUP(B1856,ceva_zone!A:C,3,FALSE)","v":"B"}]
["05867","VT","Y","remote",{"$f":"VLOOKUP(B1857,ceva_zone!A:B,2,FALSE)","v":"F"},{"$f":"VLOOKUP(B1857,ceva_zone!A:C,3,FALSE)","v":"B"}]
["05858","VT","Y","remote",{"$f":"VLOOKUP(B1858,ceva_zone!A:B,2,FALSE)","v":"F"},{"$f":"VLOOKUP(B1858,ceva_zone!A:C,3,FALSE)","v":"B"}]
["05840","VT","Y","remote",{"$f":"VLOOKUP(B1859,ceva_zone!A:B,2,FALSE)","v":"F"},{"$f":"VLOOKUP(B1859,ceva_zone!A:C,3,FALSE)","v":"B"}]
["05841","VT","Y","remote",{"$f":"VLOOKUP(B1860,ceva_zone!A:B,2,FALSE)","v":"F"},{"$f":"VLOOKUP(B1860,ceva_zone!A:C,3,FALSE)","v":"B"}]
["05842","VT","Y","remote",{"$f":"VLOOKUP(B1861,ceva_zone!A:B,2,FALSE)","v":"F"},{"$f":"VLOOKUP(B1861,ceva_zone!A:C,3,FALSE)","v":"B"}]
["05859","VT","Y","remote",{"$f":"VLOOKUP(B1862,ceva_zone!A:B,2,FALSE)","v":"F"},{"$f":"VLOOKUP(B1862,ceva_zone!A:C,3,FALSE)","v":"B"}]
["05873","VT","Y","remote",{"$f":"VLOOKUP(B1863,ceva_zone!A:B,2,FALSE)","v":"F"},{"$f":"VLOOKUP(B1863,ceva_zone!A:C,3,FALSE)","v":"B"}]
["05847","VT","Y","remote",{"$f":"VLOOKUP(B1864,ceva_zone!A:B,2,FALSE)","v":"F"},{"$f":"VLOOKUP(B1864,ceva_zone!A:C,3,FALSE)","v":"B"}]
["05848","VT","Y","remote",{"$f":"VLOOKUP(B1865,ceva_zone!A:B,2,FALSE)","v":"F"},{"$f":"VLOOKUP(B1865,ceva_zone!A:C,3,FALSE)","v":"B"}]
["05849","VT","Y","remote",{"$f":"VLOOKUP(B1866,ceva_zone!A:B,2,FALSE)","v":"F"},{"$f":"VLOOKUP(B1866,ceva_zone!A:C,3,FALSE)","v":"B"}]
["05850","VT","Y","remote",{"$f":"VLOOKUP(B1867,ceva_zone!A:B,2,FALSE)","v":"F"},{"$f":"VLOOKUP(B1867,ceva_zone!A:C,3,FALSE)","v":"B"}]
["05853","VT","Y","remote",{"$f":"VLOOKUP(B1868,ceva_zone!A:B,2,FALSE)","v":"F"},{"$f":"VLOOKUP(B1868,ceva_zone!A:C,3,FALSE)","v":"B"}]
["05861","VT","Y","remote",{"$f":"VLOOKUP(B1869,ceva_zone!A:B,2,FALSE)","v":"F"},{"$f":"VLOOKUP(B1869,ceva_zone!A:C,3,FALSE)","v":"B"}]
["05857","VT","Y","remote",{"$f":"VLOOKUP(B1870,ceva_zone!A:B,2,FALSE)","v":"F"},{"$f":"VLOOKUP(B1870,ceva_zone!A:C,3,FALSE)","v":"B"}]
["05863","VT","Y","remote",{"$f":"VLOOKUP(B1871,ceva_zone!A:B,2,FALSE)","v":"F"},{"$f":"VLOOKUP(B1871,ceva_zone!A:C,3,FALSE)","v":"B"}]
["05866","VT","Y","remote",{"$f":"VLOOKUP(B1872,ceva_zone!A:B,2,FALSE)","v":"F"},{"$f":"VLOOKUP(B1872,ceva_zone!A:C,3,FALSE)","v":"B"}]
["05868","VT","Y","remote",{"$f":"VLOOKUP(B1873,ceva_zone!A:B,2,FALSE)","v":"F"},{"$f":"VLOOKUP(B1873,ceva_zone!A:C,3,FALSE)","v":"B"}]
["05874","VT","Y","remote",{"$f":"VLOOKUP(B1874,ceva_zone!A:B,2,FALSE)","v":"F"},{"$f":"VLOOKUP(B1874,ceva_zone!A:C,3,FALSE)","v":"B"}]
["05901","VT","Y","remote",{"$f":"VLOOKUP(B1875,ceva_zone!A:B,2,FALSE)","v":"F"},{"$f":"VLOOKUP(B1875,ceva_zone!A:C,3,FALSE)","v":"B"}]
["05902","VT","Y","remote",{"$f":"VLOOKUP(B1876,ceva_zone!A:B,2,FALSE)","v":"F"},{"$f":"VLOOKUP(B1876,ceva_zone!A:C,3,FALSE)","v":"B"}]
["05903","VT","Y","remote",{"$f":"VLOOKUP(B1877,ceva_zone!A:B,2,FALSE)","v":"F"},{"$f":"VLOOKUP(B1877,ceva_zone!A:C,3,FALSE)","v":"B"}]
["05906","VT","Y","remote",{"$f":"VLOOKUP(B1878,ceva_zone!A:B,2,FALSE)","v":"F"},{"$f":"VLOOKUP(B1878,ceva_zone!A:C,3,FALSE)","v":"B"}]
["05905","VT","Y","remote",{"$f":"VLOOKUP(B1879,ceva_zone!A:B,2,FALSE)","v":"F"},{"$f":"VLOOKUP(B1879,ceva_zone!A:C,3,FALSE)","v":"B"}]
["05904","VT","Y","remote",{"$f":"VLOOKUP(B1880,ceva_zone!A:B,2,FALSE)","v":"F"},{"$f":"VLOOKUP(B1880,ceva_zone!A:C,3,FALSE)","v":"B"}]
["05907","VT","Y","remote",{"$f":"VLOOKUP(B1881,ceva_zone!A:B,2,FALSE)","v":"F"},{"$f":"VLOOKUP(B1881,ceva_zone!A:C,3,FALSE)","v":"B"}]
["06001","CT","B","standard",{"$f":"VLOOKUP(B1882,ceva_zone!A:B,2,FALSE)","v":"F"},{"$f":"VLOOKUP(B1882,ceva_zone!A:C,3,FALSE)","v":"B"}]
["06057","CT","B","standard",{"$f":"VLOOKUP(B1883,ceva_zone!A:B,2,FALSE)","v":"F"},{"$f":"VLOOKUP(B1883,ceva_zone!A:C,3,FALSE)","v":"B"}]
["06063","CT","B","standard",{"$f":"VLOOKUP(B1884,ceva_zone!A:B,2,FALSE)","v":"F"},{"$f":"VLOOKUP(B1884,ceva_zone!A:C,3,FALSE)","v":"B"}]
["06037","CT","C","standard",{"$f":"VLOOKUP(B1885,ceva_zone!A:B,2,FALSE)","v":"F"},{"$f":"VLOOKUP(B1885,ceva_zone!A:C,3,FALSE)","v":"B"}]
["06074","CT","B","standard",{"$f":"VLOOKUP(B1886,ceva_zone!A:B,2,FALSE)","v":"F"},{"$f":"VLOOKUP(B1886,ceva_zone!A:C,3,FALSE)","v":"B"}]
["06002","CT","A","standard",{"$f":"VLOOKUP(B1887,ceva_zone!A:B,2,FALSE)","v":"F"},{"$f":"VLOOKUP(B1887,ceva_zone!A:C,3,FALSE)","v":"B"}]
["06034","CT","C","standard",{"$f":"VLOOKUP(B1888,ceva_zone!A:B,2,FALSE)","v":"F"},{"$f":"VLOOKUP(B1888,ceva_zone!A:C,3,FALSE)","v":"B"}]
["06043","CT","C","standard",{"$f":"VLOOKUP(B1889,ceva_zone!A:B,2,FALSE)","v":"F"},{"$f":"VLOOKUP(B1889,ceva_zone!A:C,3,FALSE)","v":"B"}]
["06045","CT","C","standard",{"$f":"VLOOKUP(B1890,ceva_zone!A:B,2,FALSE)","v":"F"},{"$f":"VLOOKUP(B1890,ceva_zone!A:C,3,FALSE)","v":"B"}]
["06010","CT","C","standard",{"$f":"VLOOKUP(B1891,ceva_zone!A:B,2,FALSE)","v":"F"},{"$f":"VLOOKUP(B1891,ceva_zone!A:C,3,FALSE)","v":"B"}]
["06011","CT","C","standard",{"$f":"VLOOKUP(B1892,ceva_zone!A:B,2,FALSE)","v":"F"},{"$f":"VLOOKUP(B1892,ceva_zone!A:C,3,FALSE)","v":"B"}]
["06016","CT","B","standard",{"$f":"VLOOKUP(B1893,ceva_zone!A:B,2,FALSE)","v":"F"},{"$f":"VLOOKUP(B1893,ceva_zone!A:C,3,FALSE)","v":"B"}]
["06040","CT","C","standard",{"$f":"VLOOKUP(B1894,ceva_zone!A:B,2,FALSE)","v":"F"},{"$f":"VLOOKUP(B1894,ceva_zone!A:C,3,FALSE)","v":"B"}]
["06085","CT","C","standard",{"$f":"VLOOKUP(B1895,ceva_zone!A:B,2,FALSE)","v":"F"},{"$f":"VLOOKUP(B1895,ceva_zone!A:C,3,FALSE)","v":"B"}]
["06013","CT","C","standard",{"$f":"VLOOKUP(B1896,ceva_zone!A:B,2,FALSE)","v":"F"},{"$f":"VLOOKUP(B1896,ceva_zone!A:C,3,FALSE)","v":"B"}]
["06018","CT","D","standard",{"$f":"VLOOKUP(B1897,ceva_zone!A:B,2,FALSE)","v":"F"},{"$f":"VLOOKUP(B1897,ceva_zone!A:C,3,FALSE)","v":"B"}]
["06031","CT","D","standard",{"$f":"VLOOKUP(B1898,ceva_zone!A:B,2,FALSE)","v":"F"},{"$f":"VLOOKUP(B1898,ceva_zone!A:C,3,FALSE)","v":"B"}]
["06019","CT","B","standard",{"$f":"VLOOKUP(B1899,ceva_zone!A:B,2,FALSE)","v":"F"},{"$f":"VLOOKUP(B1899,ceva_zone!A:C,3,FALSE)","v":"B"}]
["06020","CT","B","standard",{"$f":"VLOOKUP(B1900,ceva_zone!A:B,2,FALSE)","v":"F"},{"$f":"VLOOKUP(B1900,ceva_zone!A:C,3,FALSE)","v":"B"}]
["06021","CT","C","standard",{"$f":"VLOOKUP(B1901,ceva_zone!A:B,2,FALSE)","v":"F"},{"$f":"VLOOKUP(B1901,ceva_zone!A:C,3,FALSE)","v":"B"}]
["06022","CT","B","standard",{"$f":"VLOOKUP(B1902,ceva_zone!A:B,2,FALSE)","v":"F"},{"$f":"VLOOKUP(B1902,ceva_zone!A:C,3,FALSE)","v":"B"}]
["06071","CT","B","standard",{"$f":"VLOOKUP(B1903,ceva_zone!A:B,2,FALSE)","v":"F"},{"$f":"VLOOKUP(B1903,ceva_zone!A:C,3,FALSE)","v":"B"}]
["06025","CT","C","standard",{"$f":"VLOOKUP(B1904,ceva_zone!A:B,2,FALSE)","v":"F"},{"$f":"VLOOKUP(B1904,ceva_zone!A:C,3,FALSE)","v":"B"}]
["06088","CT","B","standard",{"$f":"VLOOKUP(B1905,ceva_zone!A:B,2,FALSE)","v":"F"},{"$f":"VLOOKUP(B1905,ceva_zone!A:C,3,FALSE)","v":"B"}]
["06028","CT","B","standard",{"$f":"VLOOKUP(B1906,ceva_zone!A:B,2,FALSE)","v":"F"},{"$f":"VLOOKUP(B1906,ceva_zone!A:C,3,FALSE)","v":"B"}]
["06023","CT","C","standard",{"$f":"VLOOKUP(B1907,ceva_zone!A:B,2,FALSE)","v":"F"},{"$f":"VLOOKUP(B1907,ceva_zone!A:C,3,FALSE)","v":"B"}]
["06024","CT","C","standard",{"$f":"VLOOKUP(B1908,ceva_zone!A:B,2,FALSE)","v":"F"},{"$f":"VLOOKUP(B1908,ceva_zone!A:C,3,FALSE)","v":"B"}]
["06026","CT","A","standard",{"$f":"VLOOKUP(B1909,ceva_zone!A:B,2,FALSE)","v":"F"},{"$f":"VLOOKUP(B1909,ceva_zone!A:C,3,FALSE)","v":"B"}]
["06027","CT","B","standard",{"$f":"VLOOKUP(B1910,ceva_zone!A:B,2,FALSE)","v":"F"},{"$f":"VLOOKUP(B1910,ceva_zone!A:C,3,FALSE)","v":"B"}]
["06029","CT","B","standard",{"$f":"VLOOKUP(B1911,ceva_zone!A:B,2,FALSE)","v":"F"},{"$f":"VLOOKUP(B1911,ceva_zone!A:C,3,FALSE)","v":"B"}]
["06083","CT","B","standard",{"$f":"VLOOKUP(B1912,ceva_zone!A:B,2,FALSE)","v":"F"},{"$f":"VLOOKUP(B1912,ceva_zone!A:C,3,FALSE)","v":"B"}]
["06082","CT","B","standard",{"$f":"VLOOKUP(B1913,ceva_zone!A:B,2,FALSE)","v":"F"},{"$f":"VLOOKUP(B1913,ceva_zone!A:C,3,FALSE)","v":"B"}]
["06032","CT","C","standard",{"$f":"VLOOKUP(B1914,ceva_zone!A:B,2,FALSE)","v":"F"},{"$f":"VLOOKUP(B1914,ceva_zone!A:C,3,FALSE)","v":"B"}]
["06030","CT","C","standard",{"$f":"VLOOKUP(B1915,ceva_zone!A:B,2,FALSE)","v":"F"},{"$f":"VLOOKUP(B1915,ceva_zone!A:C,3,FALSE)","v":"B"}]
["06033","CT","B","standard",{"$f":"VLOOKUP(B1916,ceva_zone!A:B,2,FALSE)","v":"F"},{"$f":"VLOOKUP(B1916,ceva_zone!A:C,3,FALSE)","v":"B"}]
["06090","CT","A","standard",{"$f":"VLOOKUP(B1917,ceva_zone!A:B,2,FALSE)","v":"F"},{"$f":"VLOOKUP(B1917,ceva_zone!A:C,3,FALSE)","v":"B"}]
["06035","CT","A","standard",{"$f":"VLOOKUP(B1918,ceva_zone!A:B,2,FALSE)","v":"F"},{"$f":"VLOOKUP(B1918,ceva_zone!A:C,3,FALSE)","v":"B"}]
["06091","CT","B","standard",{"$f":"VLOOKUP(B1919,ceva_zone!A:B,2,FALSE)","v":"F"},{"$f":"VLOOKUP(B1919,ceva_zone!A:C,3,FALSE)","v":"B"}]
["06039","CT","D","standard",{"$f":"VLOOKUP(B1920,ceva_zone!A:B,2,FALSE)","v":"F"},{"$f":"VLOOKUP(B1920,ceva_zone!A:C,3,FALSE)","v":"B"}]
["06042","CT","C","standard",{"$f":"VLOOKUP(B1921,ceva_zone!A:B,2,FALSE)","v":"F"},{"$f":"VLOOKUP(B1921,ceva_zone!A:C,3,FALSE)","v":"B"}]
["06041","CT","C","standard",{"$f":"VLOOKUP(B1922,ceva_zone!A:B,2,FALSE)","v":"F"},{"$f":"VLOOKUP(B1922,ceva_zone!A:C,3,FALSE)","v":"B"}]
["06051","CT","C","standard",{"$f":"VLOOKUP(B1923,ceva_zone!A:B,2,FALSE)","v":"F"},{"$f":"VLOOKUP(B1923,ceva_zone!A:C,3,FALSE)","v":"B"}]
["06052","CT","C","standard",{"$f":"VLOOKUP(B1924,ceva_zone!A:B,2,FALSE)","v":"F"},{"$f":"VLOOKUP(B1924,ceva_zone!A:C,3,FALSE)","v":"B"}]
["06053","CT","C","standard",{"$f":"VLOOKUP(B1925,ceva_zone!A:B,2,FALSE)","v":"F"},{"$f":"VLOOKUP(B1925,ceva_zone!A:C,3,FALSE)","v":"B"}]
["06050","CT","C","standard",{"$f":"VLOOKUP(B1926,ceva_zone!A:B,2,FALSE)","v":"F"},{"$f":"VLOOKUP(B1926,ceva_zone!A:C,3,FALSE)","v":"B"}]
["06058","CT","C","standard",{"$f":"VLOOKUP(B1927,ceva_zone!A:B,2,FALSE)","v":"F"},{"$f":"VLOOKUP(B1927,ceva_zone!A:C,3,FALSE)","v":"B"}]
["06059","CT","B","standard",{"$f":"VLOOKUP(B1928,ceva_zone!A:B,2,FALSE)","v":"F"},{"$f":"VLOOKUP(B1928,ceva_zone!A:C,3,FALSE)","v":"B"}]
["06060","CT","A","standard",{"$f":"VLOOKUP(B1929,ceva_zone!A:B,2,FALSE)","v":"F"},{"$f":"VLOOKUP(B1929,ceva_zone!A:C,3,FALSE)","v":"B"}]
["06061","CT","B","standard",{"$f":"VLOOKUP(B1930,ceva_zone!A:B,2,FALSE)","v":"F"},{"$f":"VLOOKUP(B1930,ceva_zone!A:C,3,FALSE)","v":"B"}]
["06062","CT","C","standard",{"$f":"VLOOKUP(B1931,ceva_zone!A:B,2,FALSE)","v":"F"},{"$f":"VLOOKUP(B1931,ceva_zone!A:C,3,FALSE)","v":"B"}]
["06064","CT","A","standard",{"$f":"VLOOKUP(B1932,ceva_zone!A:B,2,FALSE)","v":"F"},{"$f":"VLOOKUP(B1932,ceva_zone!A:C,3,FALSE)","v":"B"}]
["06065","CT","B","standard",{"$f":"VLOOKUP(B1933,ceva_zone!A:B,2,FALSE)","v":"F"},{"$f":"VLOOKUP(B1933,ceva_zone!A:C,3,FALSE)","v":"B"}]
["06066","CT","C","standard",{"$f":"VLOOKUP(B1934,ceva_zone!A:B,2,FALSE)","v":"F"},{"$f":"VLOOKUP(B1934,ceva_zone!A:C,3,FALSE)","v":"B"}]
["06067","CT","C","standard",{"$f":"VLOOKUP(B1935,ceva_zone!A:B,2,FALSE)","v":"F"},{"$f":"VLOOKUP(B1935,ceva_zone!A:C,3,FALSE)","v":"B"}]
["06073","CT","C","standard",{"$f":"VLOOKUP(B1936,ceva_zone!A:B,2,FALSE)","v":"F"},{"$f":"VLOOKUP(B1936,ceva_zone!A:C,3,FALSE)","v":"B"}]
["06068","CT","D","standard",{"$f":"VLOOKUP(B1937,ceva_zone!A:B,2,FALSE)","v":"F"},{"$f":"VLOOKUP(B1937,ceva_zone!A:C,3,FALSE)","v":"B"}]
["06079","CT","D","standard",{"$f":"VLOOKUP(B1938,ceva_zone!A:B,2,FALSE)","v":"F"},{"$f":"VLOOKUP(B1938,ceva_zone!A:C,3,FALSE)","v":"B"}]
["06069","CT","E","remote",{"$f":"VLOOKUP(B1939,ceva_zone!A:B,2,FALSE)","v":"F"},{"$f":"VLOOKUP(B1939,ceva_zone!A:C,3,FALSE)","v":"B"}]
["06070","CT","A","standard",{"$f":"VLOOKUP(B1940,ceva_zone!A:B,2,FALSE)","v":"F"},{"$f":"VLOOKUP(B1940,ceva_zone!A:C,3,FALSE)","v":"B"}]
["06081","CT","A","standard",{"$f":"VLOOKUP(B1941,ceva_zone!A:B,2,FALSE)","v":"F"},{"$f":"VLOOKUP(B1941,ceva_zone!A:C,3,FALSE)","v":"B"}]
["06092","CT","B","standard",{"$f":"VLOOKUP(B1942,ceva_zone!A:B,2,FALSE)","v":"F"},{"$f":"VLOOKUP(B1942,ceva_zone!A:C,3,FALSE)","v":"B"}]
["06089","CT","B","standard",{"$f":"VLOOKUP(B1943,ceva_zone!A:B,2,FALSE)","v":"F"},{"$f":"VLOOKUP(B1943,ceva_zone!A:C,3,FALSE)","v":"B"}]
["06072","CT","B","standard",{"$f":"VLOOKUP(B1944,ceva_zone!A:B,2,FALSE)","v":"F"},{"$f":"VLOOKUP(B1944,ceva_zone!A:C,3,FALSE)","v":"B"}]
["06075","CT","C","standard",{"$f":"VLOOKUP(B1945,ceva_zone!A:B,2,FALSE)","v":"F"},{"$f":"VLOOKUP(B1945,ceva_zone!A:C,3,FALSE)","v":"B"}]
["06076","CT","C","standard",{"$f":"VLOOKUP(B1946,ceva_zone!A:B,2,FALSE)","v":"F"},{"$f":"VLOOKUP(B1946,ceva_zone!A:C,3,FALSE)","v":"B"}]
["06077","CT","C","standard",{"$f":"VLOOKUP(B1947,ceva_zone!A:B,2,FALSE)","v":"F"},{"$f":"VLOOKUP(B1947,ceva_zone!A:C,3,FALSE)","v":"B"}]
["06078","CT","A","standard",{"$f":"VLOOKUP(B1948,ceva_zone!A:B,2,FALSE)","v":"F"},{"$f":"VLOOKUP(B1948,ceva_zone!A:C,3,FALSE)","v":"B"}]
["06080","CT","A","standard",{"$f":"VLOOKUP(B1949,ceva_zone!A:B,2,FALSE)","v":"F"},{"$f":"VLOOKUP(B1949,ceva_zone!A:C,3,FALSE)","v":"B"}]
["06084","CT","C","standard",{"$f":"VLOOKUP(B1950,ceva_zone!A:B,2,FALSE)","v":"F"},{"$f":"VLOOKUP(B1950,ceva_zone!A:C,3,FALSE)","v":"B"}]
["06087","CT","C","standard",{"$f":"VLOOKUP(B1951,ceva_zone!A:B,2,FALSE)","v":"F"},{"$f":"VLOOKUP(B1951,ceva_zone!A:C,3,FALSE)","v":"B"}]
["06093","CT","A","standard",{"$f":"VLOOKUP(B1952,ceva_zone!A:B,2,FALSE)","v":"F"},{"$f":"VLOOKUP(B1952,ceva_zone!A:C,3,FALSE)","v":"B"}]
["06095","CT","A","standard",{"$f":"VLOOKUP(B1953,ceva_zone!A:B,2,FALSE)","v":"F"},{"$f":"VLOOKUP(B1953,ceva_zone!A:C,3,FALSE)","v":"B"}]
["06094","CT","C","standard",{"$f":"VLOOKUP(B1954,ceva_zone!A:B,2,FALSE)","v":"F"},{"$f":"VLOOKUP(B1954,ceva_zone!A:C,3,FALSE)","v":"B"}]
["06098","CT","B","standard",{"$f":"VLOOKUP(B1955,ceva_zone!A:B,2,FALSE)","v":"F"},{"$f":"VLOOKUP(B1955,ceva_zone!A:C,3,FALSE)","v":"B"}]
["06006","CT","A","standard",{"$f":"VLOOKUP(B1956,ceva_zone!A:B,2,FALSE)","v":"F"},{"$f":"VLOOKUP(B1956,ceva_zone!A:C,3,FALSE)","v":"B"}]
["06096","CT","A","standard",{"$f":"VLOOKUP(B1957,ceva_zone!A:B,2,FALSE)","v":"F"},{"$f":"VLOOKUP(B1957,ceva_zone!A:C,3,FALSE)","v":"B"}]
["06153","CT","B","standard",{"$f":"VLOOKUP(B1958,ceva_zone!A:B,2,FALSE)","v":"F"},{"$f":"VLOOKUP(B1958,ceva_zone!A:C,3,FALSE)","v":"B"}]
["06114","CT","B","standard",{"$f":"VLOOKUP(B1959,ceva_zone!A:B,2,FALSE)","v":"F"},{"$f":"VLOOKUP(B1959,ceva_zone!A:C,3,FALSE)","v":"B"}]
["06117","CT","B","standard",{"$f":"VLOOKUP(B1960,ceva_zone!A:B,2,FALSE)","v":"F"},{"$f":"VLOOKUP(B1960,ceva_zone!A:C,3,FALSE)","v":"B"}]
["06137","CT","B","standard",{"$f":"VLOOKUP(B1961,ceva_zone!A:B,2,FALSE)","v":"F"},{"$f":"VLOOKUP(B1961,ceva_zone!A:C,3,FALSE)","v":"B"}]
["06102","CT","B","standard",{"$f":"VLOOKUP(B1962,ceva_zone!A:B,2,FALSE)","v":"F"},{"$f":"VLOOKUP(B1962,ceva_zone!A:C,3,FALSE)","v":"B"}]
["06112","CT","B","standard",{"$f":"VLOOKUP(B1963,ceva_zone!A:B,2,FALSE)","v":"F"},{"$f":"VLOOKUP(B1963,ceva_zone!A:C,3,FALSE)","v":"B"}]
["06140","CT","B","standard",{"$f":"VLOOKUP(B1964,ceva_zone!A:B,2,FALSE)","v":"F"},{"$f":"VLOOKUP(B1964,ceva_zone!A:C,3,FALSE)","v":"B"}]
["06143","CT","B","standard",{"$f":"VLOOKUP(B1965,ceva_zone!A:B,2,FALSE)","v":"F"},{"$f":"VLOOKUP(B1965,ceva_zone!A:C,3,FALSE)","v":"B"}]
["06145","CT","B","standard",{"$f":"VLOOKUP(B1966,ceva_zone!A:B,2,FALSE)","v":"F"},{"$f":"VLOOKUP(B1966,ceva_zone!A:C,3,FALSE)","v":"B"}]
["06110","CT","B","standard",{"$f":"VLOOKUP(B1967,ceva_zone!A:B,2,FALSE)","v":"F"},{"$f":"VLOOKUP(B1967,ceva_zone!A:C,3,FALSE)","v":"B"}]
["06146","CT","B","standard",{"$f":"VLOOKUP(B1968,ceva_zone!A:B,2,FALSE)","v":"F"},{"$f":"VLOOKUP(B1968,ceva_zone!A:C,3,FALSE)","v":"B"}]
["06147","CT","B","standard",{"$f":"VLOOKUP(B1969,ceva_zone!A:B,2,FALSE)","v":"F"},{"$f":"VLOOKUP(B1969,ceva_zone!A:C,3,FALSE)","v":"B"}]
["06138","CT","B","standard",{"$f":"VLOOKUP(B1970,ceva_zone!A:B,2,FALSE)","v":"F"},{"$f":"VLOOKUP(B1970,ceva_zone!A:C,3,FALSE)","v":"B"}]
["06108","CT","B","standard",{"$f":"VLOOKUP(B1971,ceva_zone!A:B,2,FALSE)","v":"F"},{"$f":"VLOOKUP(B1971,ceva_zone!A:C,3,FALSE)","v":"B"}]
["06118","CT","B","standard",{"$f":"VLOOKUP(B1972,ceva_zone!A:B,2,FALSE)","v":"F"},{"$f":"VLOOKUP(B1972,ceva_zone!A:C,3,FALSE)","v":"B"}]
["06142","CT","B","standard",{"$f":"VLOOKUP(B1973,ceva_zone!A:B,2,FALSE)","v":"F"},{"$f":"VLOOKUP(B1973,ceva_zone!A:C,3,FALSE)","v":"B"}]
["06128","CT","B","standard",{"$f":"VLOOKUP(B1974,ceva_zone!A:B,2,FALSE)","v":"F"},{"$f":"VLOOKUP(B1974,ceva_zone!A:C,3,FALSE)","v":"B"}]
["06104","CT","B","standard",{"$f":"VLOOKUP(B1975,ceva_zone!A:B,2,FALSE)","v":"F"},{"$f":"VLOOKUP(B1975,ceva_zone!A:C,3,FALSE)","v":"B"}]
["06115","CT","B","standard",{"$f":"VLOOKUP(B1976,ceva_zone!A:B,2,FALSE)","v":"F"},{"$f":"VLOOKUP(B1976,ceva_zone!A:C,3,FALSE)","v":"B"}]
["06150","CT","B","standard",{"$f":"VLOOKUP(B1977,ceva_zone!A:B,2,FALSE)","v":"F"},{"$f":"VLOOKUP(B1977,ceva_zone!A:C,3,FALSE)","v":"B"}]
["06151","CT","B","standard",{"$f":"VLOOKUP(B1978,ceva_zone!A:B,2,FALSE)","v":"F"},{"$f":"VLOOKUP(B1978,ceva_zone!A:C,3,FALSE)","v":"B"}]
["06152","CT","B","standard",{"$f":"VLOOKUP(B1979,ceva_zone!A:B,2,FALSE)","v":"F"},{"$f":"VLOOKUP(B1979,ceva_zone!A:C,3,FALSE)","v":"B"}]
["06154","CT","B","standard",{"$f":"VLOOKUP(B1980,ceva_zone!A:B,2,FALSE)","v":"F"},{"$f":"VLOOKUP(B1980,ceva_zone!A:C,3,FALSE)","v":"B"}]
["06155","CT","B","standard",{"$f":"VLOOKUP(B1981,ceva_zone!A:B,2,FALSE)","v":"F"},{"$f":"VLOOKUP(B1981,ceva_zone!A:C,3,FALSE)","v":"B"}]
["06156","CT","B","standard",{"$f":"VLOOKUP(B1982,ceva_zone!A:B,2,FALSE)","v":"F"},{"$f":"VLOOKUP(B1982,ceva_zone!A:C,3,FALSE)","v":"B"}]
["06160","CT","B","standard",{"$f":"VLOOKUP(B1983,ceva_zone!A:B,2,FALSE)","v":"F"},{"$f":"VLOOKUP(B1983,ceva_zone!A:C,3,FALSE)","v":"B"}]
["06161","CT","B","standard",{"$f":"VLOOKUP(B1984,ceva_zone!A:B,2,FALSE)","v":"F"},{"$f":"VLOOKUP(B1984,ceva_zone!A:C,3,FALSE)","v":"B"}]
["06167","CT","B","standard",{"$f":"VLOOKUP(B1985,ceva_zone!A:B,2,FALSE)","v":"F"},{"$f":"VLOOKUP(B1985,ceva_zone!A:C,3,FALSE)","v":"B"}]
["06176","CT","B","standard",{"$f":"VLOOKUP(B1986,ceva_zone!A:B,2,FALSE)","v":"F"},{"$f":"VLOOKUP(B1986,ceva_zone!A:C,3,FALSE)","v":"B"}]
["06180","CT","B","standard",{"$f":"VLOOKUP(B1987,ceva_zone!A:B,2,FALSE)","v":"F"},{"$f":"VLOOKUP(B1987,ceva_zone!A:C,3,FALSE)","v":"B"}]
["06183","CT","B","standard",{"$f":"VLOOKUP(B1988,ceva_zone!A:B,2,FALSE)","v":"F"},{"$f":"VLOOKUP(B1988,ceva_zone!A:C,3,FALSE)","v":"B"}]
["06144","CT","B","standard",{"$f":"VLOOKUP(B1989,ceva_zone!A:B,2,FALSE)","v":"F"},{"$f":"VLOOKUP(B1989,ceva_zone!A:C,3,FALSE)","v":"B"}]
["06141","CT","B","standard",{"$f":"VLOOKUP(B1990,ceva_zone!A:B,2,FALSE)","v":"F"},{"$f":"VLOOKUP(B1990,ceva_zone!A:C,3,FALSE)","v":"B"}]
["06134","CT","B","standard",{"$f":"VLOOKUP(B1991,ceva_zone!A:B,2,FALSE)","v":"F"},{"$f":"VLOOKUP(B1991,ceva_zone!A:C,3,FALSE)","v":"B"}]
["06199","CT","B","standard",{"$f":"VLOOKUP(B1992,ceva_zone!A:B,2,FALSE)","v":"F"},{"$f":"VLOOKUP(B1992,ceva_zone!A:C,3,FALSE)","v":"B"}]
["06132","CT","B","standard",{"$f":"VLOOKUP(B1993,ceva_zone!A:B,2,FALSE)","v":"F"},{"$f":"VLOOKUP(B1993,ceva_zone!A:C,3,FALSE)","v":"B"}]
["06131","CT","C","standard",{"$f":"VLOOKUP(B1994,ceva_zone!A:B,2,FALSE)","v":"F"},{"$f":"VLOOKUP(B1994,ceva_zone!A:C,3,FALSE)","v":"B"}]
["06129","CT","B","standard",{"$f":"VLOOKUP(B1995,ceva_zone!A:B,2,FALSE)","v":"F"},{"$f":"VLOOKUP(B1995,ceva_zone!A:C,3,FALSE)","v":"B"}]
["06127","CT","B","standard",{"$f":"VLOOKUP(B1996,ceva_zone!A:B,2,FALSE)","v":"F"},{"$f":"VLOOKUP(B1996,ceva_zone!A:C,3,FALSE)","v":"B"}]
["06126","CT","B","standard",{"$f":"VLOOKUP(B1997,ceva_zone!A:B,2,FALSE)","v":"F"},{"$f":"VLOOKUP(B1997,ceva_zone!A:C,3,FALSE)","v":"B"}]
["06123","CT","B","standard",{"$f":"VLOOKUP(B1998,ceva_zone!A:B,2,FALSE)","v":"F"},{"$f":"VLOOKUP(B1998,ceva_zone!A:C,3,FALSE)","v":"B"}]
["06120","CT","B","standard",{"$f":"VLOOKUP(B1999,ceva_zone!A:B,2,FALSE)","v":"F"},{"$f":"VLOOKUP(B1999,ceva_zone!A:C,3,FALSE)","v":"B"}]
["06119","CT","B","standard",{"$f":"VLOOKUP(B2000,ceva_zone!A:B,2,FALSE)","v":"F"},{"$f":"VLOOKUP(B2000,ceva_zone!A:C,3,FALSE)","v":"B"}]
["06234","CT","E","remote",{"$f":"VLOOKUP(B2015,ceva_zone!A:B,2,FALSE)","v":"F"},{"$f":"VLOOKUP(B2015,ceva_zone!A:C,3,FALSE)","v":"B"}]
["06241","CT","E","remote",{"$f":"VLOOKUP(B2021,ceva_zone!A:B,2,FALSE)","v":"F"},{"$f":"VLOOKUP(B2021,ceva_zone!A:C,3,FALSE)","v":"B"}]
["06262","CT","F","remote",{"$f":"VLOOKUP(B2040,ceva_zone!A:B,2,FALSE)","v":"F"},{"$f":"VLOOKUP(B2040,ceva_zone!A:C,3,FALSE)","v":"B"}]
["06353","CT","F","remote",{"$f":"VLOOKUP(B2070,ceva_zone!A:B,2,FALSE)","v":"F"},{"$f":"VLOOKUP(B2070,ceva_zone!A:C,3,FALSE)","v":"B"}]
["06382","CT","F","remote",{"$f":"VLOOKUP(B2085,ceva_zone!A:B,2,FALSE)","v":"F"},{"$f":"VLOOKUP(B2085,ceva_zone!A:C,3,FALSE)","v":"B"}]
["06420","CT","D","standard",{"$f":"VLOOKUP(B2104,ceva_zone!A:B,2,FALSE)","v":"F"},{"$f":"VLOOKUP(B2104,ceva_zone!A:C,3,FALSE)","v":"B"}]
["06441","CT","D","standard",{"$f":"VLOOKUP(B2119,ceva_zone!A:B,2,FALSE)","v":"F"},{"$f":"VLOOKUP(B2119,ceva_zone!A:C,3,FALSE)","v":"B"}]
["06489","CT","D","standard",{"$f":"VLOOKUP(B2149,ceva_zone!A:B,2,FALSE)","v":"F"},{"$f":"VLOOKUP(B2149,ceva_zone!A:C,3,FALSE)","v":"B"}]
["06495","CT","D","standard",{"$f":"VLOOKUP(B2155,ceva_zone!A:B,2,FALSE)","v":"F"},{"$f":"VLOOKUP(B2155,ceva_zone!A:C,3,FALSE)","v":"B"}]
["06538","CT","D","standard",{"$f":"VLOOKUP(B2174,ceva_zone!A:B,2,FALSE)","v":"F"},{"$f":"VLOOKUP(B2174,ceva_zone!A:C,3,FALSE)","v":"B"}]
["06755","CT","F","remote",{"$f":"VLOOKUP(B2212,ceva_zone!A:B,2,FALSE)","v":"F"},{"$f":"VLOOKUP(B2212,ceva_zone!A:C,3,FALSE)","v":"B"}]
["06762","CT","D","standard",{"$f":"VLOOKUP(B2219,ceva_zone!A:B,2,FALSE)","v":"F"},{"$f":"VLOOKUP(B2219,ceva_zone!A:C,3,FALSE)","v":"B"}]
["06793","CT","D","standard",{"$f":"VLOOKUP(B2238,ceva_zone!A:B,2,FALSE)","v":"F"},{"$f":"VLOOKUP(B2238,ceva_zone!A:C,3,FALSE)","v":"B"}]
["06816","CT","F","remote",{"$f":"VLOOKUP(B2261,ceva_zone!A:B,2,FALSE)","v":"F"},{"$f":"VLOOKUP(B2261,ceva_zone!A:C,3,FALSE)","v":"B"}]
["06859","CT","H","remote",{"$f":"VLOOKUP(B2283,ceva_zone!A:B,2,FALSE)","v":"F"},{"$f":"VLOOKUP(B2283,ceva_zone!A:C,3,FALSE)","v":"B"}]
["06905","CT","H","remote",{"$f":"VLOOKUP(B2302,ceva_zone!A:B,2,FALSE)","v":"F"},{"$f":"VLOOKUP(B2302,ceva_zone!A:C,3,FALSE)","v":"B"}]
["07087","NJ","C","standard",{"$f":"VLOOKUP(B2326,ceva_zone!A:B,2,FALSE)","v":"F"},{"$f":"VLOOKUP(B2326,ceva_zone!A:C,3,FALSE)","v":"A"}]
["07073","NJ","C","standard",{"$f":"VLOOKUP(B2347,ceva_zone!A:B,2,FALSE)","v":"F"},{"$f":"VLOOKUP(B2347,ceva_zone!A:C,3,FALSE)","v":"A"}]
["07039","NJ","D","standard",{"$f":"VLOOKUP(B2366,ceva_zone!A:B,2,FALSE)","v":"F"},{"$f":"VLOOKUP(B2366,ceva_zone!A:C,3,FALSE)","v":"A"}]
["07043","NJ","C","standard",{"$f":"VLOOKUP(B2372,ceva_zone!A:B,2,FALSE)","v":"F"},{"$f":"VLOOKUP(B2372,ceva_zone!A:C,3,FALSE)","v":"A"}]
["07052","NJ","C","standard",{"$f":"VLOOKUP(B2399,ceva_zone!A:B,2,FALSE)","v":"F"},{"$f":"VLOOKUP(B2399,ceva_zone!A:C,3,FALSE)","v":"A"}]
["07103","NJ","C","standard",{"$f":"VLOOKUP(B2417,ceva_zone!A:B,2,FALSE)","v":"F"},{"$f":"VLOOKUP(B2417,ceva_zone!A:C,3,FALSE)","v":"A"}]
["07206","NJ","B","standard",{"$f":"VLOOKUP(B2436,ceva_zone!A:B,2,FALSE)","v":"F"},{"$f":"VLOOKUP(B2436,ceva_zone!A:C,3,FALSE)","v":"A"}]
["07303","NJ","C","standard",{"$f":"VLOOKUP(B2448,ceva_zone!A:B,2,FALSE)","v":"F"},{"$f":"VLOOKUP(B2448,ceva_zone!A:C,3,FALSE)","v":"A"}]
["07465","NJ","D","standard",{"$f":"VLOOKUP(B2481,ceva_zone!A:B,2,FALSE)","v":"F"},{"$f":"VLOOKUP(B2481,ceva_zone!A:C,3,FALSE)","v":"A"}]
["07511","NJ","D","standard",{"$f":"VLOOKUP(B2500,ceva_zone!A:B,2,FALSE)","v":"F"},{"$f":"VLOOKUP(B2500,ceva_zone!A:C,3,FALSE)","v":"A"}]
["07624","NJ","D","standard",{"$f":"VLOOKUP(B2517,ceva_zone!A:B,2,FALSE)","v":"F"},{"$f":"VLOOKUP(B2517,ceva_zone!A:C,3,FALSE)","v":"A"}]
["07640","NJ","D","standard",{"$f":"VLOOKUP(B2526,ceva_zone!A:B,2,FALSE)","v":"F"},{"$f":"VLOOKUP(B2526,ceva_zone!A:C,3,FALSE)","v":"A"}]
["07660","NJ","C","standard",{"$f":"VLOOKUP(B2545,ceva_zone!A:B,2,FALSE)","v":"F"},{"$f":"VLOOKUP(B2545,ceva_zone!A:C,3,FALSE)","v":"A"}]
["07721","NJ","B","standard",{"$f":"VLOOKUP(B2570,ceva_zone!A:B,2,FALSE)","v":"F"},{"$f":"VLOOKUP(B2570,ceva_zone!A:C,3,FALSE)","v":"A"}]
["07733","NJ","B","standard",{"$f":"VLOOKUP(B2586,ceva_zone!A:B,2,FALSE)","v":"F"},{"$f":"VLOOKUP(B2586,ceva_zone!A:C,3,FALSE)","v":"A"}]
["07825","NJ","E","remote",{"$f":"VLOOKUP(B2609,ceva_zone!A:B,2,FALSE)","v":"F"},{"$f":"VLOOKUP(B2609,ceva_zone!A:C,3,FALSE)","v":"A"}]
["07846","NJ","E","remote",{"$f":"VLOOKUP(B2634,ceva_zone!A:B,2,FALSE)","v":"F"},{"$f":"VLOOKUP(B2634,ceva_zone!A:C,3,FALSE)","v":"A"}]
["07877","NJ","E","remote",{"$f":"VLOOKUP(B2655,ceva_zone!A:B,2,FALSE)","v":"F"},{"$f":"VLOOKUP(B2655,ceva_zone!A:C,3,FALSE)","v":"A"}]
["07961","NJ","C","standard",{"$f":"VLOOKUP(B2673,ceva_zone!A:B,2,FALSE)","v":"F"},{"$f":"VLOOKUP(B2673,ceva_zone!A:C,3,FALSE)","v":"A"}]
["07935","NJ","C","standard",{"$f":"VLOOKUP(B2679,ceva_zone!A:B,2,FALSE)","v":"F"},{"$f":"VLOOKUP(B2679,ceva_zone!A:C,3,FALSE)","v":"A"}]
["08001","NJ","D","standard",{"$f":"VLOOKUP(B2698,ceva_zone!A:B,2,FALSE)","v":"F"},{"$f":"VLOOKUP(B2698,ceva_zone!A:C,3,FALSE)","v":"A"}]
["08018","NJ","D","standard",{"$f":"VLOOKUP(B2724,ceva_zone!A:B,2,FALSE)","v":"F"},{"$f":"VLOOKUP(B2724,ceva_zone!A:C,3,FALSE)","v":"A"}]
["08029","NJ","D","standard",{"$f":"VLOOKUP(B2743,ceva_zone!A:B,2,FALSE)","v":"F"},{"$f":"VLOOKUP(B2743,ceva_zone!A:C,3,FALSE)","v":"A"}]
["08055","NJ","G","remote",{"$f":"VLOOKUP(B2762,ceva_zone!A:B,2,FALSE)","v":"F"},{"$f":"VLOOKUP(B2762,ceva_zone!A:C,3,FALSE)","v":"A"}]
["08070","NJ","C","standard",{"$f":"VLOOKUP(B2773,ceva_zone!A:B,2,FALSE)","v":"F"},{"$f":"VLOOKUP(B2773,ceva_zone!A:C,3,FALSE)","v":"A"}]
["08212","NJ","Y","remote",{"$f":"VLOOKUP(B2807,ceva_zone!A:B,2,FALSE)","v":"F"},{"$f":"VLOOKUP(B2807,ceva_zone!A:C,3,FALSE)","v":"A"}]
["08234","NJ","Y","remote",{"$f":"VLOOKUP(B2813,ceva_zone!A:B,2,FALSE)","v":"F"},{"$f":"VLOOKUP(B2813,ceva_zone!A:C,3,FALSE)","v":"A"}]
["08312","NJ","D","standard",{"$f":"VLOOKUP(B2842,ceva_zone!A:B,2,FALSE)","v":"F"},{"$f":"VLOOKUP(B2842,ceva_zone!A:C,3,FALSE)","v":"A"}]
["08322","NJ","D","standard",{"$f":"VLOOKUP(B2852,ceva_zone!A:B,2,FALSE)","v":"F"},{"$f":"VLOOKUP(B2852,ceva_zone!A:C,3,FALSE)","v":"A"}]
["08404","NJ","Y","remote",{"$f":"VLOOKUP(B2877,ceva_zone!A:B,2,FALSE)","v":"F"},{"$f":"VLOOKUP(B2877,ceva_zone!A:C,3,FALSE)","v":"A"}]
["08528","NJ","B","standard",{"$f":"VLOOKUP(B2896,ceva_zone!A:B,2,FALSE)","v":"F"},{"$f":"VLOOKUP(B2896,ceva_zone!A:C,3,FALSE)","v":"A"}]
["08560","NJ","Y","remote",{"$f":"VLOOKUP(B2915,ceva_zone!A:B,2,FALSE)","v":"F"},{"$f":"VLOOKUP(B2915,ceva_zone!A:C,3,FALSE)","v":"A"}]
["08607","NJ","Y","remote",{"$f":"VLOOKUP(B2941,ceva_zone!A:B,2,FALSE)","v":"F"},{"$f":"VLOOKUP(B2941,ceva_zone!A:C,3,FALSE)","v":"A"}]
["08733","NJ","D","standard",{"$f":"VLOOKUP(B2960,ceva_zone!A:B,2,FALSE)","v":"F"},{"$f":"VLOOKUP(B2960,ceva_zone!A:C,3,FALSE)","v":"A"}]
["08804","NJ","D","standard",{"$f":"VLOOKUP(B2980,ceva_zone!A:B,2,FALSE)","v":"F"},{"$f":"VLOOKUP(B2980,ceva_zone!A:C,3,FALSE)","v":"A"}]
["08810","NJ","B","standard",{"$f":"VLOOKUP(B2986,ceva_zone!A:B,2,FALSE)","v":"F"},{"$f":"VLOOKUP(B2986,ceva_zone!A:C,3,FALSE)","v":"A"}]
["08830","NJ","A","standard",{"$f":"VLOOKUP(B3005,ceva_zone!A:B,2,FALSE)","v":"F"},{"$f":"VLOOKUP(B3005,ceva_zone!A:C,3,FALSE)","v":"A"}]
["08870","NJ","B","standard",{"$f":"VLOOKUP(B3029,ceva_zone!A:B,2,FALSE)","v":"F"},{"$f":"VLOOKUP(B3029,ceva_zone!A:C,3,FALSE)","v":"A"}]
["08905","NJ","A","standard",{"$f":"VLOOKUP(B3050,ceva_zone!A:B,2,FALSE)","v":"F"},{"$f":"VLOOKUP(B3050,ceva_zone!A:C,3,FALSE)","v":"A"}]
["10011","NY","D","standard",{"$f":"VLOOKUP(B3075,ceva_zone!A:B,2,FALSE)","v":"F"},{"$f":"VLOOKUP(B3075,ceva_zone!A:C,3,FALSE)","v":"A"}]
["10069","NY","D","standard",{"$f":"VLOOKUP(B3094,ceva_zone!A:B,2,FALSE)","v":"F"},{"$f":"VLOOKUP(B3094,ceva_zone!A:C,3,FALSE)","v":"A"}]
["10015","NY","D","standard",{"$f":"VLOOKUP(B3102,ceva_zone!A:B,2,FALSE)","v":"F"},{"$f":"VLOOKUP(B3102,ceva_zone!A:C,3,FALSE)","v":"A"}]
["10156","NY","D","standard",{"$f":"VLOOKUP(B3120,ceva_zone!A:B,2,FALSE)","v":"F"},{"$f":"VLOOKUP(B3120,ceva_zone!A:C,3,FALSE)","v":"A"}]
["10121","NY","D","standard",{"$f":"VLOOKUP(B3139,ceva_zone!A:B,2,FALSE)","v":"F"},{"$f":"VLOOKUP(B3139,ceva_zone!A:C,3,FALSE)","v":"A"}]
["10171","NY","D","standard",{"$f":"VLOOKUP(B3171,ceva_zone!A:B,2,FALSE)","v":"F"},{"$f":"VLOOKUP(B3171,ceva_zone!A:C,3,FALSE)","v":"A"}]
["10203","NY","C","standard",{"$f":"VLOOKUP(B3184,ceva_zone!A:B,2,FALSE)","v":"F"},{"$f":"VLOOKUP(B3184,ceva_zone!A:C,3,FALSE)","v":"A"}]
["10274","NY","C","standard",{"$f":"VLOOKUP(B3203,ceva_zone!A:B,2,FALSE)","v":"F"},{"$f":"VLOOKUP(B3203,ceva_zone!A:C,3,FALSE)","v":"A"}]
["10302","NY","B","standard",{"$f":"VLOOKUP(B3216,ceva_zone!A:B,2,FALSE)","v":"F"},{"$f":"VLOOKUP(B3216,ceva_zone!A:C,3,FALSE)","v":"A"}]
["10470","NY","E","remote",{"$f":"VLOOKUP(B3248,ceva_zone!A:B,2,FALSE)","v":"F"},{"$f":"VLOOKUP(B3248,ceva_zone!A:C,3,FALSE)","v":"A"}]
["10512","NY","Y","remote",{"$f":"VLOOKUP(B3267,ceva_zone!A:B,2,FALSE)","v":"F"},{"$f":"VLOOKUP(B3267,ceva_zone!A:C,3,FALSE)","v":"A"}]
["10590","NY","Y","remote",{"$f":"VLOOKUP(B3292,ceva_zone!A:B,2,FALSE)","v":"F"},{"$f":"VLOOKUP(B3292,ceva_zone!A:C,3,FALSE)","v":"A"}]
["10570","NY","Y","remote",{"$f":"VLOOKUP(B3309,ceva_zone!A:B,2,FALSE)","v":"F"},{"$f":"VLOOKUP(B3309,ceva_zone!A:C,3,FALSE)","v":"A"}]
["10601","NY","Y","remote",{"$f":"VLOOKUP(B3331,ceva_zone!A:B,2,FALSE)","v":"F"},{"$f":"VLOOKUP(B3331,ceva_zone!A:C,3,FALSE)","v":"A"}]
["10703","NY","E","remote",{"$f":"VLOOKUP(B3337,ceva_zone!A:B,2,FALSE)","v":"F"},{"$f":"VLOOKUP(B3337,ceva_zone!A:C,3,FALSE)","v":"A"}]
["10918","NY","Y","remote",{"$f":"VLOOKUP(B3358,ceva_zone!A:B,2,FALSE)","v":"F"},{"$f":"VLOOKUP(B3358,ceva_zone!A:C,3,FALSE)","v":"A"}]
["10952","NY","E","remote",{"$f":"VLOOKUP(B3382,ceva_zone!A:B,2,FALSE)","v":"F"},{"$f":"VLOOKUP(B3382,ceva_zone!A:C,3,FALSE)","v":"A"}]
["10984","NY","E","remote",{"$f":"VLOOKUP(B3401,ceva_zone!A:B,2,FALSE)","v":"F"},{"$f":"VLOOKUP(B3401,ceva_zone!A:C,3,FALSE)","v":"A"}]
["11001","NY","B","standard",{"$f":"VLOOKUP(B3420,ceva_zone!A:B,2,FALSE)","v":"F"},{"$f":"VLOOKUP(B3420,ceva_zone!A:C,3,FALSE)","v":"A"}]
["11109","NY","B","standard",{"$f":"VLOOKUP(B3447,ceva_zone!A:B,2,FALSE)","v":"F"},{"$f":"VLOOKUP(B3447,ceva_zone!A:C,3,FALSE)","v":"A"}]
["11218","NY","C","standard",{"$f":"VLOOKUP(B3465,ceva_zone!A:B,2,FALSE)","v":"F"},{"$f":"VLOOKUP(B3465,ceva_zone!A:C,3,FALSE)","v":"A"}]
["11224","NY","C","standard",{"$f":"VLOOKUP(B3471,ceva_zone!A:B,2,FALSE)","v":"F"},{"$f":"VLOOKUP(B3471,ceva_zone!A:C,3,FALSE)","v":"A"}]
["11201","NY","C","standard",{"$f":"VLOOKUP(B3496,ceva_zone!A:B,2,FALSE)","v":"F"},{"$f":"VLOOKUP(B3496,ceva_zone!A:C,3,FALSE)","v":"A"}]
["11373","NY","B","standard",{"$f":"VLOOKUP(B3510,ceva_zone!A:B,2,FALSE)","v":"F"},{"$f":"VLOOKUP(B3510,ceva_zone!A:C,3,FALSE)","v":"A"}]
["11423","NY","B","standard",{"$f":"VLOOKUP(B3535,ceva_zone!A:B,2,FALSE)","v":"F"},{"$f":"VLOOKUP(B3535,ceva_zone!A:C,3,FALSE)","v":"A"}]
["11430","NY","A","standard",{"$f":"VLOOKUP(B3545,ceva_zone!A:B,2,FALSE)","v":"F"},{"$f":"VLOOKUP(B3545,ceva_zone!A:C,3,FALSE)","v":"A"}]
["11536","NY","B","standard",{"$f":"VLOOKUP(B3574,ceva_zone!A:B,2,FALSE)","v":"F"},{"$f":"VLOOKUP(B3574,ceva_zone!A:C,3,FALSE)","v":"A"}]
["11501","NY","B","standard",{"$f":"VLOOKUP(B3599,ceva_zone!A:B,2,FALSE)","v":"F"},{"$f":"VLOOKUP(B3599,ceva_zone!A:C,3,FALSE)","v":"A"}]
["11690","NY","A","standard",{"$f":"VLOOKUP(B3618,ceva_zone!A:B,2,FALSE)","v":"F"},{"$f":"VLOOKUP(B3618,ceva_zone!A:C,3,FALSE)","v":"A"}]
["11709","NY","C","standard",{"$f":"VLOOKUP(B3634,ceva_zone!A:B,2,FALSE)","v":"F"},{"$f":"VLOOKUP(B3634,ceva_zone!A:C,3,FALSE)","v":"A"}]
["11780","NY","D","standard",{"$f":"VLOOKUP(B3644,ceva_zone!A:B,2,FALSE)","v":"F"},{"$f":"VLOOKUP(B3644,ceva_zone!A:C,3,FALSE)","v":"A"}]
["11735","NY","B","standard",{"$f":"VLOOKUP(B3663,ceva_zone!A:B,2,FALSE)","v":"F"},{"$f":"VLOOKUP(B3663,ceva_zone!A:C,3,FALSE)","v":"A"}]
["11755","NY","D","standard",{"$f":"VLOOKUP(B3683,ceva_zone!A:B,2,FALSE)","v":"F"},{"$f":"VLOOKUP(B3683,ceva_zone!A:C,3,FALSE)","v":"A"}]
["11797","NY","B","standard",{"$f":"VLOOKUP(B3708,ceva_zone!A:B,2,FALSE)","v":"F"},{"$f":"VLOOKUP(B3708,ceva_zone!A:C,3,FALSE)","v":"A"}]
["11980","NY","E","remote",{"$f":"VLOOKUP(B3727,ceva_zone!A:B,2,FALSE)","v":"F"},{"$f":"VLOOKUP(B3727,ceva_zone!A:C,3,FALSE)","v":"A"}]
["11978","NY","Y","remote",{"$f":"VLOOKUP(B3752,ceva_zone!A:B,2,FALSE)","v":"F"},{"$f":"VLOOKUP(B3752,ceva_zone!A:C,3,FALSE)","v":"A"}]
["53502","WI","Y","remote",{"$f":"VLOOKUP(B3772,ceva_zone!A:B,2,FALSE)","v":"E"},{"$f":"VLOOKUP(B3772,ceva_zone!A:C,3,FALSE)","v":"C"}]
["53508","WI","Y","remote",{"$f":"VLOOKUP(B3778,ceva_zone!A:B,2,FALSE)","v":"E"},{"$f":"VLOOKUP(B3778,ceva_zone!A:C,3,FALSE)","v":"C"}]
["53531","WI","B","standard",{"$f":"VLOOKUP(B3797,ceva_zone!A:B,2,FALSE)","v":"E"},{"$f":"VLOOKUP(B3797,ceva_zone!A:C,3,FALSE)","v":"C"}]
["53557","WI","E","remote",{"$f":"VLOOKUP(B3825,ceva_zone!A:B,2,FALSE)","v":"E"},{"$f":"VLOOKUP(B3825,ceva_zone!A:C,3,FALSE)","v":"C"}]
["53578","WI","Y","remote",{"$f":"VLOOKUP(B3842,ceva_zone!A:B,2,FALSE)","v":"E"},{"$f":"VLOOKUP(B3842,ceva_zone!A:C,3,FALSE)","v":"C"}]
["53705","WI","F","remote",{"$f":"VLOOKUP(B3861,ceva_zone!A:B,2,FALSE)","v":"E"},{"$f":"VLOOKUP(B3861,ceva_zone!A:C,3,FALSE)","v":"C"}]
["53701","WI","F","remote",{"$f":"VLOOKUP(B3890,ceva_zone!A:B,2,FALSE)","v":"E"},{"$f":"VLOOKUP(B3890,ceva_zone!A:C,3,FALSE)","v":"C"}]
["53818","WI","Y","remote",{"$f":"VLOOKUP(B3906,ceva_zone!A:B,2,FALSE)","v":"E"},{"$f":"VLOOKUP(B3906,ceva_zone!A:C,3,FALSE)","v":"C"}]
["53929","WI","Y","remote",{"$f":"VLOOKUP(B3925,ceva_zone!A:B,2,FALSE)","v":"E"},{"$f":"VLOOKUP(B3925,ceva_zone!A:C,3,FALSE)","v":"C"}]
["53935","WI","Y","remote",{"$f":"VLOOKUP(B3931,ceva_zone!A:B,2,FALSE)","v":"E"},{"$f":"VLOOKUP(B3931,ceva_zone!A:C,3,FALSE)","v":"C"}]
["54017","WI","E","remote",{"$f":"VLOOKUP(B3963,ceva_zone!A:B,2,FALSE)","v":"E"},{"$f":"VLOOKUP(B3963,ceva_zone!A:C,3,FALSE)","v":"C"}]
["54005","WI","E","remote",{"$f":"VLOOKUP(B3970,ceva_zone!A:B,2,FALSE)","v":"E"},{"$f":"VLOOKUP(B3970,ceva_zone!A:C,3,FALSE)","v":"C"}]
["54156","WI","Y","remote",{"$f":"VLOOKUP(B3995,ceva_zone!A:B,2,FALSE)","v":"E"},{"$f":"VLOOKUP(B3995,ceva_zone!A:C,3,FALSE)","v":"C"}]
["54126","WI","Y","remote",{"$f":"VLOOKUP(B4012,ceva_zone!A:B,2,FALSE)","v":"E"},{"$f":"VLOOKUP(B4012,ceva_zone!A:C,3,FALSE)","v":"C"}]
["54173","WI","Y","remote",{"$f":"VLOOKUP(B4040,ceva_zone!A:B,2,FALSE)","v":"E"},{"$f":"VLOOKUP(B4040,ceva_zone!A:C,3,FALSE)","v":"C"}]
["54215","WI","F","remote",{"$f":"VLOOKUP(B4059,ceva_zone!A:B,2,FALSE)","v":"E"},{"$f":"VLOOKUP(B4059,ceva_zone!A:C,3,FALSE)","v":"C"}]
["54305","WI","G","remote",{"$f":"VLOOKUP(B4081,ceva_zone!A:B,2,FALSE)","v":"E"},{"$f":"VLOOKUP(B4081,ceva_zone!A:C,3,FALSE)","v":"C"}]
["54302","WI","Y","remote",{"$f":"VLOOKUP(B4085,ceva_zone!A:B,2,FALSE)","v":"E"},{"$f":"VLOOKUP(B4085,ceva_zone!A:C,3,FALSE)","v":"C"}]
["54487","WI","Y","remote",{"$f":"VLOOKUP(B4104,ceva_zone!A:B,2,FALSE)","v":"E"},{"$f":"VLOOKUP(B4104,ceva_zone!A:C,3,FALSE)","v":"C"}]
["54427","WI","Y","remote",{"$f":"VLOOKUP(B4129,ceva_zone!A:B,2,FALSE)","v":"E"},{"$f":"VLOOKUP(B4129,ceva_zone!A:C,3,FALSE)","v":"C"}]
["54450","WI","Y","remote",{"$f":"VLOOKUP(B4150,ceva_zone!A:B,2,FALSE)","v":"E"},{"$f":"VLOOKUP(B4150,ceva_zone!A:C,3,FALSE)","v":"C"}]
["54488","WI","Y","remote",{"$f":"VLOOKUP(B4168,ceva_zone!A:B,2,FALSE)","v":"E"},{"$f":"VLOOKUP(B4168,ceva_zone!A:C,3,FALSE)","v":"C"}]
["54552","WI","Y","remote",{"$f":"VLOOKUP(B4193,ceva_zone!A:B,2,FALSE)","v":"E"},{"$f":"VLOOKUP(B4193,ceva_zone!A:C,3,FALSE)","v":"C"}]
["54563","WI","Y","remote",{"$f":"VLOOKUP(B4219,ceva_zone!A:B,2,FALSE)","v":"E"},{"$f":"VLOOKUP(B4219,ceva_zone!A:C,3,FALSE)","v":"C"}]
["54637","WI","Y","remote",{"$f":"VLOOKUP(B4232,ceva_zone!A:B,2,FALSE)","v":"E"},{"$f":"VLOOKUP(B4232,ceva_zone!A:C,3,FALSE)","v":"C"}]
["54644","WI","Y","remote",{"$f":"VLOOKUP(B4257,ceva_zone!A:B,2,FALSE)","v":"E"},{"$f":"VLOOKUP(B4257,ceva_zone!A:C,3,FALSE)","v":"C"}]
["54657","WI","Y","remote",{"$f":"VLOOKUP(B4268,ceva_zone!A:B,2,FALSE)","v":"E"},{"$f":"VLOOKUP(B4268,ceva_zone!A:C,3,FALSE)","v":"C"}]
["54722","WI","Y","remote",{"$f":"VLOOKUP(B4283,ceva_zone!A:B,2,FALSE)","v":"E"},{"$f":"VLOOKUP(B4283,ceva_zone!A:C,3,FALSE)","v":"C"}]
["54703","WI","H","remote",{"$f":"VLOOKUP(B4302,ceva_zone!A:B,2,FALSE)","v":"E"},{"$f":"VLOOKUP(B4302,ceva_zone!A:C,3,FALSE)","v":"C"}]
["54759","WI","E","remote",{"$f":"VLOOKUP(B4321,ceva_zone!A:B,2,FALSE)","v":"E"},{"$f":"VLOOKUP(B4321,ceva_zone!A:C,3,FALSE)","v":"C"}]
["54873","WI","Y","remote",{"$f":"VLOOKUP(B4337,ceva_zone!A:B,2,FALSE)","v":"E"},{"$f":"VLOOKUP(B4337,ceva_zone!A:C,3,FALSE)","v":"C"}]
["54842","WI","Y","remote",{"$f":"VLOOKUP(B4366,ceva_zone!A:B,2,FALSE)","v":"E"},{"$f":"VLOOKUP(B4366,ceva_zone!A:C,3,FALSE)","v":"C"}]
["54865","WI","H","remote",{"$f":"VLOOKUP(B4385,ceva_zone!A:B,2,FALSE)","v":"E"},{"$f":"VLOOKUP(B4385,ceva_zone!A:C,3,FALSE)","v":"C"}]
["54919","WI","Y","remote",{"$f":"VLOOKUP(B4406,ceva_zone!A:B,2,FALSE)","v":"E"},{"$f":"VLOOKUP(B4406,ceva_zone!A:C,3,FALSE)","v":"C"}]
["54947","WI","Y","remote",{"$f":"VLOOKUP(B4430,ceva_zone!A:B,2,FALSE)","v":"E"},{"$f":"VLOOKUP(B4430,ceva_zone!A:C,3,FALSE)","v":"C"}]
["54956","WI","Y","remote",{"$f":"VLOOKUP(B4436,ceva_zone!A:B,2,FALSE)","v":"E"},{"$f":"VLOOKUP(B4436,ceva_zone!A:C,3,FALSE)","v":"C"}]
["54976","WI","Y","remote",{"$f":"VLOOKUP(B4455,ceva_zone!A:B,2,FALSE)","v":"E"},{"$f":"VLOOKUP(B4455,ceva_zone!A:C,3,FALSE)","v":"C"}]
["55007","MN","F","remote",{"$f":"VLOOKUP(B4475,ceva_zone!A:B,2,FALSE)","v":"E"},{"$f":"VLOOKUP(B4475,ceva_zone!A:C,3,FALSE)","v":"C"}]
["55029","MN","E","remote",{"$f":"VLOOKUP(B4500,ceva_zone!A:B,2,FALSE)","v":"E"},{"$f":"VLOOKUP(B4500,ceva_zone!A:C,3,FALSE)","v":"C"}]
["55046","MN","D","standard",{"$f":"VLOOKUP(B4519,ceva_zone!A:B,2,FALSE)","v":"E"},{"$f":"VLOOKUP(B4519,ceva_zone!A:C,3,FALSE)","v":"C"}]
["55122","MN","A","standard",{"$f":"VLOOKUP(B4544,ceva_zone!A:B,2,FALSE)","v":"E"},{"$f":"VLOOKUP(B4544,ceva_zone!A:C,3,FALSE)","v":"C"}]
["55155","MN","A","standard",{"$f":"VLOOKUP(B4564,ceva_zone!A:B,2,FALSE)","v":"E"},{"$f":"VLOOKUP(B4564,ceva_zone!A:C,3,FALSE)","v":"C"}]
["55168","MN","A","standard",{"$f":"VLOOKUP(B4583,ceva_zone!A:B,2,FALSE)","v":"E"},{"$f":"VLOOKUP(B4583,ceva_zone!A:C,3,FALSE)","v":"C"}]
["55307","MN","F","remote",{"$f":"VLOOKUP(B4593,ceva_zone!A:B,2,FALSE)","v":"E"},{"$f":"VLOOKUP(B4593,ceva_zone!A:C,3,FALSE)","v":"C"}]
["55321","MN","D","standard",{"$f":"VLOOKUP(B4609,ceva_zone!A:B,2,FALSE)","v":"E"},{"$f":"VLOOKUP(B4609,ceva_zone!A:C,3,FALSE)","v":"C"}]
["55329","MN","F","remote",{"$f":"VLOOKUP(B4628,ceva_zone!A:B,2,FALSE)","v":"E"},{"$f":"VLOOKUP(B4628,ceva_zone!A:C,3,FALSE)","v":"C"}]
["55361","MN","B","standard",{"$f":"VLOOKUP(B4653,ceva_zone!A:B,2,FALSE)","v":"E"},{"$f":"VLOOKUP(B4653,ceva_zone!A:C,3,FALSE)","v":"C"}]
["55376","MN","F","remote",{"$f":"VLOOKUP(B4666,ceva_zone!A:B,2,FALSE)","v":"E"},{"$f":"VLOOKUP(B4666,ceva_zone!A:C,3,FALSE)","v":"C"}]
["55444","MN","B","standard",{"$f":"VLOOKUP(B4698,ceva_zone!A:B,2,FALSE)","v":"E"},{"$f":"VLOOKUP(B4698,ceva_zone!A:C,3,FALSE)","v":"C"}]
["55405","MN","A","standard",{"$f":"VLOOKUP(B4717,ceva_zone!A:B,2,FALSE)","v":"E"},{"$f":"VLOOKUP(B4717,ceva_zone!A:C,3,FALSE)","v":"C"}]
["55450","MN","A","standard",{"$f":"VLOOKUP(B4735,ceva_zone!A:B,2,FALSE)","v":"E"},{"$f":"VLOOKUP(B4735,ceva_zone!A:C,3,FALSE)","v":"C"}]
["55479","MN","A","standard",{"$f":"VLOOKUP(B4743,ceva_zone!A:B,2,FALSE)","v":"E"},{"$f":"VLOOKUP(B4743,ceva_zone!A:C,3,FALSE)","v":"C"}]
["55558","MN","D","standard",{"$f":"VLOOKUP(B4762,ceva_zone!A:B,2,FALSE)","v":"E"},{"$f":"VLOOKUP(B4762,ceva_zone!A:C,3,FALSE)","v":"C"}]
["55711","MN","Y","remote",{"$f":"VLOOKUP(B4780,ceva_zone!A:B,2,FALSE)","v":"E"},{"$f":"VLOOKUP(B4780,ceva_zone!A:C,3,FALSE)","v":"C"}]
["55720","MN","Y","remote",{"$f":"VLOOKUP(B4807,ceva_zone!A:B,2,FALSE)","v":"E"},{"$f":"VLOOKUP(B4807,ceva_zone!A:C,3,FALSE)","v":"C"}]
["55741","MN","Y","remote",{"$f":"VLOOKUP(B4826,ceva_zone!A:B,2,FALSE)","v":"E"},{"$f":"VLOOKUP(B4826,ceva_zone!A:C,3,FALSE)","v":"C"}]
["55777","MN","Y","remote",{"$f":"VLOOKUP(B4851,ceva_zone!A:B,2,FALSE)","v":"E"},{"$f":"VLOOKUP(B4851,ceva_zone!A:C,3,FALSE)","v":"C"}]
["55971","MN","Y","remote",{"$f":"VLOOKUP(B4873,ceva_zone!A:B,2,FALSE)","v":"E"},{"$f":"VLOOKUP(B4873,ceva_zone!A:C,3,FALSE)","v":"C"}]
["55947","MN","G","remote",{"$f":"VLOOKUP(B4890,ceva_zone!A:B,2,FALSE)","v":"E"},{"$f":"VLOOKUP(B4890,ceva_zone!A:C,3,FALSE)","v":"C"}]
["55990","MN","Y","remote",{"$f":"VLOOKUP(B4896,ceva_zone!A:B,2,FALSE)","v":"E"},{"$f":"VLOOKUP(B4896,ceva_zone!A:C,3,FALSE)","v":"C"}]
["55968","MN","E","remote",{"$f":"VLOOKUP(B4922,ceva_zone!A:B,2,FALSE)","v":"E"},{"$f":"VLOOKUP(B4922,ceva_zone!A:C,3,FALSE)","v":"C"}]
["56013","MN","Y","remote",{"$f":"VLOOKUP(B4941,ceva_zone!A:B,2,FALSE)","v":"E"},{"$f":"VLOOKUP(B4941,ceva_zone!A:C,3,FALSE)","v":"C"}]
["56033","MN","Y","remote",{"$f":"VLOOKUP(B4960,ceva_zone!A:B,2,FALSE)","v":"E"},{"$f":"VLOOKUP(B4960,ceva_zone!A:C,3,FALSE)","v":"C"}]
["56071","MN","D","standard",{"$f":"VLOOKUP(B4991,ceva_zone!A:B,2,FALSE)","v":"E"},{"$f":"VLOOKUP(B4991,ceva_zone!A:C,3,FALSE)","v":"C"}]
["56090","MN","F","remote",{"$f":"VLOOKUP(B5005,ceva_zone!A:B,2,FALSE)","v":"E"},{"$f":"VLOOKUP(B5005,ceva_zone!A:C,3,FALSE)","v":"C"}]
["56125","MN","Y","remote",{"$f":"VLOOKUP(B5024,ceva_zone!A:B,2,FALSE)","v":"E"},{"$f":"VLOOKUP(B5024,ceva_zone!A:C,3,FALSE)","v":"C"}]
["56146","MN","Y","remote",{"$f":"VLOOKUP(B5043,ceva_zone!A:B,2,FALSE)","v":"E"},{"$f":"VLOOKUP(B5043,ceva_zone!A:C,3,FALSE)","v":"C"}]
["56167","MN","Y","remote",{"$f":"VLOOKUP(B5060,ceva_zone!A:B,2,FALSE)","v":"E"},{"$f":"VLOOKUP(B5060,ceva_zone!A:C,3,FALSE)","v":"C"}]
["56177","MN","Y","remote",{"$f":"VLOOKUP(B5069,ceva_zone!A:B,2,FALSE)","v":"E"},{"$f":"VLOOKUP(B5069,ceva_zone!A:C,3,FALSE)","v":"C"}]
["56225","MN","Y","remote",{"$f":"VLOOKUP(B5094,ceva_zone!A:B,2,FALSE)","v":"E"},{"$f":"VLOOKUP(B5094,ceva_zone!A:C,3,FALSE)","v":"C"}]
["56244","MN","Y","remote",{"$f":"VLOOKUP(B5109,ceva_zone!A:B,2,FALSE)","v":"E"},{"$f":"VLOOKUP(B5109,ceva_zone!A:C,3,FALSE)","v":"C"}]
["56278","MN","Y","remote",{"$f":"VLOOKUP(B5133,ceva_zone!A:B,2,FALSE)","v":"E"},{"$f":"VLOOKUP(B5133,ceva_zone!A:C,3,FALSE)","v":"C"}]
["56313","MN","E","remote",{"$f":"VLOOKUP(B5158,ceva_zone!A:B,2,FALSE)","v":"E"},{"$f":"VLOOKUP(B5158,ceva_zone!A:C,3,FALSE)","v":"C"}]
["56333","MN","E","remote",{"$f":"VLOOKUP(B5178,ceva_zone!A:B,2,FALSE)","v":"E"},{"$f":"VLOOKUP(B5178,ceva_zone!A:C,3,FALSE)","v":"C"}]
["56363","MN","E","remote",{"$f":"VLOOKUP(B5203,ceva_zone!A:B,2,FALSE)","v":"E"},{"$f":"VLOOKUP(B5203,ceva_zone!A:C,3,FALSE)","v":"C"}]
["56377","MN","E","remote",{"$f":"VLOOKUP(B5222,ceva_zone!A:B,2,FALSE)","v":"E"},{"$f":"VLOOKUP(B5222,ceva_zone!A:C,3,FALSE)","v":"C"}]
["56425","MN","Y","remote",{"$f":"VLOOKUP(B5241,ceva_zone!A:B,2,FALSE)","v":"E"},{"$f":"VLOOKUP(B5241,ceva_zone!A:C,3,FALSE)","v":"C"}]
["56472","MN","Y","remote",{"$f":"VLOOKUP(B5247,ceva_zone!A:B,2,FALSE)","v":"E"},{"$f":"VLOOKUP(B5247,ceva_zone!A:C,3,FALSE)","v":"C"}]
["56459","MN","Y","remote",{"$f":"VLOOKUP(B5267,ceva_zone!A:B,2,FALSE)","v":"E"},{"$f":"VLOOKUP(B5267,ceva_zone!A:C,3,FALSE)","v":"C"}]
["56517","MN","Y","remote",{"$f":"VLOOKUP(B5286,ceva_zone!A:B,2,FALSE)","v":"E"},{"$f":"VLOOKUP(B5286,ceva_zone!A:C,3,FALSE)","v":"C"}]
["56544","MN","Y","remote",{"$f":"VLOOKUP(B5316,ceva_zone!A:B,2,FALSE)","v":"E"},{"$f":"VLOOKUP(B5316,ceva_zone!A:C,3,FALSE)","v":"C"}]
["56566","MN","Y","remote",{"$f":"VLOOKUP(B5331,ceva_zone!A:B,2,FALSE)","v":"E"},{"$f":"VLOOKUP(B5331,ceva_zone!A:C,3,FALSE)","v":"C"}]
["56661","MN","Y","remote",{"$f":"VLOOKUP(B5356,ceva_zone!A:B,2,FALSE)","v":"E"},{"$f":"VLOOKUP(B5356,ceva_zone!A:C,3,FALSE)","v":"C"}]
["56634","MN","Y","remote",{"$f":"VLOOKUP(B5375,ceva_zone!A:B,2,FALSE)","v":"E"},{"$f":"VLOOKUP(B5375,ceva_zone!A:C,3,FALSE)","v":"C"}]
["56682","MN","Y","remote",{"$f":"VLOOKUP(B5389,ceva_zone!A:B,2,FALSE)","v":"E"},{"$f":"VLOOKUP(B5389,ceva_zone!A:C,3,FALSE)","v":"C"}]
["56679","MN","Y","remote",{"$f":"VLOOKUP(B5401,ceva_zone!A:B,2,FALSE)","v":"E"},{"$f":"VLOOKUP(B5401,ceva_zone!A:C,3,FALSE)","v":"C"}]
["56728","MN","Y","remote",{"$f":"VLOOKUP(B5420,ceva_zone!A:B,2,FALSE)","v":"E"},{"$f":"VLOOKUP(B5420,ceva_zone!A:C,3,FALSE)","v":"C"}]
["56701","MN","Y","remote",{"$f":"VLOOKUP(B5438,ceva_zone!A:B,2,FALSE)","v":"E"},{"$f":"VLOOKUP(B5438,ceva_zone!A:C,3,FALSE)","v":"C"}]
["57018","SD","Y","remote",{"$f":"VLOOKUP(B5465,ceva_zone!A:B,2,FALSE)","v":"E"},{"$f":"VLOOKUP(B5465,ceva_zone!A:C,3,FALSE)","v":"F"}]
["57037","SD","Y","remote",{"$f":"VLOOKUP(B5484,ceva_zone!A:B,2,FALSE)","v":"E"},{"$f":"VLOOKUP(B5484,ceva_zone!A:C,3,FALSE)","v":"F"}]
["57053","SD","Y","remote",{"$f":"VLOOKUP(B5503,ceva_zone!A:B,2,FALSE)","v":"E"},{"$f":"VLOOKUP(B5503,ceva_zone!A:C,3,FALSE)","v":"F"}]
["57192","SD","Y","remote",{"$f":"VLOOKUP(B5529,ceva_zone!A:B,2,FALSE)","v":"E"},{"$f":"VLOOKUP(B5529,ceva_zone!A:C,3,FALSE)","v":"F"}]
["57217","SD","Y","remote",{"$f":"VLOOKUP(B5548,ceva_zone!A:B,2,FALSE)","v":"E"},{"$f":"VLOOKUP(B5548,ceva_zone!A:C,3,FALSE)","v":"F"}]
["57223","SD","Y","remote",{"$f":"VLOOKUP(B5554,ceva_zone!A:B,2,FALSE)","v":"E"},{"$f":"VLOOKUP(B5554,ceva_zone!A:C,3,FALSE)","v":"F"}]
["57247","SD","Y","remote",{"$f":"VLOOKUP(B5576,ceva_zone!A:B,2,FALSE)","v":"E"},{"$f":"VLOOKUP(B5576,ceva_zone!A:C,3,FALSE)","v":"F"}]
["57314","SD","Y","remote",{"$f":"VLOOKUP(B5599,ceva_zone!A:B,2,FALSE)","v":"E"},{"$f":"VLOOKUP(B5599,ceva_zone!A:C,3,FALSE)","v":"F"}]
["57362","SD","Y","remote",{"$f":"VLOOKUP(B5618,ceva_zone!A:B,2,FALSE)","v":"E"},{"$f":"VLOOKUP(B5618,ceva_zone!A:C,3,FALSE)","v":"F"}]
["57368","SD","Y","remote",{"$f":"VLOOKUP(B5645,ceva_zone!A:B,2,FALSE)","v":"E"},{"$f":"VLOOKUP(B5645,ceva_zone!A:C,3,FALSE)","v":"F"}]
["57426","SD","Y","remote",{"$f":"VLOOKUP(B5663,ceva_zone!A:B,2,FALSE)","v":"E"},{"$f":"VLOOKUP(B5663,ceva_zone!A:C,3,FALSE)","v":"F"}]
["57446","SD","Y","remote",{"$f":"VLOOKUP(B5682,ceva_zone!A:B,2,FALSE)","v":"E"},{"$f":"VLOOKUP(B5682,ceva_zone!A:C,3,FALSE)","v":"F"}]
["57466","SD","Y","remote",{"$f":"VLOOKUP(B5694,ceva_zone!A:B,2,FALSE)","v":"E"},{"$f":"VLOOKUP(B5694,ceva_zone!A:C,3,FALSE)","v":"F"}]
["57585","SD","Y","remote",{"$f":"VLOOKUP(B5708,ceva_zone!A:B,2,FALSE)","v":"E"},{"$f":"VLOOKUP(B5708,ceva_zone!A:C,3,FALSE)","v":"F"}]
["57538","SD","Y","remote",{"$f":"VLOOKUP(B5727,ceva_zone!A:B,2,FALSE)","v":"E"},{"$f":"VLOOKUP(B5727,ceva_zone!A:C,3,FALSE)","v":"F"}]
["57621","SD","Y","remote",{"$f":"VLOOKUP(B5752,ceva_zone!A:B,2,FALSE)","v":"E"},{"$f":"VLOOKUP(B5752,ceva_zone!A:C,3,FALSE)","v":"F"}]
["57634","SD","Y","remote",{"$f":"VLOOKUP(B5763,ceva_zone!A:B,2,FALSE)","v":"E"},{"$f":"VLOOKUP(B5763,ceva_zone!A:C,3,FALSE)","v":"F"}]
["57722","SD","Y","remote",{"$f":"VLOOKUP(B5791,ceva_zone!A:B,2,FALSE)","v":"E"},{"$f":"VLOOKUP(B5791,ceva_zone!A:C,3,FALSE)","v":"F"}]
["57752","SD","Y","remote",{"$f":"VLOOKUP(B5816,ceva_zone!A:B,2,FALSE)","v":"E"},{"$f":"VLOOKUP(B5816,ceva_zone!A:C,3,FALSE)","v":"F"}]
["57782","SD","Y","remote",{"$f":"VLOOKUP(B5832,ceva_zone!A:B,2,FALSE)","v":"E"},{"$f":"VLOOKUP(B5832,ceva_zone!A:C,3,FALSE)","v":"F"}]
["58005","ND","Y","remote",{"$f":"VLOOKUP(B5842,ceva_zone!A:B,2,FALSE)","v":"E"},{"$f":"VLOOKUP(B5842,ceva_zone!A:C,3,FALSE)","v":"F"}]
["58079","ND","Y","remote",{"$f":"VLOOKUP(B5861,ceva_zone!A:B,2,FALSE)","v":"E"},{"$f":"VLOOKUP(B5861,ceva_zone!A:C,3,FALSE)","v":"F"}]
["58052","ND","Y","remote",{"$f":"VLOOKUP(B5880,ceva_zone!A:B,2,FALSE)","v":"E"},{"$f":"VLOOKUP(B5880,ceva_zone!A:C,3,FALSE)","v":"F"}]
["58108","ND","Y","remote",{"$f":"VLOOKUP(B5901,ceva_zone!A:B,2,FALSE)","v":"E"},{"$f":"VLOOKUP(B5901,ceva_zone!A:C,3,FALSE)","v":"F"}]
["58227","ND","Y","remote",{"$f":"VLOOKUP(B5925,ceva_zone!A:B,2,FALSE)","v":"E"},{"$f":"VLOOKUP(B5925,ceva_zone!A:C,3,FALSE)","v":"F"}]
["58241","ND","Y","remote",{"$f":"VLOOKUP(B5944,ceva_zone!A:B,2,FALSE)","v":"E"},{"$f":"VLOOKUP(B5944,ceva_zone!A:C,3,FALSE)","v":"F"}]
["58277","ND","Y","remote",{"$f":"VLOOKUP(B5970,ceva_zone!A:B,2,FALSE)","v":"E"},{"$f":"VLOOKUP(B5970,ceva_zone!A:C,3,FALSE)","v":"F"}]
["58327","ND","Y","remote",{"$f":"VLOOKUP(B5989,ceva_zone!A:B,2,FALSE)","v":"E"},{"$f":"VLOOKUP(B5989,ceva_zone!A:C,3,FALSE)","v":"F"}]
["58348","ND","Y","remote",{"$f":"VLOOKUP(B5995,ceva_zone!A:B,2,FALSE)","v":"E"},{"$f":"VLOOKUP(B5995,ceva_zone!A:C,3,FALSE)","v":"F"}]
["58377","ND","Y","remote",{"$f":"VLOOKUP(B6019,ceva_zone!A:B,2,FALSE)","v":"E"},{"$f":"VLOOKUP(B6019,ceva_zone!A:C,3,FALSE)","v":"F"}]
["58492","ND","Y","remote",{"$f":"VLOOKUP(B6034,ceva_zone!A:B,2,FALSE)","v":"E"},{"$f":"VLOOKUP(B6034,ceva_zone!A:C,3,FALSE)","v":"F"}]
["58402","ND","Y","remote",{"$f":"VLOOKUP(B6059,ceva_zone!A:B,2,FALSE)","v":"E"},{"$f":"VLOOKUP(B6059,ceva_zone!A:C,3,FALSE)","v":"F"}]
["58484","ND","Y","remote",{"$f":"VLOOKUP(B6078,ceva_zone!A:B,2,FALSE)","v":"E"},{"$f":"VLOOKUP(B6078,ceva_zone!A:C,3,FALSE)","v":"F"}]
["58504","ND","Y","remote",{"$f":"VLOOKUP(B6092,ceva_zone!A:B,2,FALSE)","v":"E"},{"$f":"VLOOKUP(B6092,ceva_zone!A:C,3,FALSE)","v":"F"}]
["58566","ND","Y","remote",{"$f":"VLOOKUP(B6123,ceva_zone!A:B,2,FALSE)","v":"E"},{"$f":"VLOOKUP(B6123,ceva_zone!A:C,3,FALSE)","v":"F"}]
["58626","ND","Y","remote",{"$f":"VLOOKUP(B6142,ceva_zone!A:B,2,FALSE)","v":"E"},{"$f":"VLOOKUP(B6142,ceva_zone!A:C,3,FALSE)","v":"F"}]
["58645","ND","Y","remote",{"$f":"VLOOKUP(B6157,ceva_zone!A:B,2,FALSE)","v":"E"},{"$f":"VLOOKUP(B6157,ceva_zone!A:C,3,FALSE)","v":"F"}]
["58733","ND","Y","remote",{"$f":"VLOOKUP(B6187,ceva_zone!A:B,2,FALSE)","v":"E"},{"$f":"VLOOKUP(B6187,ceva_zone!A:C,3,FALSE)","v":"F"}]
["58759","ND","Y","remote",{"$f":"VLOOKUP(B6206,ceva_zone!A:B,2,FALSE)","v":"E"},{"$f":"VLOOKUP(B6206,ceva_zone!A:C,3,FALSE)","v":"F"}]
["58790","ND","Y","remote",{"$f":"VLOOKUP(B6226,ceva_zone!A:B,2,FALSE)","v":"E"},{"$f":"VLOOKUP(B6226,ceva_zone!A:C,3,FALSE)","v":"F"}]
["58833","ND","Y","remote",{"$f":"VLOOKUP(B6232,ceva_zone!A:B,2,FALSE)","v":"E"},{"$f":"VLOOKUP(B6232,ceva_zone!A:C,3,FALSE)","v":"F"}]
["59010","MT","Y","remote",{"$f":"VLOOKUP(B6257,ceva_zone!A:B,2,FALSE)","v":"E"},{"$f":"VLOOKUP(B6257,ceva_zone!A:C,3,FALSE)","v":"F"}]
["59030","MT","Y","remote",{"$f":"VLOOKUP(B6276,ceva_zone!A:B,2,FALSE)","v":"E"},{"$f":"VLOOKUP(B6276,ceva_zone!A:C,3,FALSE)","v":"F"}]
["59064","MT","Y","remote",{"$f":"VLOOKUP(B6299,ceva_zone!A:B,2,FALSE)","v":"E"},{"$f":"VLOOKUP(B6299,ceva_zone!A:C,3,FALSE)","v":"F"}]
["59104","MT","Y","remote",{"$f":"VLOOKUP(B6321,ceva_zone!A:B,2,FALSE)","v":"E"},{"$f":"VLOOKUP(B6321,ceva_zone!A:C,3,FALSE)","v":"F"}]
["59219","MT","Y","remote",{"$f":"VLOOKUP(B6340,ceva_zone!A:B,2,FALSE)","v":"E"},{"$f":"VLOOKUP(B6340,ceva_zone!A:C,3,FALSE)","v":"F"}]
["59240","MT","Y","remote",{"$f":"VLOOKUP(B6348,ceva_zone!A:B,2,FALSE)","v":"E"},{"$f":"VLOOKUP(B6348,ceva_zone!A:C,3,FALSE)","v":"F"}]
["59262","MT","Y","remote",{"$f":"VLOOKUP(B6366,ceva_zone!A:B,2,FALSE)","v":"E"},{"$f":"VLOOKUP(B6366,ceva_zone!A:C,3,FALSE)","v":"F"}]
["59324","MT","Y","remote",{"$f":"VLOOKUP(B6385,ceva_zone!A:B,2,FALSE)","v":"E"},{"$f":"VLOOKUP(B6385,ceva_zone!A:C,3,FALSE)","v":"F"}]
["59420","MT","Y","remote",{"$f":"VLOOKUP(B6413,ceva_zone!A:B,2,FALSE)","v":"E"},{"$f":"VLOOKUP(B6413,ceva_zone!A:C,3,FALSE)","v":"F"}]
["59444","MT","Y","remote",{"$f":"VLOOKUP(B6430,ceva_zone!A:B,2,FALSE)","v":"E"},{"$f":"VLOOKUP(B6430,ceva_zone!A:C,3,FALSE)","v":"F"}]
["59463","MT","Y","remote",{"$f":"VLOOKUP(B6449,ceva_zone!A:B,2,FALSE)","v":"E"},{"$f":"VLOOKUP(B6449,ceva_zone!A:C,3,FALSE)","v":"F"}]
["59526","MT","Y","remote",{"$f":"VLOOKUP(B6474,ceva_zone!A:B,2,FALSE)","v":"E"},{"$f":"VLOOKUP(B6474,ceva_zone!A:C,3,FALSE)","v":"F"}]
["59542","MT","Y","remote",{"$f":"VLOOKUP(B6486,ceva_zone!A:B,2,FALSE)","v":"E"},{"$f":"VLOOKUP(B6486,ceva_zone!A:C,3,FALSE)","v":"F"}]
["59647","MT","Y","remote",{"$f":"VLOOKUP(B6513,ceva_zone!A:B,2,FALSE)","v":"E"},{"$f":"VLOOKUP(B6513,ceva_zone!A:C,3,FALSE)","v":"F"}]
["59716","MT","Y","remote",{"$f":"VLOOKUP(B6519,ceva_zone!A:B,2,FALSE)","v":"E"},{"$f":"VLOOKUP(B6519,ceva_zone!A:C,3,FALSE)","v":"F"}]
["59727","MT","Y","remote",{"$f":"VLOOKUP(B6535,ceva_zone!A:B,2,FALSE)","v":"E"},{"$f":"VLOOKUP(B6535,ceva_zone!A:C,3,FALSE)","v":"F"}]
["59823","MT","Y","remote",{"$f":"VLOOKUP(B6564,ceva_zone!A:B,2,FALSE)","v":"E"},{"$f":"VLOOKUP(B6564,ceva_zone!A:C,3,FALSE)","v":"F"}]
["59845","MT","Y","remote",{"$f":"VLOOKUP(B6583,ceva_zone!A:B,2,FALSE)","v":"E"},{"$f":"VLOOKUP(B6583,ceva_zone!A:C,3,FALSE)","v":"F"}]
["59860","MT","Y","remote",{"$f":"VLOOKUP(B6602,ceva_zone!A:B,2,FALSE)","v":"E"},{"$f":"VLOOKUP(B6602,ceva_zone!A:C,3,FALSE)","v":"F"}]
["59901","MT","Y","remote",{"$f":"VLOOKUP(B6624,ceva_zone!A:B,2,FALSE)","v":"E"},{"$f":"VLOOKUP(B6624,ceva_zone!A:C,3,FALSE)","v":"F"}]
["60006","IL","C","standard",{"$f":"VLOOKUP(B6647,ceva_zone!A:B,2,FALSE)","v":"E"},{"$f":"VLOOKUP(B6647,ceva_zone!A:C,3,FALSE)","v":"C"}]
["60010","IL","C","standard",{"$f":"VLOOKUP(B6653,ceva_zone!A:B,2,FALSE)","v":"E"},{"$f":"VLOOKUP(B6653,ceva_zone!A:C,3,FALSE)","v":"C"}]
["60022","IL","B","standard",{"$f":"VLOOKUP(B6673,ceva_zone!A:B,2,FALSE)","v":"E"},{"$f":"VLOOKUP(B6673,ceva_zone!A:C,3,FALSE)","v":"C"}]
["60043","IL","B","standard",{"$f":"VLOOKUP(B6692,ceva_zone!A:B,2,FALSE)","v":"E"},{"$f":"VLOOKUP(B6692,ceva_zone!A:C,3,FALSE)","v":"C"}]
["60077","IL","B","standard",{"$f":"VLOOKUP(B6717,ceva_zone!A:B,2,FALSE)","v":"E"},{"$f":"VLOOKUP(B6717,ceva_zone!A:C,3,FALSE)","v":"C"}]
["60128","IL","B","standard",{"$f":"VLOOKUP(B6742,ceva_zone!A:B,2,FALSE)","v":"E"},{"$f":"VLOOKUP(B6742,ceva_zone!A:C,3,FALSE)","v":"C"}]
["60113","IL","E","remote",{"$f":"VLOOKUP(B6756,ceva_zone!A:B,2,FALSE)","v":"E"},{"$f":"VLOOKUP(B6756,ceva_zone!A:C,3,FALSE)","v":"C"}]
["60196","IL","A","standard",{"$f":"VLOOKUP(B6781,ceva_zone!A:B,2,FALSE)","v":"E"},{"$f":"VLOOKUP(B6781,ceva_zone!A:C,3,FALSE)","v":"C"}]
["60170","IL","C","standard",{"$f":"VLOOKUP(B6800,ceva_zone!A:B,2,FALSE)","v":"E"},{"$f":"VLOOKUP(B6800,ceva_zone!A:C,3,FALSE)","v":"C"}]
["60183","IL","D","standard",{"$f":"VLOOKUP(B6811,ceva_zone!A:B,2,FALSE)","v":"E"},{"$f":"VLOOKUP(B6811,ceva_zone!A:C,3,FALSE)","v":"C"}]
["60202","IL","B","standard",{"$f":"VLOOKUP(B6826,ceva_zone!A:B,2,FALSE)","v":"E"},{"$f":"VLOOKUP(B6826,ceva_zone!A:C,3,FALSE)","v":"C"}]
["60459","IL","C","standard",{"$f":"VLOOKUP(B6845,ceva_zone!A:B,2,FALSE)","v":"E"},{"$f":"VLOOKUP(B6845,ceva_zone!A:C,3,FALSE)","v":"C"}]
["60441","IL","C","standard",{"$f":"VLOOKUP(B6880,ceva_zone!A:B,2,FALSE)","v":"E"},{"$f":"VLOOKUP(B6880,ceva_zone!A:C,3,FALSE)","v":"C"}]
["60452","IL","C","standard",{"$f":"VLOOKUP(B6890,ceva_zone!A:B,2,FALSE)","v":"E"},{"$f":"VLOOKUP(B6890,ceva_zone!A:C,3,FALSE)","v":"C"}]
["60479","IL","E","remote",{"$f":"VLOOKUP(B6915,ceva_zone!A:B,2,FALSE)","v":"E"},{"$f":"VLOOKUP(B6915,ceva_zone!A:C,3,FALSE)","v":"C"}]
["60598","IL","C","standard",{"$f":"VLOOKUP(B6929,ceva_zone!A:B,2,FALSE)","v":"E"},{"$f":"VLOOKUP(B6929,ceva_zone!A:C,3,FALSE)","v":"C"}]
["60532","IL","B","standard",{"$f":"VLOOKUP(B6954,ceva_zone!A:B,2,FALSE)","v":"E"},{"$f":"VLOOKUP(B6954,ceva_zone!A:C,3,FALSE)","v":"C"}]
["60537","IL","E","remote",{"$f":"VLOOKUP(B6960,ceva_zone!A:B,2,FALSE)","v":"E"},{"$f":"VLOOKUP(B6960,ceva_zone!A:C,3,FALSE)","v":"C"}]
["60554","IL","D","standard",{"$f":"VLOOKUP(B6979,ceva_zone!A:B,2,FALSE)","v":"E"},{"$f":"VLOOKUP(B6979,ceva_zone!A:C,3,FALSE)","v":"C"}]
["60614","IL","B","standard",{"$f":"VLOOKUP(B7002,ceva_zone!A:B,2,FALSE)","v":"E"},{"$f":"VLOOKUP(B7002,ceva_zone!A:C,3,FALSE)","v":"C"}]
["60641","IL","A","standard",{"$f":"VLOOKUP(B7024,ceva_zone!A:B,2,FALSE)","v":"E"},{"$f":"VLOOKUP(B7024,ceva_zone!A:C,3,FALSE)","v":"C"}]
["60669","IL","B","standard",{"$f":"VLOOKUP(B7043,ceva_zone!A:B,2,FALSE)","v":"E"},{"$f":"VLOOKUP(B7043,ceva_zone!A:C,3,FALSE)","v":"C"}]
["60689","IL","C","standard",{"$f":"VLOOKUP(B7067,ceva_zone!A:B,2,FALSE)","v":"E"},{"$f":"VLOOKUP(B7067,ceva_zone!A:C,3,FALSE)","v":"C"}]
["60921","IL","Y","remote",{"$f":"VLOOKUP(B7088,ceva_zone!A:B,2,FALSE)","v":"E"},{"$f":"VLOOKUP(B7088,ceva_zone!A:C,3,FALSE)","v":"C"}]
["60944","IL","Y","remote",{"$f":"VLOOKUP(B7107,ceva_zone!A:B,2,FALSE)","v":"E"},{"$f":"VLOOKUP(B7107,ceva_zone!A:C,3,FALSE)","v":"C"}]
["60953","IL","Y","remote",{"$f":"VLOOKUP(B7116,ceva_zone!A:B,2,FALSE)","v":"E"},{"$f":"VLOOKUP(B7116,ceva_zone!A:C,3,FALSE)","v":"C"}]
["61015","IL","E","remote",{"$f":"VLOOKUP(B7152,ceva_zone!A:B,2,FALSE)","v":"E"},{"$f":"VLOOKUP(B7152,ceva_zone!A:C,3,FALSE)","v":"C"}]
["61042","IL","G","remote",{"$f":"VLOOKUP(B7171,ceva_zone!A:B,2,FALSE)","v":"E"},{"$f":"VLOOKUP(B7171,ceva_zone!A:C,3,FALSE)","v":"C"}]
["61048","IL","H","remote",{"$f":"VLOOKUP(B7177,ceva_zone!A:B,2,FALSE)","v":"E"},{"$f":"VLOOKUP(B7177,ceva_zone!A:C,3,FALSE)","v":"C"}]
["61109","IL","E","remote",{"$f":"VLOOKUP(B7209,ceva_zone!A:B,2,FALSE)","v":"E"},{"$f":"VLOOKUP(B7209,ceva_zone!A:C,3,FALSE)","v":"C"}]
["61230","IL","F","remote",{"$f":"VLOOKUP(B7222,ceva_zone!A:B,2,FALSE)","v":"E"},{"$f":"VLOOKUP(B7222,ceva_zone!A:C,3,FALSE)","v":"C"}]
["61243","IL","G","remote",{"$f":"VLOOKUP(B7241,ceva_zone!A:B,2,FALSE)","v":"E"},{"$f":"VLOOKUP(B7241,ceva_zone!A:C,3,FALSE)","v":"C"}]
["61265","IL","F","remote",{"$f":"VLOOKUP(B7258,ceva_zone!A:B,2,FALSE)","v":"E"},{"$f":"VLOOKUP(B7258,ceva_zone!A:C,3,FALSE)","v":"C"}]
["61377","IL","Y","remote",{"$f":"VLOOKUP(B7286,ceva_zone!A:B,2,FALSE)","v":"E"},{"$f":"VLOOKUP(B7286,ceva_zone!A:C,3,FALSE)","v":"C"}]
["61338","IL","G","remote",{"$f":"VLOOKUP(B7305,ceva_zone!A:B,2,FALSE)","v":"E"},{"$f":"VLOOKUP(B7305,ceva_zone!A:C,3,FALSE)","v":"C"}]
["61346","IL","G","remote",{"$f":"VLOOKUP(B7311,ceva_zone!A:B,2,FALSE)","v":"E"},{"$f":"VLOOKUP(B7311,ceva_zone!A:C,3,FALSE)","v":"C"}]
["61375","IL","Y","remote",{"$f":"VLOOKUP(B7327,ceva_zone!A:B,2,FALSE)","v":"E"},{"$f":"VLOOKUP(B7327,ceva_zone!A:C,3,FALSE)","v":"C"}]
["61426","IL","Y","remote",{"$f":"VLOOKUP(B7350,ceva_zone!A:B,2,FALSE)","v":"E"},{"$f":"VLOOKUP(B7350,ceva_zone!A:C,3,FALSE)","v":"C"}]
["61443","IL","F","remote",{"$f":"VLOOKUP(B7375,ceva_zone!A:B,2,FALSE)","v":"E"},{"$f":"VLOOKUP(B7375,ceva_zone!A:C,3,FALSE)","v":"C"}]
["61476","IL","F","remote",{"$f":"VLOOKUP(B7396,ceva_zone!A:B,2,FALSE)","v":"E"},{"$f":"VLOOKUP(B7396,ceva_zone!A:C,3,FALSE)","v":"C"}]
["61529","IL","Y","remote",{"$f":"VLOOKUP(B7414,ceva_zone!A:B,2,FALSE)","v":"E"},{"$f":"VLOOKUP(B7414,ceva_zone!A:C,3,FALSE)","v":"C"}]
["61550","IL","Y","remote",{"$f":"VLOOKUP(B7439,ceva_zone!A:B,2,FALSE)","v":"E"},{"$f":"VLOOKUP(B7439,ceva_zone!A:C,3,FALSE)","v":"C"}]
["61562","IL","Y","remote",{"$f":"VLOOKUP(B7445,ceva_zone!A:B,2,FALSE)","v":"E"},{"$f":"VLOOKUP(B7445,ceva_zone!A:C,3,FALSE)","v":"C"}]
["61634","IL","Y","remote",{"$f":"VLOOKUP(B7465,ceva_zone!A:B,2,FALSE)","v":"E"},{"$f":"VLOOKUP(B7465,ceva_zone!A:C,3,FALSE)","v":"C"}]
["61774","IL","Y","remote",{"$f":"VLOOKUP(B7484,ceva_zone!A:B,2,FALSE)","v":"E"},{"$f":"VLOOKUP(B7484,ceva_zone!A:C,3,FALSE)","v":"C"}]
["61726","IL","Y","remote",{"$f":"VLOOKUP(B7503,ceva_zone!A:B,2,FALSE)","v":"E"},{"$f":"VLOOKUP(B7503,ceva_zone!A:C,3,FALSE)","v":"C"}]
["61761","IL","Y","remote",{"$f":"VLOOKUP(B7534,ceva_zone!A:B,2,FALSE)","v":"E"},{"$f":"VLOOKUP(B7534,ceva_zone!A:C,3,FALSE)","v":"C"}]
["61813","IL","Y","remote",{"$f":"VLOOKUP(B7548,ceva_zone!A:B,2,FALSE)","v":"E"},{"$f":"VLOOKUP(B7548,ceva_zone!A:C,3,FALSE)","v":"C"}]
["61846","IL","Y","remote",{"$f":"VLOOKUP(B7573,ceva_zone!A:B,2,FALSE)","v":"E"},{"$f":"VLOOKUP(B7573,ceva_zone!A:C,3,FALSE)","v":"C"}]
["61856","IL","Y","remote",{"$f":"VLOOKUP(B7583,ceva_zone!A:B,2,FALSE)","v":"E"},{"$f":"VLOOKUP(B7583,ceva_zone!A:C,3,FALSE)","v":"C"}]
["61917","IL","Y","remote",{"$f":"VLOOKUP(B7612,ceva_zone!A:B,2,FALSE)","v":"E"},{"$f":"VLOOKUP(B7612,ceva_zone!A:C,3,FALSE)","v":"C"}]
["61929","IL","Y","remote",{"$f":"VLOOKUP(B7618,ceva_zone!A:B,2,FALSE)","v":"E"},{"$f":"VLOOKUP(B7618,ceva_zone!A:C,3,FALSE)","v":"C"}]
["62032","IL","Y","remote",{"$f":"VLOOKUP(B7652,ceva_zone!A:B,2,FALSE)","v":"E"},{"$f":"VLOOKUP(B7652,ceva_zone!A:C,3,FALSE)","v":"C"}]
["62052","IL","D","standard",{"$f":"VLOOKUP(B7657,ceva_zone!A:B,2,FALSE)","v":"E"},{"$f":"VLOOKUP(B7657,ceva_zone!A:C,3,FALSE)","v":"C"}]
["62051","IL","Y","remote",{"$f":"VLOOKUP(B7682,ceva_zone!A:B,2,FALSE)","v":"E"},{"$f":"VLOOKUP(B7682,ceva_zone!A:C,3,FALSE)","v":"C"}]
["62097","IL","C","standard",{"$f":"VLOOKUP(B7701,ceva_zone!A:B,2,FALSE)","v":"E"},{"$f":"VLOOKUP(B7701,ceva_zone!A:C,3,FALSE)","v":"C"}]
["62217","IL","F","remote",{"$f":"VLOOKUP(B7721,ceva_zone!A:B,2,FALSE)","v":"E"},{"$f":"VLOOKUP(B7721,ceva_zone!A:C,3,FALSE)","v":"C"}]
["62238","IL","Y","remote",{"$f":"VLOOKUP(B7746,ceva_zone!A:B,2,FALSE)","v":"E"},{"$f":"VLOOKUP(B7746,ceva_zone!A:C,3,FALSE)","v":"C"}]
["62247","IL","F","remote",{"$f":"VLOOKUP(B7765,ceva_zone!A:B,2,FALSE)","v":"E"},{"$f":"VLOOKUP(B7765,ceva_zone!A:C,3,FALSE)","v":"C"}]
["62254","IL","D","standard",{"$f":"VLOOKUP(B7770,ceva_zone!A:B,2,FALSE)","v":"E"},{"$f":"VLOOKUP(B7770,ceva_zone!A:C,3,FALSE)","v":"C"}]
["62292","IL","F","remote",{"$f":"VLOOKUP(B7791,ceva_zone!A:B,2,FALSE)","v":"E"},{"$f":"VLOOKUP(B7791,ceva_zone!A:C,3,FALSE)","v":"C"}]
["62324","IL","K","remote",{"$f":"VLOOKUP(B7810,ceva_zone!A:B,2,FALSE)","v":"E"},{"$f":"VLOOKUP(B7810,ceva_zone!A:C,3,FALSE)","v":"C"}]
["62361","IL","Y","remote",{"$f":"VLOOKUP(B7835,ceva_zone!A:B,2,FALSE)","v":"E"},{"$f":"VLOOKUP(B7835,ceva_zone!A:C,3,FALSE)","v":"C"}]
["62422","IL","Y","remote",{"$f":"VLOOKUP(B7863,ceva_zone!A:B,2,FALSE)","v":"E"},{"$f":"VLOOKUP(B7863,ceva_zone!A:C,3,FALSE)","v":"C"}]
["62445","IL","Y","remote",{"$f":"VLOOKUP(B7880,ceva_zone!A:B,2,FALSE)","v":"E"},{"$f":"VLOOKUP(B7880,ceva_zone!A:C,3,FALSE)","v":"C"}]
["62458","IL","Y","remote",{"$f":"VLOOKUP(B7899,ceva_zone!A:B,2,FALSE)","v":"E"},{"$f":"VLOOKUP(B7899,ceva_zone!A:C,3,FALSE)","v":"C"}]
["62526","IL","Y","remote",{"$f":"VLOOKUP(B7912,ceva_zone!A:B,2,FALSE)","v":"E"},{"$f":"VLOOKUP(B7912,ceva_zone!A:C,3,FALSE)","v":"C"}]
["62519","IL","Y","remote",{"$f":"VLOOKUP(B7925,ceva_zone!A:B,2,FALSE)","v":"E"},{"$f":"VLOOKUP(B7925,ceva_zone!A:C,3,FALSE)","v":"C"}]
["62539","IL","Y","remote",{"$f":"VLOOKUP(B7944,ceva_zone!A:B,2,FALSE)","v":"E"},{"$f":"VLOOKUP(B7944,ceva_zone!A:C,3,FALSE)","v":"C"}]
["62618","IL","Y","remote",{"$f":"VLOOKUP(B7977,ceva_zone!A:B,2,FALSE)","v":"E"},{"$f":"VLOOKUP(B7977,ceva_zone!A:C,3,FALSE)","v":"C"}]
["62631","IL","Y","remote",{"$f":"VLOOKUP(B7989,ceva_zone!A:B,2,FALSE)","v":"E"},{"$f":"VLOOKUP(B7989,ceva_zone!A:C,3,FALSE)","v":"C"}]
["62664","IL","Y","remote",{"$f":"VLOOKUP(B8008,ceva_zone!A:B,2,FALSE)","v":"E"},{"$f":"VLOOKUP(B8008,ceva_zone!A:C,3,FALSE)","v":"C"}]
["62719","IL","Y","remote",{"$f":"VLOOKUP(B8033,ceva_zone!A:B,2,FALSE)","v":"E"},{"$f":"VLOOKUP(B8033,ceva_zone!A:C,3,FALSE)","v":"C"}]
["62767","IL","Y","remote",{"$f":"VLOOKUP(B8050,ceva_zone!A:B,2,FALSE)","v":"E"},{"$f":"VLOOKUP(B8050,ceva_zone!A:C,3,FALSE)","v":"C"}]
["62809","IL","Y","remote",{"$f":"VLOOKUP(B8072,ceva_zone!A:B,2,FALSE)","v":"E"},{"$f":"VLOOKUP(B8072,ceva_zone!A:C,3,FALSE)","v":"C"}]
["62822","IL","Y","remote",{"$f":"VLOOKUP(B8097,ceva_zone!A:B,2,FALSE)","v":"E"},{"$f":"VLOOKUP(B8097,ceva_zone!A:C,3,FALSE)","v":"C"}]
["62824","IL","Y","remote",{"$f":"VLOOKUP(B8099,ceva_zone!A:B,2,FALSE)","v":"E"},{"$f":"VLOOKUP(B8099,ceva_zone!A:C,3,FALSE)","v":"C"}]
["62856","IL","Y","remote",{"$f":"VLOOKUP(B8123,ceva_zone!A:B,2,FALSE)","v":"E"},{"$f":"VLOOKUP(B8123,ceva_zone!A:C,3,FALSE)","v":"C"}]
["62868","IL","Y","remote",{"$f":"VLOOKUP(B8142,ceva_zone!A:B,2,FALSE)","v":"E"},{"$f":"VLOOKUP(B8142,ceva_zone!A:C,3,FALSE)","v":"C"}]
["62901","IL","Y","remote",{"$f":"VLOOKUP(B8168,ceva_zone!A:B,2,FALSE)","v":"E"},{"$f":"VLOOKUP(B8168,ceva_zone!A:C,3,FALSE)","v":"C"}]
["62922","IL","Y","remote",{"$f":"VLOOKUP(B8187,ceva_zone!A:B,2,FALSE)","v":"E"},{"$f":"VLOOKUP(B8187,ceva_zone!A:C,3,FALSE)","v":"C"}]
["62949","IL","Y","remote",{"$f":"VLOOKUP(B8206,ceva_zone!A:B,2,FALSE)","v":"E"},{"$f":"VLOOKUP(B8206,ceva_zone!A:C,3,FALSE)","v":"C"}]
["62975","IL","Y","remote",{"$f":"VLOOKUP(B8225,ceva_zone!A:B,2,FALSE)","v":"E"},{"$f":"VLOOKUP(B8225,ceva_zone!A:C,3,FALSE)","v":"C"}]
["62997","IL","Y","remote",{"$f":"VLOOKUP(B8237,ceva_zone!A:B,2,FALSE)","v":"E"},{"$f":"VLOOKUP(B8237,ceva_zone!A:C,3,FALSE)","v":"C"}]
["63037","MO","F","remote",{"$f":"VLOOKUP(B8270,ceva_zone!A:B,2,FALSE)","v":"E"},{"$f":"VLOOKUP(B8270,ceva_zone!A:C,3,FALSE)","v":"C"}]
["63043","MO","A","standard",{"$f":"VLOOKUP(B8276,ceva_zone!A:B,2,FALSE)","v":"E"},{"$f":"VLOOKUP(B8276,ceva_zone!A:C,3,FALSE)","v":"C"}]
["63147","MO","B","standard",{"$f":"VLOOKUP(B8306,ceva_zone!A:B,2,FALSE)","v":"E"},{"$f":"VLOOKUP(B8306,ceva_zone!A:C,3,FALSE)","v":"C"}]
["63124","MO","A","standard",{"$f":"VLOOKUP(B8315,ceva_zone!A:B,2,FALSE)","v":"E"},{"$f":"VLOOKUP(B8315,ceva_zone!A:C,3,FALSE)","v":"C"}]
["63109","MO","B","standard",{"$f":"VLOOKUP(B8340,ceva_zone!A:B,2,FALSE)","v":"E"},{"$f":"VLOOKUP(B8340,ceva_zone!A:C,3,FALSE)","v":"C"}]
["63157","MO","B","standard",{"$f":"VLOOKUP(B8355,ceva_zone!A:B,2,FALSE)","v":"E"},{"$f":"VLOOKUP(B8355,ceva_zone!A:C,3,FALSE)","v":"C"}]
["63336","MO","E","remote",{"$f":"VLOOKUP(B8385,ceva_zone!A:B,2,FALSE)","v":"E"},{"$f":"VLOOKUP(B8385,ceva_zone!A:C,3,FALSE)","v":"C"}]
["63353","MO","Y","remote",{"$f":"VLOOKUP(B8404,ceva_zone!A:B,2,FALSE)","v":"E"},{"$f":"VLOOKUP(B8404,ceva_zone!A:C,3,FALSE)","v":"C"}]
["63390","MO","D","standard",{"$f":"VLOOKUP(B8423,ceva_zone!A:B,2,FALSE)","v":"E"},{"$f":"VLOOKUP(B8423,ceva_zone!A:C,3,FALSE)","v":"C"}]
["63441","MO","Y","remote",{"$f":"VLOOKUP(B8444,ceva_zone!A:B,2,FALSE)","v":"E"},{"$f":"VLOOKUP(B8444,ceva_zone!A:C,3,FALSE)","v":"C"}]
["63448","MO","Y","remote",{"$f":"VLOOKUP(B8449,ceva_zone!A:B,2,FALSE)","v":"E"},{"$f":"VLOOKUP(B8449,ceva_zone!A:C,3,FALSE)","v":"C"}]
["63556","MO","Y","remote",{"$f":"VLOOKUP(B8468,ceva_zone!A:B,2,FALSE)","v":"E"},{"$f":"VLOOKUP(B8468,ceva_zone!A:C,3,FALSE)","v":"C"}]
["63557","MO","Y","remote",{"$f":"VLOOKUP(B8493,ceva_zone!A:B,2,FALSE)","v":"E"},{"$f":"VLOOKUP(B8493,ceva_zone!A:C,3,FALSE)","v":"C"}]
["63633","MO","Y","remote",{"$f":"VLOOKUP(B8513,ceva_zone!A:B,2,FALSE)","v":"E"},{"$f":"VLOOKUP(B8513,ceva_zone!A:C,3,FALSE)","v":"C"}]
["63732","MO","Y","remote",{"$f":"VLOOKUP(B8538,ceva_zone!A:B,2,FALSE)","v":"E"},{"$f":"VLOOKUP(B8538,ceva_zone!A:C,3,FALSE)","v":"C"}]
["63751","MO","Y","remote",{"$f":"VLOOKUP(B8557,ceva_zone!A:B,2,FALSE)","v":"E"},{"$f":"VLOOKUP(B8557,ceva_zone!A:C,3,FALSE)","v":"C"}]
["63766","MO","Y","remote",{"$f":"VLOOKUP(B8566,ceva_zone!A:B,2,FALSE)","v":"E"},{"$f":"VLOOKUP(B8566,ceva_zone!A:C,3,FALSE)","v":"C"}]
["63825","MO","Y","remote",{"$f":"VLOOKUP(B8583,ceva_zone!A:B,2,FALSE)","v":"E"},{"$f":"VLOOKUP(B8583,ceva_zone!A:C,3,FALSE)","v":"C"}]
["63850","MO","Y","remote",{"$f":"VLOOKUP(B8602,ceva_zone!A:B,2,FALSE)","v":"E"},{"$f":"VLOOKUP(B8602,ceva_zone!A:C,3,FALSE)","v":"C"}]
["63964","MO","Y","remote",{"$f":"VLOOKUP(B8631,ceva_zone!A:B,2,FALSE)","v":"E"},{"$f":"VLOOKUP(B8631,ceva_zone!A:C,3,FALSE)","v":"C"}]
["63954","MO","Y","remote",{"$f":"VLOOKUP(B8647,ceva_zone!A:B,2,FALSE)","v":"E"},{"$f":"VLOOKUP(B8647,ceva_zone!A:C,3,FALSE)","v":"C"}]
["64017","MO","E","remote",{"$f":"VLOOKUP(B8666,ceva_zone!A:B,2,FALSE)","v":"E"},{"$f":"VLOOKUP(B8666,ceva_zone!A:C,3,FALSE)","v":"C"}]
["64040","MO","F","remote",{"$f":"VLOOKUP(B8680,ceva_zone!A:B,2,FALSE)","v":"E"},{"$f":"VLOOKUP(B8680,ceva_zone!A:C,3,FALSE)","v":"C"}]
["64076","MO","E","remote",{"$f":"VLOOKUP(B8711,ceva_zone!A:B,2,FALSE)","v":"E"},{"$f":"VLOOKUP(B8711,ceva_zone!A:C,3,FALSE)","v":"C"}]
["64188","MO","C","standard",{"$f":"VLOOKUP(B8730,ceva_zone!A:B,2,FALSE)","v":"E"},{"$f":"VLOOKUP(B8730,ceva_zone!A:C,3,FALSE)","v":"C"}]
["64106","MO","C","standard",{"$f":"VLOOKUP(B8736,ceva_zone!A:B,2,FALSE)","v":"E"},{"$f":"VLOOKUP(B8736,ceva_zone!A:C,3,FALSE)","v":"C"}]
["64153","MO","A","standard",{"$f":"VLOOKUP(B8773,ceva_zone!A:B,2,FALSE)","v":"E"},{"$f":"VLOOKUP(B8773,ceva_zone!A:C,3,FALSE)","v":"C"}]
["64166","MO","B","standard",{"$f":"VLOOKUP(B8781,ceva_zone!A:B,2,FALSE)","v":"E"},{"$f":"VLOOKUP(B8781,ceva_zone!A:C,3,FALSE)","v":"C"}]
["64420","MO","Y","remote",{"$f":"VLOOKUP(B8800,ceva_zone!A:B,2,FALSE)","v":"E"},{"$f":"VLOOKUP(B8800,ceva_zone!A:C,3,FALSE)","v":"C"}]
["64444","MO","C","standard",{"$f":"VLOOKUP(B8822,ceva_zone!A:B,2,FALSE)","v":"E"},{"$f":"VLOOKUP(B8822,ceva_zone!A:C,3,FALSE)","v":"C"}]
["64473","MO","Y","remote",{"$f":"VLOOKUP(B8845,ceva_zone!A:B,2,FALSE)","v":"E"},{"$f":"VLOOKUP(B8845,ceva_zone!A:C,3,FALSE)","v":"C"}]
["64496","MO","Y","remote",{"$f":"VLOOKUP(B8864,ceva_zone!A:B,2,FALSE)","v":"E"},{"$f":"VLOOKUP(B8864,ceva_zone!A:C,3,FALSE)","v":"C"}]
["64506","MO","D","standard",{"$f":"VLOOKUP(B8871,ceva_zone!A:B,2,FALSE)","v":"E"},{"$f":"VLOOKUP(B8871,ceva_zone!A:C,3,FALSE)","v":"C"}]
["64637","MO","E","remote",{"$f":"VLOOKUP(B8890,ceva_zone!A:B,2,FALSE)","v":"E"},{"$f":"VLOOKUP(B8890,ceva_zone!A:C,3,FALSE)","v":"C"}]
["64658","MO","Y","remote",{"$f":"VLOOKUP(B8909,ceva_zone!A:B,2,FALSE)","v":"E"},{"$f":"VLOOKUP(B8909,ceva_zone!A:C,3,FALSE)","v":"C"}]
["64724","MO","Y","remote",{"$f":"VLOOKUP(B8934,ceva_zone!A:B,2,FALSE)","v":"E"},{"$f":"VLOOKUP(B8934,ceva_zone!A:C,3,FALSE)","v":"C"}]
["64756","MO","Y","remote",{"$f":"VLOOKUP(B8960,ceva_zone!A:B,2,FALSE)","v":"E"},{"$f":"VLOOKUP(B8960,ceva_zone!A:C,3,FALSE)","v":"C"}]
["64778","MO","Y","remote",{"$f":"VLOOKUP(B8973,ceva_zone!A:B,2,FALSE)","v":"E"},{"$f":"VLOOKUP(B8973,ceva_zone!A:C,3,FALSE)","v":"C"}]
["64853","MO","Y","remote",{"$f":"VLOOKUP(B8998,ceva_zone!A:B,2,FALSE)","v":"E"},{"$f":"VLOOKUP(B8998,ceva_zone!A:C,3,FALSE)","v":"C"}]
["64863","MO","Y","remote",{"$f":"VLOOKUP(B9009,ceva_zone!A:B,2,FALSE)","v":"E"},{"$f":"VLOOKUP(B9009,ceva_zone!A:C,3,FALSE)","v":"C"}]
["65049","MO","Y","remote",{"$f":"VLOOKUP(B9043,ceva_zone!A:B,2,FALSE)","v":"E"},{"$f":"VLOOKUP(B9043,ceva_zone!A:C,3,FALSE)","v":"C"}]
["65054","MO","Y","remote",{"$f":"VLOOKUP(B9062,ceva_zone!A:B,2,FALSE)","v":"E"},{"$f":"VLOOKUP(B9062,ceva_zone!A:C,3,FALSE)","v":"C"}]
["65108","MO","Y","remote",{"$f":"VLOOKUP(B9081,ceva_zone!A:B,2,FALSE)","v":"E"},{"$f":"VLOOKUP(B9081,ceva_zone!A:C,3,FALSE)","v":"C"}]
["65239","MO","Y","remote",{"$f":"VLOOKUP(B9098,ceva_zone!A:B,2,FALSE)","v":"E"},{"$f":"VLOOKUP(B9098,ceva_zone!A:C,3,FALSE)","v":"C"}]
["65205","MO","Y","remote",{"$f":"VLOOKUP(B9107,ceva_zone!A:B,2,FALSE)","v":"E"},{"$f":"VLOOKUP(B9107,ceva_zone!A:C,3,FALSE)","v":"C"}]
["65261","MO","Y","remote",{"$f":"VLOOKUP(B9126,ceva_zone!A:B,2,FALSE)","v":"E"},{"$f":"VLOOKUP(B9126,ceva_zone!A:C,3,FALSE)","v":"C"}]
["65325","MO","Y","remote",{"$f":"VLOOKUP(B9147,ceva_zone!A:B,2,FALSE)","v":"E"},{"$f":"VLOOKUP(B9147,ceva_zone!A:C,3,FALSE)","v":"C"}]
["65466","MO","Y","remote",{"$f":"VLOOKUP(B9171,ceva_zone!A:B,2,FALSE)","v":"E"},{"$f":"VLOOKUP(B9171,ceva_zone!A:C,3,FALSE)","v":"C"}]
["65484","MO","Y","remote",{"$f":"VLOOKUP(B9196,ceva_zone!A:B,2,FALSE)","v":"E"},{"$f":"VLOOKUP(B9196,ceva_zone!A:C,3,FALSE)","v":"C"}]
["65546","MO","Y","remote",{"$f":"VLOOKUP(B9216,ceva_zone!A:B,2,FALSE)","v":"E"},{"$f":"VLOOKUP(B9216,ceva_zone!A:C,3,FALSE)","v":"C"}]
["65603","MO","Y","remote",{"$f":"VLOOKUP(B9235,ceva_zone!A:B,2,FALSE)","v":"E"},{"$f":"VLOOKUP(B9235,ceva_zone!A:C,3,FALSE)","v":"C"}]
["65610","MO","Y","remote",{"$f":"VLOOKUP(B9241,ceva_zone!A:B,2,FALSE)","v":"E"},{"$f":"VLOOKUP(B9241,ceva_zone!A:C,3,FALSE)","v":"C"}]
["65630","MO","Y","remote",{"$f":"VLOOKUP(B9260,ceva_zone!A:B,2,FALSE)","v":"E"},{"$f":"VLOOKUP(B9260,ceva_zone!A:C,3,FALSE)","v":"C"}]
["65658","MO","Y","remote",{"$f":"VLOOKUP(B9285,ceva_zone!A:B,2,FALSE)","v":"E"},{"$f":"VLOOKUP(B9285,ceva_zone!A:C,3,FALSE)","v":"C"}]
["65682","MO","Y","remote",{"$f":"VLOOKUP(B9305,ceva_zone!A:B,2,FALSE)","v":"E"},{"$f":"VLOOKUP(B9305,ceva_zone!A:C,3,FALSE)","v":"C"}]
["65778","MO","Y","remote",{"$f":"VLOOKUP(B9324,ceva_zone!A:B,2,FALSE)","v":"E"},{"$f":"VLOOKUP(B9324,ceva_zone!A:C,3,FALSE)","v":"C"}]
["65725","MO","Y","remote",{"$f":"VLOOKUP(B9334,ceva_zone!A:B,2,FALSE)","v":"E"},{"$f":"VLOOKUP(B9334,ceva_zone!A:C,3,FALSE)","v":"C"}]
["65765","MO","Y","remote",{"$f":"VLOOKUP(B9369,ceva_zone!A:B,2,FALSE)","v":"E"},{"$f":"VLOOKUP(B9369,ceva_zone!A:C,3,FALSE)","v":"C"}]
["65805","MO","Y","remote",{"$f":"VLOOKUP(B9388,ceva_zone!A:B,2,FALSE)","v":"E"},{"$f":"VLOOKUP(B9388,ceva_zone!A:C,3,FALSE)","v":"C"}]
["66008","KS","E","remote",{"$f":"VLOOKUP(B9403,ceva_zone!A:B,2,FALSE)","v":"E"},{"$f":"VLOOKUP(B9403,ceva_zone!A:C,3,FALSE)","v":"C"}]
["66021","KS","D","standard",{"$f":"VLOOKUP(B9414,ceva_zone!A:B,2,FALSE)","v":"E"},{"$f":"VLOOKUP(B9414,ceva_zone!A:C,3,FALSE)","v":"C"}]
["66053","KS","E","remote",{"$f":"VLOOKUP(B9439,ceva_zone!A:B,2,FALSE)","v":"E"},{"$f":"VLOOKUP(B9439,ceva_zone!A:C,3,FALSE)","v":"C"}]
["66078","KS","E","remote",{"$f":"VLOOKUP(B9458,ceva_zone!A:B,2,FALSE)","v":"E"},{"$f":"VLOOKUP(B9458,ceva_zone!A:C,3,FALSE)","v":"C"}]
["66103","KS","C","standard",{"$f":"VLOOKUP(B9476,ceva_zone!A:B,2,FALSE)","v":"E"},{"$f":"VLOOKUP(B9476,ceva_zone!A:C,3,FALSE)","v":"C"}]
["66215","KS","C","standard",{"$f":"VLOOKUP(B9503,ceva_zone!A:B,2,FALSE)","v":"E"},{"$f":"VLOOKUP(B9503,ceva_zone!A:C,3,FALSE)","v":"C"}]
["66276","KS","B","standard",{"$f":"VLOOKUP(B9522,ceva_zone!A:B,2,FALSE)","v":"E"},{"$f":"VLOOKUP(B9522,ceva_zone!A:C,3,FALSE)","v":"C"}]
["66425","KS","Y","remote",{"$f":"VLOOKUP(B9545,ceva_zone!A:B,2,FALSE)","v":"E"},{"$f":"VLOOKUP(B9545,ceva_zone!A:C,3,FALSE)","v":"C"}]
["66427","KS","Y","remote",{"$f":"VLOOKUP(B9548,ceva_zone!A:B,2,FALSE)","v":"E"},{"$f":"VLOOKUP(B9548,ceva_zone!A:C,3,FALSE)","v":"C"}]
["66505","KS","E","remote",{"$f":"VLOOKUP(B9567,ceva_zone!A:B,2,FALSE)","v":"E"},{"$f":"VLOOKUP(B9567,ceva_zone!A:C,3,FALSE)","v":"C"}]
["66534","KS","Y","remote",{"$f":"VLOOKUP(B9590,ceva_zone!A:B,2,FALSE)","v":"E"},{"$f":"VLOOKUP(B9590,ceva_zone!A:C,3,FALSE)","v":"C"}]
["66609","KS","E","remote",{"$f":"VLOOKUP(B9612,ceva_zone!A:B,2,FALSE)","v":"E"},{"$f":"VLOOKUP(B9612,ceva_zone!A:C,3,FALSE)","v":"C"}]
["66675","KS","E","remote",{"$f":"VLOOKUP(B9631,ceva_zone!A:B,2,FALSE)","v":"E"},{"$f":"VLOOKUP(B9631,ceva_zone!A:C,3,FALSE)","v":"C"}]
["66724","KS","Y","remote",{"$f":"VLOOKUP(B9656,ceva_zone!A:B,2,FALSE)","v":"E"},{"$f":"VLOOKUP(B9656,ceva_zone!A:C,3,FALSE)","v":"C"}]
["66734","KS","Y","remote",{"$f":"VLOOKUP(B9663,ceva_zone!A:B,2,FALSE)","v":"E"},{"$f":"VLOOKUP(B9663,ceva_zone!A:C,3,FALSE)","v":"C"}]
["66780","KS","Y","remote",{"$f":"VLOOKUP(B9682,ceva_zone!A:B,2,FALSE)","v":"E"},{"$f":"VLOOKUP(B9682,ceva_zone!A:C,3,FALSE)","v":"C"}]
["66873","KS","Y","remote",{"$f":"VLOOKUP(B9701,ceva_zone!A:B,2,FALSE)","v":"E"},{"$f":"VLOOKUP(B9701,ceva_zone!A:C,3,FALSE)","v":"C"}]
["66938","KS","Y","remote",{"$f":"VLOOKUP(B9732,ceva_zone!A:B,2,FALSE)","v":"E"},{"$f":"VLOOKUP(B9732,ceva_zone!A:C,3,FALSE)","v":"C"}]
["66955","KS","Y","remote",{"$f":"VLOOKUP(B9746,ceva_zone!A:B,2,FALSE)","v":"E"},{"$f":"VLOOKUP(B9746,ceva_zone!A:C,3,FALSE)","v":"C"}]
["67008","KS","Y","remote",{"$f":"VLOOKUP(B9765,ceva_zone!A:B,2,FALSE)","v":"E"},{"$f":"VLOOKUP(B9765,ceva_zone!A:C,3,FALSE)","v":"C"}]
["67030","KS","Y","remote",{"$f":"VLOOKUP(B9784,ceva_zone!A:B,2,FALSE)","v":"E"},{"$f":"VLOOKUP(B9784,ceva_zone!A:C,3,FALSE)","v":"C"}]
["67054","KS","Y","remote",{"$f":"VLOOKUP(B9801,ceva_zone!A:B,2,FALSE)","v":"E"},{"$f":"VLOOKUP(B9801,ceva_zone!A:C,3,FALSE)","v":"C"}]
["67110","KS","Y","remote",{"$f":"VLOOKUP(B9829,ceva_zone!A:B,2,FALSE)","v":"E"},{"$f":"VLOOKUP(B9829,ceva_zone!A:C,3,FALSE)","v":"C"}]
["67118","KS","Y","remote",{"$f":"VLOOKUP(B9835,ceva_zone!A:B,2,FALSE)","v":"E"},{"$f":"VLOOKUP(B9835,ceva_zone!A:C,3,FALSE)","v":"C"}]
["67218","KS","Y","remote",{"$f":"VLOOKUP(B9870,ceva_zone!A:B,2,FALSE)","v":"E"},{"$f":"VLOOKUP(B9870,ceva_zone!A:C,3,FALSE)","v":"C"}]
["67230","KS","Y","remote",{"$f":"VLOOKUP(B9874,ceva_zone!A:B,2,FALSE)","v":"E"},{"$f":"VLOOKUP(B9874,ceva_zone!A:C,3,FALSE)","v":"C"}]
["67341","KS","F","remote",{"$f":"VLOOKUP(B9899,ceva_zone!A:B,2,FALSE)","v":"E"},{"$f":"VLOOKUP(B9899,ceva_zone!A:C,3,FALSE)","v":"C"}]
["67416","KS","Y","remote",{"$f":"VLOOKUP(B9919,ceva_zone!A:B,2,FALSE)","v":"E"},{"$f":"VLOOKUP(B9919,ceva_zone!A:C,3,FALSE)","v":"C"}]
["67438","KS","Y","remote",{"$f":"VLOOKUP(B9938,ceva_zone!A:B,2,FALSE)","v":"E"},{"$f":"VLOOKUP(B9938,ceva_zone!A:C,3,FALSE)","v":"C"}]
["67474","KS","Y","remote",{"$f":"VLOOKUP(B9963,ceva_zone!A:B,2,FALSE)","v":"E"},{"$f":"VLOOKUP(B9963,ceva_zone!A:C,3,FALSE)","v":"C"}]
["67516","KS","Y","remote",{"$f":"VLOOKUP(B9982,ceva_zone!A:B,2,FALSE)","v":"E"},{"$f":"VLOOKUP(B9982,ceva_zone!A:C,3,FALSE)","v":"C"}]
["67550","KS","Y","remote",{"$f":"VLOOKUP(B10008,ceva_zone!A:B,2,FALSE)","v":"E"},{"$f":"VLOOKUP(B10008,ceva_zone!A:C,3,FALSE)","v":"C"}]
["67579","KS","Y","remote",{"$f":"VLOOKUP(B10027,ceva_zone!A:B,2,FALSE)","v":"E"},{"$f":"VLOOKUP(B10027,ceva_zone!A:C,3,FALSE)","v":"C"}]
["67638","KS","Y","remote",{"$f":"VLOOKUP(B10046,ceva_zone!A:B,2,FALSE)","v":"E"},{"$f":"VLOOKUP(B10046,ceva_zone!A:C,3,FALSE)","v":"C"}]
["67650","KS","Y","remote",{"$f":"VLOOKUP(B10057,ceva_zone!A:B,2,FALSE)","v":"E"},{"$f":"VLOOKUP(B10057,ceva_zone!A:C,3,FALSE)","v":"C"}]
["67672","KS","Y","remote",{"$f":"VLOOKUP(B10072,ceva_zone!A:B,2,FALSE)","v":"E"},{"$f":"VLOOKUP(B10072,ceva_zone!A:C,3,FALSE)","v":"C"}]
["67752","KS","Y","remote",{"$f":"VLOOKUP(B10097,ceva_zone!A:B,2,FALSE)","v":"E"},{"$f":"VLOOKUP(B10097,ceva_zone!A:C,3,FALSE)","v":"C"}]
["67855","KS","Y","remote",{"$f":"VLOOKUP(B10106,ceva_zone!A:B,2,FALSE)","v":"E"},{"$f":"VLOOKUP(B10106,ceva_zone!A:C,3,FALSE)","v":"C"}]
["67870","KS","Y","remote",{"$f":"VLOOKUP(B10136,ceva_zone!A:B,2,FALSE)","v":"E"},{"$f":"VLOOKUP(B10136,ceva_zone!A:C,3,FALSE)","v":"C"}]
["68016","NE","D","standard",{"$f":"VLOOKUP(B10161,ceva_zone!A:B,2,FALSE)","v":"E"},{"$f":"VLOOKUP(B10161,ceva_zone!A:C,3,FALSE)","v":"F"}]
["68040","NE","F","remote",{"$f":"VLOOKUP(B10180,ceva_zone!A:B,2,FALSE)","v":"E"},{"$f":"VLOOKUP(B10180,ceva_zone!A:C,3,FALSE)","v":"F"}]
["68066","NE","D","standard",{"$f":"VLOOKUP(B10199,ceva_zone!A:B,2,FALSE)","v":"E"},{"$f":"VLOOKUP(B10199,ceva_zone!A:C,3,FALSE)","v":"F"}]
["68073","NE","A","standard",{"$f":"VLOOKUP(B10206,ceva_zone!A:B,2,FALSE)","v":"E"},{"$f":"VLOOKUP(B10206,ceva_zone!A:C,3,FALSE)","v":"F"}]
["68124","NE","A","standard",{"$f":"VLOOKUP(B10225,ceva_zone!A:B,2,FALSE)","v":"E"},{"$f":"VLOOKUP(B10225,ceva_zone!A:C,3,FALSE)","v":"F"}]
["68164","NE","B","standard",{"$f":"VLOOKUP(B10244,ceva_zone!A:B,2,FALSE)","v":"E"},{"$f":"VLOOKUP(B10244,ceva_zone!A:C,3,FALSE)","v":"F"}]
["68317","NE","F","remote",{"$f":"VLOOKUP(B10270,ceva_zone!A:B,2,FALSE)","v":"E"},{"$f":"VLOOKUP(B10270,ceva_zone!A:C,3,FALSE)","v":"F"}]
["68337","NE","Y","remote",{"$f":"VLOOKUP(B10289,ceva_zone!A:B,2,FALSE)","v":"E"},{"$f":"VLOOKUP(B10289,ceva_zone!A:C,3,FALSE)","v":"F"}]
["68368","NE","Y","remote",{"$f":"VLOOKUP(B10313,ceva_zone!A:B,2,FALSE)","v":"E"},{"$f":"VLOOKUP(B10313,ceva_zone!A:C,3,FALSE)","v":"F"}]
["68405","NE","Y","remote",{"$f":"VLOOKUP(B10334,ceva_zone!A:B,2,FALSE)","v":"E"},{"$f":"VLOOKUP(B10334,ceva_zone!A:C,3,FALSE)","v":"F"}]
["68414","NE","F","remote",{"$f":"VLOOKUP(B10340,ceva_zone!A:B,2,FALSE)","v":"E"},{"$f":"VLOOKUP(B10340,ceva_zone!A:C,3,FALSE)","v":"F"}]
["68436","NE","Y","remote",{"$f":"VLOOKUP(B10359,ceva_zone!A:B,2,FALSE)","v":"E"},{"$f":"VLOOKUP(B10359,ceva_zone!A:C,3,FALSE)","v":"F"}]
["68467","NE","Y","remote",{"$f":"VLOOKUP(B10386,ceva_zone!A:B,2,FALSE)","v":"E"},{"$f":"VLOOKUP(B10386,ceva_zone!A:C,3,FALSE)","v":"F"}]
["68523","NE","D","standard",{"$f":"VLOOKUP(B10404,ceva_zone!A:B,2,FALSE)","v":"E"},{"$f":"VLOOKUP(B10404,ceva_zone!A:C,3,FALSE)","v":"F"}]
["68601","NE","Y","remote",{"$f":"VLOOKUP(B10423,ceva_zone!A:B,2,FALSE)","v":"E"},{"$f":"VLOOKUP(B10423,ceva_zone!A:C,3,FALSE)","v":"F"}]
["68642","NE","Y","remote",{"$f":"VLOOKUP(B10435,ceva_zone!A:B,2,FALSE)","v":"E"},{"$f":"VLOOKUP(B10435,ceva_zone!A:C,3,FALSE)","v":"F"}]
["68722","NE","Y","remote",{"$f":"VLOOKUP(B10468,ceva_zone!A:B,2,FALSE)","v":"E"},{"$f":"VLOOKUP(B10468,ceva_zone!A:C,3,FALSE)","v":"F"}]
["68743","NE","Y","remote",{"$f":"VLOOKUP(B10487,ceva_zone!A:B,2,FALSE)","v":"E"},{"$f":"VLOOKUP(B10487,ceva_zone!A:C,3,FALSE)","v":"F"}]
["68747","NE","Y","remote",{"$f":"VLOOKUP(B10493,ceva_zone!A:B,2,FALSE)","v":"E"},{"$f":"VLOOKUP(B10493,ceva_zone!A:C,3,FALSE)","v":"F"}]
["68784","NE","Y","remote",{"$f":"VLOOKUP(B10524,ceva_zone!A:B,2,FALSE)","v":"E"},{"$f":"VLOOKUP(B10524,ceva_zone!A:C,3,FALSE)","v":"F"}]
["68792","NE","Y","remote",{"$f":"VLOOKUP(B10532,ceva_zone!A:B,2,FALSE)","v":"E"},{"$f":"VLOOKUP(B10532,ceva_zone!A:C,3,FALSE)","v":"F"}]
["68845","NE","Y","remote",{"$f":"VLOOKUP(B10557,ceva_zone!A:B,2,FALSE)","v":"E"},{"$f":"VLOOKUP(B10557,ceva_zone!A:C,3,FALSE)","v":"F"}]
["68863","NE","Y","remote",{"$f":"VLOOKUP(B10573,ceva_zone!A:B,2,FALSE)","v":"E"},{"$f":"VLOOKUP(B10573,ceva_zone!A:C,3,FALSE)","v":"F"}]
["68815","NE","Y","remote",{"$f":"VLOOKUP(B10596,ceva_zone!A:B,2,FALSE)","v":"E"},{"$f":"VLOOKUP(B10596,ceva_zone!A:C,3,FALSE)","v":"F"}]
["68924","NE","Y","remote",{"$f":"VLOOKUP(B10621,ceva_zone!A:B,2,FALSE)","v":"E"},{"$f":"VLOOKUP(B10621,ceva_zone!A:C,3,FALSE)","v":"F"}]
["68930","NE","Y","remote",{"$f":"VLOOKUP(B10642,ceva_zone!A:B,2,FALSE)","v":"E"},{"$f":"VLOOKUP(B10642,ceva_zone!A:C,3,FALSE)","v":"F"}]
["68935","NE","Y","remote",{"$f":"VLOOKUP(B10647,ceva_zone!A:B,2,FALSE)","v":"E"},{"$f":"VLOOKUP(B10647,ceva_zone!A:C,3,FALSE)","v":"F"}]
["69032","NE","Y","remote",{"$f":"VLOOKUP(B10666,ceva_zone!A:B,2,FALSE)","v":"E"},{"$f":"VLOOKUP(B10666,ceva_zone!A:C,3,FALSE)","v":"F"}]
["69151","NE","Y","remote",{"$f":"VLOOKUP(B10685,ceva_zone!A:B,2,FALSE)","v":"E"},{"$f":"VLOOKUP(B10685,ceva_zone!A:C,3,FALSE)","v":"F"}]
["69153","NE","Y","remote",{"$f":"VLOOKUP(B10711,ceva_zone!A:B,2,FALSE)","v":"E"},{"$f":"VLOOKUP(B10711,ceva_zone!A:C,3,FALSE)","v":"F"}]
["69211","NE","Y","remote",{"$f":"VLOOKUP(B10730,ceva_zone!A:B,2,FALSE)","v":"E"},{"$f":"VLOOKUP(B10730,ceva_zone!A:C,3,FALSE)","v":"F"}]
["69353","NE","Y","remote",{"$f":"VLOOKUP(B10755,ceva_zone!A:B,2,FALSE)","v":"E"},{"$f":"VLOOKUP(B10755,ceva_zone!A:C,3,FALSE)","v":"F"}]
["70082","LA","Y","remote",{"$f":"VLOOKUP(B10780,ceva_zone!A:B,2,FALSE)","v":"D"},{"$f":"VLOOKUP(B10780,ceva_zone!A:C,3,FALSE)","v":"C"}]
["70051","LA","E","remote",{"$f":"VLOOKUP(B10794,ceva_zone!A:B,2,FALSE)","v":"D"},{"$f":"VLOOKUP(B10794,ceva_zone!A:C,3,FALSE)","v":"C"}]
["70057","LA","F","remote",{"$f":"VLOOKUP(B10800,ceva_zone!A:B,2,FALSE)","v":"D"},{"$f":"VLOOKUP(B10800,ceva_zone!A:C,3,FALSE)","v":"C"}]
["70086","LA","E","remote",{"$f":"VLOOKUP(B10829,ceva_zone!A:B,2,FALSE)","v":"D"},{"$f":"VLOOKUP(B10829,ceva_zone!A:C,3,FALSE)","v":"C"}]
["70117","LA","F","remote",{"$f":"VLOOKUP(B10839,ceva_zone!A:B,2,FALSE)","v":"D"},{"$f":"VLOOKUP(B10839,ceva_zone!A:C,3,FALSE)","v":"C"}]
["70174","LA","A","standard",{"$f":"VLOOKUP(B10864,ceva_zone!A:B,2,FALSE)","v":"D"},{"$f":"VLOOKUP(B10864,ceva_zone!A:C,3,FALSE)","v":"C"}]
["70145","LA","F","remote",{"$f":"VLOOKUP(B10883,ceva_zone!A:B,2,FALSE)","v":"D"},{"$f":"VLOOKUP(B10883,ceva_zone!A:C,3,FALSE)","v":"C"}]
["70381","LA","G","remote",{"$f":"VLOOKUP(B10898,ceva_zone!A:B,2,FALSE)","v":"D"},{"$f":"VLOOKUP(B10898,ceva_zone!A:C,3,FALSE)","v":"C"}]
["70394","LA","Y","remote",{"$f":"VLOOKUP(B10928,ceva_zone!A:B,2,FALSE)","v":"D"},{"$f":"VLOOKUP(B10928,ceva_zone!A:C,3,FALSE)","v":"C"}]
["70435","LA","Y","remote",{"$f":"VLOOKUP(B10947,ceva_zone!A:B,2,FALSE)","v":"D"},{"$f":"VLOOKUP(B10947,ceva_zone!A:C,3,FALSE)","v":"C"}]
["70452","LA","F","remote",{"$f":"VLOOKUP(B10967,ceva_zone!A:B,2,FALSE)","v":"D"},{"$f":"VLOOKUP(B10967,ceva_zone!A:C,3,FALSE)","v":"C"}]
["70520","LA","Y","remote",{"$f":"VLOOKUP(B10992,ceva_zone!A:B,2,FALSE)","v":"D"},{"$f":"VLOOKUP(B10992,ceva_zone!A:C,3,FALSE)","v":"C"}]
["70542","LA","Y","remote",{"$f":"VLOOKUP(B11011,ceva_zone!A:B,2,FALSE)","v":"D"},{"$f":"VLOOKUP(B11011,ceva_zone!A:C,3,FALSE)","v":"C"}]
["70501","LA","Y","remote",{"$f":"VLOOKUP(B11017,ceva_zone!A:B,2,FALSE)","v":"D"},{"$f":"VLOOKUP(B11017,ceva_zone!A:C,3,FALSE)","v":"C"}]
["70571","LA","Y","remote",{"$f":"VLOOKUP(B11040,ceva_zone!A:B,2,FALSE)","v":"D"},{"$f":"VLOOKUP(B11040,ceva_zone!A:C,3,FALSE)","v":"C"}]
["70637","LA","Y","remote",{"$f":"VLOOKUP(B11062,ceva_zone!A:B,2,FALSE)","v":"D"},{"$f":"VLOOKUP(B11062,ceva_zone!A:C,3,FALSE)","v":"C"}]
["70605","LA","J","remote",{"$f":"VLOOKUP(B11081,ceva_zone!A:B,2,FALSE)","v":"D"},{"$f":"VLOOKUP(B11081,ceva_zone!A:C,3,FALSE)","v":"C"}]
["70657","LA","Y","remote",{"$f":"VLOOKUP(B11089,ceva_zone!A:B,2,FALSE)","v":"D"},{"$f":"VLOOKUP(B11089,ceva_zone!A:C,3,FALSE)","v":"C"}]
["70739","LA","Y","remote",{"$f":"VLOOKUP(B11126,ceva_zone!A:B,2,FALSE)","v":"D"},{"$f":"VLOOKUP(B11126,ceva_zone!A:C,3,FALSE)","v":"C"}]
["70763","LA","E","remote",{"$f":"VLOOKUP(B11145,ceva_zone!A:B,2,FALSE)","v":"D"},{"$f":"VLOOKUP(B11145,ceva_zone!A:C,3,FALSE)","v":"C"}]
["70778","LA","F","remote",{"$f":"VLOOKUP(B11154,ceva_zone!A:B,2,FALSE)","v":"D"},{"$f":"VLOOKUP(B11154,ceva_zone!A:C,3,FALSE)","v":"C"}]
["70807","LA","G","remote",{"$f":"VLOOKUP(B11171,ceva_zone!A:B,2,FALSE)","v":"D"},{"$f":"VLOOKUP(B11171,ceva_zone!A:C,3,FALSE)","v":"C"}]
["70827","LA","G","remote",{"$f":"VLOOKUP(B11190,ceva_zone!A:B,2,FALSE)","v":"D"},{"$f":"VLOOKUP(B11190,ceva_zone!A:C,3,FALSE)","v":"C"}]
["71008","LA","Y","remote",{"$f":"VLOOKUP(B11215,ceva_zone!A:B,2,FALSE)","v":"D"},{"$f":"VLOOKUP(B11215,ceva_zone!A:C,3,FALSE)","v":"C"}]
["71032","LA","Y","remote",{"$f":"VLOOKUP(B11227,ceva_zone!A:B,2,FALSE)","v":"D"},{"$f":"VLOOKUP(B11227,ceva_zone!A:C,3,FALSE)","v":"C"}]
["71065","LA","F","remote",{"$f":"VLOOKUP(B11254,ceva_zone!A:B,2,FALSE)","v":"D"},{"$f":"VLOOKUP(B11254,ceva_zone!A:C,3,FALSE)","v":"C"}]
["71130","LA","D","standard",{"$f":"VLOOKUP(B11279,ceva_zone!A:B,2,FALSE)","v":"D"},{"$f":"VLOOKUP(B11279,ceva_zone!A:C,3,FALSE)","v":"C"}]
["71133","LA","D","standard",{"$f":"VLOOKUP(B11296,ceva_zone!A:B,2,FALSE)","v":"D"},{"$f":"VLOOKUP(B11296,ceva_zone!A:C,3,FALSE)","v":"C"}]
["71218","LA","Y","remote",{"$f":"VLOOKUP(B11305,ceva_zone!A:B,2,FALSE)","v":"D"},{"$f":"VLOOKUP(B11305,ceva_zone!A:C,3,FALSE)","v":"C"}]
["71233","LA","Y","remote",{"$f":"VLOOKUP(B11324,ceva_zone!A:B,2,FALSE)","v":"D"},{"$f":"VLOOKUP(B11324,ceva_zone!A:C,3,FALSE)","v":"C"}]
["71259","LA","Y","remote",{"$f":"VLOOKUP(B11345,ceva_zone!A:B,2,FALSE)","v":"D"},{"$f":"VLOOKUP(B11345,ceva_zone!A:C,3,FALSE)","v":"C"}]
["71315","LA","Y","remote",{"$f":"VLOOKUP(B11369,ceva_zone!A:B,2,FALSE)","v":"D"},{"$f":"VLOOKUP(B11369,ceva_zone!A:C,3,FALSE)","v":"C"}]
["71322","LA","Y","remote",{"$f":"VLOOKUP(B11388,ceva_zone!A:B,2,FALSE)","v":"D"},{"$f":"VLOOKUP(B11388,ceva_zone!A:C,3,FALSE)","v":"C"}]
["71348","LA","Y","remote",{"$f":"VLOOKUP(B11413,ceva_zone!A:B,2,FALSE)","v":"D"},{"$f":"VLOOKUP(B11413,ceva_zone!A:C,3,FALSE)","v":"C"}]
["71407","LA","Y","remote",{"$f":"VLOOKUP(B11434,ceva_zone!A:B,2,FALSE)","v":"D"},{"$f":"VLOOKUP(B11434,ceva_zone!A:C,3,FALSE)","v":"C"}]
["71422","LA","Y","remote",{"$f":"VLOOKUP(B11452,ceva_zone!A:B,2,FALSE)","v":"D"},{"$f":"VLOOKUP(B11452,ceva_zone!A:C,3,FALSE)","v":"C"}]
["71425","LA","Y","remote",{"$f":"VLOOKUP(B11458,ceva_zone!A:B,2,FALSE)","v":"D"},{"$f":"VLOOKUP(B11458,ceva_zone!A:C,3,FALSE)","v":"C"}]
["71475","LA","Y","remote",{"$f":"VLOOKUP(B11483,ceva_zone!A:B,2,FALSE)","v":"D"},{"$f":"VLOOKUP(B11483,ceva_zone!A:C,3,FALSE)","v":"C"}]
["71665","AR","Y","remote",{"$f":"VLOOKUP(B11497,ceva_zone!A:B,2,FALSE)","v":"E"},{"$f":"VLOOKUP(B11497,ceva_zone!A:C,3,FALSE)","v":"C"}]
["71670","AR","Y","remote",{"$f":"VLOOKUP(B11522,ceva_zone!A:B,2,FALSE)","v":"E"},{"$f":"VLOOKUP(B11522,ceva_zone!A:C,3,FALSE)","v":"C"}]
["71752","AR","Y","remote",{"$f":"VLOOKUP(B11552,ceva_zone!A:B,2,FALSE)","v":"E"},{"$f":"VLOOKUP(B11552,ceva_zone!A:C,3,FALSE)","v":"C"}]
["71828","AR","Y","remote",{"$f":"VLOOKUP(B11567,ceva_zone!A:B,2,FALSE)","v":"E"},{"$f":"VLOOKUP(B11567,ceva_zone!A:C,3,FALSE)","v":"C"}]
["71852","AR","Y","remote",{"$f":"VLOOKUP(B11586,ceva_zone!A:B,2,FALSE)","v":"E"},{"$f":"VLOOKUP(B11586,ceva_zone!A:C,3,FALSE)","v":"C"}]
["71923","AR","Y","remote",{"$f":"VLOOKUP(B11605,ceva_zone!A:B,2,FALSE)","v":"E"},{"$f":"VLOOKUP(B11605,ceva_zone!A:C,3,FALSE)","v":"C"}]
["71957","AR","Y","remote",{"$f":"VLOOKUP(B11621,ceva_zone!A:B,2,FALSE)","v":"E"},{"$f":"VLOOKUP(B11621,ceva_zone!A:C,3,FALSE)","v":"C"}]
["71961","AR","Y","remote",{"$f":"VLOOKUP(B11631,ceva_zone!A:B,2,FALSE)","v":"E"},{"$f":"VLOOKUP(B11631,ceva_zone!A:C,3,FALSE)","v":"C"}]
["72012","AR","Y","remote",{"$f":"VLOOKUP(B11650,ceva_zone!A:B,2,FALSE)","v":"E"},{"$f":"VLOOKUP(B11650,ceva_zone!A:C,3,FALSE)","v":"C"}]
["72044","AR","Y","remote",{"$f":"VLOOKUP(B11670,ceva_zone!A:B,2,FALSE)","v":"E"},{"$f":"VLOOKUP(B11670,ceva_zone!A:C,3,FALSE)","v":"C"}]
["72065","AR","Y","remote",{"$f":"VLOOKUP(B11695,ceva_zone!A:B,2,FALSE)","v":"E"},{"$f":"VLOOKUP(B11695,ceva_zone!A:C,3,FALSE)","v":"C"}]
["72082","AR","Y","remote",{"$f":"VLOOKUP(B11720,ceva_zone!A:B,2,FALSE)","v":"E"},{"$f":"VLOOKUP(B11720,ceva_zone!A:C,3,FALSE)","v":"C"}]
["72110","AR","Y","remote",{"$f":"VLOOKUP(B11739,ceva_zone!A:B,2,FALSE)","v":"E"},{"$f":"VLOOKUP(B11739,ceva_zone!A:C,3,FALSE)","v":"C"}]
["72124","AR","Y","remote",{"$f":"VLOOKUP(B11763,ceva_zone!A:B,2,FALSE)","v":"E"},{"$f":"VLOOKUP(B11763,ceva_zone!A:C,3,FALSE)","v":"C"}]
["72114","AR","Y","remote",{"$f":"VLOOKUP(B11765,ceva_zone!A:B,2,FALSE)","v":"E"},{"$f":"VLOOKUP(B11765,ceva_zone!A:C,3,FALSE)","v":"C"}]
["72183","AR","Y","remote",{"$f":"VLOOKUP(B11784,ceva_zone!A:B,2,FALSE)","v":"E"},{"$f":"VLOOKUP(B11784,ceva_zone!A:C,3,FALSE)","v":"C"}]
["72222","AR","Y","remote",{"$f":"VLOOKUP(B11808,ceva_zone!A:B,2,FALSE)","v":"E"},{"$f":"VLOOKUP(B11808,ceva_zone!A:C,3,FALSE)","v":"C"}]
["72322","AR","Y","remote",{"$f":"VLOOKUP(B11829,ceva_zone!A:B,2,FALSE)","v":"E"},{"$f":"VLOOKUP(B11829,ceva_zone!A:C,3,FALSE)","v":"C"}]
["72348","AR","D","standard",{"$f":"VLOOKUP(B11848,ceva_zone!A:B,2,FALSE)","v":"E"},{"$f":"VLOOKUP(B11848,ceva_zone!A:C,3,FALSE)","v":"C"}]
["72301","AR","B","standard",{"$f":"VLOOKUP(B11877,ceva_zone!A:B,2,FALSE)","v":"E"},{"$f":"VLOOKUP(B11877,ceva_zone!A:C,3,FALSE)","v":"C"}]
["72421","AR","Y","remote",{"$f":"VLOOKUP(B11893,ceva_zone!A:B,2,FALSE)","v":"E"},{"$f":"VLOOKUP(B11893,ceva_zone!A:C,3,FALSE)","v":"C"}]
["72404","AR","Y","remote",{"$f":"VLOOKUP(B11912,ceva_zone!A:B,2,FALSE)","v":"E"},{"$f":"VLOOKUP(B11912,ceva_zone!A:C,3,FALSE)","v":"C"}]
["72464","AR","Y","remote",{"$f":"VLOOKUP(B11937,ceva_zone!A:B,2,FALSE)","v":"E"},{"$f":"VLOOKUP(B11937,ceva_zone!A:C,3,FALSE)","v":"C"}]
["72501","AR","Y","remote",{"$f":"VLOOKUP(B11950,ceva_zone!A:B,2,FALSE)","v":"E"},{"$f":"VLOOKUP(B11950,ceva_zone!A:C,3,FALSE)","v":"C"}]
["72526","AR","Y","remote",{"$f":"VLOOKUP(B11963,ceva_zone!A:B,2,FALSE)","v":"E"},{"$f":"VLOOKUP(B11963,ceva_zone!A:C,3,FALSE)","v":"C"}]
["72546","AR","Y","remote",{"$f":"VLOOKUP(B11982,ceva_zone!A:B,2,FALSE)","v":"E"},{"$f":"VLOOKUP(B11982,ceva_zone!A:C,3,FALSE)","v":"C"}]
["72573","AR","Y","remote",{"$f":"VLOOKUP(B11999,ceva_zone!A:B,2,FALSE)","v":"E"},{"$f":"VLOOKUP(B11999,ceva_zone!A:C,3,FALSE)","v":"C"}]
["72631","AR","E","remote",{"$f":"VLOOKUP(B12027,ceva_zone!A:B,2,FALSE)","v":"E"},{"$f":"VLOOKUP(B12027,ceva_zone!A:C,3,FALSE)","v":"C"}]
["72661","AR","Y","remote",{"$f":"VLOOKUP(B12046,ceva_zone!A:B,2,FALSE)","v":"E"},{"$f":"VLOOKUP(B12046,ceva_zone!A:C,3,FALSE)","v":"C"}]
["72715","AR","Y","remote",{"$f":"VLOOKUP(B12064,ceva_zone!A:B,2,FALSE)","v":"E"},{"$f":"VLOOKUP(B12064,ceva_zone!A:C,3,FALSE)","v":"C"}]
["72739","AR","Y","remote",{"$f":"VLOOKUP(B12091,ceva_zone!A:B,2,FALSE)","v":"E"},{"$f":"VLOOKUP(B12091,ceva_zone!A:C,3,FALSE)","v":"C"}]
["72770","AR","Y","remote",{"$f":"VLOOKUP(B12110,ceva_zone!A:B,2,FALSE)","v":"E"},{"$f":"VLOOKUP(B12110,ceva_zone!A:C,3,FALSE)","v":"C"}]
["72823","AR","Y","remote",{"$f":"VLOOKUP(B12116,ceva_zone!A:B,2,FALSE)","v":"E"},{"$f":"VLOOKUP(B12116,ceva_zone!A:C,3,FALSE)","v":"C"}]
["72851","AR","Y","remote",{"$f":"VLOOKUP(B12137,ceva_zone!A:B,2,FALSE)","v":"E"},{"$f":"VLOOKUP(B12137,ceva_zone!A:C,3,FALSE)","v":"C"}]
["72928","AR","Y","remote",{"$f":"VLOOKUP(B12155,ceva_zone!A:B,2,FALSE)","v":"E"},{"$f":"VLOOKUP(B12155,ceva_zone!A:C,3,FALSE)","v":"C"}]
["72944","AR","Y","remote",{"$f":"VLOOKUP(B12180,ceva_zone!A:B,2,FALSE)","v":"E"},{"$f":"VLOOKUP(B12180,ceva_zone!A:C,3,FALSE)","v":"C"}]
["73016","OK","Y","remote",{"$f":"VLOOKUP(B12206,ceva_zone!A:B,2,FALSE)","v":"D"},{"$f":"VLOOKUP(B12206,ceva_zone!A:C,3,FALSE)","v":"C"}]
["73034","OK","Y","remote",{"$f":"VLOOKUP(B12225,ceva_zone!A:B,2,FALSE)","v":"D"},{"$f":"VLOOKUP(B12225,ceva_zone!A:C,3,FALSE)","v":"C"}]
["73057","OK","E","remote",{"$f":"VLOOKUP(B12244,ceva_zone!A:B,2,FALSE)","v":"D"},{"$f":"VLOOKUP(B12244,ceva_zone!A:C,3,FALSE)","v":"C"}]
["73019","OK","F","remote",{"$f":"VLOOKUP(B12255,ceva_zone!A:B,2,FALSE)","v":"D"},{"$f":"VLOOKUP(B12255,ceva_zone!A:C,3,FALSE)","v":"C"}]
["73084","OK","Y","remote",{"$f":"VLOOKUP(B12270,ceva_zone!A:B,2,FALSE)","v":"D"},{"$f":"VLOOKUP(B12270,ceva_zone!A:C,3,FALSE)","v":"C"}]
["73140","OK","B","standard",{"$f":"VLOOKUP(B12289,ceva_zone!A:B,2,FALSE)","v":"D"},{"$f":"VLOOKUP(B12289,ceva_zone!A:C,3,FALSE)","v":"C"}]
["73107","OK","F","remote",{"$f":"VLOOKUP(B12308,ceva_zone!A:B,2,FALSE)","v":"D"},{"$f":"VLOOKUP(B12308,ceva_zone!A:C,3,FALSE)","v":"C"}]
["73128","OK","F","remote",{"$f":"VLOOKUP(B12324,ceva_zone!A:B,2,FALSE)","v":"D"},{"$f":"VLOOKUP(B12324,ceva_zone!A:C,3,FALSE)","v":"C"}]
["73185","OK","F","remote",{"$f":"VLOOKUP(B12353,ceva_zone!A:B,2,FALSE)","v":"D"},{"$f":"VLOOKUP(B12353,ceva_zone!A:C,3,FALSE)","v":"C"}]
["73440","OK","E","remote",{"$f":"VLOOKUP(B12378,ceva_zone!A:B,2,FALSE)","v":"D"},{"$f":"VLOOKUP(B12378,ceva_zone!A:C,3,FALSE)","v":"C"}]
["73487","OK","G","remote",{"$f":"VLOOKUP(B12393,ceva_zone!A:B,2,FALSE)","v":"D"},{"$f":"VLOOKUP(B12393,ceva_zone!A:C,3,FALSE)","v":"C"}]
["73541","OK","E","remote",{"$f":"VLOOKUP(B12417,ceva_zone!A:B,2,FALSE)","v":"D"},{"$f":"VLOOKUP(B12417,ceva_zone!A:C,3,FALSE)","v":"C"}]
["73546","OK","Y","remote",{"$f":"VLOOKUP(B12423,ceva_zone!A:B,2,FALSE)","v":"D"},{"$f":"VLOOKUP(B12423,ceva_zone!A:C,3,FALSE)","v":"C"}]
["73560","OK","Y","remote",{"$f":"VLOOKUP(B12442,ceva_zone!A:B,2,FALSE)","v":"D"},{"$f":"VLOOKUP(B12442,ceva_zone!A:C,3,FALSE)","v":"C"}]
["73632","OK","F","remote",{"$f":"VLOOKUP(B12462,ceva_zone!A:B,2,FALSE)","v":"D"},{"$f":"VLOOKUP(B12462,ceva_zone!A:C,3,FALSE)","v":"C"}]
["73673","OK","F","remote",{"$f":"VLOOKUP(B12487,ceva_zone!A:B,2,FALSE)","v":"D"},{"$f":"VLOOKUP(B12487,ceva_zone!A:C,3,FALSE)","v":"C"}]
["73701","OK","F","remote",{"$f":"VLOOKUP(B12506,ceva_zone!A:B,2,FALSE)","v":"D"},{"$f":"VLOOKUP(B12506,ceva_zone!A:C,3,FALSE)","v":"C"}]
["73764","OK","E","remote",{"$f":"VLOOKUP(B12531,ceva_zone!A:B,2,FALSE)","v":"D"},{"$f":"VLOOKUP(B12531,ceva_zone!A:C,3,FALSE)","v":"C"}]
["73853","OK","F","remote",{"$f":"VLOOKUP(B12551,ceva_zone!A:B,2,FALSE)","v":"D"},{"$f":"VLOOKUP(B12551,ceva_zone!A:C,3,FALSE)","v":"C"}]
["73946","OK","Y","remote",{"$f":"VLOOKUP(B12570,ceva_zone!A:B,2,FALSE)","v":"D"},{"$f":"VLOOKUP(B12570,ceva_zone!A:C,3,FALSE)","v":"C"}]
["74006","OK","Y","remote",{"$f":"VLOOKUP(B12580,ceva_zone!A:B,2,FALSE)","v":"D"},{"$f":"VLOOKUP(B12580,ceva_zone!A:C,3,FALSE)","v":"C"}]
["74026","OK","E","remote",{"$f":"VLOOKUP(B12596,ceva_zone!A:B,2,FALSE)","v":"D"},{"$f":"VLOOKUP(B12596,ceva_zone!A:C,3,FALSE)","v":"C"}]
["74050","OK","Y","remote",{"$f":"VLOOKUP(B12621,ceva_zone!A:B,2,FALSE)","v":"D"},{"$f":"VLOOKUP(B12621,ceva_zone!A:C,3,FALSE)","v":"C"}]
["74077","OK","E","remote",{"$f":"VLOOKUP(B12640,ceva_zone!A:B,2,FALSE)","v":"D"},{"$f":"VLOOKUP(B12640,ceva_zone!A:C,3,FALSE)","v":"C"}]
["74107","OK","Y","remote",{"$f":"VLOOKUP(B12653,ceva_zone!A:B,2,FALSE)","v":"D"},{"$f":"VLOOKUP(B12653,ceva_zone!A:C,3,FALSE)","v":"C"}]
["74156","OK","B","standard",{"$f":"VLOOKUP(B12685,ceva_zone!A:B,2,FALSE)","v":"D"},{"$f":"VLOOKUP(B12685,ceva_zone!A:C,3,FALSE)","v":"C"}]
["74332","OK","E","remote",{"$f":"VLOOKUP(B12704,ceva_zone!A:B,2,FALSE)","v":"D"},{"$f":"VLOOKUP(B12704,ceva_zone!A:C,3,FALSE)","v":"C"}]
["74358","OK","E","remote",{"$f":"VLOOKUP(B12722,ceva_zone!A:B,2,FALSE)","v":"D"},{"$f":"VLOOKUP(B12722,ceva_zone!A:C,3,FALSE)","v":"C"}]
["74366","OK","E","remote",{"$f":"VLOOKUP(B12730,ceva_zone!A:B,2,FALSE)","v":"D"},{"$f":"VLOOKUP(B12730,ceva_zone!A:C,3,FALSE)","v":"C"}]
["74431","OK","E","remote",{"$f":"VLOOKUP(B12749,ceva_zone!A:B,2,FALSE)","v":"D"},{"$f":"VLOOKUP(B12749,ceva_zone!A:C,3,FALSE)","v":"C"}]
["74542","OK","F","remote",{"$f":"VLOOKUP(B12787,ceva_zone!A:B,2,FALSE)","v":"D"},{"$f":"VLOOKUP(B12787,ceva_zone!A:C,3,FALSE)","v":"C"}]
["74534","OK","Y","remote",{"$f":"VLOOKUP(B12794,ceva_zone!A:B,2,FALSE)","v":"D"},{"$f":"VLOOKUP(B12794,ceva_zone!A:C,3,FALSE)","v":"C"}]
["74558","OK","Y","remote",{"$f":"VLOOKUP(B12813,ceva_zone!A:B,2,FALSE)","v":"D"},{"$f":"VLOOKUP(B12813,ceva_zone!A:C,3,FALSE)","v":"C"}]
["74643","OK","Y","remote",{"$f":"VLOOKUP(B12838,ceva_zone!A:B,2,FALSE)","v":"D"},{"$f":"VLOOKUP(B12838,ceva_zone!A:C,3,FALSE)","v":"C"}]
["74702","OK","Y","remote",{"$f":"VLOOKUP(B12860,ceva_zone!A:B,2,FALSE)","v":"D"},{"$f":"VLOOKUP(B12860,ceva_zone!A:C,3,FALSE)","v":"C"}]
["74820","OK","F","remote",{"$f":"VLOOKUP(B12883,ceva_zone!A:B,2,FALSE)","v":"D"},{"$f":"VLOOKUP(B12883,ceva_zone!A:C,3,FALSE)","v":"C"}]
["74842","OK","F","remote",{"$f":"VLOOKUP(B12902,ceva_zone!A:B,2,FALSE)","v":"D"},{"$f":"VLOOKUP(B12902,ceva_zone!A:C,3,FALSE)","v":"C"}]
["74850","OK","F","remote",{"$f":"VLOOKUP(B12909,ceva_zone!A:B,2,FALSE)","v":"D"},{"$f":"VLOOKUP(B12909,ceva_zone!A:C,3,FALSE)","v":"C"}]
["74875","OK","E","remote",{"$f":"VLOOKUP(B12928,ceva_zone!A:B,2,FALSE)","v":"D"},{"$f":"VLOOKUP(B12928,ceva_zone!A:C,3,FALSE)","v":"C"}]
["74946","OK","G","remote",{"$f":"VLOOKUP(B12947,ceva_zone!A:B,2,FALSE)","v":"D"},{"$f":"VLOOKUP(B12947,ceva_zone!A:C,3,FALSE)","v":"C"}]
["75015","TX","B","standard",{"$f":"VLOOKUP(B12966,ceva_zone!A:B,2,FALSE)","v":"D"},{"$f":"VLOOKUP(B12966,ceva_zone!A:C,3,FALSE)","v":"C"}]
["75049","TX","C","standard",{"$f":"VLOOKUP(B12998,ceva_zone!A:B,2,FALSE)","v":"D"},{"$f":"VLOOKUP(B12998,ceva_zone!A:C,3,FALSE)","v":"C"}]
["75087","TX","D","standard",{"$f":"VLOOKUP(B13011,ceva_zone!A:B,2,FALSE)","v":"D"},{"$f":"VLOOKUP(B13011,ceva_zone!A:C,3,FALSE)","v":"C"}]
["75078","TX","C","standard",{"$f":"VLOOKUP(B13036,ceva_zone!A:B,2,FALSE)","v":"D"},{"$f":"VLOOKUP(B13036,ceva_zone!A:C,3,FALSE)","v":"C"}]
["75098","TX","D","standard",{"$f":"VLOOKUP(B13047,ceva_zone!A:B,2,FALSE)","v":"D"},{"$f":"VLOOKUP(B13047,ceva_zone!A:C,3,FALSE)","v":"C"}]
["75140","TX","E","remote",{"$f":"VLOOKUP(B13075,ceva_zone!A:B,2,FALSE)","v":"D"},{"$f":"VLOOKUP(B13075,ceva_zone!A:C,3,FALSE)","v":"C"}]
["75144","TX","F","remote",{"$f":"VLOOKUP(B13081,ceva_zone!A:B,2,FALSE)","v":"D"},{"$f":"VLOOKUP(B13081,ceva_zone!A:C,3,FALSE)","v":"C"}]
["75155","TX","F","remote",{"$f":"VLOOKUP(B13096,ceva_zone!A:B,2,FALSE)","v":"D"},{"$f":"VLOOKUP(B13096,ceva_zone!A:C,3,FALSE)","v":"C"}]
["75219","TX","B","standard",{"$f":"VLOOKUP(B13126,ceva_zone!A:B,2,FALSE)","v":"D"},{"$f":"VLOOKUP(B13126,ceva_zone!A:C,3,FALSE)","v":"C"}]
["75238","TX","C","standard",{"$f":"VLOOKUP(B13145,ceva_zone!A:B,2,FALSE)","v":"D"},{"$f":"VLOOKUP(B13145,ceva_zone!A:C,3,FALSE)","v":"C"}]
["75263","TX","C","standard",{"$f":"VLOOKUP(B13164,ceva_zone!A:B,2,FALSE)","v":"D"},{"$f":"VLOOKUP(B13164,ceva_zone!A:C,3,FALSE)","v":"C"}]
["75323","TX","C","standard",{"$f":"VLOOKUP(B13185,ceva_zone!A:B,2,FALSE)","v":"D"},{"$f":"VLOOKUP(B13185,ceva_zone!A:C,3,FALSE)","v":"C"}]
["75301","TX","C","standard",{"$f":"VLOOKUP(B13209,ceva_zone!A:B,2,FALSE)","v":"D"},{"$f":"VLOOKUP(B13209,ceva_zone!A:C,3,FALSE)","v":"C"}]
["75413","TX","E","remote",{"$f":"VLOOKUP(B13228,ceva_zone!A:B,2,FALSE)","v":"D"},{"$f":"VLOOKUP(B13228,ceva_zone!A:C,3,FALSE)","v":"C"}]
["75418","TX","E","remote",{"$f":"VLOOKUP(B13234,ceva_zone!A:B,2,FALSE)","v":"D"},{"$f":"VLOOKUP(B13234,ceva_zone!A:C,3,FALSE)","v":"C"}]
["75441","TX","Y","remote",{"$f":"VLOOKUP(B13254,ceva_zone!A:B,2,FALSE)","v":"D"},{"$f":"VLOOKUP(B13254,ceva_zone!A:C,3,FALSE)","v":"C"}]
["75469","TX","E","remote",{"$f":"VLOOKUP(B13279,ceva_zone!A:B,2,FALSE)","v":"D"},{"$f":"VLOOKUP(B13279,ceva_zone!A:C,3,FALSE)","v":"C"}]
["75492","TX","E","remote",{"$f":"VLOOKUP(B13303,ceva_zone!A:B,2,FALSE)","v":"D"},{"$f":"VLOOKUP(B13303,ceva_zone!A:C,3,FALSE)","v":"C"}]
["75560","TX","Z","remote",{"$f":"VLOOKUP(B13318,ceva_zone!A:B,2,FALSE)","v":"D"},{"$f":"VLOOKUP(B13318,ceva_zone!A:C,3,FALSE)","v":"C"}]
["75644","TX","Z","remote",{"$f":"VLOOKUP(B13343,ceva_zone!A:B,2,FALSE)","v":"D"},{"$f":"VLOOKUP(B13343,ceva_zone!A:C,3,FALSE)","v":"C"}]
["75605","TX","Z","remote",{"$f":"VLOOKUP(B13362,ceva_zone!A:B,2,FALSE)","v":"D"},{"$f":"VLOOKUP(B13362,ceva_zone!A:C,3,FALSE)","v":"C"}]
["75685","TX","Y","remote",{"$f":"VLOOKUP(B13376,ceva_zone!A:B,2,FALSE)","v":"D"},{"$f":"VLOOKUP(B13376,ceva_zone!A:C,3,FALSE)","v":"C"}]
["75688","TX","Y","remote",{"$f":"VLOOKUP(B13388,ceva_zone!A:B,2,FALSE)","v":"D"},{"$f":"VLOOKUP(B13388,ceva_zone!A:C,3,FALSE)","v":"C"}]
["75707","TX","Z","remote",{"$f":"VLOOKUP(B13407,ceva_zone!A:B,2,FALSE)","v":"D"},{"$f":"VLOOKUP(B13407,ceva_zone!A:C,3,FALSE)","v":"C"}]
["75835","TX","H","remote",{"$f":"VLOOKUP(B13441,ceva_zone!A:B,2,FALSE)","v":"D"},{"$f":"VLOOKUP(B13441,ceva_zone!A:C,3,FALSE)","v":"C"}]
["75833","TX","H","remote",{"$f":"VLOOKUP(B13452,ceva_zone!A:B,2,FALSE)","v":"D"},{"$f":"VLOOKUP(B13452,ceva_zone!A:C,3,FALSE)","v":"C"}]
["75884","TX","Y","remote",{"$f":"VLOOKUP(B13471,ceva_zone!A:B,2,FALSE)","v":"D"},{"$f":"VLOOKUP(B13471,ceva_zone!A:C,3,FALSE)","v":"C"}]
["75932","TX","J","remote",{"$f":"VLOOKUP(B13490,ceva_zone!A:B,2,FALSE)","v":"D"},{"$f":"VLOOKUP(B13490,ceva_zone!A:C,3,FALSE)","v":"C"}]
["75965","TX","H","remote",{"$f":"VLOOKUP(B13516,ceva_zone!A:B,2,FALSE)","v":"D"},{"$f":"VLOOKUP(B13516,ceva_zone!A:C,3,FALSE)","v":"C"}]
["75990","TX","Y","remote",{"$f":"VLOOKUP(B13522,ceva_zone!A:B,2,FALSE)","v":"D"},{"$f":"VLOOKUP(B13522,ceva_zone!A:C,3,FALSE)","v":"C"}]
["76003","TX","B","standard",{"$f":"VLOOKUP(B13541,ceva_zone!A:B,2,FALSE)","v":"D"},{"$f":"VLOOKUP(B13541,ceva_zone!A:C,3,FALSE)","v":"C"}]
["76048","TX","F","remote",{"$f":"VLOOKUP(B13563,ceva_zone!A:B,2,FALSE)","v":"D"},{"$f":"VLOOKUP(B13563,ceva_zone!A:C,3,FALSE)","v":"C"}]
["76078","TX","G","remote",{"$f":"VLOOKUP(B13586,ceva_zone!A:B,2,FALSE)","v":"D"},{"$f":"VLOOKUP(B13586,ceva_zone!A:C,3,FALSE)","v":"C"}]
["76113","TX","B","standard",{"$f":"VLOOKUP(B13605,ceva_zone!A:B,2,FALSE)","v":"D"},{"$f":"VLOOKUP(B13605,ceva_zone!A:C,3,FALSE)","v":"C"}]
["76150","TX","B","standard",{"$f":"VLOOKUP(B13632,ceva_zone!A:B,2,FALSE)","v":"D"},{"$f":"VLOOKUP(B13632,ceva_zone!A:C,3,FALSE)","v":"C"}]
["76197","TX","B","standard",{"$f":"VLOOKUP(B13650,ceva_zone!A:B,2,FALSE)","v":"D"},{"$f":"VLOOKUP(B13650,ceva_zone!A:C,3,FALSE)","v":"C"}]
["76201","TX","A","standard",{"$f":"VLOOKUP(B13669,ceva_zone!A:B,2,FALSE)","v":"D"},{"$f":"VLOOKUP(B13669,ceva_zone!A:C,3,FALSE)","v":"C"}]
["76246","TX","C","standard",{"$f":"VLOOKUP(B13675,ceva_zone!A:B,2,FALSE)","v":"D"},{"$f":"VLOOKUP(B13675,ceva_zone!A:C,3,FALSE)","v":"C"}]
["76351","TX","G","remote",{"$f":"VLOOKUP(B13701,ceva_zone!A:B,2,FALSE)","v":"D"},{"$f":"VLOOKUP(B13701,ceva_zone!A:C,3,FALSE)","v":"C"}]
["76370","TX","Y","remote",{"$f":"VLOOKUP(B13714,ceva_zone!A:B,2,FALSE)","v":"D"},{"$f":"VLOOKUP(B13714,ceva_zone!A:C,3,FALSE)","v":"C"}]
["76426","TX","E","remote",{"$f":"VLOOKUP(B13739,ceva_zone!A:B,2,FALSE)","v":"D"},{"$f":"VLOOKUP(B13739,ceva_zone!A:C,3,FALSE)","v":"C"}]
["76484","TX","E","remote",{"$f":"VLOOKUP(B13770,ceva_zone!A:B,2,FALSE)","v":"D"},{"$f":"VLOOKUP(B13770,ceva_zone!A:C,3,FALSE)","v":"C"}]
["76471","TX","Y","remote",{"$f":"VLOOKUP(B13778,ceva_zone!A:B,2,FALSE)","v":"D"},{"$f":"VLOOKUP(B13778,ceva_zone!A:C,3,FALSE)","v":"C"}]
["76574","TX","E","remote",{"$f":"VLOOKUP(B13803,ceva_zone!A:B,2,FALSE)","v":"D"},{"$f":"VLOOKUP(B13803,ceva_zone!A:C,3,FALSE)","v":"C"}]
["76531","TX","L","remote",{"$f":"VLOOKUP(B13819,ceva_zone!A:B,2,FALSE)","v":"D"},{"$f":"VLOOKUP(B13819,ceva_zone!A:C,3,FALSE)","v":"C"}]
["76653","TX","L","remote",{"$f":"VLOOKUP(B13848,ceva_zone!A:B,2,FALSE)","v":"D"},{"$f":"VLOOKUP(B13848,ceva_zone!A:C,3,FALSE)","v":"C"}]
["76633","TX","Z","remote",{"$f":"VLOOKUP(B13867,ceva_zone!A:B,2,FALSE)","v":"D"},{"$f":"VLOOKUP(B13867,ceva_zone!A:C,3,FALSE)","v":"C"}]
["76670","TX","F","remote",{"$f":"VLOOKUP(B13886,ceva_zone!A:B,2,FALSE)","v":"D"},{"$f":"VLOOKUP(B13886,ceva_zone!A:C,3,FALSE)","v":"C"}]
["76671","TX","F","remote",{"$f":"VLOOKUP(B13888,ceva_zone!A:B,2,FALSE)","v":"D"},{"$f":"VLOOKUP(B13888,ceva_zone!A:C,3,FALSE)","v":"C"}]
["76703","TX","Y","remote",{"$f":"VLOOKUP(B13912,ceva_zone!A:B,2,FALSE)","v":"D"},{"$f":"VLOOKUP(B13912,ceva_zone!A:C,3,FALSE)","v":"C"}]
["76832","TX","J","remote",{"$f":"VLOOKUP(B13937,ceva_zone!A:B,2,FALSE)","v":"D"},{"$f":"VLOOKUP(B13937,ceva_zone!A:C,3,FALSE)","v":"C"}]
["76862","TX","Z","remote",{"$f":"VLOOKUP(B13957,ceva_zone!A:B,2,FALSE)","v":"D"},{"$f":"VLOOKUP(B13957,ceva_zone!A:C,3,FALSE)","v":"C"}]
["76890","TX","Z","remote",{"$f":"VLOOKUP(B13976,ceva_zone!A:B,2,FALSE)","v":"D"},{"$f":"VLOOKUP(B13976,ceva_zone!A:C,3,FALSE)","v":"C"}]
["76955","TX","Z","remote",{"$f":"VLOOKUP(B14001,ceva_zone!A:B,2,FALSE)","v":"D"},{"$f":"VLOOKUP(B14001,ceva_zone!A:C,3,FALSE)","v":"C"}]
["77024","TX","C","standard",{"$f":"VLOOKUP(B14006,ceva_zone!A:B,2,FALSE)","v":"D"},{"$f":"VLOOKUP(B14006,ceva_zone!A:C,3,FALSE)","v":"C"}]
["77035","TX","C","standard",{"$f":"VLOOKUP(B14040,ceva_zone!A:B,2,FALSE)","v":"D"},{"$f":"VLOOKUP(B14040,ceva_zone!A:C,3,FALSE)","v":"C"}]
["77043","TX","C","standard",{"$f":"VLOOKUP(B14046,ceva_zone!A:B,2,FALSE)","v":"D"},{"$f":"VLOOKUP(B14046,ceva_zone!A:C,3,FALSE)","v":"C"}]
["77062","TX","D","standard",{"$f":"VLOOKUP(B14065,ceva_zone!A:B,2,FALSE)","v":"D"},{"$f":"VLOOKUP(B14065,ceva_zone!A:C,3,FALSE)","v":"C"}]
["77092","TX","B","standard",{"$f":"VLOOKUP(B14095,ceva_zone!A:B,2,FALSE)","v":"D"},{"$f":"VLOOKUP(B14095,ceva_zone!A:C,3,FALSE)","v":"C"}]
["77207","TX","C","standard",{"$f":"VLOOKUP(B14110,ceva_zone!A:B,2,FALSE)","v":"D"},{"$f":"VLOOKUP(B14110,ceva_zone!A:C,3,FALSE)","v":"C"}]
["77202","TX","B","standard",{"$f":"VLOOKUP(B14129,ceva_zone!A:B,2,FALSE)","v":"D"},{"$f":"VLOOKUP(B14129,ceva_zone!A:C,3,FALSE)","v":"C"}]
["77228","TX","B","standard",{"$f":"VLOOKUP(B14144,ceva_zone!A:B,2,FALSE)","v":"D"},{"$f":"VLOOKUP(B14144,ceva_zone!A:C,3,FALSE)","v":"C"}]
["77280","TX","B","standard",{"$f":"VLOOKUP(B14174,ceva_zone!A:B,2,FALSE)","v":"D"},{"$f":"VLOOKUP(B14174,ceva_zone!A:C,3,FALSE)","v":"C"}]
["77292","TX","B","standard",{"$f":"VLOOKUP(B14180,ceva_zone!A:B,2,FALSE)","v":"D"},{"$f":"VLOOKUP(B14180,ceva_zone!A:C,3,FALSE)","v":"C"}]
["77325","TX","A","standard",{"$f":"VLOOKUP(B14213,ceva_zone!A:B,2,FALSE)","v":"D"},{"$f":"VLOOKUP(B14213,ceva_zone!A:C,3,FALSE)","v":"C"}]
["77348","TX","E","remote",{"$f":"VLOOKUP(B14219,ceva_zone!A:B,2,FALSE)","v":"D"},{"$f":"VLOOKUP(B14219,ceva_zone!A:C,3,FALSE)","v":"C"}]
["77371","TX","D","standard",{"$f":"VLOOKUP(B14244,ceva_zone!A:B,2,FALSE)","v":"D"},{"$f":"VLOOKUP(B14244,ceva_zone!A:C,3,FALSE)","v":"C"}]
["77414","TX","F","remote",{"$f":"VLOOKUP(B14263,ceva_zone!A:B,2,FALSE)","v":"D"},{"$f":"VLOOKUP(B14263,ceva_zone!A:C,3,FALSE)","v":"C"}]
["77486","TX","F","remote",{"$f":"VLOOKUP(B14286,ceva_zone!A:B,2,FALSE)","v":"D"},{"$f":"VLOOKUP(B14286,ceva_zone!A:C,3,FALSE)","v":"C"}]
["77454","TX","J","remote",{"$f":"VLOOKUP(B14308,ceva_zone!A:B,2,FALSE)","v":"D"},{"$f":"VLOOKUP(B14308,ceva_zone!A:C,3,FALSE)","v":"C"}]
["77473","TX","E","remote",{"$f":"VLOOKUP(B14327,ceva_zone!A:B,2,FALSE)","v":"D"},{"$f":"VLOOKUP(B14327,ceva_zone!A:C,3,FALSE)","v":"C"}]
["77497","TX","D","standard",{"$f":"VLOOKUP(B14331,ceva_zone!A:B,2,FALSE)","v":"D"},{"$f":"VLOOKUP(B14331,ceva_zone!A:C,3,FALSE)","v":"C"}]
["77523","TX","E","remote",{"$f":"VLOOKUP(B14353,ceva_zone!A:B,2,FALSE)","v":"D"},{"$f":"VLOOKUP(B14353,ceva_zone!A:C,3,FALSE)","v":"C"}]
["77542","TX","F","remote",{"$f":"VLOOKUP(B14372,ceva_zone!A:B,2,FALSE)","v":"D"},{"$f":"VLOOKUP(B14372,ceva_zone!A:C,3,FALSE)","v":"C"}]
["77580","TX","D","standard",{"$f":"VLOOKUP(B14397,ceva_zone!A:B,2,FALSE)","v":"D"},{"$f":"VLOOKUP(B14397,ceva_zone!A:C,3,FALSE)","v":"C"}]
["77640","TX","F","remote",{"$f":"VLOOKUP(B14424,ceva_zone!A:B,2,FALSE)","v":"D"},{"$f":"VLOOKUP(B14424,ceva_zone!A:C,3,FALSE)","v":"C"}]
["77631","TX","G","remote",{"$f":"VLOOKUP(B14436,ceva_zone!A:B,2,FALSE)","v":"D"},{"$f":"VLOOKUP(B14436,ceva_zone!A:C,3,FALSE)","v":"C"}]
["77875","TX","F","remote",{"$f":"VLOOKUP(B14461,ceva_zone!A:B,2,FALSE)","v":"D"},{"$f":"VLOOKUP(B14461,ceva_zone!A:C,3,FALSE)","v":"C"}]
["77807","TX","F","remote",{"$f":"VLOOKUP(B14473,ceva_zone!A:B,2,FALSE)","v":"D"},{"$f":"VLOOKUP(B14473,ceva_zone!A:C,3,FALSE)","v":"C"}]
["77852","TX","J","remote",{"$f":"VLOOKUP(B14487,ceva_zone!A:B,2,FALSE)","v":"D"},{"$f":"VLOOKUP(B14487,ceva_zone!A:C,3,FALSE)","v":"C"}]
["77880","TX","G","remote",{"$f":"VLOOKUP(B14506,ceva_zone!A:B,2,FALSE)","v":"D"},{"$f":"VLOOKUP(B14506,ceva_zone!A:C,3,FALSE)","v":"C"}]
["77991","TX","H","remote",{"$f":"VLOOKUP(B14542,ceva_zone!A:B,2,FALSE)","v":"D"},{"$f":"VLOOKUP(B14542,ceva_zone!A:C,3,FALSE)","v":"C"}]
["78004","TX","Y","remote",{"$f":"VLOOKUP(B14551,ceva_zone!A:B,2,FALSE)","v":"D"},{"$f":"VLOOKUP(B14551,ceva_zone!A:C,3,FALSE)","v":"C"}]
["78022","TX","X","remote",{"$f":"VLOOKUP(B14570,ceva_zone!A:B,2,FALSE)","v":"D"},{"$f":"VLOOKUP(B14570,ceva_zone!A:C,3,FALSE)","v":"C"}]
["78065","TX","E","remote",{"$f":"VLOOKUP(B14595,ceva_zone!A:B,2,FALSE)","v":"D"},{"$f":"VLOOKUP(B14595,ceva_zone!A:C,3,FALSE)","v":"C"}]
["78163","TX","A","standard",{"$f":"VLOOKUP(B14611,ceva_zone!A:B,2,FALSE)","v":"D"},{"$f":"VLOOKUP(B14611,ceva_zone!A:C,3,FALSE)","v":"C"}]
["78140","TX","E","remote",{"$f":"VLOOKUP(B14634,ceva_zone!A:B,2,FALSE)","v":"D"},{"$f":"VLOOKUP(B14634,ceva_zone!A:C,3,FALSE)","v":"C"}]
["78146","TX","F","remote",{"$f":"VLOOKUP(B14640,ceva_zone!A:B,2,FALSE)","v":"D"},{"$f":"VLOOKUP(B14640,ceva_zone!A:C,3,FALSE)","v":"C"}]
["78234","TX","F","remote",{"$f":"VLOOKUP(B14660,ceva_zone!A:B,2,FALSE)","v":"D"},{"$f":"VLOOKUP(B14660,ceva_zone!A:C,3,FALSE)","v":"C"}]
["78214","TX","F","remote",{"$f":"VLOOKUP(B14679,ceva_zone!A:B,2,FALSE)","v":"D"},{"$f":"VLOOKUP(B14679,ceva_zone!A:C,3,FALSE)","v":"C"}]
["78247","TX","A","standard",{"$f":"VLOOKUP(B14704,ceva_zone!A:B,2,FALSE)","v":"D"},{"$f":"VLOOKUP(B14704,ceva_zone!A:C,3,FALSE)","v":"C"}]
["78286","TX","A","standard",{"$f":"VLOOKUP(B14729,ceva_zone!A:B,2,FALSE)","v":"D"},{"$f":"VLOOKUP(B14729,ceva_zone!A:C,3,FALSE)","v":"C"}]
["78368","TX","X","remote",{"$f":"VLOOKUP(B14749,ceva_zone!A:B,2,FALSE)","v":"D"},{"$f":"VLOOKUP(B14749,ceva_zone!A:C,3,FALSE)","v":"C"}]
["78359","TX","X","remote",{"$f":"VLOOKUP(B14768,ceva_zone!A:B,2,FALSE)","v":"D"},{"$f":"VLOOKUP(B14768,ceva_zone!A:C,3,FALSE)","v":"C"}]
["78384","TX","E","remote",{"$f":"VLOOKUP(B14787,ceva_zone!A:B,2,FALSE)","v":"D"},{"$f":"VLOOKUP(B14787,ceva_zone!A:C,3,FALSE)","v":"C"}]
["78409","TX","X","remote",{"$f":"VLOOKUP(B14798,ceva_zone!A:B,2,FALSE)","v":"D"},{"$f":"VLOOKUP(B14798,ceva_zone!A:C,3,FALSE)","v":"C"}]
["78550","TX","D","standard",{"$f":"VLOOKUP(B14832,ceva_zone!A:B,2,FALSE)","v":"D"},{"$f":"VLOOKUP(B14832,ceva_zone!A:C,3,FALSE)","v":"C"}]
["78592","TX","D","standard",{"$f":"VLOOKUP(B14838,ceva_zone!A:B,2,FALSE)","v":"D"},{"$f":"VLOOKUP(B14838,ceva_zone!A:C,3,FALSE)","v":"C"}]
["78559","TX","C","standard",{"$f":"VLOOKUP(B14867,ceva_zone!A:B,2,FALSE)","v":"D"},{"$f":"VLOOKUP(B14867,ceva_zone!A:C,3,FALSE)","v":"C"}]
["78568","TX","E","remote",{"$f":"VLOOKUP(B14877,ceva_zone!A:B,2,FALSE)","v":"D"},{"$f":"VLOOKUP(B14877,ceva_zone!A:C,3,FALSE)","v":"C"}]
["78624","TX","E","remote",{"$f":"VLOOKUP(B14902,ceva_zone!A:B,2,FALSE)","v":"D"},{"$f":"VLOOKUP(B14902,ceva_zone!A:C,3,FALSE)","v":"C"}]
["78654","TX","F","remote",{"$f":"VLOOKUP(B14921,ceva_zone!A:B,2,FALSE)","v":"D"},{"$f":"VLOOKUP(B14921,ceva_zone!A:C,3,FALSE)","v":"C"}]
["78635","TX","G","remote",{"$f":"VLOOKUP(B14940,ceva_zone!A:B,2,FALSE)","v":"D"},{"$f":"VLOOKUP(B14940,ceva_zone!A:C,3,FALSE)","v":"C"}]
["78666","TX","C","standard",{"$f":"VLOOKUP(B14966,ceva_zone!A:B,2,FALSE)","v":"D"},{"$f":"VLOOKUP(B14966,ceva_zone!A:C,3,FALSE)","v":"C"}]
["78713","TX","A","standard",{"$f":"VLOOKUP(B14985,ceva_zone!A:B,2,FALSE)","v":"D"},{"$f":"VLOOKUP(B14985,ceva_zone!A:C,3,FALSE)","v":"C"}]
["78734","TX","C","standard",{"$f":"VLOOKUP(B15005,ceva_zone!A:B,2,FALSE)","v":"D"},{"$f":"VLOOKUP(B15005,ceva_zone!A:C,3,FALSE)","v":"C"}]
["78741","TX","A","standard",{"$f":"VLOOKUP(B15011,ceva_zone!A:B,2,FALSE)","v":"D"},{"$f":"VLOOKUP(B15011,ceva_zone!A:C,3,FALSE)","v":"C"}]
["78762","TX","A","standard",{"$f":"VLOOKUP(B15030,ceva_zone!A:B,2,FALSE)","v":"D"},{"$f":"VLOOKUP(B15030,ceva_zone!A:C,3,FALSE)","v":"C"}]
["78830","TX","E","remote",{"$f":"VLOOKUP(B15054,ceva_zone!A:B,2,FALSE)","v":"D"},{"$f":"VLOOKUP(B15054,ceva_zone!A:C,3,FALSE)","v":"C"}]
["78872","TX","F","remote",{"$f":"VLOOKUP(B15075,ceva_zone!A:B,2,FALSE)","v":"D"},{"$f":"VLOOKUP(B15075,ceva_zone!A:C,3,FALSE)","v":"C"}]
["78932","TX","J","remote",{"$f":"VLOOKUP(B15094,ceva_zone!A:B,2,FALSE)","v":"D"},{"$f":"VLOOKUP(B15094,ceva_zone!A:C,3,FALSE)","v":"C"}]
["79008","TX","Y","remote",{"$f":"VLOOKUP(B15119,ceva_zone!A:B,2,FALSE)","v":"D"},{"$f":"VLOOKUP(B15119,ceva_zone!A:C,3,FALSE)","v":"C"}]
["79012","TX","Y","remote",{"$f":"VLOOKUP(B15127,ceva_zone!A:B,2,FALSE)","v":"D"},{"$f":"VLOOKUP(B15127,ceva_zone!A:C,3,FALSE)","v":"C"}]
["79036","TX","Y","remote",{"$f":"VLOOKUP(B15145,ceva_zone!A:B,2,FALSE)","v":"D"},{"$f":"VLOOKUP(B15145,ceva_zone!A:C,3,FALSE)","v":"C"}]
["79064","TX","Y","remote",{"$f":"VLOOKUP(B15164,ceva_zone!A:B,2,FALSE)","v":"D"},{"$f":"VLOOKUP(B15164,ceva_zone!A:C,3,FALSE)","v":"C"}]
["79107","TX","Y","remote",{"$f":"VLOOKUP(B15196,ceva_zone!A:B,2,FALSE)","v":"D"},{"$f":"VLOOKUP(B15196,ceva_zone!A:C,3,FALSE)","v":"C"}]
["79136","TX","Y","remote",{"$f":"VLOOKUP(B15209,ceva_zone!A:B,2,FALSE)","v":"D"},{"$f":"VLOOKUP(B15209,ceva_zone!A:C,3,FALSE)","v":"C"}]
["79230","TX","Y","remote",{"$f":"VLOOKUP(B15228,ceva_zone!A:B,2,FALSE)","v":"D"},{"$f":"VLOOKUP(B15228,ceva_zone!A:C,3,FALSE)","v":"C"}]
["79247","TX","Y","remote",{"$f":"VLOOKUP(B15241,ceva_zone!A:B,2,FALSE)","v":"D"},{"$f":"VLOOKUP(B15241,ceva_zone!A:C,3,FALSE)","v":"C"}]
["79346","TX","Y","remote",{"$f":"VLOOKUP(B15273,ceva_zone!A:B,2,FALSE)","v":"D"},{"$f":"VLOOKUP(B15273,ceva_zone!A:C,3,FALSE)","v":"C"}]
["79376","TX","Y","remote",{"$f":"VLOOKUP(B15292,ceva_zone!A:B,2,FALSE)","v":"D"},{"$f":"VLOOKUP(B15292,ceva_zone!A:C,3,FALSE)","v":"C"}]
["79382","TX","Y","remote",{"$f":"VLOOKUP(B15298,ceva_zone!A:B,2,FALSE)","v":"D"},{"$f":"VLOOKUP(B15298,ceva_zone!A:C,3,FALSE)","v":"C"}]
["79508","TX","Y","remote",{"$f":"VLOOKUP(B15334,ceva_zone!A:B,2,FALSE)","v":"D"},{"$f":"VLOOKUP(B15334,ceva_zone!A:C,3,FALSE)","v":"C"}]
["79556","TX","W","remote",{"$f":"VLOOKUP(B15337,ceva_zone!A:B,2,FALSE)","v":"D"},{"$f":"VLOOKUP(B15337,ceva_zone!A:C,3,FALSE)","v":"C"}]
["79537","TX","Y","remote",{"$f":"VLOOKUP(B15362,ceva_zone!A:B,2,FALSE)","v":"D"},{"$f":"VLOOKUP(B15362,ceva_zone!A:C,3,FALSE)","v":"C"}]
["79697","TX","Y","remote",{"$f":"VLOOKUP(B15383,ceva_zone!A:B,2,FALSE)","v":"D"},{"$f":"VLOOKUP(B15383,ceva_zone!A:C,3,FALSE)","v":"C"}]
["79743","TX","Y","remote",{"$f":"VLOOKUP(B15407,ceva_zone!A:B,2,FALSE)","v":"D"},{"$f":"VLOOKUP(B15407,ceva_zone!A:C,3,FALSE)","v":"C"}]
["79760","TX","W","remote",{"$f":"VLOOKUP(B15426,ceva_zone!A:B,2,FALSE)","v":"D"},{"$f":"VLOOKUP(B15426,ceva_zone!A:C,3,FALSE)","v":"C"}]
["79764","TX","W","remote",{"$f":"VLOOKUP(B15432,ceva_zone!A:B,2,FALSE)","v":"D"},{"$f":"VLOOKUP(B15432,ceva_zone!A:C,3,FALSE)","v":"C"}]
["79836","TX","B","standard",{"$f":"VLOOKUP(B15452,ceva_zone!A:B,2,FALSE)","v":"D"},{"$f":"VLOOKUP(B15452,ceva_zone!A:C,3,FALSE)","v":"C"}]
["79904","TX","A","standard",{"$f":"VLOOKUP(B15471,ceva_zone!A:B,2,FALSE)","v":"D"},{"$f":"VLOOKUP(B15471,ceva_zone!A:C,3,FALSE)","v":"C"}]
["79927","TX","B","standard",{"$f":"VLOOKUP(B15490,ceva_zone!A:B,2,FALSE)","v":"D"},{"$f":"VLOOKUP(B15490,ceva_zone!A:C,3,FALSE)","v":"C"}]
["79996","TX","A","standard",{"$f":"VLOOKUP(B15521,ceva_zone!A:B,2,FALSE)","v":"D"},{"$f":"VLOOKUP(B15521,ceva_zone!A:C,3,FALSE)","v":"C"}]
["80045","CO","A","standard",{"$f":"VLOOKUP(B15535,ceva_zone!A:B,2,FALSE)","v":"C"},{"$f":"VLOOKUP(B15535,ceva_zone!A:C,3,FALSE)","v":"E"}]
["80035","CO","B","standard",{"$f":"VLOOKUP(B15560,ceva_zone!A:B,2,FALSE)","v":"C"},{"$f":"VLOOKUP(B15560,ceva_zone!A:C,3,FALSE)","v":"E"}]
["80109","CO","C","standard",{"$f":"VLOOKUP(B15570,ceva_zone!A:B,2,FALSE)","v":"C"},{"$f":"VLOOKUP(B15570,ceva_zone!A:C,3,FALSE)","v":"E"}]
["80165","CO","B","standard",{"$f":"VLOOKUP(B15599,ceva_zone!A:B,2,FALSE)","v":"C"},{"$f":"VLOOKUP(B15599,ceva_zone!A:C,3,FALSE)","v":"E"}]
["80134","CO","B","standard",{"$f":"VLOOKUP(B15605,ceva_zone!A:B,2,FALSE)","v":"C"},{"$f":"VLOOKUP(B15605,ceva_zone!A:C,3,FALSE)","v":"E"}]
["80214","CO","B","standard",{"$f":"VLOOKUP(B15624,ceva_zone!A:B,2,FALSE)","v":"C"},{"$f":"VLOOKUP(B15624,ceva_zone!A:C,3,FALSE)","v":"E"}]
["80260","CO","A","standard",{"$f":"VLOOKUP(B15659,ceva_zone!A:B,2,FALSE)","v":"C"},{"$f":"VLOOKUP(B15659,ceva_zone!A:C,3,FALSE)","v":"E"}]
["80279","CO","A","standard",{"$f":"VLOOKUP(B15669,ceva_zone!A:B,2,FALSE)","v":"C"},{"$f":"VLOOKUP(B15669,ceva_zone!A:C,3,FALSE)","v":"E"}]
["80310","CO","D","standard",{"$f":"VLOOKUP(B15688,ceva_zone!A:B,2,FALSE)","v":"C"},{"$f":"VLOOKUP(B15688,ceva_zone!A:C,3,FALSE)","v":"E"}]
["80433","CO","Y","remote",{"$f":"VLOOKUP(B15708,ceva_zone!A:B,2,FALSE)","v":"C"},{"$f":"VLOOKUP(B15708,ceva_zone!A:C,3,FALSE)","v":"E"}]
["80457","CO","Y","remote",{"$f":"VLOOKUP(B15733,ceva_zone!A:B,2,FALSE)","v":"C"},{"$f":"VLOOKUP(B15733,ceva_zone!A:C,3,FALSE)","v":"E"}]
["80478","CO","Y","remote",{"$f":"VLOOKUP(B15752,ceva_zone!A:B,2,FALSE)","v":"C"},{"$f":"VLOOKUP(B15752,ceva_zone!A:C,3,FALSE)","v":"E"}]
["80528","CO","E","remote",{"$f":"VLOOKUP(B15777,ceva_zone!A:B,2,FALSE)","v":"C"},{"$f":"VLOOKUP(B15777,ceva_zone!A:C,3,FALSE)","v":"E"}]
["80549","CO","Y","remote",{"$f":"VLOOKUP(B15797,ceva_zone!A:B,2,FALSE)","v":"C"},{"$f":"VLOOKUP(B15797,ceva_zone!A:C,3,FALSE)","v":"E"}]
["80602","CO","C","standard",{"$f":"VLOOKUP(B15803,ceva_zone!A:B,2,FALSE)","v":"C"},{"$f":"VLOOKUP(B15803,ceva_zone!A:C,3,FALSE)","v":"E"}]
["80643","CO","Y","remote",{"$f":"VLOOKUP(B15822,ceva_zone!A:B,2,FALSE)","v":"C"},{"$f":"VLOOKUP(B15822,ceva_zone!A:C,3,FALSE)","v":"E"}]
["80758","CO","Y","remote",{"$f":"VLOOKUP(B15850,ceva_zone!A:B,2,FALSE)","v":"C"},{"$f":"VLOOKUP(B15850,ceva_zone!A:C,3,FALSE)","v":"E"}]
["80801","CO","Y","remote",{"$f":"VLOOKUP(B15867,ceva_zone!A:B,2,FALSE)","v":"C"},{"$f":"VLOOKUP(B15867,ceva_zone!A:C,3,FALSE)","v":"E"}]
["80817","CO","F","remote",{"$f":"VLOOKUP(B15886,ceva_zone!A:B,2,FALSE)","v":"C"},{"$f":"VLOOKUP(B15886,ceva_zone!A:C,3,FALSE)","v":"E"}]
["80827","CO","Y","remote",{"$f":"VLOOKUP(B15895,ceva_zone!A:B,2,FALSE)","v":"C"},{"$f":"VLOOKUP(B15895,ceva_zone!A:C,3,FALSE)","v":"E"}]
["80928","CO","E","remote",{"$f":"VLOOKUP(B15931,ceva_zone!A:B,2,FALSE)","v":"C"},{"$f":"VLOOKUP(B15931,ceva_zone!A:C,3,FALSE)","v":"E"}]
["80951","CO","E","remote",{"$f":"VLOOKUP(B15950,ceva_zone!A:B,2,FALSE)","v":"C"},{"$f":"VLOOKUP(B15950,ceva_zone!A:C,3,FALSE)","v":"E"}]
["81022","CO","H","remote",{"$f":"VLOOKUP(B15964,ceva_zone!A:B,2,FALSE)","v":"C"},{"$f":"VLOOKUP(B15964,ceva_zone!A:C,3,FALSE)","v":"E"}]
["81025","CO","Y","remote",{"$f":"VLOOKUP(B15976,ceva_zone!A:B,2,FALSE)","v":"C"},{"$f":"VLOOKUP(B15976,ceva_zone!A:C,3,FALSE)","v":"E"}]
["81073","CO","Y","remote",{"$f":"VLOOKUP(B15995,ceva_zone!A:B,2,FALSE)","v":"C"},{"$f":"VLOOKUP(B15995,ceva_zone!A:C,3,FALSE)","v":"E"}]
["81081","CO","Y","remote",{"$f":"VLOOKUP(B16020,ceva_zone!A:B,2,FALSE)","v":"C"},{"$f":"VLOOKUP(B16020,ceva_zone!A:C,3,FALSE)","v":"E"}]
["81126","CO","Y","remote",{"$f":"VLOOKUP(B16037,ceva_zone!A:B,2,FALSE)","v":"C"},{"$f":"VLOOKUP(B16037,ceva_zone!A:C,3,FALSE)","v":"E"}]
["81215","CO","Y","remote",{"$f":"VLOOKUP(B16065,ceva_zone!A:B,2,FALSE)","v":"C"},{"$f":"VLOOKUP(B16065,ceva_zone!A:C,3,FALSE)","v":"E"}]
["81240","CO","Y","remote",{"$f":"VLOOKUP(B16084,ceva_zone!A:B,2,FALSE)","v":"C"},{"$f":"VLOOKUP(B16084,ceva_zone!A:C,3,FALSE)","v":"E"}]
["81334","CO","Y","remote",{"$f":"VLOOKUP(B16106,ceva_zone!A:B,2,FALSE)","v":"C"},{"$f":"VLOOKUP(B16106,ceva_zone!A:C,3,FALSE)","v":"E"}]
["81411","CO","Y","remote",{"$f":"VLOOKUP(B16110,ceva_zone!A:B,2,FALSE)","v":"C"},{"$f":"VLOOKUP(B16110,ceva_zone!A:C,3,FALSE)","v":"E"}]
["81429","CO","Y","remote",{"$f":"VLOOKUP(B16129,ceva_zone!A:B,2,FALSE)","v":"C"},{"$f":"VLOOKUP(B16129,ceva_zone!A:C,3,FALSE)","v":"E"}]
["81527","CO","Y","remote",{"$f":"VLOOKUP(B16148,ceva_zone!A:B,2,FALSE)","v":"C"},{"$f":"VLOOKUP(B16148,ceva_zone!A:C,3,FALSE)","v":"E"}]
["81642","CO","Y","remote",{"$f":"VLOOKUP(B16175,ceva_zone!A:B,2,FALSE)","v":"C"},{"$f":"VLOOKUP(B16175,ceva_zone!A:C,3,FALSE)","v":"E"}]
["82054","WY","Y","remote",{"$f":"VLOOKUP(B16193,ceva_zone!A:B,2,FALSE)","v":"E"},{"$f":"VLOOKUP(B16193,ceva_zone!A:C,3,FALSE)","v":"F"}]
["82212","WY","Y","remote",{"$f":"VLOOKUP(B16218,ceva_zone!A:B,2,FALSE)","v":"E"},{"$f":"VLOOKUP(B16218,ceva_zone!A:C,3,FALSE)","v":"F"}]
["82219","WY","Y","remote",{"$f":"VLOOKUP(B16224,ceva_zone!A:B,2,FALSE)","v":"E"},{"$f":"VLOOKUP(B16224,ceva_zone!A:C,3,FALSE)","v":"F"}]
["82423","WY","Y","remote",{"$f":"VLOOKUP(B16257,ceva_zone!A:B,2,FALSE)","v":"E"},{"$f":"VLOOKUP(B16257,ceva_zone!A:C,3,FALSE)","v":"F"}]
["82431","WY","Y","remote",{"$f":"VLOOKUP(B16263,ceva_zone!A:B,2,FALSE)","v":"E"},{"$f":"VLOOKUP(B16263,ceva_zone!A:C,3,FALSE)","v":"F"}]
["82633","WY","Y","remote",{"$f":"VLOOKUP(B16293,ceva_zone!A:B,2,FALSE)","v":"E"},{"$f":"VLOOKUP(B16293,ceva_zone!A:C,3,FALSE)","v":"F"}]
["82715","WY","Y","remote",{"$f":"VLOOKUP(B16308,ceva_zone!A:B,2,FALSE)","v":"E"},{"$f":"VLOOKUP(B16308,ceva_zone!A:C,3,FALSE)","v":"F"}]
["82835","WY","Y","remote",{"$f":"VLOOKUP(B16327,ceva_zone!A:B,2,FALSE)","v":"E"},{"$f":"VLOOKUP(B16327,ceva_zone!A:C,3,FALSE)","v":"F"}]
["82936","WY","Y","remote",{"$f":"VLOOKUP(B16346,ceva_zone!A:B,2,FALSE)","v":"E"},{"$f":"VLOOKUP(B16346,ceva_zone!A:C,3,FALSE)","v":"F"}]
["83110","WY","Y","remote",{"$f":"VLOOKUP(B16362,ceva_zone!A:B,2,FALSE)","v":"E"},{"$f":"VLOOKUP(B16362,ceva_zone!A:C,3,FALSE)","v":"F"}]
["83254","ID","Y","remote",{"$f":"VLOOKUP(B16391,ceva_zone!A:B,2,FALSE)","v":"C"},{"$f":"VLOOKUP(B16391,ceva_zone!A:C,3,FALSE)","v":"F"}]
["83235","ID","Y","remote",{"$f":"VLOOKUP(B16410,ceva_zone!A:B,2,FALSE)","v":"C"},{"$f":"VLOOKUP(B16410,ceva_zone!A:C,3,FALSE)","v":"F"}]
["83209","ID","Y","remote",{"$f":"VLOOKUP(B16431,ceva_zone!A:B,2,FALSE)","v":"C"},{"$f":"VLOOKUP(B16431,ceva_zone!A:C,3,FALSE)","v":"F"}]
["83281","ID","Y","remote",{"$f":"VLOOKUP(B16436,ceva_zone!A:B,2,FALSE)","v":"C"},{"$f":"VLOOKUP(B16436,ceva_zone!A:C,3,FALSE)","v":"F"}]
["83334","ID","Y","remote",{"$f":"VLOOKUP(B16461,ceva_zone!A:B,2,FALSE)","v":"C"},{"$f":"VLOOKUP(B16461,ceva_zone!A:C,3,FALSE)","v":"F"}]
["83443","ID","Y","remote",{"$f":"VLOOKUP(B16480,ceva_zone!A:B,2,FALSE)","v":"C"},{"$f":"VLOOKUP(B16480,ceva_zone!A:C,3,FALSE)","v":"F"}]
["83425","ID","Y","remote",{"$f":"VLOOKUP(B16500,ceva_zone!A:B,2,FALSE)","v":"C"},{"$f":"VLOOKUP(B16500,ceva_zone!A:C,3,FALSE)","v":"F"}]
["83522","ID","Y","remote",{"$f":"VLOOKUP(B16525,ceva_zone!A:B,2,FALSE)","v":"C"},{"$f":"VLOOKUP(B16525,ceva_zone!A:C,3,FALSE)","v":"F"}]
["83546","ID","Y","remote",{"$f":"VLOOKUP(B16544,ceva_zone!A:B,2,FALSE)","v":"C"},{"$f":"VLOOKUP(B16544,ceva_zone!A:C,3,FALSE)","v":"F"}]
["83619","ID","Y","remote",{"$f":"VLOOKUP(B16569,ceva_zone!A:B,2,FALSE)","v":"C"},{"$f":"VLOOKUP(B16569,ceva_zone!A:C,3,FALSE)","v":"F"}]
["83629","ID","Y","remote",{"$f":"VLOOKUP(B16570,ceva_zone!A:B,2,FALSE)","v":"C"},{"$f":"VLOOKUP(B16570,ceva_zone!A:C,3,FALSE)","v":"F"}]
["83646","ID","Y","remote",{"$f":"VLOOKUP(B16589,ceva_zone!A:B,2,FALSE)","v":"C"},{"$f":"VLOOKUP(B16589,ceva_zone!A:C,3,FALSE)","v":"F"}]
["83712","ID","Y","remote",{"$f":"VLOOKUP(B16618,ceva_zone!A:B,2,FALSE)","v":"C"},{"$f":"VLOOKUP(B16618,ceva_zone!A:C,3,FALSE)","v":"F"}]
["83733","ID","Y","remote",{"$f":"VLOOKUP(B16634,ceva_zone!A:B,2,FALSE)","v":"C"},{"$f":"VLOOKUP(B16634,ceva_zone!A:C,3,FALSE)","v":"F"}]
["83865","ID","Y","remote",{"$f":"VLOOKUP(B16653,ceva_zone!A:B,2,FALSE)","v":"C"},{"$f":"VLOOKUP(B16653,ceva_zone!A:C,3,FALSE)","v":"F"}]
["83834","ID","Y","remote",{"$f":"VLOOKUP(B16667,ceva_zone!A:B,2,FALSE)","v":"C"},{"$f":"VLOOKUP(B16667,ceva_zone!A:C,3,FALSE)","v":"F"}]
["83869","ID","Y","remote",{"$f":"VLOOKUP(B16698,ceva_zone!A:B,2,FALSE)","v":"C"},{"$f":"VLOOKUP(B16698,ceva_zone!A:C,3,FALSE)","v":"F"}]
["84016","UT","C","standard",{"$f":"VLOOKUP(B16723,ceva_zone!A:B,2,FALSE)","v":"C"},{"$f":"VLOOKUP(B16723,ceva_zone!A:C,3,FALSE)","v":"E"}]
["84037","UT","C","standard",{"$f":"VLOOKUP(B16742,ceva_zone!A:B,2,FALSE)","v":"C"},{"$f":"VLOOKUP(B16742,ceva_zone!A:C,3,FALSE)","v":"E"}]
["84052","UT","G","remote",{"$f":"VLOOKUP(B16760,ceva_zone!A:B,2,FALSE)","v":"C"},{"$f":"VLOOKUP(B16760,ceva_zone!A:C,3,FALSE)","v":"E"}]
["84059","UT","D","standard",{"$f":"VLOOKUP(B16768,ceva_zone!A:B,2,FALSE)","v":"C"},{"$f":"VLOOKUP(B16768,ceva_zone!A:C,3,FALSE)","v":"E"}]
["84076","UT","Y","remote",{"$f":"VLOOKUP(B16787,ceva_zone!A:B,2,FALSE)","v":"C"},{"$f":"VLOOKUP(B16787,ceva_zone!A:C,3,FALSE)","v":"E"}]
["84158","UT","A","standard",{"$f":"VLOOKUP(B16809,ceva_zone!A:B,2,FALSE)","v":"C"},{"$f":"VLOOKUP(B16809,ceva_zone!A:C,3,FALSE)","v":"E"}]
["84114","UT","A","standard",{"$f":"VLOOKUP(B16832,ceva_zone!A:B,2,FALSE)","v":"C"},{"$f":"VLOOKUP(B16832,ceva_zone!A:C,3,FALSE)","v":"E"}]
["84201","UT","D","standard",{"$f":"VLOOKUP(B16851,ceva_zone!A:B,2,FALSE)","v":"C"},{"$f":"VLOOKUP(B16851,ceva_zone!A:C,3,FALSE)","v":"E"}]
["84322","UT","F","remote",{"$f":"VLOOKUP(B16876,ceva_zone!A:B,2,FALSE)","v":"C"},{"$f":"VLOOKUP(B16876,ceva_zone!A:C,3,FALSE)","v":"E"}]
["84321","UT","F","remote",{"$f":"VLOOKUP(B16878,ceva_zone!A:B,2,FALSE)","v":"C"},{"$f":"VLOOKUP(B16878,ceva_zone!A:C,3,FALSE)","v":"E"}]
["84542","UT","Y","remote",{"$f":"VLOOKUP(B16915,ceva_zone!A:B,2,FALSE)","v":"C"},{"$f":"VLOOKUP(B16915,ceva_zone!A:C,3,FALSE)","v":"E"}]
["84528","UT","Y","remote",{"$f":"VLOOKUP(B16921,ceva_zone!A:B,2,FALSE)","v":"C"},{"$f":"VLOOKUP(B16921,ceva_zone!A:C,3,FALSE)","v":"E"}]
["84634","UT","Y","remote",{"$f":"VLOOKUP(B16947,ceva_zone!A:B,2,FALSE)","v":"C"},{"$f":"VLOOKUP(B16947,ceva_zone!A:C,3,FALSE)","v":"E"}]
["84603","UT","D","standard",{"$f":"VLOOKUP(B16966,ceva_zone!A:B,2,FALSE)","v":"C"},{"$f":"VLOOKUP(B16966,ceva_zone!A:C,3,FALSE)","v":"E"}]
["84728","UT","Y","remote",{"$f":"VLOOKUP(B16985,ceva_zone!A:B,2,FALSE)","v":"C"},{"$f":"VLOOKUP(B16985,ceva_zone!A:C,3,FALSE)","v":"E"}]
["84718","UT","Y","remote",{"$f":"VLOOKUP(B16996,ceva_zone!A:B,2,FALSE)","v":"C"},{"$f":"VLOOKUP(B16996,ceva_zone!A:C,3,FALSE)","v":"E"}]
["84756","UT","Y","remote",{"$f":"VLOOKUP(B17030,ceva_zone!A:B,2,FALSE)","v":"C"},{"$f":"VLOOKUP(B17030,ceva_zone!A:C,3,FALSE)","v":"E"}]
["85038","AZ","A","standard",{"$f":"VLOOKUP(B17049,ceva_zone!A:B,2,FALSE)","v":"C"},{"$f":"VLOOKUP(B17049,ceva_zone!A:C,3,FALSE)","v":"E"}]
["85012","AZ","A","standard",{"$f":"VLOOKUP(B17068,ceva_zone!A:B,2,FALSE)","v":"C"},{"$f":"VLOOKUP(B17068,ceva_zone!A:C,3,FALSE)","v":"E"}]
["85030","AZ","A","standard",{"$f":"VLOOKUP(B17085,ceva_zone!A:B,2,FALSE)","v":"C"},{"$f":"VLOOKUP(B17085,ceva_zone!A:C,3,FALSE)","v":"E"}]
["85041","AZ","A","standard",{"$f":"VLOOKUP(B17094,ceva_zone!A:B,2,FALSE)","v":"C"},{"$f":"VLOOKUP(B17094,ceva_zone!A:C,3,FALSE)","v":"E"}]
["85076","AZ","A","standard",{"$f":"VLOOKUP(B17119,ceva_zone!A:B,2,FALSE)","v":"C"},{"$f":"VLOOKUP(B17119,ceva_zone!A:C,3,FALSE)","v":"E"}]
["85127","AZ","C","standard",{"$f":"VLOOKUP(B17134,ceva_zone!A:B,2,FALSE)","v":"C"},{"$f":"VLOOKUP(B17134,ceva_zone!A:C,3,FALSE)","v":"E"}]
["85278","AZ","D","standard",{"$f":"VLOOKUP(B17158,ceva_zone!A:B,2,FALSE)","v":"C"},{"$f":"VLOOKUP(B17158,ceva_zone!A:C,3,FALSE)","v":"E"}]
["85232","AZ","Y","remote",{"$f":"VLOOKUP(B17183,ceva_zone!A:B,2,FALSE)","v":"C"},{"$f":"VLOOKUP(B17183,ceva_zone!A:C,3,FALSE)","v":"E"}]
["85237","AZ","Y","remote",{"$f":"VLOOKUP(B17203,ceva_zone!A:B,2,FALSE)","v":"C"},{"$f":"VLOOKUP(B17203,ceva_zone!A:C,3,FALSE)","v":"E"}]
["85253","AZ","B","standard",{"$f":"VLOOKUP(B17222,ceva_zone!A:B,2,FALSE)","v":"C"},{"$f":"VLOOKUP(B17222,ceva_zone!A:C,3,FALSE)","v":"E"}]
["85263","AZ","E","remote",{"$f":"VLOOKUP(B17228,ceva_zone!A:B,2,FALSE)","v":"C"},{"$f":"VLOOKUP(B17228,ceva_zone!A:C,3,FALSE)","v":"E"}]
["85287","AZ","A","standard",{"$f":"VLOOKUP(B17247,ceva_zone!A:B,2,FALSE)","v":"C"},{"$f":"VLOOKUP(B17247,ceva_zone!A:C,3,FALSE)","v":"E"}]
["85335","AZ","D","standard",{"$f":"VLOOKUP(B17272,ceva_zone!A:B,2,FALSE)","v":"C"},{"$f":"VLOOKUP(B17272,ceva_zone!A:C,3,FALSE)","v":"E"}]
["85339","AZ","D","standard",{"$f":"VLOOKUP(B17292,ceva_zone!A:B,2,FALSE)","v":"C"},{"$f":"VLOOKUP(B17292,ceva_zone!A:C,3,FALSE)","v":"E"}]
["85375","AZ","D","standard",{"$f":"VLOOKUP(B17311,ceva_zone!A:B,2,FALSE)","v":"C"},{"$f":"VLOOKUP(B17311,ceva_zone!A:C,3,FALSE)","v":"E"}]
["85501","AZ","F","remote",{"$f":"VLOOKUP(B17341,ceva_zone!A:B,2,FALSE)","v":"C"},{"$f":"VLOOKUP(B17341,ceva_zone!A:C,3,FALSE)","v":"E"}]
["85554","AZ","Y","remote",{"$f":"VLOOKUP(B17356,ceva_zone!A:B,2,FALSE)","v":"C"},{"$f":"VLOOKUP(B17356,ceva_zone!A:C,3,FALSE)","v":"E"}]
["85643","AZ","Y","remote",{"$f":"VLOOKUP(B17362,ceva_zone!A:B,2,FALSE)","v":"C"},{"$f":"VLOOKUP(B17362,ceva_zone!A:C,3,FALSE)","v":"E"}]
["85621","AZ","Y","remote",{"$f":"VLOOKUP(B17390,ceva_zone!A:B,2,FALSE)","v":"C"},{"$f":"VLOOKUP(B17390,ceva_zone!A:C,3,FALSE)","v":"E"}]
["85650","AZ","F","remote",{"$f":"VLOOKUP(B17401,ceva_zone!A:B,2,FALSE)","v":"C"},{"$f":"VLOOKUP(B17401,ceva_zone!A:C,3,FALSE)","v":"E"}]
["85713","AZ","Y","remote",{"$f":"VLOOKUP(B17426,ceva_zone!A:B,2,FALSE)","v":"C"},{"$f":"VLOOKUP(B17426,ceva_zone!A:C,3,FALSE)","v":"E"}]
["85711","AZ","Y","remote",{"$f":"VLOOKUP(B17445,ceva_zone!A:B,2,FALSE)","v":"C"},{"$f":"VLOOKUP(B17445,ceva_zone!A:C,3,FALSE)","v":"E"}]
["85742","AZ","Y","remote",{"$f":"VLOOKUP(B17463,ceva_zone!A:B,2,FALSE)","v":"C"},{"$f":"VLOOKUP(B17463,ceva_zone!A:C,3,FALSE)","v":"E"}]
["86033","AZ","Y","remote",{"$f":"VLOOKUP(B17490,ceva_zone!A:B,2,FALSE)","v":"C"},{"$f":"VLOOKUP(B17490,ceva_zone!A:C,3,FALSE)","v":"E"}]
["86003","AZ","Y","remote",{"$f":"VLOOKUP(B17509,ceva_zone!A:B,2,FALSE)","v":"C"},{"$f":"VLOOKUP(B17509,ceva_zone!A:C,3,FALSE)","v":"E"}]
["86321","AZ","Y","remote",{"$f":"VLOOKUP(B17528,ceva_zone!A:B,2,FALSE)","v":"C"},{"$f":"VLOOKUP(B17528,ceva_zone!A:C,3,FALSE)","v":"E"}]
["86343","AZ","F","remote",{"$f":"VLOOKUP(B17535,ceva_zone!A:B,2,FALSE)","v":"C"},{"$f":"VLOOKUP(B17535,ceva_zone!A:C,3,FALSE)","v":"E"}]
["86340","AZ","Y","remote",{"$f":"VLOOKUP(B17554,ceva_zone!A:B,2,FALSE)","v":"C"},{"$f":"VLOOKUP(B17554,ceva_zone!A:C,3,FALSE)","v":"E"}]
["86409","AZ","F","remote",{"$f":"VLOOKUP(B17579,ceva_zone!A:B,2,FALSE)","v":"C"},{"$f":"VLOOKUP(B17579,ceva_zone!A:C,3,FALSE)","v":"E"}]
["86511","AZ","Y","remote",{"$f":"VLOOKUP(B17601,ceva_zone!A:B,2,FALSE)","v":"C"},{"$f":"VLOOKUP(B17601,ceva_zone!A:C,3,FALSE)","v":"E"}]
["87011","NM","E","remote",{"$f":"VLOOKUP(B17624,ceva_zone!A:B,2,FALSE)","v":"C"},{"$f":"VLOOKUP(B17624,ceva_zone!A:C,3,FALSE)","v":"E"}]
["87025","NM","Y","remote",{"$f":"VLOOKUP(B17643,ceva_zone!A:B,2,FALSE)","v":"C"},{"$f":"VLOOKUP(B17643,ceva_zone!A:C,3,FALSE)","v":"E"}]
["87035","NM","Y","remote",{"$f":"VLOOKUP(B17650,ceva_zone!A:B,2,FALSE)","v":"C"},{"$f":"VLOOKUP(B17650,ceva_zone!A:C,3,FALSE)","v":"E"}]
["87123","NM","F","remote",{"$f":"VLOOKUP(B17688,ceva_zone!A:B,2,FALSE)","v":"C"},{"$f":"VLOOKUP(B17688,ceva_zone!A:C,3,FALSE)","v":"E"}]
["87193","NM","A","standard",{"$f":"VLOOKUP(B17707,ceva_zone!A:B,2,FALSE)","v":"C"},{"$f":"VLOOKUP(B17707,ceva_zone!A:C,3,FALSE)","v":"E"}]
["87313","NM","Y","remote",{"$f":"VLOOKUP(B17719,ceva_zone!A:B,2,FALSE)","v":"C"},{"$f":"VLOOKUP(B17719,ceva_zone!A:C,3,FALSE)","v":"E"}]
["87322","NM","Y","remote",{"$f":"VLOOKUP(B17733,ceva_zone!A:B,2,FALSE)","v":"C"},{"$f":"VLOOKUP(B17733,ceva_zone!A:C,3,FALSE)","v":"E"}]
["87421","NM","Y","remote",{"$f":"VLOOKUP(B17752,ceva_zone!A:B,2,FALSE)","v":"C"},{"$f":"VLOOKUP(B17752,ceva_zone!A:C,3,FALSE)","v":"E"}]
["87560","NM","E","remote",{"$f":"VLOOKUP(B17777,ceva_zone!A:B,2,FALSE)","v":"C"},{"$f":"VLOOKUP(B17777,ceva_zone!A:C,3,FALSE)","v":"E"}]
["87540","NM","G","remote",{"$f":"VLOOKUP(B17788,ceva_zone!A:B,2,FALSE)","v":"C"},{"$f":"VLOOKUP(B17788,ceva_zone!A:C,3,FALSE)","v":"E"}]
["87503","NM","F","remote",{"$f":"VLOOKUP(B17816,ceva_zone!A:B,2,FALSE)","v":"C"},{"$f":"VLOOKUP(B17816,ceva_zone!A:C,3,FALSE)","v":"E"}]
["87728","NM","F","remote",{"$f":"VLOOKUP(B17841,ceva_zone!A:B,2,FALSE)","v":"C"},{"$f":"VLOOKUP(B17841,ceva_zone!A:C,3,FALSE)","v":"E"}]
["87801","NM","E","remote",{"$f":"VLOOKUP(B17857,ceva_zone!A:B,2,FALSE)","v":"C"},{"$f":"VLOOKUP(B17857,ceva_zone!A:C,3,FALSE)","v":"E"}]
["88031","NM","F","remote",{"$f":"VLOOKUP(B17880,ceva_zone!A:B,2,FALSE)","v":"C"},{"$f":"VLOOKUP(B17880,ceva_zone!A:C,3,FALSE)","v":"E"}]
["88027","NM","C","standard",{"$f":"VLOOKUP(B17886,ceva_zone!A:B,2,FALSE)","v":"C"},{"$f":"VLOOKUP(B17886,ceva_zone!A:C,3,FALSE)","v":"E"}]
["88007","NM","D","standard",{"$f":"VLOOKUP(B17906,ceva_zone!A:B,2,FALSE)","v":"C"},{"$f":"VLOOKUP(B17906,ceva_zone!A:C,3,FALSE)","v":"E"}]
["88103","NM","Y","remote",{"$f":"VLOOKUP(B17931,ceva_zone!A:B,2,FALSE)","v":"C"},{"$f":"VLOOKUP(B17931,ceva_zone!A:C,3,FALSE)","v":"E"}]
["88134","NM","Y","remote",{"$f":"VLOOKUP(B17950,ceva_zone!A:B,2,FALSE)","v":"C"},{"$f":"VLOOKUP(B17950,ceva_zone!A:C,3,FALSE)","v":"E"}]
["88254","NM","Y","remote",{"$f":"VLOOKUP(B17969,ceva_zone!A:B,2,FALSE)","v":"C"},{"$f":"VLOOKUP(B17969,ceva_zone!A:C,3,FALSE)","v":"E"}]
["88323","NM","Y","remote",{"$f":"VLOOKUP(B17995,ceva_zone!A:B,2,FALSE)","v":"C"},{"$f":"VLOOKUP(B17995,ceva_zone!A:C,3,FALSE)","v":"E"}]
["88414","NM","Y","remote",{"$f":"VLOOKUP(B18014,ceva_zone!A:B,2,FALSE)","v":"C"},{"$f":"VLOOKUP(B18014,ceva_zone!A:C,3,FALSE)","v":"E"}]
["88419","NM","Y","remote",{"$f":"VLOOKUP(B18020,ceva_zone!A:B,2,FALSE)","v":"C"},{"$f":"VLOOKUP(B18020,ceva_zone!A:C,3,FALSE)","v":"E"}]
["88902","NV","A","standard",{"$f":"VLOOKUP(B18044,ceva_zone!A:B,2,FALSE)","v":"C"},{"$f":"VLOOKUP(B18044,ceva_zone!A:C,3,FALSE)","v":"F"}]
["89049","NV","Y","remote",{"$f":"VLOOKUP(B18059,ceva_zone!A:B,2,FALSE)","v":"C"},{"$f":"VLOOKUP(B18059,ceva_zone!A:C,3,FALSE)","v":"F"}]
["89024","NV","F","remote",{"$f":"VLOOKUP(B18084,ceva_zone!A:B,2,FALSE)","v":"C"},{"$f":"VLOOKUP(B18084,ceva_zone!A:C,3,FALSE)","v":"F"}]
["89042","NV","Y","remote",{"$f":"VLOOKUP(B18103,ceva_zone!A:B,2,FALSE)","v":"C"},{"$f":"VLOOKUP(B18103,ceva_zone!A:C,3,FALSE)","v":"F"}]
["89102","NV","A","standard",{"$f":"VLOOKUP(B18117,ceva_zone!A:B,2,FALSE)","v":"C"},{"$f":"VLOOKUP(B18117,ceva_zone!A:C,3,FALSE)","v":"F"}]
["89142","NV","B","standard",{"$f":"VLOOKUP(B18148,ceva_zone!A:B,2,FALSE)","v":"C"},{"$f":"VLOOKUP(B18148,ceva_zone!A:C,3,FALSE)","v":"F"}]
["89165","NV","A","standard",{"$f":"VLOOKUP(B18167,ceva_zone!A:B,2,FALSE)","v":"C"},{"$f":"VLOOKUP(B18167,ceva_zone!A:C,3,FALSE)","v":"F"}]
["89141","NV","A","standard",{"$f":"VLOOKUP(B18182,ceva_zone!A:B,2,FALSE)","v":"C"},{"$f":"VLOOKUP(B18182,ceva_zone!A:C,3,FALSE)","v":"F"}]
["89444","NV","F","remote",{"$f":"VLOOKUP(B18193,ceva_zone!A:B,2,FALSE)","v":"C"},{"$f":"VLOOKUP(B18193,ceva_zone!A:C,3,FALSE)","v":"F"}]
["89452","NV","D","standard",{"$f":"VLOOKUP(B18212,ceva_zone!A:B,2,FALSE)","v":"C"},{"$f":"VLOOKUP(B18212,ceva_zone!A:C,3,FALSE)","v":"F"}]
["89427","NV","F","remote",{"$f":"VLOOKUP(B18231,ceva_zone!A:B,2,FALSE)","v":"C"},{"$f":"VLOOKUP(B18231,ceva_zone!A:C,3,FALSE)","v":"F"}]
["89595","NV","A","standard",{"$f":"VLOOKUP(B18257,ceva_zone!A:B,2,FALSE)","v":"C"},{"$f":"VLOOKUP(B18257,ceva_zone!A:C,3,FALSE)","v":"F"}]
["89704","NV","C","standard",{"$f":"VLOOKUP(B18276,ceva_zone!A:B,2,FALSE)","v":"C"},{"$f":"VLOOKUP(B18276,ceva_zone!A:C,3,FALSE)","v":"F"}]
["90018","CA","B","standard",{"$f":"VLOOKUP(B18301,ceva_zone!A:B,2,FALSE)","v":"B"},{"$f":"VLOOKUP(B18301,ceva_zone!A:C,3,FALSE)","v":"F"}]
["90038","CA","B","standard",{"$f":"VLOOKUP(B18324,ceva_zone!A:B,2,FALSE)","v":"B"},{"$f":"VLOOKUP(B18324,ceva_zone!A:C,3,FALSE)","v":"F"}]
["90068","CA","C","standard",{"$f":"VLOOKUP(B18327,ceva_zone!A:B,2,FALSE)","v":"B"},{"$f":"VLOOKUP(B18327,ceva_zone!A:C,3,FALSE)","v":"F"}]
["90024","CA","B","standard",{"$f":"VLOOKUP(B18346,ceva_zone!A:B,2,FALSE)","v":"B"},{"$f":"VLOOKUP(B18346,ceva_zone!A:C,3,FALSE)","v":"F"}]
["90081","CA","B","standard",{"$f":"VLOOKUP(B18373,ceva_zone!A:B,2,FALSE)","v":"B"},{"$f":"VLOOKUP(B18373,ceva_zone!A:C,3,FALSE)","v":"F"}]
["90144","GA","D","standard",{"$f":"VLOOKUP(B18391,ceva_zone!A:B,2,FALSE)","v":"F"},{"$f":"VLOOKUP(B18391,ceva_zone!A:C,3,FALSE)","v":"B"}]
["90231","CA","B","standard",{"$f":"VLOOKUP(B18410,ceva_zone!A:B,2,FALSE)","v":"B"},{"$f":"VLOOKUP(B18410,ceva_zone!A:C,3,FALSE)","v":"F"}]
["90293","CA","B","standard",{"$f":"VLOOKUP(B18438,ceva_zone!A:B,2,FALSE)","v":"B"},{"$f":"VLOOKUP(B18438,ceva_zone!A:C,3,FALSE)","v":"F"}]
["90303","CA","A","standard",{"$f":"VLOOKUP(B18455,ceva_zone!A:B,2,FALSE)","v":"B"},{"$f":"VLOOKUP(B18455,ceva_zone!A:C,3,FALSE)","v":"F"}]
["90504","CA","A","standard",{"$f":"VLOOKUP(B18474,ceva_zone!A:B,2,FALSE)","v":"B"},{"$f":"VLOOKUP(B18474,ceva_zone!A:C,3,FALSE)","v":"F"}]
["90623","CA","D","standard",{"$f":"VLOOKUP(B18480,ceva_zone!A:B,2,FALSE)","v":"B"},{"$f":"VLOOKUP(B18480,ceva_zone!A:C,3,FALSE)","v":"F"}]
["90608","CA","C","standard",{"$f":"VLOOKUP(B18511,ceva_zone!A:B,2,FALSE)","v":"B"},{"$f":"VLOOKUP(B18511,ceva_zone!A:C,3,FALSE)","v":"F"}]
["90749","CA","A","standard",{"$f":"VLOOKUP(B18519,ceva_zone!A:B,2,FALSE)","v":"B"},{"$f":"VLOOKUP(B18519,ceva_zone!A:C,3,FALSE)","v":"F"}]
["90803","CA","E","remote",{"$f":"VLOOKUP(B18544,ceva_zone!A:B,2,FALSE)","v":"B"},{"$f":"VLOOKUP(B18544,ceva_zone!A:C,3,FALSE)","v":"F"}]
["90844","CA","B","standard",{"$f":"VLOOKUP(B18560,ceva_zone!A:B,2,FALSE)","v":"B"},{"$f":"VLOOKUP(B18560,ceva_zone!A:C,3,FALSE)","v":"F"}]
["91023","CA","D","standard",{"$f":"VLOOKUP(B18589,ceva_zone!A:B,2,FALSE)","v":"B"},{"$f":"VLOOKUP(B18589,ceva_zone!A:C,3,FALSE)","v":"F"}]
["91116","CA","D","standard",{"$f":"VLOOKUP(B18608,ceva_zone!A:B,2,FALSE)","v":"B"},{"$f":"VLOOKUP(B18608,ceva_zone!A:C,3,FALSE)","v":"F"}]
["91204","CA","C","standard",{"$f":"VLOOKUP(B18629,ceva_zone!A:B,2,FALSE)","v":"B"},{"$f":"VLOOKUP(B18629,ceva_zone!A:C,3,FALSE)","v":"F"}]
["91302","CA","C","standard",{"$f":"VLOOKUP(B18653,ceva_zone!A:B,2,FALSE)","v":"B"},{"$f":"VLOOKUP(B18653,ceva_zone!A:C,3,FALSE)","v":"F"}]
["91335","CA","C","standard",{"$f":"VLOOKUP(B18672,ceva_zone!A:B,2,FALSE)","v":"B"},{"$f":"VLOOKUP(B18672,ceva_zone!A:C,3,FALSE)","v":"F"}]
["91342","CA","D","standard",{"$f":"VLOOKUP(B18678,ceva_zone!A:B,2,FALSE)","v":"B"},{"$f":"VLOOKUP(B18678,ceva_zone!A:C,3,FALSE)","v":"F"}]
["91354","CA","D","standard",{"$f":"VLOOKUP(B18698,ceva_zone!A:B,2,FALSE)","v":"B"},{"$f":"VLOOKUP(B18698,ceva_zone!A:C,3,FALSE)","v":"F"}]
["91462","CA","Y","remote",{"$f":"VLOOKUP(B18717,ceva_zone!A:B,2,FALSE)","v":"B"},{"$f":"VLOOKUP(B18717,ceva_zone!A:C,3,FALSE)","v":"F"}]
["91506","CA","C","standard",{"$f":"VLOOKUP(B18742,ceva_zone!A:B,2,FALSE)","v":"B"},{"$f":"VLOOKUP(B18742,ceva_zone!A:C,3,FALSE)","v":"F"}]
["91737","CA","B","standard",{"$f":"VLOOKUP(B18767,ceva_zone!A:B,2,FALSE)","v":"B"},{"$f":"VLOOKUP(B18767,ceva_zone!A:C,3,FALSE)","v":"F"}]
["91744","CA","C","standard",{"$f":"VLOOKUP(B18781,ceva_zone!A:B,2,FALSE)","v":"B"},{"$f":"VLOOKUP(B18781,ceva_zone!A:C,3,FALSE)","v":"F"}]
["91754","CA","C","standard",{"$f":"VLOOKUP(B18806,ceva_zone!A:B,2,FALSE)","v":"B"},{"$f":"VLOOKUP(B18806,ceva_zone!A:C,3,FALSE)","v":"F"}]
["91780","CA","C","standard",{"$f":"VLOOKUP(B18825,ceva_zone!A:B,2,FALSE)","v":"B"},{"$f":"VLOOKUP(B18825,ceva_zone!A:C,3,FALSE)","v":"F"}]
["91804","CA","D","standard",{"$f":"VLOOKUP(B18836,ceva_zone!A:B,2,FALSE)","v":"B"},{"$f":"VLOOKUP(B18836,ceva_zone!A:C,3,FALSE)","v":"F"}]
["91914","CA","C","standard",{"$f":"VLOOKUP(B18851,ceva_zone!A:B,2,FALSE)","v":"B"},{"$f":"VLOOKUP(B18851,ceva_zone!A:C,3,FALSE)","v":"F"}]
["91962","CA","Y","remote",{"$f":"VLOOKUP(B18870,ceva_zone!A:B,2,FALSE)","v":"B"},{"$f":"VLOOKUP(B18870,ceva_zone!A:C,3,FALSE)","v":"F"}]
["92010","CA","C","standard",{"$f":"VLOOKUP(B18885,ceva_zone!A:B,2,FALSE)","v":"B"},{"$f":"VLOOKUP(B18885,ceva_zone!A:C,3,FALSE)","v":"F"}]
["92069","CA","C","standard",{"$f":"VLOOKUP(B18915,ceva_zone!A:B,2,FALSE)","v":"B"},{"$f":"VLOOKUP(B18915,ceva_zone!A:C,3,FALSE)","v":"F"}]
["92070","CA","Y","remote",{"$f":"VLOOKUP(B18934,ceva_zone!A:B,2,FALSE)","v":"B"},{"$f":"VLOOKUP(B18934,ceva_zone!A:C,3,FALSE)","v":"F"}]
["92107","CA","B","standard",{"$f":"VLOOKUP(B18954,ceva_zone!A:B,2,FALSE)","v":"B"},{"$f":"VLOOKUP(B18954,ceva_zone!A:C,3,FALSE)","v":"F"}]
["92120","CA","B","standard",{"$f":"VLOOKUP(B18979,ceva_zone!A:B,2,FALSE)","v":"B"},{"$f":"VLOOKUP(B18979,ceva_zone!A:C,3,FALSE)","v":"F"}]
["92127","CA","C","standard",{"$f":"VLOOKUP(B18985,ceva_zone!A:B,2,FALSE)","v":"B"},{"$f":"VLOOKUP(B18985,ceva_zone!A:C,3,FALSE)","v":"F"}]
["92158","CA","C","standard",{"$f":"VLOOKUP(B19004,ceva_zone!A:B,2,FALSE)","v":"B"},{"$f":"VLOOKUP(B19004,ceva_zone!A:C,3,FALSE)","v":"F"}]
["92220","CA","D","standard",{"$f":"VLOOKUP(B19027,ceva_zone!A:B,2,FALSE)","v":"B"},{"$f":"VLOOKUP(B19027,ceva_zone!A:C,3,FALSE)","v":"F"}]
["92286","CA","G","remote",{"$f":"VLOOKUP(B19049,ceva_zone!A:B,2,FALSE)","v":"B"},{"$f":"VLOOKUP(B19049,ceva_zone!A:C,3,FALSE)","v":"F"}]
["92259","CA","Y","remote",{"$f":"VLOOKUP(B19068,ceva_zone!A:B,2,FALSE)","v":"B"},{"$f":"VLOOKUP(B19068,ceva_zone!A:C,3,FALSE)","v":"F"}]
["92364","CA","Y","remote",{"$f":"VLOOKUP(B19092,ceva_zone!A:B,2,FALSE)","v":"B"},{"$f":"VLOOKUP(B19092,ceva_zone!A:C,3,FALSE)","v":"F"}]
["92328","CA","Y","remote",{"$f":"VLOOKUP(B19113,ceva_zone!A:B,2,FALSE)","v":"B"},{"$f":"VLOOKUP(B19113,ceva_zone!A:C,3,FALSE)","v":"F"}]
["92357","CA","B","standard",{"$f":"VLOOKUP(B19132,ceva_zone!A:B,2,FALSE)","v":"B"},{"$f":"VLOOKUP(B19132,ceva_zone!A:C,3,FALSE)","v":"F"}]
["92365","CA","Y","remote",{"$f":"VLOOKUP(B19141,ceva_zone!A:B,2,FALSE)","v":"B"},{"$f":"VLOOKUP(B19141,ceva_zone!A:C,3,FALSE)","v":"F"}]
["92393","CA","D","standard",{"$f":"VLOOKUP(B19158,ceva_zone!A:B,2,FALSE)","v":"B"},{"$f":"VLOOKUP(B19158,ceva_zone!A:C,3,FALSE)","v":"F"}]
["92408","CA","B","standard",{"$f":"VLOOKUP(B19177,ceva_zone!A:B,2,FALSE)","v":"B"},{"$f":"VLOOKUP(B19177,ceva_zone!A:C,3,FALSE)","v":"F"}]
["92552","CA","B","standard",{"$f":"VLOOKUP(B19202,ceva_zone!A:B,2,FALSE)","v":"B"},{"$f":"VLOOKUP(B19202,ceva_zone!A:C,3,FALSE)","v":"F"}]
["92572","CA","C","standard",{"$f":"VLOOKUP(B19214,ceva_zone!A:B,2,FALSE)","v":"B"},{"$f":"VLOOKUP(B19214,ceva_zone!A:C,3,FALSE)","v":"F"}]
["92625","CA","D","standard",{"$f":"VLOOKUP(B19247,ceva_zone!A:B,2,FALSE)","v":"B"},{"$f":"VLOOKUP(B19247,ceva_zone!A:C,3,FALSE)","v":"F"}]
["92617","CA","D","standard",{"$f":"VLOOKUP(B19266,ceva_zone!A:B,2,FALSE)","v":"B"},{"$f":"VLOOKUP(B19266,ceva_zone!A:C,3,FALSE)","v":"F"}]
["92693","CA","E","remote",{"$f":"VLOOKUP(B19283,ceva_zone!A:B,2,FALSE)","v":"B"},{"$f":"VLOOKUP(B19283,ceva_zone!A:C,3,FALSE)","v":"F"}]
["92660","CA","D","standard",{"$f":"VLOOKUP(B19292,ceva_zone!A:B,2,FALSE)","v":"B"},{"$f":"VLOOKUP(B19292,ceva_zone!A:C,3,FALSE)","v":"F"}]
["92706","CA","D","standard",{"$f":"VLOOKUP(B19311,ceva_zone!A:B,2,FALSE)","v":"B"},{"$f":"VLOOKUP(B19311,ceva_zone!A:C,3,FALSE)","v":"F"}]
["92879","CA","B","standard",{"$f":"VLOOKUP(B19348,ceva_zone!A:B,2,FALSE)","v":"B"},{"$f":"VLOOKUP(B19348,ceva_zone!A:C,3,FALSE)","v":"F"}]
["92835","CA","C","standard",{"$f":"VLOOKUP(B19356,ceva_zone!A:B,2,FALSE)","v":"B"},{"$f":"VLOOKUP(B19356,ceva_zone!A:C,3,FALSE)","v":"F"}]
["92882","CA","B","standard",{"$f":"VLOOKUP(B19375,ceva_zone!A:B,2,FALSE)","v":"B"},{"$f":"VLOOKUP(B19375,ceva_zone!A:C,3,FALSE)","v":"F"}]
["93033","CA","F","remote",{"$f":"VLOOKUP(B19400,ceva_zone!A:B,2,FALSE)","v":"B"},{"$f":"VLOOKUP(B19400,ceva_zone!A:C,3,FALSE)","v":"F"}]
["93003","CA","F","remote",{"$f":"VLOOKUP(B19421,ceva_zone!A:B,2,FALSE)","v":"B"},{"$f":"VLOOKUP(B19421,ceva_zone!A:C,3,FALSE)","v":"F"}]
["93109","CA","Y","remote",{"$f":"VLOOKUP(B19439,ceva_zone!A:B,2,FALSE)","v":"B"},{"$f":"VLOOKUP(B19439,ceva_zone!A:C,3,FALSE)","v":"F"}]
["93203","CA","Y","remote",{"$f":"VLOOKUP(B19445,ceva_zone!A:B,2,FALSE)","v":"B"},{"$f":"VLOOKUP(B19445,ceva_zone!A:C,3,FALSE)","v":"F"}]
["93230","CA","S","remote",{"$f":"VLOOKUP(B19470,ceva_zone!A:B,2,FALSE)","v":"B"},{"$f":"VLOOKUP(B19470,ceva_zone!A:C,3,FALSE)","v":"F"}]
["93280","CA","S","remote",{"$f":"VLOOKUP(B19490,ceva_zone!A:B,2,FALSE)","v":"B"},{"$f":"VLOOKUP(B19490,ceva_zone!A:C,3,FALSE)","v":"F"}]
["93292","CA","S","remote",{"$f":"VLOOKUP(B19509,ceva_zone!A:B,2,FALSE)","v":"B"},{"$f":"VLOOKUP(B19509,ceva_zone!A:C,3,FALSE)","v":"F"}]
["93384","CA","S","remote",{"$f":"VLOOKUP(B19528,ceva_zone!A:B,2,FALSE)","v":"B"},{"$f":"VLOOKUP(B19528,ceva_zone!A:C,3,FALSE)","v":"F"}]
["93441","CA","Y","remote",{"$f":"VLOOKUP(B19559,ceva_zone!A:B,2,FALSE)","v":"B"},{"$f":"VLOOKUP(B19559,ceva_zone!A:C,3,FALSE)","v":"F"}]
["93406","CA","Y","remote",{"$f":"VLOOKUP(B19573,ceva_zone!A:B,2,FALSE)","v":"B"},{"$f":"VLOOKUP(B19573,ceva_zone!A:C,3,FALSE)","v":"F"}]
["93545","CA","Y","remote",{"$f":"VLOOKUP(B19592,ceva_zone!A:B,2,FALSE)","v":"B"},{"$f":"VLOOKUP(B19592,ceva_zone!A:C,3,FALSE)","v":"F"}]
["93519","CA","Y","remote",{"$f":"VLOOKUP(B19608,ceva_zone!A:B,2,FALSE)","v":"B"},{"$f":"VLOOKUP(B19608,ceva_zone!A:C,3,FALSE)","v":"F"}]
["93599","CA","G","remote",{"$f":"VLOOKUP(B19637,ceva_zone!A:B,2,FALSE)","v":"B"},{"$f":"VLOOKUP(B19637,ceva_zone!A:C,3,FALSE)","v":"F"}]
["93601","CA","S","remote",{"$f":"VLOOKUP(B19643,ceva_zone!A:B,2,FALSE)","v":"B"},{"$f":"VLOOKUP(B19643,ceva_zone!A:C,3,FALSE)","v":"F"}]
["93611","CA","S","remote",{"$f":"VLOOKUP(B19657,ceva_zone!A:B,2,FALSE)","v":"B"},{"$f":"VLOOKUP(B19657,ceva_zone!A:C,3,FALSE)","v":"F"}]
["93637","CA","S","remote",{"$f":"VLOOKUP(B19682,ceva_zone!A:B,2,FALSE)","v":"B"},{"$f":"VLOOKUP(B19682,ceva_zone!A:C,3,FALSE)","v":"F"}]
["93670","CA","Y","remote",{"$f":"VLOOKUP(B19707,ceva_zone!A:B,2,FALSE)","v":"B"},{"$f":"VLOOKUP(B19707,ceva_zone!A:C,3,FALSE)","v":"F"}]
["93726","CA","S","remote",{"$f":"VLOOKUP(B19726,ceva_zone!A:B,2,FALSE)","v":"B"},{"$f":"VLOOKUP(B19726,ceva_zone!A:C,3,FALSE)","v":"F"}]
["93774","CA","S","remote",{"$f":"VLOOKUP(B19746,ceva_zone!A:B,2,FALSE)","v":"B"},{"$f":"VLOOKUP(B19746,ceva_zone!A:C,3,FALSE)","v":"F"}]
["93950","CA","P","remote",{"$f":"VLOOKUP(B19771,ceva_zone!A:B,2,FALSE)","v":"B"},{"$f":"VLOOKUP(B19771,ceva_zone!A:C,3,FALSE)","v":"F"}]
["93954","CA","Y","remote",{"$f":"VLOOKUP(B19790,ceva_zone!A:B,2,FALSE)","v":"B"},{"$f":"VLOOKUP(B19790,ceva_zone!A:C,3,FALSE)","v":"F"}]
["94040","CA","C","standard",{"$f":"VLOOKUP(B19795,ceva_zone!A:B,2,FALSE)","v":"B"},{"$f":"VLOOKUP(B19795,ceva_zone!A:C,3,FALSE)","v":"F"}]
["94037","CA","C","standard",{"$f":"VLOOKUP(B19816,ceva_zone!A:B,2,FALSE)","v":"B"},{"$f":"VLOOKUP(B19816,ceva_zone!A:C,3,FALSE)","v":"F"}]
["94086","CA","C","standard",{"$f":"VLOOKUP(B19835,ceva_zone!A:B,2,FALSE)","v":"B"},{"$f":"VLOOKUP(B19835,ceva_zone!A:C,3,FALSE)","v":"F"}]
["94131","CA","A","standard",{"$f":"VLOOKUP(B19864,ceva_zone!A:B,2,FALSE)","v":"B"},{"$f":"VLOOKUP(B19864,ceva_zone!A:C,3,FALSE)","v":"F"}]
["94154","CA","A","standard",{"$f":"VLOOKUP(B19880,ceva_zone!A:B,2,FALSE)","v":"B"},{"$f":"VLOOKUP(B19880,ceva_zone!A:C,3,FALSE)","v":"F"}]
["94208","CA","B","standard",{"$f":"VLOOKUP(B19905,ceva_zone!A:B,2,FALSE)","v":"B"},{"$f":"VLOOKUP(B19905,ceva_zone!A:C,3,FALSE)","v":"F"}]
["94271","CA","A","standard",{"$f":"VLOOKUP(B19924,ceva_zone!A:B,2,FALSE)","v":"B"},{"$f":"VLOOKUP(B19924,ceva_zone!A:C,3,FALSE)","v":"F"}]
["94306","CA","C","standard",{"$f":"VLOOKUP(B19937,ceva_zone!A:B,2,FALSE)","v":"B"},{"$f":"VLOOKUP(B19937,ceva_zone!A:C,3,FALSE)","v":"F"}]
["94589","CA","Q","remote",{"$f":"VLOOKUP(B19950,ceva_zone!A:B,2,FALSE)","v":"B"},{"$f":"VLOOKUP(B19950,ceva_zone!A:C,3,FALSE)","v":"F"}]
["94552","CA","D","standard",{"$f":"VLOOKUP(B19969,ceva_zone!A:B,2,FALSE)","v":"B"},{"$f":"VLOOKUP(B19969,ceva_zone!A:C,3,FALSE)","v":"F"}]
["94539","CA","C","standard",{"$f":"VLOOKUP(B19986,ceva_zone!A:B,2,FALSE)","v":"B"},{"$f":"VLOOKUP(B19986,ceva_zone!A:C,3,FALSE)","v":"F"}]
["94564","CA","D","standard",{"$f":"VLOOKUP(B20014,ceva_zone!A:B,2,FALSE)","v":"B"},{"$f":"VLOOKUP(B20014,ceva_zone!A:C,3,FALSE)","v":"F"}]
["94591","CA","Q","remote",{"$f":"VLOOKUP(B20033,ceva_zone!A:B,2,FALSE)","v":"B"},{"$f":"VLOOKUP(B20033,ceva_zone!A:C,3,FALSE)","v":"F"}]
["94649","CA","B","standard",{"$f":"VLOOKUP(B20058,ceva_zone!A:B,2,FALSE)","v":"B"},{"$f":"VLOOKUP(B20058,ceva_zone!A:C,3,FALSE)","v":"F"}]
["94701","CA","B","standard",{"$f":"VLOOKUP(B20075,ceva_zone!A:B,2,FALSE)","v":"B"},{"$f":"VLOOKUP(B20075,ceva_zone!A:C,3,FALSE)","v":"F"}]
["94922","CA","Y","remote",{"$f":"VLOOKUP(B20097,ceva_zone!A:B,2,FALSE)","v":"B"},{"$f":"VLOOKUP(B20097,ceva_zone!A:C,3,FALSE)","v":"F"}]
["94927","CA","Q","remote",{"$f":"VLOOKUP(B20103,ceva_zone!A:B,2,FALSE)","v":"B"},{"$f":"VLOOKUP(B20103,ceva_zone!A:C,3,FALSE)","v":"F"}]
["94901","CA","E","remote",{"$f":"VLOOKUP(B20124,ceva_zone!A:B,2,FALSE)","v":"B"},{"$f":"VLOOKUP(B20124,ceva_zone!A:C,3,FALSE)","v":"F"}]
["95063","CA","P","remote",{"$f":"VLOOKUP(B20148,ceva_zone!A:B,2,FALSE)","v":"B"},{"$f":"VLOOKUP(B20148,ceva_zone!A:C,3,FALSE)","v":"F"}]
["95052","CA","C","standard",{"$f":"VLOOKUP(B20167,ceva_zone!A:B,2,FALSE)","v":"B"},{"$f":"VLOOKUP(B20167,ceva_zone!A:C,3,FALSE)","v":"F"}]
["95053","CA","C","standard",{"$f":"VLOOKUP(B20193,ceva_zone!A:B,2,FALSE)","v":"B"},{"$f":"VLOOKUP(B20193,ceva_zone!A:C,3,FALSE)","v":"F"}]
["95154","CA","C","standard",{"$f":"VLOOKUP(B20212,ceva_zone!A:B,2,FALSE)","v":"B"},{"$f":"VLOOKUP(B20212,ceva_zone!A:C,3,FALSE)","v":"F"}]
["95136","CA","C","standard",{"$f":"VLOOKUP(B20231,ceva_zone!A:B,2,FALSE)","v":"B"},{"$f":"VLOOKUP(B20231,ceva_zone!A:C,3,FALSE)","v":"F"}]
["95116","CA","C","standard",{"$f":"VLOOKUP(B20250,ceva_zone!A:B,2,FALSE)","v":"B"},{"$f":"VLOOKUP(B20250,ceva_zone!A:C,3,FALSE)","v":"F"}]
["95223","CA","Y","remote",{"$f":"VLOOKUP(B20262,ceva_zone!A:B,2,FALSE)","v":"B"},{"$f":"VLOOKUP(B20262,ceva_zone!A:C,3,FALSE)","v":"F"}]
["95234","CA","Y","remote",{"$f":"VLOOKUP(B20276,ceva_zone!A:B,2,FALSE)","v":"B"},{"$f":"VLOOKUP(B20276,ceva_zone!A:C,3,FALSE)","v":"F"}]
["95201","CA","E","remote",{"$f":"VLOOKUP(B20301,ceva_zone!A:B,2,FALSE)","v":"B"},{"$f":"VLOOKUP(B20301,ceva_zone!A:C,3,FALSE)","v":"F"}]
["95321","CA","Y","remote",{"$f":"VLOOKUP(B20331,ceva_zone!A:B,2,FALSE)","v":"B"},{"$f":"VLOOKUP(B20331,ceva_zone!A:C,3,FALSE)","v":"F"}]
["95329","CA","Y","remote",{"$f":"VLOOKUP(B20340,ceva_zone!A:B,2,FALSE)","v":"B"},{"$f":"VLOOKUP(B20340,ceva_zone!A:C,3,FALSE)","v":"F"}]
["95360","CA","S","remote",{"$f":"VLOOKUP(B20365,ceva_zone!A:B,2,FALSE)","v":"B"},{"$f":"VLOOKUP(B20365,ceva_zone!A:C,3,FALSE)","v":"F"}]
["95378","CA","F","remote",{"$f":"VLOOKUP(B20380,ceva_zone!A:B,2,FALSE)","v":"B"},{"$f":"VLOOKUP(B20380,ceva_zone!A:C,3,FALSE)","v":"F"}]
["95476","CA","Q","remote",{"$f":"VLOOKUP(B20391,ceva_zone!A:B,2,FALSE)","v":"B"},{"$f":"VLOOKUP(B20391,ceva_zone!A:C,3,FALSE)","v":"F"}]
["95426","CA","Y","remote",{"$f":"VLOOKUP(B20410,ceva_zone!A:B,2,FALSE)","v":"B"},{"$f":"VLOOKUP(B20410,ceva_zone!A:C,3,FALSE)","v":"F"}]
["95443","CA","Y","remote",{"$f":"VLOOKUP(B20429,ceva_zone!A:B,2,FALSE)","v":"B"},{"$f":"VLOOKUP(B20429,ceva_zone!A:C,3,FALSE)","v":"F"}]
["95469","CA","Y","remote",{"$f":"VLOOKUP(B20449,ceva_zone!A:B,2,FALSE)","v":"B"},{"$f":"VLOOKUP(B20449,ceva_zone!A:C,3,FALSE)","v":"F"}]
["95527","CA","Y","remote",{"$f":"VLOOKUP(B20474,ceva_zone!A:B,2,FALSE)","v":"B"},{"$f":"VLOOKUP(B20474,ceva_zone!A:C,3,FALSE)","v":"F"}]
["95585","CA","Y","remote",{"$f":"VLOOKUP(B20493,ceva_zone!A:B,2,FALSE)","v":"B"},{"$f":"VLOOKUP(B20493,ceva_zone!A:C,3,FALSE)","v":"F"}]
["95646","CA","Y","remote",{"$f":"VLOOKUP(B20518,ceva_zone!A:B,2,FALSE)","v":"B"},{"$f":"VLOOKUP(B20518,ceva_zone!A:C,3,FALSE)","v":"F"}]
["95638","CA","D","standard",{"$f":"VLOOKUP(B20538,ceva_zone!A:B,2,FALSE)","v":"B"},{"$f":"VLOOKUP(B20538,ceva_zone!A:C,3,FALSE)","v":"F"}]
["95661","CA","D","standard",{"$f":"VLOOKUP(B20563,ceva_zone!A:B,2,FALSE)","v":"B"},{"$f":"VLOOKUP(B20563,ceva_zone!A:C,3,FALSE)","v":"F"}]
["95639","CA","D","standard",{"$f":"VLOOKUP(B20567,ceva_zone!A:B,2,FALSE)","v":"B"},{"$f":"VLOOKUP(B20567,ceva_zone!A:C,3,FALSE)","v":"F"}]
["95688","CA","C","standard",{"$f":"VLOOKUP(B20602,ceva_zone!A:B,2,FALSE)","v":"B"},{"$f":"VLOOKUP(B20602,ceva_zone!A:C,3,FALSE)","v":"F"}]
["95695","CA","A","standard",{"$f":"VLOOKUP(B20608,ceva_zone!A:B,2,FALSE)","v":"B"},{"$f":"VLOOKUP(B20608,ceva_zone!A:C,3,FALSE)","v":"F"}]
["95717","CA","E","remote",{"$f":"VLOOKUP(B20627,ceva_zone!A:B,2,FALSE)","v":"B"},{"$f":"VLOOKUP(B20627,ceva_zone!A:C,3,FALSE)","v":"F"}]
["95837","CA","A","standard",{"$f":"VLOOKUP(B20660,ceva_zone!A:B,2,FALSE)","v":"B"},{"$f":"VLOOKUP(B20660,ceva_zone!A:C,3,FALSE)","v":"F"}]
["95823","CA","C","standard",{"$f":"VLOOKUP(B20672,ceva_zone!A:B,2,FALSE)","v":"B"},{"$f":"VLOOKUP(B20672,ceva_zone!A:C,3,FALSE)","v":"F"}]
["95914","CA","G","remote",{"$f":"VLOOKUP(B20691,ceva_zone!A:B,2,FALSE)","v":"B"},{"$f":"VLOOKUP(B20691,ceva_zone!A:C,3,FALSE)","v":"F"}]
["95925","CA","G","remote",{"$f":"VLOOKUP(B20705,ceva_zone!A:B,2,FALSE)","v":"B"},{"$f":"VLOOKUP(B20705,ceva_zone!A:C,3,FALSE)","v":"F"}]
["95987","CA","D","standard",{"$f":"VLOOKUP(B20736,ceva_zone!A:B,2,FALSE)","v":"B"},{"$f":"VLOOKUP(B20736,ceva_zone!A:C,3,FALSE)","v":"F"}]
["95982","CA","D","standard",{"$f":"VLOOKUP(B20755,ceva_zone!A:B,2,FALSE)","v":"B"},{"$f":"VLOOKUP(B20755,ceva_zone!A:C,3,FALSE)","v":"F"}]
["96006","CA","Y","remote",{"$f":"VLOOKUP(B20761,ceva_zone!A:B,2,FALSE)","v":"B"},{"$f":"VLOOKUP(B20761,ceva_zone!A:C,3,FALSE)","v":"F"}]
["96080","CA","Y","remote",{"$f":"VLOOKUP(B20778,ceva_zone!A:B,2,FALSE)","v":"B"},{"$f":"VLOOKUP(B20778,ceva_zone!A:C,3,FALSE)","v":"F"}]
["96055","CA","Y","remote",{"$f":"VLOOKUP(B20806,ceva_zone!A:B,2,FALSE)","v":"B"},{"$f":"VLOOKUP(B20806,ceva_zone!A:C,3,FALSE)","v":"F"}]
["96099","CA","Y","remote",{"$f":"VLOOKUP(B20825,ceva_zone!A:B,2,FALSE)","v":"B"},{"$f":"VLOOKUP(B20825,ceva_zone!A:C,3,FALSE)","v":"F"}]
["96161","CA","D","standard",{"$f":"VLOOKUP(B20847,ceva_zone!A:B,2,FALSE)","v":"B"},{"$f":"VLOOKUP(B20847,ceva_zone!A:C,3,FALSE)","v":"F"}]
["96117","CA","F","remote",{"$f":"VLOOKUP(B20870,ceva_zone!A:B,2,FALSE)","v":"B"},{"$f":"VLOOKUP(B20870,ceva_zone!A:C,3,FALSE)","v":"F"}]
["96160","CA","D","standard",{"$f":"VLOOKUP(B20889,ceva_zone!A:B,2,FALSE)","v":"B"},{"$f":"VLOOKUP(B20889,ceva_zone!A:C,3,FALSE)","v":"F"}]
["97001","OR","Y","remote",{"$f":"VLOOKUP(B20896,ceva_zone!A:B,2,FALSE)","v":"C"},{"$f":"VLOOKUP(B20896,ceva_zone!A:C,3,FALSE)","v":"F"}]
["97017","OR","D","standard",{"$f":"VLOOKUP(B20915,ceva_zone!A:B,2,FALSE)","v":"C"},{"$f":"VLOOKUP(B20915,ceva_zone!A:C,3,FALSE)","v":"F"}]
["97033","OR","Y","remote",{"$f":"VLOOKUP(B20934,ceva_zone!A:B,2,FALSE)","v":"C"},{"$f":"VLOOKUP(B20934,ceva_zone!A:C,3,FALSE)","v":"F"}]
["97053","OR","D","standard",{"$f":"VLOOKUP(B20959,ceva_zone!A:B,2,FALSE)","v":"C"},{"$f":"VLOOKUP(B20959,ceva_zone!A:C,3,FALSE)","v":"F"}]
["97124","OR","C","standard",{"$f":"VLOOKUP(B20985,ceva_zone!A:B,2,FALSE)","v":"C"},{"$f":"VLOOKUP(B20985,ceva_zone!A:C,3,FALSE)","v":"F"}]
["97140","OR","C","standard",{"$f":"VLOOKUP(B20998,ceva_zone!A:B,2,FALSE)","v":"C"},{"$f":"VLOOKUP(B20998,ceva_zone!A:C,3,FALSE)","v":"F"}]
["97228","OR","A","standard",{"$f":"VLOOKUP(B21023,ceva_zone!A:B,2,FALSE)","v":"C"},{"$f":"VLOOKUP(B21023,ceva_zone!A:C,3,FALSE)","v":"F"}]
["97280","OR","B","standard",{"$f":"VLOOKUP(B21034,ceva_zone!A:B,2,FALSE)","v":"C"},{"$f":"VLOOKUP(B21034,ceva_zone!A:C,3,FALSE)","v":"F"}]
["97214","OR","A","standard",{"$f":"VLOOKUP(B21049,ceva_zone!A:B,2,FALSE)","v":"C"},{"$f":"VLOOKUP(B21049,ceva_zone!A:C,3,FALSE)","v":"F"}]
["97322","OR","E","remote",{"$f":"VLOOKUP(B21068,ceva_zone!A:B,2,FALSE)","v":"C"},{"$f":"VLOOKUP(B21068,ceva_zone!A:C,3,FALSE)","v":"F"}]
["97374","OR","F","remote",{"$f":"VLOOKUP(B21103,ceva_zone!A:B,2,FALSE)","v":"C"},{"$f":"VLOOKUP(B21103,ceva_zone!A:C,3,FALSE)","v":"F"}]
["97366","OR","Y","remote",{"$f":"VLOOKUP(B21113,ceva_zone!A:B,2,FALSE)","v":"C"},{"$f":"VLOOKUP(B21113,ceva_zone!A:C,3,FALSE)","v":"F"}]
["97383","OR","E","remote",{"$f":"VLOOKUP(B21132,ceva_zone!A:B,2,FALSE)","v":"C"},{"$f":"VLOOKUP(B21132,ceva_zone!A:C,3,FALSE)","v":"F"}]
["97413","OR","Y","remote",{"$f":"VLOOKUP(B21151,ceva_zone!A:B,2,FALSE)","v":"C"},{"$f":"VLOOKUP(B21151,ceva_zone!A:C,3,FALSE)","v":"F"}]
["97432","OR","Y","remote",{"$f":"VLOOKUP(B21172,ceva_zone!A:B,2,FALSE)","v":"C"},{"$f":"VLOOKUP(B21172,ceva_zone!A:C,3,FALSE)","v":"F"}]
["97492","OR","Y","remote",{"$f":"VLOOKUP(B21196,ceva_zone!A:B,2,FALSE)","v":"C"},{"$f":"VLOOKUP(B21196,ceva_zone!A:C,3,FALSE)","v":"F"}]
["97451","OR","Y","remote",{"$f":"VLOOKUP(B21202,ceva_zone!A:B,2,FALSE)","v":"C"},{"$f":"VLOOKUP(B21202,ceva_zone!A:C,3,FALSE)","v":"F"}]
["97487","OR","F","remote",{"$f":"VLOOKUP(B21221,ceva_zone!A:B,2,FALSE)","v":"C"},{"$f":"VLOOKUP(B21221,ceva_zone!A:C,3,FALSE)","v":"F"}]
["97534","OR","Y","remote",{"$f":"VLOOKUP(B21241,ceva_zone!A:B,2,FALSE)","v":"C"},{"$f":"VLOOKUP(B21241,ceva_zone!A:C,3,FALSE)","v":"F"}]
["97632","OR","Y","remote",{"$f":"VLOOKUP(B21266,ceva_zone!A:B,2,FALSE)","v":"C"},{"$f":"VLOOKUP(B21266,ceva_zone!A:C,3,FALSE)","v":"F"}]
["97734","OR","Y","remote",{"$f":"VLOOKUP(B21290,ceva_zone!A:B,2,FALSE)","v":"C"},{"$f":"VLOOKUP(B21290,ceva_zone!A:C,3,FALSE)","v":"F"}]
["97754","OR","Y","remote",{"$f":"VLOOKUP(B21305,ceva_zone!A:B,2,FALSE)","v":"C"},{"$f":"VLOOKUP(B21305,ceva_zone!A:C,3,FALSE)","v":"F"}]
["97838","OR","Y","remote",{"$f":"VLOOKUP(B21330,ceva_zone!A:B,2,FALSE)","v":"C"},{"$f":"VLOOKUP(B21330,ceva_zone!A:C,3,FALSE)","v":"F"}]
["97801","OR","Y","remote",{"$f":"VLOOKUP(B21349,ceva_zone!A:B,2,FALSE)","v":"C"},{"$f":"VLOOKUP(B21349,ceva_zone!A:C,3,FALSE)","v":"F"}]
["97885","OR","Y","remote",{"$f":"VLOOKUP(B21359,ceva_zone!A:B,2,FALSE)","v":"C"},{"$f":"VLOOKUP(B21359,ceva_zone!A:C,3,FALSE)","v":"F"}]
["97918","OR","Y","remote",{"$f":"VLOOKUP(B21375,ceva_zone!A:B,2,FALSE)","v":"C"},{"$f":"VLOOKUP(B21375,ceva_zone!A:C,3,FALSE)","v":"F"}]
["98007","WA","A","standard",{"$f":"VLOOKUP(B21394,ceva_zone!A:B,2,FALSE)","v":"C"},{"$f":"VLOOKUP(B21394,ceva_zone!A:C,3,FALSE)","v":"F"}]
["98035","WA","A","standard",{"$f":"VLOOKUP(B21428,ceva_zone!A:B,2,FALSE)","v":"C"},{"$f":"VLOOKUP(B21428,ceva_zone!A:C,3,FALSE)","v":"F"}]
["98053","WA","B","standard",{"$f":"VLOOKUP(B21439,ceva_zone!A:B,2,FALSE)","v":"C"},{"$f":"VLOOKUP(B21439,ceva_zone!A:C,3,FALSE)","v":"F"}]
["98198","WA","A","standard",{"$f":"VLOOKUP(B21464,ceva_zone!A:B,2,FALSE)","v":"C"},{"$f":"VLOOKUP(B21464,ceva_zone!A:C,3,FALSE)","v":"F"}]
["98160","WA","B","standard",{"$f":"VLOOKUP(B21483,ceva_zone!A:B,2,FALSE)","v":"C"},{"$f":"VLOOKUP(B21483,ceva_zone!A:C,3,FALSE)","v":"F"}]
["98132","WA","B","standard",{"$f":"VLOOKUP(B21501,ceva_zone!A:B,2,FALSE)","v":"C"},{"$f":"VLOOKUP(B21501,ceva_zone!A:C,3,FALSE)","v":"F"}]
["98292","WA","Y","remote",{"$f":"VLOOKUP(B21528,ceva_zone!A:B,2,FALSE)","v":"C"},{"$f":"VLOOKUP(B21528,ceva_zone!A:C,3,FALSE)","v":"F"}]
["98208","WA","C","standard",{"$f":"VLOOKUP(B21547,ceva_zone!A:B,2,FALSE)","v":"C"},{"$f":"VLOOKUP(B21547,ceva_zone!A:C,3,FALSE)","v":"F"}]
["98203","WA","C","standard",{"$f":"VLOOKUP(B21550,ceva_zone!A:B,2,FALSE)","v":"C"},{"$f":"VLOOKUP(B21550,ceva_zone!A:C,3,FALSE)","v":"F"}]
["98270","WA","C","standard",{"$f":"VLOOKUP(B21573,ceva_zone!A:B,2,FALSE)","v":"C"},{"$f":"VLOOKUP(B21573,ceva_zone!A:C,3,FALSE)","v":"F"}]
["98328","WA","Y","remote",{"$f":"VLOOKUP(B21592,ceva_zone!A:B,2,FALSE)","v":"C"},{"$f":"VLOOKUP(B21592,ceva_zone!A:C,3,FALSE)","v":"F"}]
["98324","WA","Y","remote",{"$f":"VLOOKUP(B21615,ceva_zone!A:B,2,FALSE)","v":"C"},{"$f":"VLOOKUP(B21615,ceva_zone!A:C,3,FALSE)","v":"F"}]
["98381","WA","Y","remote",{"$f":"VLOOKUP(B21637,ceva_zone!A:B,2,FALSE)","v":"C"},{"$f":"VLOOKUP(B21637,ceva_zone!A:C,3,FALSE)","v":"F"}]
["98363","WA","Y","remote",{"$f":"VLOOKUP(B21656,ceva_zone!A:B,2,FALSE)","v":"C"},{"$f":"VLOOKUP(B21656,ceva_zone!A:C,3,FALSE)","v":"F"}]
["98446","WA","A","standard",{"$f":"VLOOKUP(B21681,ceva_zone!A:B,2,FALSE)","v":"C"},{"$f":"VLOOKUP(B21681,ceva_zone!A:C,3,FALSE)","v":"F"}]
["98431","WA","B","standard",{"$f":"VLOOKUP(B21688,ceva_zone!A:B,2,FALSE)","v":"C"},{"$f":"VLOOKUP(B21688,ceva_zone!A:C,3,FALSE)","v":"F"}]
["98571","WA","Y","remote",{"$f":"VLOOKUP(B21720,ceva_zone!A:B,2,FALSE)","v":"C"},{"$f":"VLOOKUP(B21720,ceva_zone!A:C,3,FALSE)","v":"F"}]
["98532","WA","Y","remote",{"$f":"VLOOKUP(B21726,ceva_zone!A:B,2,FALSE)","v":"C"},{"$f":"VLOOKUP(B21726,ceva_zone!A:C,3,FALSE)","v":"F"}]
["98509","WA","E","remote",{"$f":"VLOOKUP(B21757,ceva_zone!A:B,2,FALSE)","v":"C"},{"$f":"VLOOKUP(B21757,ceva_zone!A:C,3,FALSE)","v":"F"}]
["98569","WA","Y","remote",{"$f":"VLOOKUP(B21771,ceva_zone!A:B,2,FALSE)","v":"C"},{"$f":"VLOOKUP(B21771,ceva_zone!A:C,3,FALSE)","v":"F"}]
["98592","WA","E","remote",{"$f":"VLOOKUP(B21790,ceva_zone!A:B,2,FALSE)","v":"C"},{"$f":"VLOOKUP(B21790,ceva_zone!A:C,3,FALSE)","v":"F"}]
["98616","WA","F","remote",{"$f":"VLOOKUP(B21806,ceva_zone!A:B,2,FALSE)","v":"C"},{"$f":"VLOOKUP(B21806,ceva_zone!A:C,3,FALSE)","v":"F"}]
["98645","WA","Y","remote",{"$f":"VLOOKUP(B21835,ceva_zone!A:B,2,FALSE)","v":"C"},{"$f":"VLOOKUP(B21835,ceva_zone!A:C,3,FALSE)","v":"F"}]
["98675","WA","E","remote",{"$f":"VLOOKUP(B21854,ceva_zone!A:B,2,FALSE)","v":"C"},{"$f":"VLOOKUP(B21854,ceva_zone!A:C,3,FALSE)","v":"F"}]
["98807","WA","Y","remote",{"$f":"VLOOKUP(B21860,ceva_zone!A:B,2,FALSE)","v":"C"},{"$f":"VLOOKUP(B21860,ceva_zone!A:C,3,FALSE)","v":"F"}]
["98852","WA","Y","remote",{"$f":"VLOOKUP(B21895,ceva_zone!A:B,2,FALSE)","v":"C"},{"$f":"VLOOKUP(B21895,ceva_zone!A:C,3,FALSE)","v":"F"}]
["98860","WA","Y","remote",{"$f":"VLOOKUP(B21899,ceva_zone!A:B,2,FALSE)","v":"C"},{"$f":"VLOOKUP(B21899,ceva_zone!A:C,3,FALSE)","v":"F"}]
["98940","WA","Y","remote",{"$f":"VLOOKUP(B21924,ceva_zone!A:B,2,FALSE)","v":"C"},{"$f":"VLOOKUP(B21924,ceva_zone!A:C,3,FALSE)","v":"F"}]
["99022","WA","Y","remote",{"$f":"VLOOKUP(B21944,ceva_zone!A:B,2,FALSE)","v":"C"},{"$f":"VLOOKUP(B21944,ceva_zone!A:C,3,FALSE)","v":"F"}]
["99034","WA","Y","remote",{"$f":"VLOOKUP(B21963,ceva_zone!A:B,2,FALSE)","v":"C"},{"$f":"VLOOKUP(B21963,ceva_zone!A:C,3,FALSE)","v":"F"}]
["99148","WA","Y","remote",{"$f":"VLOOKUP(B21988,ceva_zone!A:B,2,FALSE)","v":"C"},{"$f":"VLOOKUP(B21988,ceva_zone!A:C,3,FALSE)","v":"F"}]
["99143","WA","Y","remote",{"$f":"VLOOKUP(B22007,ceva_zone!A:B,2,FALSE)","v":"C"},{"$f":"VLOOKUP(B22007,ceva_zone!A:C,3,FALSE)","v":"F"}]
["99152","WA","Y","remote",{"$f":"VLOOKUP(B22013,ceva_zone!A:B,2,FALSE)","v":"C"},{"$f":"VLOOKUP(B22013,ceva_zone!A:C,3,FALSE)","v":"F"}]
["99180","WA","Y","remote",{"$f":"VLOOKUP(B22033,ceva_zone!A:B,2,FALSE)","v":"C"},{"$f":"VLOOKUP(B22033,ceva_zone!A:C,3,FALSE)","v":"F"}]
["99254","WA","Y","remote",{"$f":"VLOOKUP(B22052,ceva_zone!A:B,2,FALSE)","v":"C"},{"$f":"VLOOKUP(B22052,ceva_zone!A:C,3,FALSE)","v":"F"}]
["99337","WA","Y","remote",{"$f":"VLOOKUP(B22082,ceva_zone!A:B,2,FALSE)","v":"C"},{"$f":"VLOOKUP(B22082,ceva_zone!A:C,3,FALSE)","v":"F"}]
["99359","WA","Y","remote",{"$f":"VLOOKUP(B22097,ceva_zone!A:B,2,FALSE)","v":"C"},{"$f":"VLOOKUP(B22097,ceva_zone!A:C,3,FALSE)","v":"F"}]
["12047","NY","F","remote",{"$f":"VLOOKUP(B22122,ceva_zone!A:B,2,FALSE)","v":"F"},{"$f":"VLOOKUP(B22122,ceva_zone!A:C,3,FALSE)","v":"A"}]
["12032","NY","D","standard",{"$f":"VLOOKUP(B22131,ceva_zone!A:B,2,FALSE)","v":"F"},{"$f":"VLOOKUP(B22131,ceva_zone!A:C,3,FALSE)","v":"A"}]
["12070","NY","Y","remote",{"$f":"VLOOKUP(B22161,ceva_zone!A:B,2,FALSE)","v":"F"},{"$f":"VLOOKUP(B22161,ceva_zone!A:C,3,FALSE)","v":"A"}]
["12075","NY","C","standard",{"$f":"VLOOKUP(B22167,ceva_zone!A:B,2,FALSE)","v":"F"},{"$f":"VLOOKUP(B22167,ceva_zone!A:C,3,FALSE)","v":"A"}]
["12166","NY","Y","remote",{"$f":"VLOOKUP(B22186,ceva_zone!A:B,2,FALSE)","v":"F"},{"$f":"VLOOKUP(B22186,ceva_zone!A:C,3,FALSE)","v":"A"}]
["12189","NY","F","remote",{"$f":"VLOOKUP(B22204,ceva_zone!A:B,2,FALSE)","v":"F"},{"$f":"VLOOKUP(B22204,ceva_zone!A:C,3,FALSE)","v":"A"}]
["12157","NY","Y","remote",{"$f":"VLOOKUP(B22231,ceva_zone!A:B,2,FALSE)","v":"F"},{"$f":"VLOOKUP(B22231,ceva_zone!A:C,3,FALSE)","v":"A"}]
["12201","NY","F","remote",{"$f":"VLOOKUP(B22250,ceva_zone!A:B,2,FALSE)","v":"F"},{"$f":"VLOOKUP(B22250,ceva_zone!A:C,3,FALSE)","v":"A"}]
["12227","NY","F","remote",{"$f":"VLOOKUP(B22269,ceva_zone!A:B,2,FALSE)","v":"F"},{"$f":"VLOOKUP(B22269,ceva_zone!A:C,3,FALSE)","v":"A"}]
["12256","NY","F","remote",{"$f":"VLOOKUP(B22295,ceva_zone!A:B,2,FALSE)","v":"F"},{"$f":"VLOOKUP(B22295,ceva_zone!A:C,3,FALSE)","v":"A"}]
["12406","NY","Y","remote",{"$f":"VLOOKUP(B22314,ceva_zone!A:B,2,FALSE)","v":"F"},{"$f":"VLOOKUP(B22314,ceva_zone!A:C,3,FALSE)","v":"A"}]
["12401","NY","Y","remote",{"$f":"VLOOKUP(B22338,ceva_zone!A:B,2,FALSE)","v":"F"},{"$f":"VLOOKUP(B22338,ceva_zone!A:C,3,FALSE)","v":"A"}]
["12439","NY","Y","remote",{"$f":"VLOOKUP(B22340,ceva_zone!A:B,2,FALSE)","v":"F"},{"$f":"VLOOKUP(B22340,ceva_zone!A:C,3,FALSE)","v":"A"}]
["12448","NY","Y","remote",{"$f":"VLOOKUP(B22359,ceva_zone!A:B,2,FALSE)","v":"F"},{"$f":"VLOOKUP(B22359,ceva_zone!A:C,3,FALSE)","v":"A"}]
["12492","NY","Y","remote",{"$f":"VLOOKUP(B22384,ceva_zone!A:B,2,FALSE)","v":"F"},{"$f":"VLOOKUP(B22384,ceva_zone!A:C,3,FALSE)","v":"A"}]
["12517","NY","Y","remote",{"$f":"VLOOKUP(B22411,ceva_zone!A:B,2,FALSE)","v":"F"},{"$f":"VLOOKUP(B22411,ceva_zone!A:C,3,FALSE)","v":"A"}]
["12531","NY","Y","remote",{"$f":"VLOOKUP(B22429,ceva_zone!A:B,2,FALSE)","v":"F"},{"$f":"VLOOKUP(B22429,ceva_zone!A:C,3,FALSE)","v":"A"}]
["12553","NY","Y","remote",{"$f":"VLOOKUP(B22448,ceva_zone!A:B,2,FALSE)","v":"F"},{"$f":"VLOOKUP(B22448,ceva_zone!A:C,3,FALSE)","v":"A"}]
["12580","NY","Y","remote",{"$f":"VLOOKUP(B22460,ceva_zone!A:B,2,FALSE)","v":"F"},{"$f":"VLOOKUP(B22460,ceva_zone!A:C,3,FALSE)","v":"A"}]
["12743","NY","Y","remote",{"$f":"VLOOKUP(B22493,ceva_zone!A:B,2,FALSE)","v":"F"},{"$f":"VLOOKUP(B22493,ceva_zone!A:C,3,FALSE)","v":"A"}]
["12767","NY","Y","remote",{"$f":"VLOOKUP(B22512,ceva_zone!A:B,2,FALSE)","v":"F"},{"$f":"VLOOKUP(B22512,ceva_zone!A:C,3,FALSE)","v":"A"}]
["12784","NY","Y","remote",{"$f":"VLOOKUP(B22525,ceva_zone!A:B,2,FALSE)","v":"F"},{"$f":"VLOOKUP(B22525,ceva_zone!A:C,3,FALSE)","v":"A"}]
["12834","NY","Y","remote",{"$f":"VLOOKUP(B22538,ceva_zone!A:B,2,FALSE)","v":"F"},{"$f":"VLOOKUP(B22538,ceva_zone!A:C,3,FALSE)","v":"A"}]
["12873","NY","Y","remote",{"$f":"VLOOKUP(B22557,ceva_zone!A:B,2,FALSE)","v":"F"},{"$f":"VLOOKUP(B22557,ceva_zone!A:C,3,FALSE)","v":"A"}]
["12854","NY","Y","remote",{"$f":"VLOOKUP(B22582,ceva_zone!A:B,2,FALSE)","v":"F"},{"$f":"VLOOKUP(B22582,ceva_zone!A:C,3,FALSE)","v":"A"}]
["12884","NY","Y","remote",{"$f":"VLOOKUP(B22598,ceva_zone!A:B,2,FALSE)","v":"F"},{"$f":"VLOOKUP(B22598,ceva_zone!A:C,3,FALSE)","v":"A"}]
["12926","NY","Y","remote",{"$f":"VLOOKUP(B22621,ceva_zone!A:B,2,FALSE)","v":"F"},{"$f":"VLOOKUP(B22621,ceva_zone!A:C,3,FALSE)","v":"A"}]
["12957","NY","Y","remote",{"$f":"VLOOKUP(B22646,ceva_zone!A:B,2,FALSE)","v":"F"},{"$f":"VLOOKUP(B22646,ceva_zone!A:C,3,FALSE)","v":"A"}]
["12980","NY","Y","remote",{"$f":"VLOOKUP(B22667,ceva_zone!A:B,2,FALSE)","v":"F"},{"$f":"VLOOKUP(B22667,ceva_zone!A:C,3,FALSE)","v":"A"}]
["12997","NY","Y","remote",{"$f":"VLOOKUP(B22672,ceva_zone!A:B,2,FALSE)","v":"F"},{"$f":"VLOOKUP(B22672,ceva_zone!A:C,3,FALSE)","v":"A"}]
["13033","NY","E","remote",{"$f":"VLOOKUP(B22691,ceva_zone!A:B,2,FALSE)","v":"F"},{"$f":"VLOOKUP(B22691,ceva_zone!A:C,3,FALSE)","v":"A"}]
["13057","NY","S","remote",{"$f":"VLOOKUP(B22710,ceva_zone!A:B,2,FALSE)","v":"F"},{"$f":"VLOOKUP(B22710,ceva_zone!A:C,3,FALSE)","v":"A"}]
["13131","NY","S","remote",{"$f":"VLOOKUP(B22736,ceva_zone!A:B,2,FALSE)","v":"F"},{"$f":"VLOOKUP(B22736,ceva_zone!A:C,3,FALSE)","v":"A"}]
["13115","NY","Y","remote",{"$f":"VLOOKUP(B22755,ceva_zone!A:B,2,FALSE)","v":"F"},{"$f":"VLOOKUP(B22755,ceva_zone!A:C,3,FALSE)","v":"A"}]
["13145","NY","S","remote",{"$f":"VLOOKUP(B22774,ceva_zone!A:B,2,FALSE)","v":"F"},{"$f":"VLOOKUP(B22774,ceva_zone!A:C,3,FALSE)","v":"A"}]
["13217","NY","S","remote",{"$f":"VLOOKUP(B22785,ceva_zone!A:B,2,FALSE)","v":"F"},{"$f":"VLOOKUP(B22785,ceva_zone!A:C,3,FALSE)","v":"A"}]
["13327","NY","Y","remote",{"$f":"VLOOKUP(B22819,ceva_zone!A:B,2,FALSE)","v":"F"},{"$f":"VLOOKUP(B22819,ceva_zone!A:C,3,FALSE)","v":"A"}]
["13313","NY","Y","remote",{"$f":"VLOOKUP(B22825,ceva_zone!A:B,2,FALSE)","v":"F"},{"$f":"VLOOKUP(B22825,ceva_zone!A:C,3,FALSE)","v":"A"}]
["13342","NY","Y","remote",{"$f":"VLOOKUP(B22854,ceva_zone!A:B,2,FALSE)","v":"F"},{"$f":"VLOOKUP(B22854,ceva_zone!A:C,3,FALSE)","v":"A"}]
["13363","NY","Y","remote",{"$f":"VLOOKUP(B22864,ceva_zone!A:B,2,FALSE)","v":"F"},{"$f":"VLOOKUP(B22864,ceva_zone!A:C,3,FALSE)","v":"A"}]
["13488","NY","S","remote",{"$f":"VLOOKUP(B22889,ceva_zone!A:B,2,FALSE)","v":"F"},{"$f":"VLOOKUP(B22889,ceva_zone!A:C,3,FALSE)","v":"A"}]
["13449","NY","Y","remote",{"$f":"VLOOKUP(B22908,ceva_zone!A:B,2,FALSE)","v":"F"},{"$f":"VLOOKUP(B22908,ceva_zone!A:C,3,FALSE)","v":"A"}]
["13472","NY","Y","remote",{"$f":"VLOOKUP(B22923,ceva_zone!A:B,2,FALSE)","v":"F"},{"$f":"VLOOKUP(B22923,ceva_zone!A:C,3,FALSE)","v":"A"}]
["13614","NY","Y","remote",{"$f":"VLOOKUP(B22953,ceva_zone!A:B,2,FALSE)","v":"F"},{"$f":"VLOOKUP(B22953,ceva_zone!A:C,3,FALSE)","v":"A"}]
["13627","NY","Y","remote",{"$f":"VLOOKUP(B22972,ceva_zone!A:B,2,FALSE)","v":"F"},{"$f":"VLOOKUP(B22972,ceva_zone!A:C,3,FALSE)","v":"A"}]
["13649","NY","Y","remote",{"$f":"VLOOKUP(B22992,ceva_zone!A:B,2,FALSE)","v":"F"},{"$f":"VLOOKUP(B22992,ceva_zone!A:C,3,FALSE)","v":"A"}]
["13656","NY","Y","remote",{"$f":"VLOOKUP(B22998,ceva_zone!A:B,2,FALSE)","v":"F"},{"$f":"VLOOKUP(B22998,ceva_zone!A:C,3,FALSE)","v":"A"}]
["13680","NY","Y","remote",{"$f":"VLOOKUP(B23017,ceva_zone!A:B,2,FALSE)","v":"F"},{"$f":"VLOOKUP(B23017,ceva_zone!A:C,3,FALSE)","v":"A"}]
["13738","NY","Y","remote",{"$f":"VLOOKUP(B23041,ceva_zone!A:B,2,FALSE)","v":"F"},{"$f":"VLOOKUP(B23041,ceva_zone!A:C,3,FALSE)","v":"A"}]
["13790","NY","S","remote",{"$f":"VLOOKUP(B23062,ceva_zone!A:B,2,FALSE)","v":"F"},{"$f":"VLOOKUP(B23062,ceva_zone!A:C,3,FALSE)","v":"A"}]
["13820","NY","Y","remote",{"$f":"VLOOKUP(B23087,ceva_zone!A:B,2,FALSE)","v":"F"},{"$f":"VLOOKUP(B23087,ceva_zone!A:C,3,FALSE)","v":"A"}]
["13834","NY","Y","remote",{"$f":"VLOOKUP(B23106,ceva_zone!A:B,2,FALSE)","v":"F"},{"$f":"VLOOKUP(B23106,ceva_zone!A:C,3,FALSE)","v":"A"}]
["13878","NH","N","remote",{"$f":"VLOOKUP(B23114,ceva_zone!A:B,2,FALSE)","v":"F"},{"$f":"VLOOKUP(B23114,ceva_zone!A:C,3,FALSE)","v":"B"}]
["14068","NY","Y","remote",{"$f":"VLOOKUP(B23132,ceva_zone!A:B,2,FALSE)","v":"F"},{"$f":"VLOOKUP(B23132,ceva_zone!A:C,3,FALSE)","v":"A"}]
["14033","NY","Y","remote",{"$f":"VLOOKUP(B23151,ceva_zone!A:B,2,FALSE)","v":"F"},{"$f":"VLOOKUP(B23151,ceva_zone!A:C,3,FALSE)","v":"A"}]
["14070","NY","Y","remote",{"$f":"VLOOKUP(B23179,ceva_zone!A:B,2,FALSE)","v":"F"},{"$f":"VLOOKUP(B23179,ceva_zone!A:C,3,FALSE)","v":"A"}]
["14102","NY","Y","remote",{"$f":"VLOOKUP(B23196,ceva_zone!A:B,2,FALSE)","v":"F"},{"$f":"VLOOKUP(B23196,ceva_zone!A:C,3,FALSE)","v":"A"}]
["14133","NY","Y","remote",{"$f":"VLOOKUP(B23215,ceva_zone!A:B,2,FALSE)","v":"F"},{"$f":"VLOOKUP(B23215,ceva_zone!A:C,3,FALSE)","v":"A"}]
["14207","NY","Y","remote",{"$f":"VLOOKUP(B23240,ceva_zone!A:B,2,FALSE)","v":"F"},{"$f":"VLOOKUP(B23240,ceva_zone!A:C,3,FALSE)","v":"A"}]
["14220","NY","Y","remote",{"$f":"VLOOKUP(B23252,ceva_zone!A:B,2,FALSE)","v":"F"},{"$f":"VLOOKUP(B23252,ceva_zone!A:C,3,FALSE)","v":"A"}]
["14304","NY","Y","remote",{"$f":"VLOOKUP(B23279,ceva_zone!A:B,2,FALSE)","v":"F"},{"$f":"VLOOKUP(B23279,ceva_zone!A:C,3,FALSE)","v":"A"}]
["14411","NY","F","remote",{"$f":"VLOOKUP(B23285,ceva_zone!A:B,2,FALSE)","v":"F"},{"$f":"VLOOKUP(B23285,ceva_zone!A:C,3,FALSE)","v":"A"}]
["14468","NY","F","remote",{"$f":"VLOOKUP(B23321,ceva_zone!A:B,2,FALSE)","v":"F"},{"$f":"VLOOKUP(B23321,ceva_zone!A:C,3,FALSE)","v":"A"}]
["14482","NY","F","remote",{"$f":"VLOOKUP(B23330,ceva_zone!A:B,2,FALSE)","v":"F"},{"$f":"VLOOKUP(B23330,ceva_zone!A:C,3,FALSE)","v":"A"}]
["14512","NY","E","remote",{"$f":"VLOOKUP(B23349,ceva_zone!A:B,2,FALSE)","v":"F"},{"$f":"VLOOKUP(B23349,ceva_zone!A:C,3,FALSE)","v":"A"}]
["14550","NY","Y","remote",{"$f":"VLOOKUP(B23370,ceva_zone!A:B,2,FALSE)","v":"F"},{"$f":"VLOOKUP(B23370,ceva_zone!A:C,3,FALSE)","v":"A"}]
["14585","NY","Y","remote",{"$f":"VLOOKUP(B23394,ceva_zone!A:B,2,FALSE)","v":"F"},{"$f":"VLOOKUP(B23394,ceva_zone!A:C,3,FALSE)","v":"A"}]
["14620","NY","F","remote",{"$f":"VLOOKUP(B23413,ceva_zone!A:B,2,FALSE)","v":"F"},{"$f":"VLOOKUP(B23413,ceva_zone!A:C,3,FALSE)","v":"A"}]
["14683","NY","A","standard",{"$f":"VLOOKUP(B23432,ceva_zone!A:B,2,FALSE)","v":"F"},{"$f":"VLOOKUP(B23432,ceva_zone!A:C,3,FALSE)","v":"A"}]
["14605","NY","F","remote",{"$f":"VLOOKUP(B23439,ceva_zone!A:B,2,FALSE)","v":"F"},{"$f":"VLOOKUP(B23439,ceva_zone!A:C,3,FALSE)","v":"A"}]
["14741","NY","Y","remote",{"$f":"VLOOKUP(B23477,ceva_zone!A:B,2,FALSE)","v":"F"},{"$f":"VLOOKUP(B23477,ceva_zone!A:C,3,FALSE)","v":"A"}]
["14747","NY","Y","remote",{"$f":"VLOOKUP(B23483,ceva_zone!A:B,2,FALSE)","v":"F"},{"$f":"VLOOKUP(B23483,ceva_zone!A:C,3,FALSE)","v":"A"}]
["14785","NY","Y","remote",{"$f":"VLOOKUP(B23508,ceva_zone!A:B,2,FALSE)","v":"F"},{"$f":"VLOOKUP(B23508,ceva_zone!A:C,3,FALSE)","v":"A"}]
["14812","NY","Y","remote",{"$f":"VLOOKUP(B23522,ceva_zone!A:B,2,FALSE)","v":"F"},{"$f":"VLOOKUP(B23522,ceva_zone!A:C,3,FALSE)","v":"A"}]
["14842","NY","Y","remote",{"$f":"VLOOKUP(B23547,ceva_zone!A:B,2,FALSE)","v":"F"},{"$f":"VLOOKUP(B23547,ceva_zone!A:C,3,FALSE)","v":"A"}]
["14854","NY","Y","remote",{"$f":"VLOOKUP(B23557,ceva_zone!A:B,2,FALSE)","v":"F"},{"$f":"VLOOKUP(B23557,ceva_zone!A:C,3,FALSE)","v":"A"}]
["14897","NY","Y","remote",{"$f":"VLOOKUP(B23592,ceva_zone!A:B,2,FALSE)","v":"F"},{"$f":"VLOOKUP(B23592,ceva_zone!A:C,3,FALSE)","v":"A"}]
["15018","PA","C","standard",{"$f":"VLOOKUP(B23611,ceva_zone!A:B,2,FALSE)","v":"F"},{"$f":"VLOOKUP(B23611,ceva_zone!A:C,3,FALSE)","v":"A"}]
["15045","PA","C","standard",{"$f":"VLOOKUP(B23630,ceva_zone!A:B,2,FALSE)","v":"F"},{"$f":"VLOOKUP(B23630,ceva_zone!A:C,3,FALSE)","v":"A"}]
["15063","PA","D","standard",{"$f":"VLOOKUP(B23646,ceva_zone!A:B,2,FALSE)","v":"F"},{"$f":"VLOOKUP(B23646,ceva_zone!A:C,3,FALSE)","v":"A"}]
["15072","PA","D","standard",{"$f":"VLOOKUP(B23656,ceva_zone!A:B,2,FALSE)","v":"F"},{"$f":"VLOOKUP(B23656,ceva_zone!A:C,3,FALSE)","v":"A"}]
["15090","PA","B","standard",{"$f":"VLOOKUP(B23675,ceva_zone!A:B,2,FALSE)","v":"F"},{"$f":"VLOOKUP(B23675,ceva_zone!A:C,3,FALSE)","v":"A"}]
["15140","PA","C","standard",{"$f":"VLOOKUP(B23695,ceva_zone!A:B,2,FALSE)","v":"F"},{"$f":"VLOOKUP(B23695,ceva_zone!A:C,3,FALSE)","v":"A"}]
["15202","PA","A","standard",{"$f":"VLOOKUP(B23720,ceva_zone!A:B,2,FALSE)","v":"F"},{"$f":"VLOOKUP(B23720,ceva_zone!A:C,3,FALSE)","v":"A"}]
["15231","PA","A","standard",{"$f":"VLOOKUP(B23745,ceva_zone!A:B,2,FALSE)","v":"F"},{"$f":"VLOOKUP(B23745,ceva_zone!A:C,3,FALSE)","v":"A"}]
["15262","PA","B","standard",{"$f":"VLOOKUP(B23764,ceva_zone!A:B,2,FALSE)","v":"F"},{"$f":"VLOOKUP(B23764,ceva_zone!A:C,3,FALSE)","v":"A"}]
["15311","PA","G","remote",{"$f":"VLOOKUP(B23784,ceva_zone!A:B,2,FALSE)","v":"F"},{"$f":"VLOOKUP(B23784,ceva_zone!A:C,3,FALSE)","v":"A"}]
["15317","PA","B","standard",{"$f":"VLOOKUP(B23790,ceva_zone!A:B,2,FALSE)","v":"F"},{"$f":"VLOOKUP(B23790,ceva_zone!A:C,3,FALSE)","v":"A"}]
["15341","PA","Y","remote",{"$f":"VLOOKUP(B23809,ceva_zone!A:B,2,FALSE)","v":"F"},{"$f":"VLOOKUP(B23809,ceva_zone!A:C,3,FALSE)","v":"A"}]
["15376","PA","F","remote",{"$f":"VLOOKUP(B23833,ceva_zone!A:B,2,FALSE)","v":"F"},{"$f":"VLOOKUP(B23833,ceva_zone!A:C,3,FALSE)","v":"A"}]
["15429","PA","Y","remote",{"$f":"VLOOKUP(B23854,ceva_zone!A:B,2,FALSE)","v":"F"},{"$f":"VLOOKUP(B23854,ceva_zone!A:C,3,FALSE)","v":"A"}]
["15448","PA","G","remote",{"$f":"VLOOKUP(B23873,ceva_zone!A:B,2,FALSE)","v":"F"},{"$f":"VLOOKUP(B23873,ceva_zone!A:C,3,FALSE)","v":"A"}]
["15482","PA","Y","remote",{"$f":"VLOOKUP(B23902,ceva_zone!A:B,2,FALSE)","v":"F"},{"$f":"VLOOKUP(B23902,ceva_zone!A:C,3,FALSE)","v":"A"}]
["15531","PA","Y","remote",{"$f":"VLOOKUP(B23918,ceva_zone!A:B,2,FALSE)","v":"F"},{"$f":"VLOOKUP(B23918,ceva_zone!A:C,3,FALSE)","v":"A"}]
["15552","PA","Y","remote",{"$f":"VLOOKUP(B23937,ceva_zone!A:B,2,FALSE)","v":"F"},{"$f":"VLOOKUP(B23937,ceva_zone!A:C,3,FALSE)","v":"A"}]
["15559","PA","Y","remote",{"$f":"VLOOKUP(B23943,ceva_zone!A:B,2,FALSE)","v":"F"},{"$f":"VLOOKUP(B23943,ceva_zone!A:C,3,FALSE)","v":"A"}]
["15633","PA","G","remote",{"$f":"VLOOKUP(B23975,ceva_zone!A:B,2,FALSE)","v":"F"},{"$f":"VLOOKUP(B23975,ceva_zone!A:C,3,FALSE)","v":"A"}]
["15647","PA","D","standard",{"$f":"VLOOKUP(B23988,ceva_zone!A:B,2,FALSE)","v":"F"},{"$f":"VLOOKUP(B23988,ceva_zone!A:C,3,FALSE)","v":"A"}]
["15675","PA","D","standard",{"$f":"VLOOKUP(B24007,ceva_zone!A:B,2,FALSE)","v":"F"},{"$f":"VLOOKUP(B24007,ceva_zone!A:C,3,FALSE)","v":"A"}]
["15693","PA","G","remote",{"$f":"VLOOKUP(B24024,ceva_zone!A:B,2,FALSE)","v":"F"},{"$f":"VLOOKUP(B24024,ceva_zone!A:C,3,FALSE)","v":"A"}]
["15736","PA","F","remote",{"$f":"VLOOKUP(B24052,ceva_zone!A:B,2,FALSE)","v":"F"},{"$f":"VLOOKUP(B24052,ceva_zone!A:C,3,FALSE)","v":"A"}]
["15756","PA","G","remote",{"$f":"VLOOKUP(B24071,ceva_zone!A:B,2,FALSE)","v":"F"},{"$f":"VLOOKUP(B24071,ceva_zone!A:C,3,FALSE)","v":"A"}]
["15783","PA","G","remote",{"$f":"VLOOKUP(B24093,ceva_zone!A:B,2,FALSE)","v":"F"},{"$f":"VLOOKUP(B24093,ceva_zone!A:C,3,FALSE)","v":"A"}]
["15823","PA","Y","remote",{"$f":"VLOOKUP(B24097,ceva_zone!A:B,2,FALSE)","v":"F"},{"$f":"VLOOKUP(B24097,ceva_zone!A:C,3,FALSE)","v":"A"}]
["15857","PA","Y","remote",{"$f":"VLOOKUP(B24116,ceva_zone!A:B,2,FALSE)","v":"F"},{"$f":"VLOOKUP(B24116,ceva_zone!A:C,3,FALSE)","v":"A"}]
["15915","PA","Y","remote",{"$f":"VLOOKUP(B24141,ceva_zone!A:B,2,FALSE)","v":"F"},{"$f":"VLOOKUP(B24141,ceva_zone!A:C,3,FALSE)","v":"A"}]
["15954","PA","G","remote",{"$f":"VLOOKUP(B24162,ceva_zone!A:B,2,FALSE)","v":"F"},{"$f":"VLOOKUP(B24162,ceva_zone!A:C,3,FALSE)","v":"A"}]
["16023","PA","D","standard",{"$f":"VLOOKUP(B24180,ceva_zone!A:B,2,FALSE)","v":"F"},{"$f":"VLOOKUP(B24180,ceva_zone!A:C,3,FALSE)","v":"A"}]
["16053","PA","D","standard",{"$f":"VLOOKUP(B24205,ceva_zone!A:B,2,FALSE)","v":"F"},{"$f":"VLOOKUP(B24205,ceva_zone!A:C,3,FALSE)","v":"A"}]
["16059","PA","C","standard",{"$f":"VLOOKUP(B24211,ceva_zone!A:B,2,FALSE)","v":"F"},{"$f":"VLOOKUP(B24211,ceva_zone!A:C,3,FALSE)","v":"A"}]
["16133","PA","G","remote",{"$f":"VLOOKUP(B24231,ceva_zone!A:B,2,FALSE)","v":"F"},{"$f":"VLOOKUP(B24231,ceva_zone!A:C,3,FALSE)","v":"A"}]
["16153","PA","Y","remote",{"$f":"VLOOKUP(B24250,ceva_zone!A:B,2,FALSE)","v":"F"},{"$f":"VLOOKUP(B24250,ceva_zone!A:C,3,FALSE)","v":"A"}]
["16236","PA","F","remote",{"$f":"VLOOKUP(B24280,ceva_zone!A:B,2,FALSE)","v":"F"},{"$f":"VLOOKUP(B24280,ceva_zone!A:C,3,FALSE)","v":"A"}]
["16256","PA","Y","remote",{"$f":"VLOOKUP(B24295,ceva_zone!A:B,2,FALSE)","v":"F"},{"$f":"VLOOKUP(B24295,ceva_zone!A:C,3,FALSE)","v":"A"}]
["16322","PA","Y","remote",{"$f":"VLOOKUP(B24314,ceva_zone!A:B,2,FALSE)","v":"F"},{"$f":"VLOOKUP(B24314,ceva_zone!A:C,3,FALSE)","v":"A"}]
["16344","PA","Y","remote",{"$f":"VLOOKUP(B24333,ceva_zone!A:B,2,FALSE)","v":"F"},{"$f":"VLOOKUP(B24333,ceva_zone!A:C,3,FALSE)","v":"A"}]
["16366","PA","Y","remote",{"$f":"VLOOKUP(B24349,ceva_zone!A:B,2,FALSE)","v":"F"},{"$f":"VLOOKUP(B24349,ceva_zone!A:C,3,FALSE)","v":"A"}]
["16432","PA","Y","remote",{"$f":"VLOOKUP(B24378,ceva_zone!A:B,2,FALSE)","v":"F"},{"$f":"VLOOKUP(B24378,ceva_zone!A:C,3,FALSE)","v":"A"}]
["16531","PA","Y","remote",{"$f":"VLOOKUP(B24403,ceva_zone!A:B,2,FALSE)","v":"F"},{"$f":"VLOOKUP(B24403,ceva_zone!A:C,3,FALSE)","v":"A"}]
["16601","PA","Y","remote",{"$f":"VLOOKUP(B24418,ceva_zone!A:B,2,FALSE)","v":"F"},{"$f":"VLOOKUP(B24418,ceva_zone!A:C,3,FALSE)","v":"A"}]
["16640","PA","Y","remote",{"$f":"VLOOKUP(B24442,ceva_zone!A:B,2,FALSE)","v":"F"},{"$f":"VLOOKUP(B24442,ceva_zone!A:C,3,FALSE)","v":"A"}]
["16648","PA","Y","remote",{"$f":"VLOOKUP(B24448,ceva_zone!A:B,2,FALSE)","v":"F"},{"$f":"VLOOKUP(B24448,ceva_zone!A:C,3,FALSE)","v":"A"}]
["16669","PA","Y","remote",{"$f":"VLOOKUP(B24467,ceva_zone!A:B,2,FALSE)","v":"F"},{"$f":"VLOOKUP(B24467,ceva_zone!A:C,3,FALSE)","v":"A"}]
["16694","PA","Y","remote",{"$f":"VLOOKUP(B24487,ceva_zone!A:B,2,FALSE)","v":"F"},{"$f":"VLOOKUP(B24487,ceva_zone!A:C,3,FALSE)","v":"A"}]
["16820","PA","Y","remote",{"$f":"VLOOKUP(B24512,ceva_zone!A:B,2,FALSE)","v":"F"},{"$f":"VLOOKUP(B24512,ceva_zone!A:C,3,FALSE)","v":"A"}]
["16843","PA","Y","remote",{"$f":"VLOOKUP(B24531,ceva_zone!A:B,2,FALSE)","v":"F"},{"$f":"VLOOKUP(B24531,ceva_zone!A:C,3,FALSE)","v":"A"}]
["16872","PA","Y","remote",{"$f":"VLOOKUP(B24556,ceva_zone!A:B,2,FALSE)","v":"F"},{"$f":"VLOOKUP(B24556,ceva_zone!A:C,3,FALSE)","v":"A"}]
["16936","PA","Y","remote",{"$f":"VLOOKUP(B24576,ceva_zone!A:B,2,FALSE)","v":"F"},{"$f":"VLOOKUP(B24576,ceva_zone!A:C,3,FALSE)","v":"A"}]
["16925","PA","Y","remote",{"$f":"VLOOKUP(B24595,ceva_zone!A:B,2,FALSE)","v":"F"},{"$f":"VLOOKUP(B24595,ceva_zone!A:C,3,FALSE)","v":"A"}]
["17052","PA","Y","remote",{"$f":"VLOOKUP(B24605,ceva_zone!A:B,2,FALSE)","v":"F"},{"$f":"VLOOKUP(B24605,ceva_zone!A:C,3,FALSE)","v":"A"}]
["17023","PA","D","standard",{"$f":"VLOOKUP(B24621,ceva_zone!A:B,2,FALSE)","v":"F"},{"$f":"VLOOKUP(B24621,ceva_zone!A:C,3,FALSE)","v":"A"}]
["17068","PA","D","standard",{"$f":"VLOOKUP(B24646,ceva_zone!A:B,2,FALSE)","v":"F"},{"$f":"VLOOKUP(B24646,ceva_zone!A:C,3,FALSE)","v":"A"}]
["17032","PA","D","standard",{"$f":"VLOOKUP(B24665,ceva_zone!A:B,2,FALSE)","v":"F"},{"$f":"VLOOKUP(B24665,ceva_zone!A:C,3,FALSE)","v":"A"}]
["17051","PA","Y","remote",{"$f":"VLOOKUP(B24678,ceva_zone!A:B,2,FALSE)","v":"F"},{"$f":"VLOOKUP(B24678,ceva_zone!A:C,3,FALSE)","v":"A"}]
["17121","PA","B","standard",{"$f":"VLOOKUP(B24710,ceva_zone!A:B,2,FALSE)","v":"F"},{"$f":"VLOOKUP(B24710,ceva_zone!A:C,3,FALSE)","v":"A"}]
["17220","PA","Y","remote",{"$f":"VLOOKUP(B24729,ceva_zone!A:B,2,FALSE)","v":"F"},{"$f":"VLOOKUP(B24729,ceva_zone!A:C,3,FALSE)","v":"A"}]
["17243","PA","Y","remote",{"$f":"VLOOKUP(B24747,ceva_zone!A:B,2,FALSE)","v":"F"},{"$f":"VLOOKUP(B24747,ceva_zone!A:C,3,FALSE)","v":"A"}]
["17250","PA","E","remote",{"$f":"VLOOKUP(B24755,ceva_zone!A:B,2,FALSE)","v":"F"},{"$f":"VLOOKUP(B24755,ceva_zone!A:C,3,FALSE)","v":"A"}]
["17272","PA","Y","remote",{"$f":"VLOOKUP(B24774,ceva_zone!A:B,2,FALSE)","v":"F"},{"$f":"VLOOKUP(B24774,ceva_zone!A:C,3,FALSE)","v":"A"}]
["17332","PA","C","standard",{"$f":"VLOOKUP(B24792,ceva_zone!A:B,2,FALSE)","v":"F"},{"$f":"VLOOKUP(B24792,ceva_zone!A:C,3,FALSE)","v":"A"}]
["17309","PA","D","standard",{"$f":"VLOOKUP(B24819,ceva_zone!A:B,2,FALSE)","v":"F"},{"$f":"VLOOKUP(B24819,ceva_zone!A:C,3,FALSE)","v":"A"}]
["17406","PA","B","standard",{"$f":"VLOOKUP(B24838,ceva_zone!A:B,2,FALSE)","v":"F"},{"$f":"VLOOKUP(B24838,ceva_zone!A:C,3,FALSE)","v":"A"}]
["17555","PA","E","remote",{"$f":"VLOOKUP(B24863,ceva_zone!A:B,2,FALSE)","v":"F"},{"$f":"VLOOKUP(B24863,ceva_zone!A:C,3,FALSE)","v":"A"}]
["17516","PA","D","standard",{"$f":"VLOOKUP(B24885,ceva_zone!A:B,2,FALSE)","v":"F"},{"$f":"VLOOKUP(B24885,ceva_zone!A:C,3,FALSE)","v":"A"}]
["17551","PA","C","standard",{"$f":"VLOOKUP(B24889,ceva_zone!A:B,2,FALSE)","v":"F"},{"$f":"VLOOKUP(B24889,ceva_zone!A:C,3,FALSE)","v":"A"}]
["17699","PA","D","standard",{"$f":"VLOOKUP(B24908,ceva_zone!A:B,2,FALSE)","v":"F"},{"$f":"VLOOKUP(B24908,ceva_zone!A:C,3,FALSE)","v":"A"}]
["17739","PA","Y","remote",{"$f":"VLOOKUP(B24934,ceva_zone!A:B,2,FALSE)","v":"F"},{"$f":"VLOOKUP(B24934,ceva_zone!A:C,3,FALSE)","v":"A"}]
["17724","PA","Y","remote",{"$f":"VLOOKUP(B24953,ceva_zone!A:B,2,FALSE)","v":"F"},{"$f":"VLOOKUP(B24953,ceva_zone!A:C,3,FALSE)","v":"A"}]
["17834","PA","Y","remote",{"$f":"VLOOKUP(B24972,ceva_zone!A:B,2,FALSE)","v":"F"},{"$f":"VLOOKUP(B24972,ceva_zone!A:C,3,FALSE)","v":"A"}]
["17858","PA","Y","remote",{"$f":"VLOOKUP(B24983,ceva_zone!A:B,2,FALSE)","v":"F"},{"$f":"VLOOKUP(B24983,ceva_zone!A:C,3,FALSE)","v":"A"}]
["17886","PA","Y","remote",{"$f":"VLOOKUP(B25017,ceva_zone!A:B,2,FALSE)","v":"F"},{"$f":"VLOOKUP(B25017,ceva_zone!A:C,3,FALSE)","v":"A"}]
["17951","PA","Y","remote",{"$f":"VLOOKUP(B25036,ceva_zone!A:B,2,FALSE)","v":"F"},{"$f":"VLOOKUP(B25036,ceva_zone!A:C,3,FALSE)","v":"A"}]
["17923","PA","Y","remote",{"$f":"VLOOKUP(B25042,ceva_zone!A:B,2,FALSE)","v":"F"},{"$f":"VLOOKUP(B25042,ceva_zone!A:C,3,FALSE)","v":"A"}]
["18002","PA","F","remote",{"$f":"VLOOKUP(B25072,ceva_zone!A:B,2,FALSE)","v":"F"},{"$f":"VLOOKUP(B25072,ceva_zone!A:C,3,FALSE)","v":"A"}]
["18017","PA","F","remote",{"$f":"VLOOKUP(B25081,ceva_zone!A:B,2,FALSE)","v":"F"},{"$f":"VLOOKUP(B25081,ceva_zone!A:C,3,FALSE)","v":"A"}]
["18059","PA","F","remote",{"$f":"VLOOKUP(B25106,ceva_zone!A:B,2,FALSE)","v":"F"},{"$f":"VLOOKUP(B25106,ceva_zone!A:C,3,FALSE)","v":"A"}]
["18072","PA","Y","remote",{"$f":"VLOOKUP(B25121,ceva_zone!A:B,2,FALSE)","v":"F"},{"$f":"VLOOKUP(B25121,ceva_zone!A:C,3,FALSE)","v":"A"}]
["18104","PA","E","remote",{"$f":"VLOOKUP(B25145,ceva_zone!A:B,2,FALSE)","v":"F"},{"$f":"VLOOKUP(B25145,ceva_zone!A:C,3,FALSE)","v":"A"}]
["18241","PA","Y","remote",{"$f":"VLOOKUP(B25170,ceva_zone!A:B,2,FALSE)","v":"F"},{"$f":"VLOOKUP(B25170,ceva_zone!A:C,3,FALSE)","v":"A"}]
["18323","PA","Y","remote",{"$f":"VLOOKUP(B25189,ceva_zone!A:B,2,FALSE)","v":"F"},{"$f":"VLOOKUP(B25189,ceva_zone!A:C,3,FALSE)","v":"A"}]
["18347","PA","Y","remote",{"$f":"VLOOKUP(B25210,ceva_zone!A:B,2,FALSE)","v":"F"},{"$f":"VLOOKUP(B25210,ceva_zone!A:C,3,FALSE)","v":"A"}]
["18351","PA","Y","remote",{"$f":"VLOOKUP(B25215,ceva_zone!A:B,2,FALSE)","v":"F"},{"$f":"VLOOKUP(B25215,ceva_zone!A:C,3,FALSE)","v":"A"}]
["18415","PA","Y","remote",{"$f":"VLOOKUP(B25234,ceva_zone!A:B,2,FALSE)","v":"F"},{"$f":"VLOOKUP(B25234,ceva_zone!A:C,3,FALSE)","v":"A"}]
["18447","PA","Y","remote",{"$f":"VLOOKUP(B25259,ceva_zone!A:B,2,FALSE)","v":"F"},{"$f":"VLOOKUP(B25259,ceva_zone!A:C,3,FALSE)","v":"A"}]
["18469","PA","Y","remote",{"$f":"VLOOKUP(B25279,ceva_zone!A:B,2,FALSE)","v":"F"},{"$f":"VLOOKUP(B25279,ceva_zone!A:C,3,FALSE)","v":"A"}]
["18612","PA","Y","remote",{"$f":"VLOOKUP(B25304,ceva_zone!A:B,2,FALSE)","v":"F"},{"$f":"VLOOKUP(B25304,ceva_zone!A:C,3,FALSE)","v":"A"}]
["18640","PA","Y","remote",{"$f":"VLOOKUP(B25328,ceva_zone!A:B,2,FALSE)","v":"F"},{"$f":"VLOOKUP(B25328,ceva_zone!A:C,3,FALSE)","v":"A"}]
["18705","PA","Y","remote",{"$f":"VLOOKUP(B25343,ceva_zone!A:B,2,FALSE)","v":"F"},{"$f":"VLOOKUP(B25343,ceva_zone!A:C,3,FALSE)","v":"A"}]
["18821","PA","Y","remote",{"$f":"VLOOKUP(B25368,ceva_zone!A:B,2,FALSE)","v":"F"},{"$f":"VLOOKUP(B25368,ceva_zone!A:C,3,FALSE)","v":"A"}]
["18844","PA","Y","remote",{"$f":"VLOOKUP(B25387,ceva_zone!A:B,2,FALSE)","v":"F"},{"$f":"VLOOKUP(B25387,ceva_zone!A:C,3,FALSE)","v":"A"}]
["18915","PA","D","standard",{"$f":"VLOOKUP(B25401,ceva_zone!A:B,2,FALSE)","v":"F"},{"$f":"VLOOKUP(B25401,ceva_zone!A:C,3,FALSE)","v":"A"}]
["18927","PA","D","standard",{"$f":"VLOOKUP(B25413,ceva_zone!A:B,2,FALSE)","v":"F"},{"$f":"VLOOKUP(B25413,ceva_zone!A:C,3,FALSE)","v":"A"}]
["18951","PA","E","remote",{"$f":"VLOOKUP(B25432,ceva_zone!A:B,2,FALSE)","v":"F"},{"$f":"VLOOKUP(B25432,ceva_zone!A:C,3,FALSE)","v":"A"}]
["18969","PA","D","standard",{"$f":"VLOOKUP(B25446,ceva_zone!A:B,2,FALSE)","v":"F"},{"$f":"VLOOKUP(B25446,ceva_zone!A:C,3,FALSE)","v":"A"}]
["19031","PA","C","standard",{"$f":"VLOOKUP(B25477,ceva_zone!A:B,2,FALSE)","v":"F"},{"$f":"VLOOKUP(B25477,ceva_zone!A:C,3,FALSE)","v":"A"}]
["19056","PA","C","standard",{"$f":"VLOOKUP(B25496,ceva_zone!A:B,2,FALSE)","v":"F"},{"$f":"VLOOKUP(B25496,ceva_zone!A:C,3,FALSE)","v":"A"}]
["19076","PA","A","standard",{"$f":"VLOOKUP(B25515,ceva_zone!A:B,2,FALSE)","v":"F"},{"$f":"VLOOKUP(B25515,ceva_zone!A:C,3,FALSE)","v":"A"}]
["19050","PA","A","standard",{"$f":"VLOOKUP(B25541,ceva_zone!A:B,2,FALSE)","v":"F"},{"$f":"VLOOKUP(B25541,ceva_zone!A:C,3,FALSE)","v":"A"}]
["19113","PA","A","standard",{"$f":"VLOOKUP(B25560,ceva_zone!A:B,2,FALSE)","v":"F"},{"$f":"VLOOKUP(B25560,ceva_zone!A:C,3,FALSE)","v":"A"}]
["19121","PA","B","standard",{"$f":"VLOOKUP(B25566,ceva_zone!A:B,2,FALSE)","v":"F"},{"$f":"VLOOKUP(B25566,ceva_zone!A:C,3,FALSE)","v":"A"}]
["19147","PA","B","standard",{"$f":"VLOOKUP(B25588,ceva_zone!A:B,2,FALSE)","v":"F"},{"$f":"VLOOKUP(B25588,ceva_zone!A:C,3,FALSE)","v":"A"}]
["19185","PA","A","standard",{"$f":"VLOOKUP(B25611,ceva_zone!A:B,2,FALSE)","v":"F"},{"$f":"VLOOKUP(B25611,ceva_zone!A:C,3,FALSE)","v":"A"}]
["19319","PA","B","standard",{"$f":"VLOOKUP(B25630,ceva_zone!A:B,2,FALSE)","v":"F"},{"$f":"VLOOKUP(B25630,ceva_zone!A:C,3,FALSE)","v":"A"}]
["19363","PA","F","remote",{"$f":"VLOOKUP(B25657,ceva_zone!A:B,2,FALSE)","v":"F"},{"$f":"VLOOKUP(B25657,ceva_zone!A:C,3,FALSE)","v":"A"}]
["19383","PA","D","standard",{"$f":"VLOOKUP(B25675,ceva_zone!A:B,2,FALSE)","v":"F"},{"$f":"VLOOKUP(B25675,ceva_zone!A:C,3,FALSE)","v":"A"}]
["19443","PA","D","standard",{"$f":"VLOOKUP(B25694,ceva_zone!A:B,2,FALSE)","v":"F"},{"$f":"VLOOKUP(B25694,ceva_zone!A:C,3,FALSE)","v":"A"}]
["19406","PA","C","standard",{"$f":"VLOOKUP(B25702,ceva_zone!A:B,2,FALSE)","v":"F"},{"$f":"VLOOKUP(B25702,ceva_zone!A:C,3,FALSE)","v":"A"}]
["19426","PA","C","standard",{"$f":"VLOOKUP(B25720,ceva_zone!A:B,2,FALSE)","v":"F"},{"$f":"VLOOKUP(B25720,ceva_zone!A:C,3,FALSE)","v":"A"}]
["19540","PA","Y","remote",{"$f":"VLOOKUP(B25739,ceva_zone!A:B,2,FALSE)","v":"F"},{"$f":"VLOOKUP(B25739,ceva_zone!A:C,3,FALSE)","v":"A"}]
["19548","PA","Y","remote",{"$f":"VLOOKUP(B25764,ceva_zone!A:B,2,FALSE)","v":"F"},{"$f":"VLOOKUP(B25764,ceva_zone!A:C,3,FALSE)","v":"A"}]
["19555","PA","Y","remote",{"$f":"VLOOKUP(B25775,ceva_zone!A:B,2,FALSE)","v":"F"},{"$f":"VLOOKUP(B25775,ceva_zone!A:C,3,FALSE)","v":"A"}]
["19707","DE","C","standard",{"$f":"VLOOKUP(B25803,ceva_zone!A:B,2,FALSE)","v":"F"},{"$f":"VLOOKUP(B25803,ceva_zone!A:C,3,FALSE)","v":"A"}]
["19850","DE","C","standard",{"$f":"VLOOKUP(B25828,ceva_zone!A:B,2,FALSE)","v":"F"},{"$f":"VLOOKUP(B25828,ceva_zone!A:C,3,FALSE)","v":"A"}]
["19880","DE","C","standard",{"$f":"VLOOKUP(B25844,ceva_zone!A:B,2,FALSE)","v":"F"},{"$f":"VLOOKUP(B25844,ceva_zone!A:C,3,FALSE)","v":"A"}]
["19973","DE","Y","remote",{"$f":"VLOOKUP(B25854,ceva_zone!A:B,2,FALSE)","v":"F"},{"$f":"VLOOKUP(B25854,ceva_zone!A:C,3,FALSE)","v":"A"}]
["19945","DE","Y","remote",{"$f":"VLOOKUP(B25873,ceva_zone!A:B,2,FALSE)","v":"F"},{"$f":"VLOOKUP(B25873,ceva_zone!A:C,3,FALSE)","v":"A"}]
["19969","DE","Y","remote",{"$f":"VLOOKUP(B25892,ceva_zone!A:B,2,FALSE)","v":"F"},{"$f":"VLOOKUP(B25892,ceva_zone!A:C,3,FALSE)","v":"A"}]
["20010","DC","D","standard",{"$f":"VLOOKUP(B25913,ceva_zone!A:B,2,FALSE)","v":"F"},{"$f":"VLOOKUP(B25913,ceva_zone!A:C,3,FALSE)","v":"A"}]
["20045","DC","D","standard",{"$f":"VLOOKUP(B25937,ceva_zone!A:B,2,FALSE)","v":"F"},{"$f":"VLOOKUP(B25937,ceva_zone!A:C,3,FALSE)","v":"A"}]
["20074","DC","A","standard",{"$f":"VLOOKUP(B25962,ceva_zone!A:B,2,FALSE)","v":"F"},{"$f":"VLOOKUP(B25962,ceva_zone!A:C,3,FALSE)","v":"A"}]
["20148","VA","A","standard",{"$f":"VLOOKUP(B25982,ceva_zone!A:B,2,FALSE)","v":"F"},{"$f":"VLOOKUP(B25982,ceva_zone!A:C,3,FALSE)","v":"A"}]
["20163","VA","A","standard",{"$f":"VLOOKUP(B26001,ceva_zone!A:B,2,FALSE)","v":"F"},{"$f":"VLOOKUP(B26001,ceva_zone!A:C,3,FALSE)","v":"A"}]
["20168","VA","C","standard",{"$f":"VLOOKUP(B26007,ceva_zone!A:B,2,FALSE)","v":"F"},{"$f":"VLOOKUP(B26007,ceva_zone!A:C,3,FALSE)","v":"A"}]
["20117","VA","C","standard",{"$f":"VLOOKUP(B26031,ceva_zone!A:B,2,FALSE)","v":"F"},{"$f":"VLOOKUP(B26031,ceva_zone!A:C,3,FALSE)","v":"A"}]
["20140","VA","Y","remote",{"$f":"VLOOKUP(B26046,ceva_zone!A:B,2,FALSE)","v":"F"},{"$f":"VLOOKUP(B26046,ceva_zone!A:C,3,FALSE)","v":"A"}]
["20216","DC","D","standard",{"$f":"VLOOKUP(B26071,ceva_zone!A:B,2,FALSE)","v":"F"},{"$f":"VLOOKUP(B26071,ceva_zone!A:C,3,FALSE)","v":"A"}]
["20239","DC","D","standard",{"$f":"VLOOKUP(B26090,ceva_zone!A:B,2,FALSE)","v":"F"},{"$f":"VLOOKUP(B26090,ceva_zone!A:C,3,FALSE)","v":"A"}]
["20350","DC","D","standard",{"$f":"VLOOKUP(B26120,ceva_zone!A:B,2,FALSE)","v":"F"},{"$f":"VLOOKUP(B26120,ceva_zone!A:C,3,FALSE)","v":"A"}]
["20394","DC","D","standard",{"$f":"VLOOKUP(B26135,ceva_zone!A:B,2,FALSE)","v":"F"},{"$f":"VLOOKUP(B26135,ceva_zone!A:C,3,FALSE)","v":"A"}]
["20418","DC","D","standard",{"$f":"VLOOKUP(B26154,ceva_zone!A:B,2,FALSE)","v":"F"},{"$f":"VLOOKUP(B26154,ceva_zone!A:C,3,FALSE)","v":"A"}]
["20435","DC","D","standard",{"$f":"VLOOKUP(B26169,ceva_zone!A:B,2,FALSE)","v":"F"},{"$f":"VLOOKUP(B26169,ceva_zone!A:C,3,FALSE)","v":"A"}]
["20456","DC","D","standard",{"$f":"VLOOKUP(B26180,ceva_zone!A:B,2,FALSE)","v":"F"},{"$f":"VLOOKUP(B26180,ceva_zone!A:C,3,FALSE)","v":"A"}]
["20515","DC","D","standard",{"$f":"VLOOKUP(B26199,ceva_zone!A:B,2,FALSE)","v":"F"},{"$f":"VLOOKUP(B26199,ceva_zone!A:C,3,FALSE)","v":"A"}]
["20538","DC","D","standard",{"$f":"VLOOKUP(B26218,ceva_zone!A:B,2,FALSE)","v":"F"},{"$f":"VLOOKUP(B26218,ceva_zone!A:C,3,FALSE)","v":"A"}]
["20575","DC","D","standard",{"$f":"VLOOKUP(B26244,ceva_zone!A:B,2,FALSE)","v":"F"},{"$f":"VLOOKUP(B26244,ceva_zone!A:C,3,FALSE)","v":"A"}]
["20615","MD","D","standard",{"$f":"VLOOKUP(B26269,ceva_zone!A:B,2,FALSE)","v":"F"},{"$f":"VLOOKUP(B26269,ceva_zone!A:C,3,FALSE)","v":"A"}]
["20634","MD","Y","remote",{"$f":"VLOOKUP(B26288,ceva_zone!A:B,2,FALSE)","v":"F"},{"$f":"VLOOKUP(B26288,ceva_zone!A:C,3,FALSE)","v":"A"}]
["20676","MD","Y","remote",{"$f":"VLOOKUP(B26311,ceva_zone!A:B,2,FALSE)","v":"F"},{"$f":"VLOOKUP(B26311,ceva_zone!A:C,3,FALSE)","v":"A"}]
["20797","MD","D","standard",{"$f":"VLOOKUP(B26333,ceva_zone!A:B,2,FALSE)","v":"F"},{"$f":"VLOOKUP(B26333,ceva_zone!A:C,3,FALSE)","v":"A"}]
["20748","MD","D","standard",{"$f":"VLOOKUP(B26352,ceva_zone!A:B,2,FALSE)","v":"F"},{"$f":"VLOOKUP(B26352,ceva_zone!A:C,3,FALSE)","v":"A"}]
["20791","MD","C","standard",{"$f":"VLOOKUP(B26356,ceva_zone!A:B,2,FALSE)","v":"F"},{"$f":"VLOOKUP(B26356,ceva_zone!A:C,3,FALSE)","v":"A"}]
["20706","MD","C","standard",{"$f":"VLOOKUP(B26378,ceva_zone!A:B,2,FALSE)","v":"F"},{"$f":"VLOOKUP(B26378,ceva_zone!A:C,3,FALSE)","v":"A"}]
["20737","MD","C","standard",{"$f":"VLOOKUP(B26397,ceva_zone!A:B,2,FALSE)","v":"F"},{"$f":"VLOOKUP(B26397,ceva_zone!A:C,3,FALSE)","v":"A"}]
["20890","MD","C","standard",{"$f":"VLOOKUP(B26425,ceva_zone!A:B,2,FALSE)","v":"F"},{"$f":"VLOOKUP(B26425,ceva_zone!A:C,3,FALSE)","v":"A"}]
["20879","MD","D","standard",{"$f":"VLOOKUP(B26442,ceva_zone!A:B,2,FALSE)","v":"F"},{"$f":"VLOOKUP(B26442,ceva_zone!A:C,3,FALSE)","v":"A"}]
["20860","MD","C","standard",{"$f":"VLOOKUP(B26461,ceva_zone!A:B,2,FALSE)","v":"F"},{"$f":"VLOOKUP(B26461,ceva_zone!A:C,3,FALSE)","v":"A"}]
["21010","MD","D","standard",{"$f":"VLOOKUP(B26486,ceva_zone!A:B,2,FALSE)","v":"F"},{"$f":"VLOOKUP(B26486,ceva_zone!A:C,3,FALSE)","v":"A"}]
["21020","MD","C","standard",{"$f":"VLOOKUP(B26498,ceva_zone!A:B,2,FALSE)","v":"F"},{"$f":"VLOOKUP(B26498,ceva_zone!A:C,3,FALSE)","v":"A"}]
["21043","MD","B","standard",{"$f":"VLOOKUP(B26512,ceva_zone!A:B,2,FALSE)","v":"F"},{"$f":"VLOOKUP(B26512,ceva_zone!A:C,3,FALSE)","v":"A"}]
["21071","MD","C","standard",{"$f":"VLOOKUP(B26531,ceva_zone!A:B,2,FALSE)","v":"F"},{"$f":"VLOOKUP(B26531,ceva_zone!A:C,3,FALSE)","v":"A"}]
["21136","MD","C","standard",{"$f":"VLOOKUP(B26547,ceva_zone!A:B,2,FALSE)","v":"F"},{"$f":"VLOOKUP(B26547,ceva_zone!A:C,3,FALSE)","v":"A"}]
["21160","MD","Y","remote",{"$f":"VLOOKUP(B26576,ceva_zone!A:B,2,FALSE)","v":"F"},{"$f":"VLOOKUP(B26576,ceva_zone!A:C,3,FALSE)","v":"A"}]
["21209","MD","B","standard",{"$f":"VLOOKUP(B26595,ceva_zone!A:B,2,FALSE)","v":"F"},{"$f":"VLOOKUP(B26595,ceva_zone!A:C,3,FALSE)","v":"A"}]
["21264","MD","A","standard",{"$f":"VLOOKUP(B26620,ceva_zone!A:B,2,FALSE)","v":"F"},{"$f":"VLOOKUP(B26620,ceva_zone!A:C,3,FALSE)","v":"A"}]
["21288","MD","B","standard",{"$f":"VLOOKUP(B26636,ceva_zone!A:B,2,FALSE)","v":"F"},{"$f":"VLOOKUP(B26636,ceva_zone!A:C,3,FALSE)","v":"A"}]
["21502","MD","Y","remote",{"$f":"VLOOKUP(B26659,ceva_zone!A:B,2,FALSE)","v":"F"},{"$f":"VLOOKUP(B26659,ceva_zone!A:C,3,FALSE)","v":"A"}]
["21501","MD","Y","remote",{"$f":"VLOOKUP(B26665,ceva_zone!A:B,2,FALSE)","v":"F"},{"$f":"VLOOKUP(B26665,ceva_zone!A:C,3,FALSE)","v":"A"}]
["21609","MD","Y","remote",{"$f":"VLOOKUP(B26685,ceva_zone!A:B,2,FALSE)","v":"F"},{"$f":"VLOOKUP(B26685,ceva_zone!A:C,3,FALSE)","v":"A"}]
["21601","MD","Y","remote",{"$f":"VLOOKUP(B26704,ceva_zone!A:B,2,FALSE)","v":"F"},{"$f":"VLOOKUP(B26704,ceva_zone!A:C,3,FALSE)","v":"A"}]
["21659","MD","Y","remote",{"$f":"VLOOKUP(B26729,ceva_zone!A:B,2,FALSE)","v":"F"},{"$f":"VLOOKUP(B26729,ceva_zone!A:C,3,FALSE)","v":"A"}]
["21722","MD","Y","remote",{"$f":"VLOOKUP(B26754,ceva_zone!A:B,2,FALSE)","v":"F"},{"$f":"VLOOKUP(B26754,ceva_zone!A:C,3,FALSE)","v":"A"}]
["21747","MD","Y","remote",{"$f":"VLOOKUP(B26774,ceva_zone!A:B,2,FALSE)","v":"F"},{"$f":"VLOOKUP(B26774,ceva_zone!A:C,3,FALSE)","v":"A"}]
["21791","MD","Y","remote",{"$f":"VLOOKUP(B26793,ceva_zone!A:B,2,FALSE)","v":"F"},{"$f":"VLOOKUP(B26793,ceva_zone!A:C,3,FALSE)","v":"A"}]
["21703","MD","Y","remote",{"$f":"VLOOKUP(B26812,ceva_zone!A:B,2,FALSE)","v":"F"},{"$f":"VLOOKUP(B26812,ceva_zone!A:C,3,FALSE)","v":"A"}]
["21869","MD","Y","remote",{"$f":"VLOOKUP(B26823,ceva_zone!A:B,2,FALSE)","v":"F"},{"$f":"VLOOKUP(B26823,ceva_zone!A:C,3,FALSE)","v":"A"}]
["21843","MD","Y","remote",{"$f":"VLOOKUP(B26838,ceva_zone!A:B,2,FALSE)","v":"F"},{"$f":"VLOOKUP(B26838,ceva_zone!A:C,3,FALSE)","v":"A"}]
["21921","MD","E","remote",{"$f":"VLOOKUP(B26857,ceva_zone!A:B,2,FALSE)","v":"F"},{"$f":"VLOOKUP(B26857,ceva_zone!A:C,3,FALSE)","v":"A"}]
["22046","VA","B","standard",{"$f":"VLOOKUP(B26892,ceva_zone!A:B,2,FALSE)","v":"F"},{"$f":"VLOOKUP(B26892,ceva_zone!A:C,3,FALSE)","v":"A"}]
["22096","VA","B","standard",{"$f":"VLOOKUP(B26902,ceva_zone!A:B,2,FALSE)","v":"F"},{"$f":"VLOOKUP(B26902,ceva_zone!A:C,3,FALSE)","v":"A"}]
["22134","VA","D","standard",{"$f":"VLOOKUP(B26927,ceva_zone!A:B,2,FALSE)","v":"F"},{"$f":"VLOOKUP(B26927,ceva_zone!A:C,3,FALSE)","v":"A"}]
["22182","VA","B","standard",{"$f":"VLOOKUP(B26941,ceva_zone!A:B,2,FALSE)","v":"F"},{"$f":"VLOOKUP(B26941,ceva_zone!A:C,3,FALSE)","v":"A"}]
["22229","VA","C","standard",{"$f":"VLOOKUP(B26966,ceva_zone!A:B,2,FALSE)","v":"F"},{"$f":"VLOOKUP(B26966,ceva_zone!A:C,3,FALSE)","v":"A"}]
["22243","VA","A","standard",{"$f":"VLOOKUP(B26972,ceva_zone!A:B,2,FALSE)","v":"F"},{"$f":"VLOOKUP(B26972,ceva_zone!A:C,3,FALSE)","v":"A"}]
["22321","VA","C","standard",{"$f":"VLOOKUP(B26991,ceva_zone!A:B,2,FALSE)","v":"F"},{"$f":"VLOOKUP(B26991,ceva_zone!A:C,3,FALSE)","v":"A"}]
["22451","VA","Y","remote",{"$f":"VLOOKUP(B27010,ceva_zone!A:B,2,FALSE)","v":"F"},{"$f":"VLOOKUP(B27010,ceva_zone!A:C,3,FALSE)","v":"A"}]
["22501","VA","Y","remote",{"$f":"VLOOKUP(B27036,ceva_zone!A:B,2,FALSE)","v":"F"},{"$f":"VLOOKUP(B27036,ceva_zone!A:C,3,FALSE)","v":"A"}]
["22539","VA","Y","remote",{"$f":"VLOOKUP(B27055,ceva_zone!A:B,2,FALSE)","v":"F"},{"$f":"VLOOKUP(B27055,ceva_zone!A:C,3,FALSE)","v":"A"}]
["22610","VA","Y","remote",{"$f":"VLOOKUP(B27079,ceva_zone!A:B,2,FALSE)","v":"F"},{"$f":"VLOOKUP(B27079,ceva_zone!A:C,3,FALSE)","v":"A"}]
["22646","VA","Y","remote",{"$f":"VLOOKUP(B27100,ceva_zone!A:B,2,FALSE)","v":"F"},{"$f":"VLOOKUP(B27100,ceva_zone!A:C,3,FALSE)","v":"A"}]
["22716","VA","Y","remote",{"$f":"VLOOKUP(B27119,ceva_zone!A:B,2,FALSE)","v":"F"},{"$f":"VLOOKUP(B27119,ceva_zone!A:C,3,FALSE)","v":"A"}]
["22722","VA","Y","remote",{"$f":"VLOOKUP(B27125,ceva_zone!A:B,2,FALSE)","v":"F"},{"$f":"VLOOKUP(B27125,ceva_zone!A:C,3,FALSE)","v":"A"}]
["22811","VA","Y","remote",{"$f":"VLOOKUP(B27152,ceva_zone!A:B,2,FALSE)","v":"F"},{"$f":"VLOOKUP(B27152,ceva_zone!A:C,3,FALSE)","v":"A"}]
["22835","VA","Y","remote",{"$f":"VLOOKUP(B27170,ceva_zone!A:B,2,FALSE)","v":"F"},{"$f":"VLOOKUP(B27170,ceva_zone!A:C,3,FALSE)","v":"A"}]
["22947","VA","Y","remote",{"$f":"VLOOKUP(B27189,ceva_zone!A:B,2,FALSE)","v":"F"},{"$f":"VLOOKUP(B27189,ceva_zone!A:C,3,FALSE)","v":"A"}]
["22964","VA","Y","remote",{"$f":"VLOOKUP(B27221,ceva_zone!A:B,2,FALSE)","v":"F"},{"$f":"VLOOKUP(B27221,ceva_zone!A:C,3,FALSE)","v":"A"}]
["23005","VA","C","standard",{"$f":"VLOOKUP(B27234,ceva_zone!A:B,2,FALSE)","v":"F"},{"$f":"VLOOKUP(B27234,ceva_zone!A:C,3,FALSE)","v":"A"}]
["23043","VA","E","remote",{"$f":"VLOOKUP(B27253,ceva_zone!A:B,2,FALSE)","v":"F"},{"$f":"VLOOKUP(B27253,ceva_zone!A:C,3,FALSE)","v":"A"}]
["23068","VA","E","remote",{"$f":"VLOOKUP(B27270,ceva_zone!A:B,2,FALSE)","v":"F"},{"$f":"VLOOKUP(B27270,ceva_zone!A:C,3,FALSE)","v":"A"}]
["23111","VA","B","standard",{"$f":"VLOOKUP(B27298,ceva_zone!A:B,2,FALSE)","v":"F"},{"$f":"VLOOKUP(B27298,ceva_zone!A:C,3,FALSE)","v":"A"}]
["23156","VA","D","standard",{"$f":"VLOOKUP(B27317,ceva_zone!A:B,2,FALSE)","v":"F"},{"$f":"VLOOKUP(B27317,ceva_zone!A:C,3,FALSE)","v":"A"}]
["23173","VA","A","standard",{"$f":"VLOOKUP(B27323,ceva_zone!A:B,2,FALSE)","v":"F"},{"$f":"VLOOKUP(B27323,ceva_zone!A:C,3,FALSE)","v":"A"}]
["23177","VA","Y","remote",{"$f":"VLOOKUP(B27339,ceva_zone!A:B,2,FALSE)","v":"F"},{"$f":"VLOOKUP(B27339,ceva_zone!A:C,3,FALSE)","v":"A"}]
["23229","VA","A","standard",{"$f":"VLOOKUP(B27362,ceva_zone!A:B,2,FALSE)","v":"F"},{"$f":"VLOOKUP(B27362,ceva_zone!A:C,3,FALSE)","v":"A"}]
["23233","VA","B","standard",{"$f":"VLOOKUP(B27387,ceva_zone!A:B,2,FALSE)","v":"F"},{"$f":"VLOOKUP(B27387,ceva_zone!A:C,3,FALSE)","v":"A"}]
["23314","VA","E","remote",{"$f":"VLOOKUP(B27408,ceva_zone!A:B,2,FALSE)","v":"F"},{"$f":"VLOOKUP(B27408,ceva_zone!A:C,3,FALSE)","v":"A"}]
["23397","VA","J","remote",{"$f":"VLOOKUP(B27432,ceva_zone!A:B,2,FALSE)","v":"F"},{"$f":"VLOOKUP(B27432,ceva_zone!A:C,3,FALSE)","v":"A"}]
["23413","VA","Y","remote",{"$f":"VLOOKUP(B27451,ceva_zone!A:B,2,FALSE)","v":"F"},{"$f":"VLOOKUP(B27451,ceva_zone!A:C,3,FALSE)","v":"A"}]
["23419","VA","Y","remote",{"$f":"VLOOKUP(B27457,ceva_zone!A:B,2,FALSE)","v":"F"},{"$f":"VLOOKUP(B27457,ceva_zone!A:C,3,FALSE)","v":"A"}]
["23471","VA","A","standard",{"$f":"VLOOKUP(B27477,ceva_zone!A:B,2,FALSE)","v":"F"},{"$f":"VLOOKUP(B27477,ceva_zone!A:C,3,FALSE)","v":"A"}]
["23487","VA","E","remote",{"$f":"VLOOKUP(B27496,ceva_zone!A:B,2,FALSE)","v":"F"},{"$f":"VLOOKUP(B27496,ceva_zone!A:C,3,FALSE)","v":"A"}]
["23519","VA","F","remote",{"$f":"VLOOKUP(B27515,ceva_zone!A:B,2,FALSE)","v":"F"},{"$f":"VLOOKUP(B27515,ceva_zone!A:C,3,FALSE)","v":"A"}]
["23603","VA","C","standard",{"$f":"VLOOKUP(B27546,ceva_zone!A:B,2,FALSE)","v":"F"},{"$f":"VLOOKUP(B27546,ceva_zone!A:C,3,FALSE)","v":"A"}]
["23821","VA","Y","remote",{"$f":"VLOOKUP(B27560,ceva_zone!A:B,2,FALSE)","v":"F"},{"$f":"VLOOKUP(B27560,ceva_zone!A:C,3,FALSE)","v":"A"}]
["23801","VA","C","standard",{"$f":"VLOOKUP(B27585,ceva_zone!A:B,2,FALSE)","v":"F"},{"$f":"VLOOKUP(B27585,ceva_zone!A:C,3,FALSE)","v":"A"}]
["23873","VA","Y","remote",{"$f":"VLOOKUP(B27595,ceva_zone!A:B,2,FALSE)","v":"F"},{"$f":"VLOOKUP(B27595,ceva_zone!A:C,3,FALSE)","v":"A"}]
["23922","VA","Y","remote",{"$f":"VLOOKUP(B27624,ceva_zone!A:B,2,FALSE)","v":"F"},{"$f":"VLOOKUP(B27624,ceva_zone!A:C,3,FALSE)","v":"A"}]
["23936","VA","Y","remote",{"$f":"VLOOKUP(B27630,ceva_zone!A:B,2,FALSE)","v":"F"},{"$f":"VLOOKUP(B27630,ceva_zone!A:C,3,FALSE)","v":"A"}]
["24063","VA","Y","remote",{"$f":"VLOOKUP(B27664,ceva_zone!A:B,2,FALSE)","v":"F"},{"$f":"VLOOKUP(B27664,ceva_zone!A:C,3,FALSE)","v":"A"}]
["24018","VA","Y","remote",{"$f":"VLOOKUP(B27675,ceva_zone!A:B,2,FALSE)","v":"F"},{"$f":"VLOOKUP(B27675,ceva_zone!A:C,3,FALSE)","v":"A"}]
["24092","VA","Y","remote",{"$f":"VLOOKUP(B27694,ceva_zone!A:B,2,FALSE)","v":"F"},{"$f":"VLOOKUP(B27694,ceva_zone!A:C,3,FALSE)","v":"A"}]
["24031","VA","Y","remote",{"$f":"VLOOKUP(B27713,ceva_zone!A:B,2,FALSE)","v":"F"},{"$f":"VLOOKUP(B27713,ceva_zone!A:C,3,FALSE)","v":"A"}]
["24184","VA","Y","remote",{"$f":"VLOOKUP(B27733,ceva_zone!A:B,2,FALSE)","v":"F"},{"$f":"VLOOKUP(B27733,ceva_zone!A:C,3,FALSE)","v":"A"}]
["24130","VA","Y","remote",{"$f":"VLOOKUP(B27758,ceva_zone!A:B,2,FALSE)","v":"F"},{"$f":"VLOOKUP(B27758,ceva_zone!A:C,3,FALSE)","v":"A"}]
["24171","VA","Y","remote",{"$f":"VLOOKUP(B27777,ceva_zone!A:B,2,FALSE)","v":"F"},{"$f":"VLOOKUP(B27777,ceva_zone!A:C,3,FALSE)","v":"A"}]
["24185","VA","Y","remote",{"$f":"VLOOKUP(B27782,ceva_zone!A:B,2,FALSE)","v":"F"},{"$f":"VLOOKUP(B27782,ceva_zone!A:C,3,FALSE)","v":"A"}]
["24230","VA","Z","remote",{"$f":"VLOOKUP(B27803,ceva_zone!A:B,2,FALSE)","v":"F"},{"$f":"VLOOKUP(B27803,ceva_zone!A:C,3,FALSE)","v":"A"}]
["24283","VA","Z","remote",{"$f":"VLOOKUP(B27828,ceva_zone!A:B,2,FALSE)","v":"F"},{"$f":"VLOOKUP(B27828,ceva_zone!A:C,3,FALSE)","v":"A"}]
["24324","VA","Y","remote",{"$f":"VLOOKUP(B27847,ceva_zone!A:B,2,FALSE)","v":"F"},{"$f":"VLOOKUP(B27847,ceva_zone!A:C,3,FALSE)","v":"A"}]
["24445","VA","Y","remote",{"$f":"VLOOKUP(B27875,ceva_zone!A:B,2,FALSE)","v":"F"},{"$f":"VLOOKUP(B27875,ceva_zone!A:C,3,FALSE)","v":"A"}]
["24439","VA","Y","remote",{"$f":"VLOOKUP(B27892,ceva_zone!A:B,2,FALSE)","v":"F"},{"$f":"VLOOKUP(B27892,ceva_zone!A:C,3,FALSE)","v":"A"}]
["24401","VA","Y","remote",{"$f":"VLOOKUP(B27911,ceva_zone!A:B,2,FALSE)","v":"F"},{"$f":"VLOOKUP(B27911,ceva_zone!A:C,3,FALSE)","v":"A"}]
["24523","VA","Y","remote",{"$f":"VLOOKUP(B27924,ceva_zone!A:B,2,FALSE)","v":"F"},{"$f":"VLOOKUP(B27924,ceva_zone!A:C,3,FALSE)","v":"A"}]
["24539","VA","Y","remote",{"$f":"VLOOKUP(B27937,ceva_zone!A:B,2,FALSE)","v":"F"},{"$f":"VLOOKUP(B27937,ceva_zone!A:C,3,FALSE)","v":"A"}]
["24569","VA","Y","remote",{"$f":"VLOOKUP(B27956,ceva_zone!A:B,2,FALSE)","v":"F"},{"$f":"VLOOKUP(B27956,ceva_zone!A:C,3,FALSE)","v":"A"}]
["24605","VA","Y","remote",{"$f":"VLOOKUP(B27989,ceva_zone!A:B,2,FALSE)","v":"F"},{"$f":"VLOOKUP(B27989,ceva_zone!A:C,3,FALSE)","v":"A"}]
["24624","VA","Z","remote",{"$f":"VLOOKUP(B28001,ceva_zone!A:B,2,FALSE)","v":"F"},{"$f":"VLOOKUP(B28001,ceva_zone!A:C,3,FALSE)","v":"A"}]
["24715","WV","Y","remote",{"$f":"VLOOKUP(B28020,ceva_zone!A:B,2,FALSE)","v":"F"},{"$f":"VLOOKUP(B28020,ceva_zone!A:C,3,FALSE)","v":"A"}]
["24817","WV","Y","remote",{"$f":"VLOOKUP(B28045,ceva_zone!A:B,2,FALSE)","v":"F"},{"$f":"VLOOKUP(B28045,ceva_zone!A:C,3,FALSE)","v":"A"}]
["24846","WV","Y","remote",{"$f":"VLOOKUP(B28062,ceva_zone!A:B,2,FALSE)","v":"F"},{"$f":"VLOOKUP(B28062,ceva_zone!A:C,3,FALSE)","v":"A"}]
["24859","WV","Y","remote",{"$f":"VLOOKUP(B28071,ceva_zone!A:B,2,FALSE)","v":"F"},{"$f":"VLOOKUP(B28071,ceva_zone!A:C,3,FALSE)","v":"A"}]
["24894","WV","Y","remote",{"$f":"VLOOKUP(B28090,ceva_zone!A:B,2,FALSE)","v":"F"},{"$f":"VLOOKUP(B28090,ceva_zone!A:C,3,FALSE)","v":"A"}]
["24945","WV","Y","remote",{"$f":"VLOOKUP(B28111,ceva_zone!A:B,2,FALSE)","v":"F"},{"$f":"VLOOKUP(B28111,ceva_zone!A:C,3,FALSE)","v":"A"}]
["25008","WV","Y","remote",{"$f":"VLOOKUP(B28135,ceva_zone!A:B,2,FALSE)","v":"F"},{"$f":"VLOOKUP(B28135,ceva_zone!A:C,3,FALSE)","v":"A"}]
["25044","WV","Y","remote",{"$f":"VLOOKUP(B28154,ceva_zone!A:B,2,FALSE)","v":"F"},{"$f":"VLOOKUP(B28154,ceva_zone!A:C,3,FALSE)","v":"A"}]
["25088","WV","Y","remote",{"$f":"VLOOKUP(B28180,ceva_zone!A:B,2,FALSE)","v":"F"},{"$f":"VLOOKUP(B28180,ceva_zone!A:C,3,FALSE)","v":"A"}]
["25121","WV","Y","remote",{"$f":"VLOOKUP(B28199,ceva_zone!A:B,2,FALSE)","v":"F"},{"$f":"VLOOKUP(B28199,ceva_zone!A:C,3,FALSE)","v":"A"}]
["25152","WV","Y","remote",{"$f":"VLOOKUP(B28218,ceva_zone!A:B,2,FALSE)","v":"F"},{"$f":"VLOOKUP(B28218,ceva_zone!A:C,3,FALSE)","v":"A"}]
["25209","WV","Y","remote",{"$f":"VLOOKUP(B28243,ceva_zone!A:B,2,FALSE)","v":"F"},{"$f":"VLOOKUP(B28243,ceva_zone!A:C,3,FALSE)","v":"A"}]
["25253","WV","Y","remote",{"$f":"VLOOKUP(B28249,ceva_zone!A:B,2,FALSE)","v":"F"},{"$f":"VLOOKUP(B28249,ceva_zone!A:C,3,FALSE)","v":"A"}]
["25312","WV","Y","remote",{"$f":"VLOOKUP(B28282,ceva_zone!A:B,2,FALSE)","v":"F"},{"$f":"VLOOKUP(B28282,ceva_zone!A:C,3,FALSE)","v":"A"}]
["25321","WV","Y","remote",{"$f":"VLOOKUP(B28288,ceva_zone!A:B,2,FALSE)","v":"F"},{"$f":"VLOOKUP(B28288,ceva_zone!A:C,3,FALSE)","v":"A"}]
["25419","WV","Y","remote",{"$f":"VLOOKUP(B28318,ceva_zone!A:B,2,FALSE)","v":"F"},{"$f":"VLOOKUP(B28318,ceva_zone!A:C,3,FALSE)","v":"A"}]
["25432","WV","Y","remote",{"$f":"VLOOKUP(B28333,ceva_zone!A:B,2,FALSE)","v":"F"},{"$f":"VLOOKUP(B28333,ceva_zone!A:C,3,FALSE)","v":"A"}]
["25534","WV","Y","remote",{"$f":"VLOOKUP(B28352,ceva_zone!A:B,2,FALSE)","v":"F"},{"$f":"VLOOKUP(B28352,ceva_zone!A:C,3,FALSE)","v":"A"}]
["25544","WV","Y","remote",{"$f":"VLOOKUP(B28371,ceva_zone!A:B,2,FALSE)","v":"F"},{"$f":"VLOOKUP(B28371,ceva_zone!A:C,3,FALSE)","v":"A"}]
["25607","WV","Y","remote",{"$f":"VLOOKUP(B28387,ceva_zone!A:B,2,FALSE)","v":"F"},{"$f":"VLOOKUP(B28387,ceva_zone!A:C,3,FALSE)","v":"A"}]
["25685","WV","Y","remote",{"$f":"VLOOKUP(B28416,ceva_zone!A:B,2,FALSE)","v":"F"},{"$f":"VLOOKUP(B28416,ceva_zone!A:C,3,FALSE)","v":"A"}]
["25778","WV","Y","remote",{"$f":"VLOOKUP(B28435,ceva_zone!A:B,2,FALSE)","v":"F"},{"$f":"VLOOKUP(B28435,ceva_zone!A:C,3,FALSE)","v":"A"}]
["25773","WV","Y","remote",{"$f":"VLOOKUP(B28456,ceva_zone!A:B,2,FALSE)","v":"F"},{"$f":"VLOOKUP(B28456,ceva_zone!A:C,3,FALSE)","v":"A"}]
["25702","WV","Y","remote",{"$f":"VLOOKUP(B28461,ceva_zone!A:B,2,FALSE)","v":"F"},{"$f":"VLOOKUP(B28461,ceva_zone!A:C,3,FALSE)","v":"A"}]
["25846","WV","Y","remote",{"$f":"VLOOKUP(B28486,ceva_zone!A:B,2,FALSE)","v":"F"},{"$f":"VLOOKUP(B28486,ceva_zone!A:C,3,FALSE)","v":"A"}]
["25879","WV","Y","remote",{"$f":"VLOOKUP(B28505,ceva_zone!A:B,2,FALSE)","v":"F"},{"$f":"VLOOKUP(B28505,ceva_zone!A:C,3,FALSE)","v":"A"}]
["25978","WV","Y","remote",{"$f":"VLOOKUP(B28525,ceva_zone!A:B,2,FALSE)","v":"F"},{"$f":"VLOOKUP(B28525,ceva_zone!A:C,3,FALSE)","v":"A"}]
["25943","WV","Y","remote",{"$f":"VLOOKUP(B28550,ceva_zone!A:B,2,FALSE)","v":"F"},{"$f":"VLOOKUP(B28550,ceva_zone!A:C,3,FALSE)","v":"A"}]
["26059","WV","Y","remote",{"$f":"VLOOKUP(B28569,ceva_zone!A:B,2,FALSE)","v":"F"},{"$f":"VLOOKUP(B28569,ceva_zone!A:C,3,FALSE)","v":"A"}]
["26137","WV","Y","remote",{"$f":"VLOOKUP(B28578,ceva_zone!A:B,2,FALSE)","v":"F"},{"$f":"VLOOKUP(B28578,ceva_zone!A:C,3,FALSE)","v":"A"}]
["26155","WV","Y","remote",{"$f":"VLOOKUP(B28595,ceva_zone!A:B,2,FALSE)","v":"F"},{"$f":"VLOOKUP(B28595,ceva_zone!A:C,3,FALSE)","v":"A"}]
["26210","WV","Y","remote",{"$f":"VLOOKUP(B28614,ceva_zone!A:B,2,FALSE)","v":"F"},{"$f":"VLOOKUP(B28614,ceva_zone!A:C,3,FALSE)","v":"A"}]
["26273","WV","Y","remote",{"$f":"VLOOKUP(B28643,ceva_zone!A:B,2,FALSE)","v":"F"},{"$f":"VLOOKUP(B28643,ceva_zone!A:C,3,FALSE)","v":"A"}]
["26234","WV","Y","remote",{"$f":"VLOOKUP(B28659,ceva_zone!A:B,2,FALSE)","v":"F"},{"$f":"VLOOKUP(B28659,ceva_zone!A:C,3,FALSE)","v":"A"}]
["26339","WV","Y","remote",{"$f":"VLOOKUP(B28678,ceva_zone!A:B,2,FALSE)","v":"F"},{"$f":"VLOOKUP(B28678,ceva_zone!A:C,3,FALSE)","v":"A"}]
["26369","WV","Y","remote",{"$f":"VLOOKUP(B28692,ceva_zone!A:B,2,FALSE)","v":"F"},{"$f":"VLOOKUP(B28692,ceva_zone!A:C,3,FALSE)","v":"A"}]
["26440","WV","Y","remote",{"$f":"VLOOKUP(B28723,ceva_zone!A:B,2,FALSE)","v":"F"},{"$f":"VLOOKUP(B28723,ceva_zone!A:C,3,FALSE)","v":"A"}]
["26456","WV","Y","remote",{"$f":"VLOOKUP(B28729,ceva_zone!A:B,2,FALSE)","v":"F"},{"$f":"VLOOKUP(B28729,ceva_zone!A:C,3,FALSE)","v":"A"}]
["26555","WV","Y","remote",{"$f":"VLOOKUP(B28748,ceva_zone!A:B,2,FALSE)","v":"F"},{"$f":"VLOOKUP(B28748,ceva_zone!A:C,3,FALSE)","v":"A"}]
["26507","PA","Y","remote",{"$f":"VLOOKUP(B28765,ceva_zone!A:B,2,FALSE)","v":"F"},{"$f":"VLOOKUP(B28765,ceva_zone!A:C,3,FALSE)","v":"A"}]
["26676","WV","Y","remote",{"$f":"VLOOKUP(B28793,ceva_zone!A:B,2,FALSE)","v":"F"},{"$f":"VLOOKUP(B28793,ceva_zone!A:C,3,FALSE)","v":"A"}]
["26714","WV","Y","remote",{"$f":"VLOOKUP(B28812,ceva_zone!A:B,2,FALSE)","v":"F"},{"$f":"VLOOKUP(B28812,ceva_zone!A:C,3,FALSE)","v":"A"}]
["26823","WV","Y","remote",{"$f":"VLOOKUP(B28834,ceva_zone!A:B,2,FALSE)","v":"F"},{"$f":"VLOOKUP(B28834,ceva_zone!A:C,3,FALSE)","v":"A"}]
["27027","NC","Y","remote",{"$f":"VLOOKUP(B28857,ceva_zone!A:B,2,FALSE)","v":"F"},{"$f":"VLOOKUP(B28857,ceva_zone!A:C,3,FALSE)","v":"B"}]
["27023","NC","G","remote",{"$f":"VLOOKUP(B28876,ceva_zone!A:B,2,FALSE)","v":"F"},{"$f":"VLOOKUP(B28876,ceva_zone!A:C,3,FALSE)","v":"B"}]
["27107","NC","G","remote",{"$f":"VLOOKUP(B28899,ceva_zone!A:B,2,FALSE)","v":"F"},{"$f":"VLOOKUP(B28899,ceva_zone!A:C,3,FALSE)","v":"B"}]
["27130","TN","G","remote",{"$f":"VLOOKUP(B28902,ceva_zone!A:B,2,FALSE)","v":"F"},{"$f":"VLOOKUP(B28902,ceva_zone!A:C,3,FALSE)","v":"B"}]
["27201","NC","E","remote",{"$f":"VLOOKUP(B28921,ceva_zone!A:B,2,FALSE)","v":"F"},{"$f":"VLOOKUP(B28921,ceva_zone!A:C,3,FALSE)","v":"B"}]
["27237","NC","E","remote",{"$f":"VLOOKUP(B28946,ceva_zone!A:B,2,FALSE)","v":"F"},{"$f":"VLOOKUP(B28946,ceva_zone!A:C,3,FALSE)","v":"B"}]
["27294","NC","E","remote",{"$f":"VLOOKUP(B28972,ceva_zone!A:B,2,FALSE)","v":"F"},{"$f":"VLOOKUP(B28972,ceva_zone!A:C,3,FALSE)","v":"B"}]
["27317","NC","H","remote",{"$f":"VLOOKUP(B28985,ceva_zone!A:B,2,FALSE)","v":"F"},{"$f":"VLOOKUP(B28985,ceva_zone!A:C,3,FALSE)","v":"B"}]
["27356","NC","G","remote",{"$f":"VLOOKUP(B29010,ceva_zone!A:B,2,FALSE)","v":"F"},{"$f":"VLOOKUP(B29010,ceva_zone!A:C,3,FALSE)","v":"B"}]
["27415","NC","G","remote",{"$f":"VLOOKUP(B29021,ceva_zone!A:B,2,FALSE)","v":"F"},{"$f":"VLOOKUP(B29021,ceva_zone!A:C,3,FALSE)","v":"B"}]
["27438","NC","G","remote",{"$f":"VLOOKUP(B29036,ceva_zone!A:B,2,FALSE)","v":"F"},{"$f":"VLOOKUP(B29036,ceva_zone!A:C,3,FALSE)","v":"B"}]
["27520","NC","C","standard",{"$f":"VLOOKUP(B29055,ceva_zone!A:B,2,FALSE)","v":"F"},{"$f":"VLOOKUP(B29055,ceva_zone!A:C,3,FALSE)","v":"B"}]
["27599","NC","B","standard",{"$f":"VLOOKUP(B29074,ceva_zone!A:B,2,FALSE)","v":"F"},{"$f":"VLOOKUP(B29074,ceva_zone!A:C,3,FALSE)","v":"B"}]
["27563","NC","E","remote",{"$f":"VLOOKUP(B29110,ceva_zone!A:B,2,FALSE)","v":"F"},{"$f":"VLOOKUP(B29110,ceva_zone!A:C,3,FALSE)","v":"B"}]
["27576","NC","D","standard",{"$f":"VLOOKUP(B29119,ceva_zone!A:B,2,FALSE)","v":"F"},{"$f":"VLOOKUP(B29119,ceva_zone!A:C,3,FALSE)","v":"B"}]
["27636","NC","B","standard",{"$f":"VLOOKUP(B29144,ceva_zone!A:B,2,FALSE)","v":"F"},{"$f":"VLOOKUP(B29144,ceva_zone!A:C,3,FALSE)","v":"B"}]
["27656","NC","B","standard",{"$f":"VLOOKUP(B29159,ceva_zone!A:B,2,FALSE)","v":"F"},{"$f":"VLOOKUP(B29159,ceva_zone!A:C,3,FALSE)","v":"B"}]
["27708","NC","B","standard",{"$f":"VLOOKUP(B29183,ceva_zone!A:B,2,FALSE)","v":"F"},{"$f":"VLOOKUP(B29183,ceva_zone!A:C,3,FALSE)","v":"B"}]
["27852","NC","F","remote",{"$f":"VLOOKUP(B29208,ceva_zone!A:B,2,FALSE)","v":"F"},{"$f":"VLOOKUP(B29208,ceva_zone!A:C,3,FALSE)","v":"B"}]
["27833","NC","F","remote",{"$f":"VLOOKUP(B29228,ceva_zone!A:B,2,FALSE)","v":"F"},{"$f":"VLOOKUP(B29228,ceva_zone!A:C,3,FALSE)","v":"B"}]
["27861","NC","Y","remote",{"$f":"VLOOKUP(B29247,ceva_zone!A:B,2,FALSE)","v":"F"},{"$f":"VLOOKUP(B29247,ceva_zone!A:C,3,FALSE)","v":"B"}]
["27867","NC","Y","remote",{"$f":"VLOOKUP(B29253,ceva_zone!A:B,2,FALSE)","v":"F"},{"$f":"VLOOKUP(B29253,ceva_zone!A:C,3,FALSE)","v":"B"}]
["27881","NC","F","remote",{"$f":"VLOOKUP(B29272,ceva_zone!A:B,2,FALSE)","v":"F"},{"$f":"VLOOKUP(B29272,ceva_zone!A:C,3,FALSE)","v":"B"}]
["27925","NC","Y","remote",{"$f":"VLOOKUP(B29297,ceva_zone!A:B,2,FALSE)","v":"F"},{"$f":"VLOOKUP(B29297,ceva_zone!A:C,3,FALSE)","v":"B"}]
["27947","NC","Y","remote",{"$f":"VLOOKUP(B29317,ceva_zone!A:B,2,FALSE)","v":"F"},{"$f":"VLOOKUP(B29317,ceva_zone!A:C,3,FALSE)","v":"B"}]
["27974","NC","Y","remote",{"$f":"VLOOKUP(B29336,ceva_zone!A:B,2,FALSE)","v":"F"},{"$f":"VLOOKUP(B29336,ceva_zone!A:C,3,FALSE)","v":"B"}]
["28001","NC","E","remote",{"$f":"VLOOKUP(B29346,ceva_zone!A:B,2,FALSE)","v":"F"},{"$f":"VLOOKUP(B29346,ceva_zone!A:C,3,FALSE)","v":"B"}]
["28042","NC","D","standard",{"$f":"VLOOKUP(B29381,ceva_zone!A:B,2,FALSE)","v":"F"},{"$f":"VLOOKUP(B29381,ceva_zone!A:C,3,FALSE)","v":"B"}]
["28073","NC","E","remote",{"$f":"VLOOKUP(B29387,ceva_zone!A:B,2,FALSE)","v":"F"},{"$f":"VLOOKUP(B29387,ceva_zone!A:C,3,FALSE)","v":"B"}]
["28164","NC","B","standard",{"$f":"VLOOKUP(B29415,ceva_zone!A:B,2,FALSE)","v":"F"},{"$f":"VLOOKUP(B29415,ceva_zone!A:C,3,FALSE)","v":"B"}]
["28112","NC","C","standard",{"$f":"VLOOKUP(B29426,ceva_zone!A:B,2,FALSE)","v":"F"},{"$f":"VLOOKUP(B29426,ceva_zone!A:C,3,FALSE)","v":"B"}]
["28173","NC","C","standard",{"$f":"VLOOKUP(B29451,ceva_zone!A:B,2,FALSE)","v":"F"},{"$f":"VLOOKUP(B29451,ceva_zone!A:C,3,FALSE)","v":"B"}]
["28210","NC","A","standard",{"$f":"VLOOKUP(B29470,ceva_zone!A:B,2,FALSE)","v":"F"},{"$f":"VLOOKUP(B29470,ceva_zone!A:C,3,FALSE)","v":"B"}]
["28231","NC","A","standard",{"$f":"VLOOKUP(B29488,ceva_zone!A:B,2,FALSE)","v":"F"},{"$f":"VLOOKUP(B29488,ceva_zone!A:C,3,FALSE)","v":"B"}]
["28278","NC","A","standard",{"$f":"VLOOKUP(B29515,ceva_zone!A:B,2,FALSE)","v":"F"},{"$f":"VLOOKUP(B29515,ceva_zone!A:C,3,FALSE)","v":"B"}]
["28323","NC","E","remote",{"$f":"VLOOKUP(B29534,ceva_zone!A:B,2,FALSE)","v":"F"},{"$f":"VLOOKUP(B29534,ceva_zone!A:C,3,FALSE)","v":"B"}]
["28342","NC","E","remote",{"$f":"VLOOKUP(B29553,ceva_zone!A:B,2,FALSE)","v":"F"},{"$f":"VLOOKUP(B29553,ceva_zone!A:C,3,FALSE)","v":"B"}]
["28306","NC","F","remote",{"$f":"VLOOKUP(B29560,ceva_zone!A:B,2,FALSE)","v":"F"},{"$f":"VLOOKUP(B29560,ceva_zone!A:C,3,FALSE)","v":"B"}]
["28360","NC","F","remote",{"$f":"VLOOKUP(B29579,ceva_zone!A:B,2,FALSE)","v":"F"},{"$f":"VLOOKUP(B29579,ceva_zone!A:C,3,FALSE)","v":"B"}]
["28385","NC","F","remote",{"$f":"VLOOKUP(B29602,ceva_zone!A:B,2,FALSE)","v":"F"},{"$f":"VLOOKUP(B29602,ceva_zone!A:C,3,FALSE)","v":"B"}]
["28428","NC","Y","remote",{"$f":"VLOOKUP(B29624,ceva_zone!A:B,2,FALSE)","v":"F"},{"$f":"VLOOKUP(B29624,ceva_zone!A:C,3,FALSE)","v":"B"}]
["28448","NC","Y","remote",{"$f":"VLOOKUP(B29643,ceva_zone!A:B,2,FALSE)","v":"F"},{"$f":"VLOOKUP(B29643,ceva_zone!A:C,3,FALSE)","v":"B"}]
["28408","NC","Y","remote",{"$f":"VLOOKUP(B29668,ceva_zone!A:B,2,FALSE)","v":"F"},{"$f":"VLOOKUP(B29668,ceva_zone!A:C,3,FALSE)","v":"B"}]
["28508","NC","F","remote",{"$f":"VLOOKUP(B29675,ceva_zone!A:B,2,FALSE)","v":"F"},{"$f":"VLOOKUP(B29675,ceva_zone!A:C,3,FALSE)","v":"B"}]
["28525","NC","Y","remote",{"$f":"VLOOKUP(B29694,ceva_zone!A:B,2,FALSE)","v":"F"},{"$f":"VLOOKUP(B29694,ceva_zone!A:C,3,FALSE)","v":"B"}]
["28546","NC","Y","remote",{"$f":"VLOOKUP(B29713,ceva_zone!A:B,2,FALSE)","v":"F"},{"$f":"VLOOKUP(B29713,ceva_zone!A:C,3,FALSE)","v":"B"}]
["28589","NC","Y","remote",{"$f":"VLOOKUP(B29744,ceva_zone!A:B,2,FALSE)","v":"F"},{"$f":"VLOOKUP(B29744,ceva_zone!A:C,3,FALSE)","v":"B"}]
["28623","NC","Y","remote",{"$f":"VLOOKUP(B29758,ceva_zone!A:B,2,FALSE)","v":"F"},{"$f":"VLOOKUP(B29758,ceva_zone!A:C,3,FALSE)","v":"B"}]
["28693","NC","Y","remote",{"$f":"VLOOKUP(B29777,ceva_zone!A:B,2,FALSE)","v":"F"},{"$f":"VLOOKUP(B29777,ceva_zone!A:C,3,FALSE)","v":"B"}]
["28666","NC","E","remote",{"$f":"VLOOKUP(B29802,ceva_zone!A:B,2,FALSE)","v":"F"},{"$f":"VLOOKUP(B29802,ceva_zone!A:C,3,FALSE)","v":"B"}]
["28665","NC","G","remote",{"$f":"VLOOKUP(B29813,ceva_zone!A:B,2,FALSE)","v":"F"},{"$f":"VLOOKUP(B29813,ceva_zone!A:C,3,FALSE)","v":"B"}]
["28745","NC","Y","remote",{"$f":"VLOOKUP(B29841,ceva_zone!A:B,2,FALSE)","v":"F"},{"$f":"VLOOKUP(B29841,ceva_zone!A:C,3,FALSE)","v":"B"}]
["28714","NC","Y","remote",{"$f":"VLOOKUP(B29847,ceva_zone!A:B,2,FALSE)","v":"F"},{"$f":"VLOOKUP(B29847,ceva_zone!A:C,3,FALSE)","v":"B"}]
["28791","NC","Y","remote",{"$f":"VLOOKUP(B29882,ceva_zone!A:B,2,FALSE)","v":"F"},{"$f":"VLOOKUP(B29882,ceva_zone!A:C,3,FALSE)","v":"B"}]
["28748","NC","Y","remote",{"$f":"VLOOKUP(B29886,ceva_zone!A:B,2,FALSE)","v":"F"},{"$f":"VLOOKUP(B29886,ceva_zone!A:C,3,FALSE)","v":"B"}]
["28778","NC","Y","remote",{"$f":"VLOOKUP(B29911,ceva_zone!A:B,2,FALSE)","v":"F"},{"$f":"VLOOKUP(B29911,ceva_zone!A:C,3,FALSE)","v":"B"}]
["28815","NC","Y","remote",{"$f":"VLOOKUP(B29931,ceva_zone!A:B,2,FALSE)","v":"F"},{"$f":"VLOOKUP(B29931,ceva_zone!A:C,3,FALSE)","v":"B"}]
["29018","SC","Y","remote",{"$f":"VLOOKUP(B29956,ceva_zone!A:B,2,FALSE)","v":"F"},{"$f":"VLOOKUP(B29956,ceva_zone!A:C,3,FALSE)","v":"B"}]
["29047","SC","Z","remote",{"$f":"VLOOKUP(B29975,ceva_zone!A:B,2,FALSE)","v":"F"},{"$f":"VLOOKUP(B29975,ceva_zone!A:C,3,FALSE)","v":"B"}]
["29137","SC","Z","remote",{"$f":"VLOOKUP(B29994,ceva_zone!A:B,2,FALSE)","v":"F"},{"$f":"VLOOKUP(B29994,ceva_zone!A:C,3,FALSE)","v":"B"}]
["29161","SC","Y","remote",{"$f":"VLOOKUP(B30000,ceva_zone!A:B,2,FALSE)","v":"F"},{"$f":"VLOOKUP(B30000,ceva_zone!A:C,3,FALSE)","v":"B"}]
["29118","SC","Z","remote",{"$f":"VLOOKUP(B30020,ceva_zone!A:B,2,FALSE)","v":"F"},{"$f":"VLOOKUP(B30020,ceva_zone!A:C,3,FALSE)","v":"B"}]
["29163","SC","Y","remote",{"$f":"VLOOKUP(B30039,ceva_zone!A:B,2,FALSE)","v":"F"},{"$f":"VLOOKUP(B30039,ceva_zone!A:C,3,FALSE)","v":"B"}]
["29230","SC","K","remote",{"$f":"VLOOKUP(B30069,ceva_zone!A:B,2,FALSE)","v":"F"},{"$f":"VLOOKUP(B30069,ceva_zone!A:C,3,FALSE)","v":"B"}]
["29322","SC","F","remote",{"$f":"VLOOKUP(B30084,ceva_zone!A:B,2,FALSE)","v":"F"},{"$f":"VLOOKUP(B30084,ceva_zone!A:C,3,FALSE)","v":"B"}]
["29353","SC","D","standard",{"$f":"VLOOKUP(B30109,ceva_zone!A:B,2,FALSE)","v":"F"},{"$f":"VLOOKUP(B30109,ceva_zone!A:C,3,FALSE)","v":"B"}]
["29372","SC","C","standard",{"$f":"VLOOKUP(B30118,ceva_zone!A:B,2,FALSE)","v":"F"},{"$f":"VLOOKUP(B30118,ceva_zone!A:C,3,FALSE)","v":"B"}]
["29415","SC","Y","remote",{"$f":"VLOOKUP(B30148,ceva_zone!A:B,2,FALSE)","v":"F"},{"$f":"VLOOKUP(B30148,ceva_zone!A:C,3,FALSE)","v":"B"}]
["29440","SC","Y","remote",{"$f":"VLOOKUP(B30173,ceva_zone!A:B,2,FALSE)","v":"F"},{"$f":"VLOOKUP(B30173,ceva_zone!A:C,3,FALSE)","v":"B"}]
["29484","SC","B","standard",{"$f":"VLOOKUP(B30192,ceva_zone!A:B,2,FALSE)","v":"F"},{"$f":"VLOOKUP(B30192,ceva_zone!A:C,3,FALSE)","v":"B"}]
["29483","SC","Y","remote",{"$f":"VLOOKUP(B30207,ceva_zone!A:B,2,FALSE)","v":"F"},{"$f":"VLOOKUP(B30207,ceva_zone!A:C,3,FALSE)","v":"B"}]
["29520","SC","G","remote",{"$f":"VLOOKUP(B30218,ceva_zone!A:B,2,FALSE)","v":"F"},{"$f":"VLOOKUP(B30218,ceva_zone!A:C,3,FALSE)","v":"B"}]
["29546","SC","Z","remote",{"$f":"VLOOKUP(B30237,ceva_zone!A:B,2,FALSE)","v":"F"},{"$f":"VLOOKUP(B30237,ceva_zone!A:C,3,FALSE)","v":"B"}]
["29574","SC","Z","remote",{"$f":"VLOOKUP(B30256,ceva_zone!A:B,2,FALSE)","v":"F"},{"$f":"VLOOKUP(B30256,ceva_zone!A:C,3,FALSE)","v":"B"}]
["29624","SC","Y","remote",{"$f":"VLOOKUP(B30282,ceva_zone!A:B,2,FALSE)","v":"F"},{"$f":"VLOOKUP(B30282,ceva_zone!A:C,3,FALSE)","v":"B"}]
["29641","SC","C","standard",{"$f":"VLOOKUP(B30301,ceva_zone!A:B,2,FALSE)","v":"F"},{"$f":"VLOOKUP(B30301,ceva_zone!A:C,3,FALSE)","v":"B"}]
["29617","SC","F","remote",{"$f":"VLOOKUP(B30326,ceva_zone!A:B,2,FALSE)","v":"F"},{"$f":"VLOOKUP(B30326,ceva_zone!A:C,3,FALSE)","v":"B"}]
["29654","SC","Y","remote",{"$f":"VLOOKUP(B30329,ceva_zone!A:B,2,FALSE)","v":"F"},{"$f":"VLOOKUP(B30329,ceva_zone!A:C,3,FALSE)","v":"B"}]
["29683","SC","F","remote",{"$f":"VLOOKUP(B30352,ceva_zone!A:B,2,FALSE)","v":"F"},{"$f":"VLOOKUP(B30352,ceva_zone!A:C,3,FALSE)","v":"B"}]
["29709","SC","E","remote",{"$f":"VLOOKUP(B30371,ceva_zone!A:B,2,FALSE)","v":"F"},{"$f":"VLOOKUP(B30371,ceva_zone!A:C,3,FALSE)","v":"B"}]
["29801","SC","Y","remote",{"$f":"VLOOKUP(B30398,ceva_zone!A:B,2,FALSE)","v":"F"},{"$f":"VLOOKUP(B30398,ceva_zone!A:C,3,FALSE)","v":"B"}]
["29821","SC","Y","remote",{"$f":"VLOOKUP(B30416,ceva_zone!A:B,2,FALSE)","v":"F"},{"$f":"VLOOKUP(B30416,ceva_zone!A:C,3,FALSE)","v":"B"}]
["29845","SC","Y","remote",{"$f":"VLOOKUP(B30435,ceva_zone!A:B,2,FALSE)","v":"F"},{"$f":"VLOOKUP(B30435,ceva_zone!A:C,3,FALSE)","v":"B"}]
["29920","SC","Y","remote",{"$f":"VLOOKUP(B30463,ceva_zone!A:B,2,FALSE)","v":"F"},{"$f":"VLOOKUP(B30463,ceva_zone!A:C,3,FALSE)","v":"B"}]
["29944","SC","Y","remote",{"$f":"VLOOKUP(B30480,ceva_zone!A:B,2,FALSE)","v":"F"},{"$f":"VLOOKUP(B30480,ceva_zone!A:C,3,FALSE)","v":"B"}]
["30058","GA","C","standard",{"$f":"VLOOKUP(B30499,ceva_zone!A:B,2,FALSE)","v":"F"},{"$f":"VLOOKUP(B30499,ceva_zone!A:C,3,FALSE)","v":"B"}]
["30016","GA","D","standard",{"$f":"VLOOKUP(B30505,ceva_zone!A:B,2,FALSE)","v":"F"},{"$f":"VLOOKUP(B30505,ceva_zone!A:C,3,FALSE)","v":"B"}]
["30047","GA","C","standard",{"$f":"VLOOKUP(B30536,ceva_zone!A:B,2,FALSE)","v":"F"},{"$f":"VLOOKUP(B30536,ceva_zone!A:C,3,FALSE)","v":"B"}]
["30068","GA","D","standard",{"$f":"VLOOKUP(B30544,ceva_zone!A:B,2,FALSE)","v":"F"},{"$f":"VLOOKUP(B30544,ceva_zone!A:C,3,FALSE)","v":"B"}]
["30088","GA","C","standard",{"$f":"VLOOKUP(B30569,ceva_zone!A:B,2,FALSE)","v":"F"},{"$f":"VLOOKUP(B30569,ceva_zone!A:C,3,FALSE)","v":"B"}]
["30163","GA","Y","remote",{"$f":"VLOOKUP(B30585,ceva_zone!A:B,2,FALSE)","v":"F"},{"$f":"VLOOKUP(B30585,ceva_zone!A:C,3,FALSE)","v":"B"}]
["30134","GA","C","standard",{"$f":"VLOOKUP(B30614,ceva_zone!A:B,2,FALSE)","v":"F"},{"$f":"VLOOKUP(B30614,ceva_zone!A:C,3,FALSE)","v":"B"}]
["30152","GA","D","standard",{"$f":"VLOOKUP(B30633,ceva_zone!A:B,2,FALSE)","v":"F"},{"$f":"VLOOKUP(B30633,ceva_zone!A:C,3,FALSE)","v":"B"}]
["30175","GA","Y","remote",{"$f":"VLOOKUP(B30654,ceva_zone!A:B,2,FALSE)","v":"F"},{"$f":"VLOOKUP(B30654,ceva_zone!A:C,3,FALSE)","v":"B"}]
["30180","GA","E","remote",{"$f":"VLOOKUP(B30659,ceva_zone!A:B,2,FALSE)","v":"F"},{"$f":"VLOOKUP(B30659,ceva_zone!A:C,3,FALSE)","v":"B"}]
["30211","GA","D","standard",{"$f":"VLOOKUP(B30678,ceva_zone!A:B,2,FALSE)","v":"F"},{"$f":"VLOOKUP(B30678,ceva_zone!A:C,3,FALSE)","v":"B"}]
["30230","GA","F","remote",{"$f":"VLOOKUP(B30697,ceva_zone!A:B,2,FALSE)","v":"F"},{"$f":"VLOOKUP(B30697,ceva_zone!A:C,3,FALSE)","v":"B"}]
["30258","GA","F","remote",{"$f":"VLOOKUP(B30723,ceva_zone!A:B,2,FALSE)","v":"F"},{"$f":"VLOOKUP(B30723,ceva_zone!A:C,3,FALSE)","v":"B"}]
["30277","GA","D","standard",{"$f":"VLOOKUP(B30742,ceva_zone!A:B,2,FALSE)","v":"F"},{"$f":"VLOOKUP(B30742,ceva_zone!A:C,3,FALSE)","v":"B"}]
["30309","GA","A","standard",{"$f":"VLOOKUP(B30767,ceva_zone!A:B,2,FALSE)","v":"F"},{"$f":"VLOOKUP(B30767,ceva_zone!A:C,3,FALSE)","v":"B"}]
["30314","GA","D","standard",{"$f":"VLOOKUP(B30772,ceva_zone!A:B,2,FALSE)","v":"F"},{"$f":"VLOOKUP(B30772,ceva_zone!A:C,3,FALSE)","v":"B"}]
["30348","GA","C","standard",{"$f":"VLOOKUP(B30806,ceva_zone!A:B,2,FALSE)","v":"F"},{"$f":"VLOOKUP(B30806,ceva_zone!A:C,3,FALSE)","v":"B"}]
["30354","GA","A","standard",{"$f":"VLOOKUP(B30812,ceva_zone!A:B,2,FALSE)","v":"F"},{"$f":"VLOOKUP(B30812,ceva_zone!A:C,3,FALSE)","v":"B"}]
["30383","GA","D","standard",{"$f":"VLOOKUP(B30841,ceva_zone!A:B,2,FALSE)","v":"F"},{"$f":"VLOOKUP(B30841,ceva_zone!A:C,3,FALSE)","v":"B"}]
["30410","GA","Y","remote",{"$f":"VLOOKUP(B30857,ceva_zone!A:B,2,FALSE)","v":"F"},{"$f":"VLOOKUP(B30857,ceva_zone!A:C,3,FALSE)","v":"B"}]
["30425","GA","Z","remote",{"$f":"VLOOKUP(B30876,ceva_zone!A:B,2,FALSE)","v":"F"},{"$f":"VLOOKUP(B30876,ceva_zone!A:C,3,FALSE)","v":"B"}]
["30456","GA","Y","remote",{"$f":"VLOOKUP(B30895,ceva_zone!A:B,2,FALSE)","v":"F"},{"$f":"VLOOKUP(B30895,ceva_zone!A:C,3,FALSE)","v":"B"}]
["30512","GA","Y","remote",{"$f":"VLOOKUP(B30910,ceva_zone!A:B,2,FALSE)","v":"F"},{"$f":"VLOOKUP(B30910,ceva_zone!A:C,3,FALSE)","v":"B"}]
["30542","GA","F","remote",{"$f":"VLOOKUP(B30940,ceva_zone!A:B,2,FALSE)","v":"F"},{"$f":"VLOOKUP(B30940,ceva_zone!A:C,3,FALSE)","v":"B"}]
["30560","GA","Y","remote",{"$f":"VLOOKUP(B30959,ceva_zone!A:B,2,FALSE)","v":"F"},{"$f":"VLOOKUP(B30959,ceva_zone!A:C,3,FALSE)","v":"B"}]
["30608","GA","G","remote",{"$f":"VLOOKUP(B30979,ceva_zone!A:B,2,FALSE)","v":"F"},{"$f":"VLOOKUP(B30979,ceva_zone!A:C,3,FALSE)","v":"B"}]
["30613","GA","D","standard",{"$f":"VLOOKUP(B30985,ceva_zone!A:B,2,FALSE)","v":"F"},{"$f":"VLOOKUP(B30985,ceva_zone!A:C,3,FALSE)","v":"B"}]
["30645","GA","F","remote",{"$f":"VLOOKUP(B31010,ceva_zone!A:B,2,FALSE)","v":"F"},{"$f":"VLOOKUP(B31010,ceva_zone!A:C,3,FALSE)","v":"B"}]
["30680","GA","G","remote",{"$f":"VLOOKUP(B31029,ceva_zone!A:B,2,FALSE)","v":"F"},{"$f":"VLOOKUP(B31029,ceva_zone!A:C,3,FALSE)","v":"B"}]
["30733","GA","Y","remote",{"$f":"VLOOKUP(B31052,ceva_zone!A:B,2,FALSE)","v":"F"},{"$f":"VLOOKUP(B31052,ceva_zone!A:C,3,FALSE)","v":"B"}]
["30807","GA","Y","remote",{"$f":"VLOOKUP(B31074,ceva_zone!A:B,2,FALSE)","v":"F"},{"$f":"VLOOKUP(B31074,ceva_zone!A:C,3,FALSE)","v":"B"}]
["30999","GA","Y","remote",{"$f":"VLOOKUP(B31093,ceva_zone!A:B,2,FALSE)","v":"F"},{"$f":"VLOOKUP(B31093,ceva_zone!A:C,3,FALSE)","v":"B"}]
["31007","GA","Y","remote",{"$f":"VLOOKUP(B31117,ceva_zone!A:B,2,FALSE)","v":"F"},{"$f":"VLOOKUP(B31117,ceva_zone!A:C,3,FALSE)","v":"B"}]
["31027","GA","Z","remote",{"$f":"VLOOKUP(B31138,ceva_zone!A:B,2,FALSE)","v":"F"},{"$f":"VLOOKUP(B31138,ceva_zone!A:C,3,FALSE)","v":"B"}]
["31045","GA","Y","remote",{"$f":"VLOOKUP(B31157,ceva_zone!A:B,2,FALSE)","v":"F"},{"$f":"VLOOKUP(B31157,ceva_zone!A:C,3,FALSE)","v":"B"}]
["31054","GA","Y","remote",{"$f":"VLOOKUP(B31166,ceva_zone!A:B,2,FALSE)","v":"F"},{"$f":"VLOOKUP(B31166,ceva_zone!A:C,3,FALSE)","v":"B"}]
["31073","GA","Y","remote",{"$f":"VLOOKUP(B31183,ceva_zone!A:B,2,FALSE)","v":"F"},{"$f":"VLOOKUP(B31183,ceva_zone!A:C,3,FALSE)","v":"B"}]
["31094","GA","Y","remote",{"$f":"VLOOKUP(B31202,ceva_zone!A:B,2,FALSE)","v":"F"},{"$f":"VLOOKUP(B31202,ceva_zone!A:C,3,FALSE)","v":"B"}]
["31297","FL","Y","remote",{"$f":"VLOOKUP(B31227,ceva_zone!A:B,2,FALSE)","v":"F"},{"$f":"VLOOKUP(B31227,ceva_zone!A:C,3,FALSE)","v":"B"}]
["31214","GA","D","standard",{"$f":"VLOOKUP(B31239,ceva_zone!A:B,2,FALSE)","v":"F"},{"$f":"VLOOKUP(B31239,ceva_zone!A:C,3,FALSE)","v":"B"}]
["31248","GA","D","standard",{"$f":"VLOOKUP(B31272,ceva_zone!A:B,2,FALSE)","v":"F"},{"$f":"VLOOKUP(B31272,ceva_zone!A:C,3,FALSE)","v":"B"}]
["31268","GA","D","standard",{"$f":"VLOOKUP(B31291,ceva_zone!A:B,2,FALSE)","v":"F"},{"$f":"VLOOKUP(B31291,ceva_zone!A:C,3,FALSE)","v":"B"}]
["31285","GA","D","standard",{"$f":"VLOOKUP(B31308,ceva_zone!A:B,2,FALSE)","v":"F"},{"$f":"VLOOKUP(B31308,ceva_zone!A:C,3,FALSE)","v":"B"}]
["31294","GA","Y","remote",{"$f":"VLOOKUP(B31317,ceva_zone!A:B,2,FALSE)","v":"F"},{"$f":"VLOOKUP(B31317,ceva_zone!A:C,3,FALSE)","v":"B"}]
["31328","GA","Y","remote",{"$f":"VLOOKUP(B31336,ceva_zone!A:B,2,FALSE)","v":"F"},{"$f":"VLOOKUP(B31336,ceva_zone!A:C,3,FALSE)","v":"B"}]
["31407","GA","Y","remote",{"$f":"VLOOKUP(B31357,ceva_zone!A:B,2,FALSE)","v":"F"},{"$f":"VLOOKUP(B31357,ceva_zone!A:C,3,FALSE)","v":"B"}]
["31518","GA","Y","remote",{"$f":"VLOOKUP(B31381,ceva_zone!A:B,2,FALSE)","v":"F"},{"$f":"VLOOKUP(B31381,ceva_zone!A:C,3,FALSE)","v":"B"}]
["31553","GA","Y","remote",{"$f":"VLOOKUP(B31400,ceva_zone!A:B,2,FALSE)","v":"F"},{"$f":"VLOOKUP(B31400,ceva_zone!A:C,3,FALSE)","v":"B"}]
["31569","GA","Y","remote",{"$f":"VLOOKUP(B31425,ceva_zone!A:B,2,FALSE)","v":"F"},{"$f":"VLOOKUP(B31425,ceva_zone!A:C,3,FALSE)","v":"B"}]
["31638","GA","Y","remote",{"$f":"VLOOKUP(B31446,ceva_zone!A:B,2,FALSE)","v":"F"},{"$f":"VLOOKUP(B31446,ceva_zone!A:C,3,FALSE)","v":"B"}]
["31705","GA","Y","remote",{"$f":"VLOOKUP(B31464,ceva_zone!A:B,2,FALSE)","v":"F"},{"$f":"VLOOKUP(B31464,ceva_zone!A:C,3,FALSE)","v":"B"}]
["31721","GA","Y","remote",{"$f":"VLOOKUP(B31470,ceva_zone!A:B,2,FALSE)","v":"F"},{"$f":"VLOOKUP(B31470,ceva_zone!A:C,3,FALSE)","v":"B"}]
["31735","GA","Y","remote",{"$f":"VLOOKUP(B31495,ceva_zone!A:B,2,FALSE)","v":"F"},{"$f":"VLOOKUP(B31495,ceva_zone!A:C,3,FALSE)","v":"B"}]
["31756","GA","Y","remote",{"$f":"VLOOKUP(B31515,ceva_zone!A:B,2,FALSE)","v":"F"},{"$f":"VLOOKUP(B31515,ceva_zone!A:C,3,FALSE)","v":"B"}]
["31777","GA","D","standard",{"$f":"VLOOKUP(B31534,ceva_zone!A:B,2,FALSE)","v":"F"},{"$f":"VLOOKUP(B31534,ceva_zone!A:C,3,FALSE)","v":"B"}]
["31787","GA","Y","remote",{"$f":"VLOOKUP(B31544,ceva_zone!A:B,2,FALSE)","v":"F"},{"$f":"VLOOKUP(B31544,ceva_zone!A:C,3,FALSE)","v":"B"}]
["31830","GA","Y","remote",{"$f":"VLOOKUP(B31579,ceva_zone!A:B,2,FALSE)","v":"F"},{"$f":"VLOOKUP(B31579,ceva_zone!A:C,3,FALSE)","v":"B"}]
["31997","GA","Y","remote",{"$f":"VLOOKUP(B31598,ceva_zone!A:B,2,FALSE)","v":"F"},{"$f":"VLOOKUP(B31598,ceva_zone!A:C,3,FALSE)","v":"B"}]
["32099","FL","F","remote",{"$f":"VLOOKUP(B31617,ceva_zone!A:B,2,FALSE)","v":"F"},{"$f":"VLOOKUP(B31617,ceva_zone!A:C,3,FALSE)","v":"B"}]
["32071","FL","Y","remote",{"$f":"VLOOKUP(B31633,ceva_zone!A:B,2,FALSE)","v":"F"},{"$f":"VLOOKUP(B31633,ceva_zone!A:C,3,FALSE)","v":"B"}]
["32082","FL","Y","remote",{"$f":"VLOOKUP(B31643,ceva_zone!A:B,2,FALSE)","v":"F"},{"$f":"VLOOKUP(B31643,ceva_zone!A:C,3,FALSE)","v":"B"}]
["32118","FL","G","remote",{"$f":"VLOOKUP(B31668,ceva_zone!A:B,2,FALSE)","v":"F"},{"$f":"VLOOKUP(B31668,ceva_zone!A:C,3,FALSE)","v":"B"}]
["32149","FL","Y","remote",{"$f":"VLOOKUP(B31682,ceva_zone!A:B,2,FALSE)","v":"F"},{"$f":"VLOOKUP(B31682,ceva_zone!A:C,3,FALSE)","v":"B"}]
["32175","FL","G","remote",{"$f":"VLOOKUP(B31707,ceva_zone!A:B,2,FALSE)","v":"F"},{"$f":"VLOOKUP(B31707,ceva_zone!A:C,3,FALSE)","v":"B"}]
["32232","FL","B","standard",{"$f":"VLOOKUP(B31732,ceva_zone!A:B,2,FALSE)","v":"F"},{"$f":"VLOOKUP(B31732,ceva_zone!A:C,3,FALSE)","v":"B"}]
["32229","FL","F","remote",{"$f":"VLOOKUP(B31751,ceva_zone!A:B,2,FALSE)","v":"F"},{"$f":"VLOOKUP(B31751,ceva_zone!A:C,3,FALSE)","v":"B"}]
["32256","FL","F","remote",{"$f":"VLOOKUP(B31775,ceva_zone!A:B,2,FALSE)","v":"F"},{"$f":"VLOOKUP(B31775,ceva_zone!A:C,3,FALSE)","v":"B"}]
["32258","FL","Y","remote",{"$f":"VLOOKUP(B31777,ceva_zone!A:B,2,FALSE)","v":"F"},{"$f":"VLOOKUP(B31777,ceva_zone!A:C,3,FALSE)","v":"B"}]
["32332","FL","Y","remote",{"$f":"VLOOKUP(B31796,ceva_zone!A:B,2,FALSE)","v":"F"},{"$f":"VLOOKUP(B31796,ceva_zone!A:C,3,FALSE)","v":"B"}]
["32359","FL","Y","remote",{"$f":"VLOOKUP(B31820,ceva_zone!A:B,2,FALSE)","v":"F"},{"$f":"VLOOKUP(B31820,ceva_zone!A:C,3,FALSE)","v":"B"}]
["32414","GA","D","standard",{"$f":"VLOOKUP(B31841,ceva_zone!A:B,2,FALSE)","v":"F"},{"$f":"VLOOKUP(B31841,ceva_zone!A:C,3,FALSE)","v":"B"}]
["32443","FL","Z","remote",{"$f":"VLOOKUP(B31860,ceva_zone!A:B,2,FALSE)","v":"F"},{"$f":"VLOOKUP(B31860,ceva_zone!A:C,3,FALSE)","v":"B"}]
["32463","FL","Y","remote",{"$f":"VLOOKUP(B31889,ceva_zone!A:B,2,FALSE)","v":"F"},{"$f":"VLOOKUP(B31889,ceva_zone!A:C,3,FALSE)","v":"B"}]
["32542","FL","Y","remote",{"$f":"VLOOKUP(B31905,ceva_zone!A:B,2,FALSE)","v":"F"},{"$f":"VLOOKUP(B31905,ceva_zone!A:C,3,FALSE)","v":"B"}]
["32561","FL","Y","remote",{"$f":"VLOOKUP(B31911,ceva_zone!A:B,2,FALSE)","v":"F"},{"$f":"VLOOKUP(B31911,ceva_zone!A:C,3,FALSE)","v":"B"}]
["32534","FL","Y","remote",{"$f":"VLOOKUP(B31930,ceva_zone!A:B,2,FALSE)","v":"F"},{"$f":"VLOOKUP(B31930,ceva_zone!A:C,3,FALSE)","v":"B"}]
["32626","FL","Y","remote",{"$f":"VLOOKUP(B31962,ceva_zone!A:B,2,FALSE)","v":"F"},{"$f":"VLOOKUP(B31962,ceva_zone!A:C,3,FALSE)","v":"B"}]
["32608","FL","Y","remote",{"$f":"VLOOKUP(B31975,ceva_zone!A:B,2,FALSE)","v":"F"},{"$f":"VLOOKUP(B31975,ceva_zone!A:C,3,FALSE)","v":"B"}]
["32663","FL","F","remote",{"$f":"VLOOKUP(B31994,ceva_zone!A:B,2,FALSE)","v":"F"},{"$f":"VLOOKUP(B31994,ceva_zone!A:C,3,FALSE)","v":"B"}]
["32701","FL","B","standard",{"$f":"VLOOKUP(B32011,ceva_zone!A:B,2,FALSE)","v":"F"},{"$f":"VLOOKUP(B32011,ceva_zone!A:C,3,FALSE)","v":"B"}]
["32728","FL","D","standard",{"$f":"VLOOKUP(B32039,ceva_zone!A:B,2,FALSE)","v":"F"},{"$f":"VLOOKUP(B32039,ceva_zone!A:C,3,FALSE)","v":"B"}]
["32799","FL","B","standard",{"$f":"VLOOKUP(B32058,ceva_zone!A:B,2,FALSE)","v":"F"},{"$f":"VLOOKUP(B32058,ceva_zone!A:C,3,FALSE)","v":"B"}]
["32780","FL","D","standard",{"$f":"VLOOKUP(B32076,ceva_zone!A:B,2,FALSE)","v":"F"},{"$f":"VLOOKUP(B32076,ceva_zone!A:C,3,FALSE)","v":"B"}]
["32829","FL","B","standard",{"$f":"VLOOKUP(B32103,ceva_zone!A:B,2,FALSE)","v":"F"},{"$f":"VLOOKUP(B32103,ceva_zone!A:C,3,FALSE)","v":"B"}]
["32878","FL","A","standard",{"$f":"VLOOKUP(B32122,ceva_zone!A:B,2,FALSE)","v":"F"},{"$f":"VLOOKUP(B32122,ceva_zone!A:C,3,FALSE)","v":"B"}]
["32821","FL","A","standard",{"$f":"VLOOKUP(B32128,ceva_zone!A:B,2,FALSE)","v":"F"},{"$f":"VLOOKUP(B32128,ceva_zone!A:C,3,FALSE)","v":"B"}]
["32922","FL","D","standard",{"$f":"VLOOKUP(B32149,ceva_zone!A:B,2,FALSE)","v":"F"},{"$f":"VLOOKUP(B32149,ceva_zone!A:C,3,FALSE)","v":"B"}]
["32905","FL","E","remote",{"$f":"VLOOKUP(B32173,ceva_zone!A:B,2,FALSE)","v":"F"},{"$f":"VLOOKUP(B32173,ceva_zone!A:C,3,FALSE)","v":"B"}]
["32959","FL","C","standard",{"$f":"VLOOKUP(B32192,ceva_zone!A:B,2,FALSE)","v":"F"},{"$f":"VLOOKUP(B32192,ceva_zone!A:C,3,FALSE)","v":"B"}]
["33065","FL","F","remote",{"$f":"VLOOKUP(B32218,ceva_zone!A:B,2,FALSE)","v":"F"},{"$f":"VLOOKUP(B32218,ceva_zone!A:C,3,FALSE)","v":"B"}]
["33041","FL","A","standard",{"$f":"VLOOKUP(B32237,ceva_zone!A:B,2,FALSE)","v":"F"},{"$f":"VLOOKUP(B32237,ceva_zone!A:C,3,FALSE)","v":"B"}]
["33090","FL","C","standard",{"$f":"VLOOKUP(B32256,ceva_zone!A:B,2,FALSE)","v":"F"},{"$f":"VLOOKUP(B32256,ceva_zone!A:C,3,FALSE)","v":"B"}]
["33168","FL","B","standard",{"$f":"VLOOKUP(B32275,ceva_zone!A:B,2,FALSE)","v":"F"},{"$f":"VLOOKUP(B32275,ceva_zone!A:C,3,FALSE)","v":"B"}]
["33114","FL","A","standard",{"$f":"VLOOKUP(B32287,ceva_zone!A:B,2,FALSE)","v":"F"},{"$f":"VLOOKUP(B32287,ceva_zone!A:C,3,FALSE)","v":"B"}]
["33187","FL","B","standard",{"$f":"VLOOKUP(B32301,ceva_zone!A:B,2,FALSE)","v":"F"},{"$f":"VLOOKUP(B32301,ceva_zone!A:C,3,FALSE)","v":"B"}]
["33135","FL","A","standard",{"$f":"VLOOKUP(B32326,ceva_zone!A:B,2,FALSE)","v":"F"},{"$f":"VLOOKUP(B32326,ceva_zone!A:C,3,FALSE)","v":"B"}]
["33162","FL","B","standard",{"$f":"VLOOKUP(B32336,ceva_zone!A:B,2,FALSE)","v":"F"},{"$f":"VLOOKUP(B32336,ceva_zone!A:C,3,FALSE)","v":"B"}]
["33283","FL","A","standard",{"$f":"VLOOKUP(B32365,ceva_zone!A:B,2,FALSE)","v":"F"},{"$f":"VLOOKUP(B32365,ceva_zone!A:C,3,FALSE)","v":"B"}]
["33324","FL","D","standard",{"$f":"VLOOKUP(B32390,ceva_zone!A:B,2,FALSE)","v":"F"},{"$f":"VLOOKUP(B32390,ceva_zone!A:C,3,FALSE)","v":"B"}]
["33327","FL","E","remote",{"$f":"VLOOKUP(B32405,ceva_zone!A:B,2,FALSE)","v":"F"},{"$f":"VLOOKUP(B32405,ceva_zone!A:C,3,FALSE)","v":"B"}]
["33462","FL","G","remote",{"$f":"VLOOKUP(B32429,ceva_zone!A:B,2,FALSE)","v":"F"},{"$f":"VLOOKUP(B32429,ceva_zone!A:C,3,FALSE)","v":"B"}]
["33434","FL","F","remote",{"$f":"VLOOKUP(B32435,ceva_zone!A:B,2,FALSE)","v":"F"},{"$f":"VLOOKUP(B32435,ceva_zone!A:C,3,FALSE)","v":"B"}]
["33473","FL","J","remote",{"$f":"VLOOKUP(B32454,ceva_zone!A:B,2,FALSE)","v":"F"},{"$f":"VLOOKUP(B32454,ceva_zone!A:C,3,FALSE)","v":"B"}]
["33463","FL","G","remote",{"$f":"VLOOKUP(B32474,ceva_zone!A:B,2,FALSE)","v":"F"},{"$f":"VLOOKUP(B32474,ceva_zone!A:C,3,FALSE)","v":"B"}]
["33410","FL","G","remote",{"$f":"VLOOKUP(B32499,ceva_zone!A:B,2,FALSE)","v":"F"},{"$f":"VLOOKUP(B32499,ceva_zone!A:C,3,FALSE)","v":"B"}]
["33511","FL","Y","remote",{"$f":"VLOOKUP(B32518,ceva_zone!A:B,2,FALSE)","v":"F"},{"$f":"VLOOKUP(B32518,ceva_zone!A:C,3,FALSE)","v":"B"}]
["33565","FL","Y","remote",{"$f":"VLOOKUP(B32543,ceva_zone!A:B,2,FALSE)","v":"F"},{"$f":"VLOOKUP(B32543,ceva_zone!A:C,3,FALSE)","v":"B"}]
["33595","FL","D","standard",{"$f":"VLOOKUP(B32563,ceva_zone!A:B,2,FALSE)","v":"F"},{"$f":"VLOOKUP(B32563,ceva_zone!A:C,3,FALSE)","v":"B"}]
["33544","FL","Y","remote",{"$f":"VLOOKUP(B32569,ceva_zone!A:B,2,FALSE)","v":"F"},{"$f":"VLOOKUP(B32569,ceva_zone!A:C,3,FALSE)","v":"B"}]
["33689","FL","Y","remote",{"$f":"VLOOKUP(B32592,ceva_zone!A:B,2,FALSE)","v":"F"},{"$f":"VLOOKUP(B32592,ceva_zone!A:C,3,FALSE)","v":"B"}]
["33634","FL","Y","remote",{"$f":"VLOOKUP(B32608,ceva_zone!A:B,2,FALSE)","v":"F"},{"$f":"VLOOKUP(B32608,ceva_zone!A:C,3,FALSE)","v":"B"}]
["33786","FL","Y","remote",{"$f":"VLOOKUP(B32633,ceva_zone!A:B,2,FALSE)","v":"F"},{"$f":"VLOOKUP(B32633,ceva_zone!A:C,3,FALSE)","v":"B"}]
["33732","FL","Y","remote",{"$f":"VLOOKUP(B32652,ceva_zone!A:B,2,FALSE)","v":"F"},{"$f":"VLOOKUP(B32652,ceva_zone!A:C,3,FALSE)","v":"B"}]
["33770","FL","Y","remote",{"$f":"VLOOKUP(B32665,ceva_zone!A:B,2,FALSE)","v":"F"},{"$f":"VLOOKUP(B32665,ceva_zone!A:C,3,FALSE)","v":"B"}]
["33827","FL","G","remote",{"$f":"VLOOKUP(B32697,ceva_zone!A:B,2,FALSE)","v":"F"},{"$f":"VLOOKUP(B32697,ceva_zone!A:C,3,FALSE)","v":"B"}]
["33881","FL","F","remote",{"$f":"VLOOKUP(B32716,ceva_zone!A:B,2,FALSE)","v":"F"},{"$f":"VLOOKUP(B32716,ceva_zone!A:C,3,FALSE)","v":"B"}]
["33852","FL","Y","remote",{"$f":"VLOOKUP(B32730,ceva_zone!A:B,2,FALSE)","v":"F"},{"$f":"VLOOKUP(B32730,ceva_zone!A:C,3,FALSE)","v":"B"}]
["33804","FL","F","remote",{"$f":"VLOOKUP(B32742,ceva_zone!A:B,2,FALSE)","v":"F"},{"$f":"VLOOKUP(B32742,ceva_zone!A:C,3,FALSE)","v":"B"}]
["33920","FL","Y","remote",{"$f":"VLOOKUP(B32761,ceva_zone!A:B,2,FALSE)","v":"F"},{"$f":"VLOOKUP(B32761,ceva_zone!A:C,3,FALSE)","v":"B"}]
["33930","FL","Y","remote",{"$f":"VLOOKUP(B32779,ceva_zone!A:B,2,FALSE)","v":"F"},{"$f":"VLOOKUP(B32779,ceva_zone!A:C,3,FALSE)","v":"B"}]
["33938","FL","Y","remote",{"$f":"VLOOKUP(B32806,ceva_zone!A:B,2,FALSE)","v":"F"},{"$f":"VLOOKUP(B32806,ceva_zone!A:C,3,FALSE)","v":"B"}]
["33960","FL","Y","remote",{"$f":"VLOOKUP(B32825,ceva_zone!A:B,2,FALSE)","v":"F"},{"$f":"VLOOKUP(B32825,ceva_zone!A:C,3,FALSE)","v":"B"}]
["34105","FL","Y","remote",{"$f":"VLOOKUP(B32850,ceva_zone!A:B,2,FALSE)","v":"F"},{"$f":"VLOOKUP(B32850,ceva_zone!A:C,3,FALSE)","v":"B"}]
["34281","FL","Y","remote",{"$f":"VLOOKUP(B32872,ceva_zone!A:B,2,FALSE)","v":"F"},{"$f":"VLOOKUP(B32872,ceva_zone!A:C,3,FALSE)","v":"B"}]
["34218","FL","Y","remote",{"$f":"VLOOKUP(B32876,ceva_zone!A:B,2,FALSE)","v":"F"},{"$f":"VLOOKUP(B32876,ceva_zone!A:C,3,FALSE)","v":"B"}]
["34274","FL","Y","remote",{"$f":"VLOOKUP(B32895,ceva_zone!A:B,2,FALSE)","v":"F"},{"$f":"VLOOKUP(B32895,ceva_zone!A:C,3,FALSE)","v":"B"}]
["34204","FL","Y","remote",{"$f":"VLOOKUP(B32921,ceva_zone!A:B,2,FALSE)","v":"F"},{"$f":"VLOOKUP(B32921,ceva_zone!A:C,3,FALSE)","v":"B"}]
["34487","FL","X","remote",{"$f":"VLOOKUP(B32940,ceva_zone!A:B,2,FALSE)","v":"F"},{"$f":"VLOOKUP(B32940,ceva_zone!A:C,3,FALSE)","v":"B"}]
["34479","FL","G","remote",{"$f":"VLOOKUP(B32959,ceva_zone!A:B,2,FALSE)","v":"F"},{"$f":"VLOOKUP(B32959,ceva_zone!A:C,3,FALSE)","v":"B"}]
["34602","FL","Y","remote",{"$f":"VLOOKUP(B32984,ceva_zone!A:B,2,FALSE)","v":"F"},{"$f":"VLOOKUP(B32984,ceva_zone!A:C,3,FALSE)","v":"B"}]
["34673","FL","Y","remote",{"$f":"VLOOKUP(B33010,ceva_zone!A:B,2,FALSE)","v":"F"},{"$f":"VLOOKUP(B33010,ceva_zone!A:C,3,FALSE)","v":"B"}]
["34729","FL","C","standard",{"$f":"VLOOKUP(B33023,ceva_zone!A:B,2,FALSE)","v":"F"},{"$f":"VLOOKUP(B33023,ceva_zone!A:C,3,FALSE)","v":"B"}]
["34773","FL","C","standard",{"$f":"VLOOKUP(B33048,ceva_zone!A:B,2,FALSE)","v":"F"},{"$f":"VLOOKUP(B33048,ceva_zone!A:C,3,FALSE)","v":"B"}]
["34948","FL","G","remote",{"$f":"VLOOKUP(B33059,ceva_zone!A:B,2,FALSE)","v":"F"},{"$f":"VLOOKUP(B33059,ceva_zone!A:C,3,FALSE)","v":"B"}]
["34994","FL","J","remote",{"$f":"VLOOKUP(B33087,ceva_zone!A:B,2,FALSE)","v":"F"},{"$f":"VLOOKUP(B33087,ceva_zone!A:C,3,FALSE)","v":"B"}]
["35007","AL","Y","remote",{"$f":"VLOOKUP(B33093,ceva_zone!A:B,2,FALSE)","v":"F"},{"$f":"VLOOKUP(B33093,ceva_zone!A:C,3,FALSE)","v":"B"}]
["35023","AL","Y","remote",{"$f":"VLOOKUP(B33108,ceva_zone!A:B,2,FALSE)","v":"F"},{"$f":"VLOOKUP(B33108,ceva_zone!A:C,3,FALSE)","v":"B"}]
["35071","AL","Y","remote",{"$f":"VLOOKUP(B33138,ceva_zone!A:B,2,FALSE)","v":"F"},{"$f":"VLOOKUP(B33138,ceva_zone!A:C,3,FALSE)","v":"B"}]
["35126","AL","Y","remote",{"$f":"VLOOKUP(B33157,ceva_zone!A:B,2,FALSE)","v":"F"},{"$f":"VLOOKUP(B33157,ceva_zone!A:C,3,FALSE)","v":"B"}]
["35133","AL","Y","remote",{"$f":"VLOOKUP(B33176,ceva_zone!A:B,2,FALSE)","v":"F"},{"$f":"VLOOKUP(B33176,ceva_zone!A:C,3,FALSE)","v":"B"}]
["35181","AL","Y","remote",{"$f":"VLOOKUP(B33197,ceva_zone!A:B,2,FALSE)","v":"F"},{"$f":"VLOOKUP(B33197,ceva_zone!A:C,3,FALSE)","v":"B"}]
["35211","AL","A","standard",{"$f":"VLOOKUP(B33221,ceva_zone!A:B,2,FALSE)","v":"F"},{"$f":"VLOOKUP(B33221,ceva_zone!A:C,3,FALSE)","v":"B"}]
["35217","AL","Y","remote",{"$f":"VLOOKUP(B33227,ceva_zone!A:B,2,FALSE)","v":"F"},{"$f":"VLOOKUP(B33227,ceva_zone!A:C,3,FALSE)","v":"B"}]
["35240","AL","Y","remote",{"$f":"VLOOKUP(B33246,ceva_zone!A:B,2,FALSE)","v":"F"},{"$f":"VLOOKUP(B33246,ceva_zone!A:C,3,FALSE)","v":"B"}]
["35296","AL","Y","remote",{"$f":"VLOOKUP(B33266,ceva_zone!A:B,2,FALSE)","v":"F"},{"$f":"VLOOKUP(B33266,ceva_zone!A:C,3,FALSE)","v":"B"}]
["35461","AL","Y","remote",{"$f":"VLOOKUP(B33291,ceva_zone!A:B,2,FALSE)","v":"F"},{"$f":"VLOOKUP(B33291,ceva_zone!A:C,3,FALSE)","v":"B"}]
["35491","AL","Y","remote",{"$f":"VLOOKUP(B33315,ceva_zone!A:B,2,FALSE)","v":"F"},{"$f":"VLOOKUP(B33315,ceva_zone!A:C,3,FALSE)","v":"B"}]
["35549","AL","Y","remote",{"$f":"VLOOKUP(B33330,ceva_zone!A:B,2,FALSE)","v":"F"},{"$f":"VLOOKUP(B33330,ceva_zone!A:C,3,FALSE)","v":"B"}]
["35585","AL","G","remote",{"$f":"VLOOKUP(B33355,ceva_zone!A:B,2,FALSE)","v":"F"},{"$f":"VLOOKUP(B33355,ceva_zone!A:C,3,FALSE)","v":"B"}]
["35601","AL","F","remote",{"$f":"VLOOKUP(B33374,ceva_zone!A:B,2,FALSE)","v":"F"},{"$f":"VLOOKUP(B33374,ceva_zone!A:C,3,FALSE)","v":"B"}]
["35643","AL","Y","remote",{"$f":"VLOOKUP(B33384,ceva_zone!A:B,2,FALSE)","v":"F"},{"$f":"VLOOKUP(B33384,ceva_zone!A:C,3,FALSE)","v":"B"}]
["35672","AL","E","remote",{"$f":"VLOOKUP(B33400,ceva_zone!A:B,2,FALSE)","v":"F"},{"$f":"VLOOKUP(B33400,ceva_zone!A:C,3,FALSE)","v":"B"}]
["35754","AL","Y","remote",{"$f":"VLOOKUP(B33419,ceva_zone!A:B,2,FALSE)","v":"F"},{"$f":"VLOOKUP(B33419,ceva_zone!A:C,3,FALSE)","v":"B"}]
["35895","AL","F","remote",{"$f":"VLOOKUP(B33453,ceva_zone!A:B,2,FALSE)","v":"F"},{"$f":"VLOOKUP(B33453,ceva_zone!A:C,3,FALSE)","v":"B"}]
["35952","AL","E","remote",{"$f":"VLOOKUP(B33464,ceva_zone!A:B,2,FALSE)","v":"F"},{"$f":"VLOOKUP(B33464,ceva_zone!A:C,3,FALSE)","v":"B"}]
["35905","AL","Y","remote",{"$f":"VLOOKUP(B33483,ceva_zone!A:B,2,FALSE)","v":"F"},{"$f":"VLOOKUP(B33483,ceva_zone!A:C,3,FALSE)","v":"B"}]
["35989","AL","Y","remote",{"$f":"VLOOKUP(B33502,ceva_zone!A:B,2,FALSE)","v":"F"},{"$f":"VLOOKUP(B33502,ceva_zone!A:C,3,FALSE)","v":"B"}]
["36030","AL","Y","remote",{"$f":"VLOOKUP(B33528,ceva_zone!A:B,2,FALSE)","v":"F"},{"$f":"VLOOKUP(B33528,ceva_zone!A:C,3,FALSE)","v":"B"}]
["36036","AL","Y","remote",{"$f":"VLOOKUP(B33534,ceva_zone!A:B,2,FALSE)","v":"F"},{"$f":"VLOOKUP(B33534,ceva_zone!A:C,3,FALSE)","v":"B"}]
["36065","AL","Y","remote",{"$f":"VLOOKUP(B33553,ceva_zone!A:B,2,FALSE)","v":"F"},{"$f":"VLOOKUP(B33553,ceva_zone!A:C,3,FALSE)","v":"B"}]
["36102","AL","A","standard",{"$f":"VLOOKUP(B33575,ceva_zone!A:B,2,FALSE)","v":"F"},{"$f":"VLOOKUP(B33575,ceva_zone!A:C,3,FALSE)","v":"B"}]
["36177","AL","Y","remote",{"$f":"VLOOKUP(B33598,ceva_zone!A:B,2,FALSE)","v":"F"},{"$f":"VLOOKUP(B33598,ceva_zone!A:C,3,FALSE)","v":"B"}]
["36251","AL","Z","remote",{"$f":"VLOOKUP(B33617,ceva_zone!A:B,2,FALSE)","v":"F"},{"$f":"VLOOKUP(B33617,ceva_zone!A:C,3,FALSE)","v":"B"}]
["36277","AL","Y","remote",{"$f":"VLOOKUP(B33640,ceva_zone!A:B,2,FALSE)","v":"F"},{"$f":"VLOOKUP(B33640,ceva_zone!A:C,3,FALSE)","v":"B"}]
["36303","AL","E","remote",{"$f":"VLOOKUP(B33662,ceva_zone!A:B,2,FALSE)","v":"F"},{"$f":"VLOOKUP(B33662,ceva_zone!A:C,3,FALSE)","v":"B"}]
["36376","AL","Y","remote",{"$f":"VLOOKUP(B33681,ceva_zone!A:B,2,FALSE)","v":"F"},{"$f":"VLOOKUP(B33681,ceva_zone!A:C,3,FALSE)","v":"B"}]
["36425","AL","Y","remote",{"$f":"VLOOKUP(B33687,ceva_zone!A:B,2,FALSE)","v":"F"},{"$f":"VLOOKUP(B33687,ceva_zone!A:C,3,FALSE)","v":"B"}]
["36457","AL","Y","remote",{"$f":"VLOOKUP(B33713,ceva_zone!A:B,2,FALSE)","v":"F"},{"$f":"VLOOKUP(B33713,ceva_zone!A:C,3,FALSE)","v":"B"}]
["36503","AL","Y","remote",{"$f":"VLOOKUP(B33726,ceva_zone!A:B,2,FALSE)","v":"F"},{"$f":"VLOOKUP(B33726,ceva_zone!A:C,3,FALSE)","v":"B"}]
["36553","AL","Y","remote",{"$f":"VLOOKUP(B33751,ceva_zone!A:B,2,FALSE)","v":"F"},{"$f":"VLOOKUP(B33751,ceva_zone!A:C,3,FALSE)","v":"B"}]
["36578","AL","Y","remote",{"$f":"VLOOKUP(B33782,ceva_zone!A:B,2,FALSE)","v":"F"},{"$f":"VLOOKUP(B33782,ceva_zone!A:C,3,FALSE)","v":"B"}]
["36631","AL","Y","remote",{"$f":"VLOOKUP(B33796,ceva_zone!A:B,2,FALSE)","v":"F"},{"$f":"VLOOKUP(B33796,ceva_zone!A:C,3,FALSE)","v":"B"}]
["36670","AL","Y","remote",{"$f":"VLOOKUP(B33815,ceva_zone!A:B,2,FALSE)","v":"F"},{"$f":"VLOOKUP(B33815,ceva_zone!A:C,3,FALSE)","v":"B"}]
["36601","AL","Y","remote",{"$f":"VLOOKUP(B33831,ceva_zone!A:B,2,FALSE)","v":"F"},{"$f":"VLOOKUP(B33831,ceva_zone!A:C,3,FALSE)","v":"B"}]
["36752","AL","Y","remote",{"$f":"VLOOKUP(B33841,ceva_zone!A:B,2,FALSE)","v":"F"},{"$f":"VLOOKUP(B33841,ceva_zone!A:C,3,FALSE)","v":"B"}]
["36766","AL","Y","remote",{"$f":"VLOOKUP(B33860,ceva_zone!A:B,2,FALSE)","v":"F"},{"$f":"VLOOKUP(B33860,ceva_zone!A:C,3,FALSE)","v":"B"}]
["36830","AL","Y","remote",{"$f":"VLOOKUP(B33885,ceva_zone!A:B,2,FALSE)","v":"F"},{"$f":"VLOOKUP(B33885,ceva_zone!A:C,3,FALSE)","v":"B"}]
["36863","AL","Y","remote",{"$f":"VLOOKUP(B33900,ceva_zone!A:B,2,FALSE)","v":"F"},{"$f":"VLOOKUP(B33900,ceva_zone!A:C,3,FALSE)","v":"B"}]
["36916","AL","Z","remote",{"$f":"VLOOKUP(B33924,ceva_zone!A:B,2,FALSE)","v":"F"},{"$f":"VLOOKUP(B33924,ceva_zone!A:C,3,FALSE)","v":"B"}]
["37032","TN","D","standard",{"$f":"VLOOKUP(B33949,ceva_zone!A:B,2,FALSE)","v":"F"},{"$f":"VLOOKUP(B33949,ceva_zone!A:C,3,FALSE)","v":"B"}]
["37058","TN","G","remote",{"$f":"VLOOKUP(B33969,ceva_zone!A:B,2,FALSE)","v":"F"},{"$f":"VLOOKUP(B33969,ceva_zone!A:C,3,FALSE)","v":"B"}]
["37077","TN","B","standard",{"$f":"VLOOKUP(B33988,ceva_zone!A:B,2,FALSE)","v":"F"},{"$f":"VLOOKUP(B33988,ceva_zone!A:C,3,FALSE)","v":"B"}]
["37119","TN","D","standard",{"$f":"VLOOKUP(B34013,ceva_zone!A:B,2,FALSE)","v":"F"},{"$f":"VLOOKUP(B34013,ceva_zone!A:C,3,FALSE)","v":"B"}]
["37129","TN","C","standard",{"$f":"VLOOKUP(B34018,ceva_zone!A:B,2,FALSE)","v":"F"},{"$f":"VLOOKUP(B34018,ceva_zone!A:C,3,FALSE)","v":"B"}]
["37153","TN","D","standard",{"$f":"VLOOKUP(B34039,ceva_zone!A:B,2,FALSE)","v":"F"},{"$f":"VLOOKUP(B34039,ceva_zone!A:C,3,FALSE)","v":"B"}]
["37187","TN","D","standard",{"$f":"VLOOKUP(B34058,ceva_zone!A:B,2,FALSE)","v":"F"},{"$f":"VLOOKUP(B34058,ceva_zone!A:C,3,FALSE)","v":"B"}]
["37228","TN","A","standard",{"$f":"VLOOKUP(B34077,ceva_zone!A:B,2,FALSE)","v":"F"},{"$f":"VLOOKUP(B34077,ceva_zone!A:C,3,FALSE)","v":"B"}]
["37302","TN","Y","remote",{"$f":"VLOOKUP(B34107,ceva_zone!A:B,2,FALSE)","v":"F"},{"$f":"VLOOKUP(B34107,ceva_zone!A:C,3,FALSE)","v":"B"}]
["37320","TN","Y","remote",{"$f":"VLOOKUP(B34122,ceva_zone!A:B,2,FALSE)","v":"F"},{"$f":"VLOOKUP(B34122,ceva_zone!A:C,3,FALSE)","v":"B"}]
["37333","TN","Y","remote",{"$f":"VLOOKUP(B34141,ceva_zone!A:B,2,FALSE)","v":"F"},{"$f":"VLOOKUP(B34141,ceva_zone!A:C,3,FALSE)","v":"B"}]
["37351","TN","Y","remote",{"$f":"VLOOKUP(B34156,ceva_zone!A:B,2,FALSE)","v":"F"},{"$f":"VLOOKUP(B34156,ceva_zone!A:C,3,FALSE)","v":"B"}]
["37387","TN","Y","remote",{"$f":"VLOOKUP(B34186,ceva_zone!A:B,2,FALSE)","v":"F"},{"$f":"VLOOKUP(B34186,ceva_zone!A:C,3,FALSE)","v":"B"}]
["37422","TN","Y","remote",{"$f":"VLOOKUP(B34192,ceva_zone!A:B,2,FALSE)","v":"F"},{"$f":"VLOOKUP(B34192,ceva_zone!A:C,3,FALSE)","v":"B"}]
["37402","TN","Y","remote",{"$f":"VLOOKUP(B34211,ceva_zone!A:B,2,FALSE)","v":"F"},{"$f":"VLOOKUP(B34211,ceva_zone!A:C,3,FALSE)","v":"B"}]
["37650","TN","Z","remote",{"$f":"VLOOKUP(B34229,ceva_zone!A:B,2,FALSE)","v":"F"},{"$f":"VLOOKUP(B34229,ceva_zone!A:C,3,FALSE)","v":"B"}]
["37701","TN","Y","remote",{"$f":"VLOOKUP(B34256,ceva_zone!A:B,2,FALSE)","v":"F"},{"$f":"VLOOKUP(B34256,ceva_zone!A:C,3,FALSE)","v":"B"}]
["37726","TN","Z","remote",{"$f":"VLOOKUP(B34275,ceva_zone!A:B,2,FALSE)","v":"F"},{"$f":"VLOOKUP(B34275,ceva_zone!A:C,3,FALSE)","v":"B"}]
["37760","TN","Y","remote",{"$f":"VLOOKUP(B34294,ceva_zone!A:B,2,FALSE)","v":"F"},{"$f":"VLOOKUP(B34294,ceva_zone!A:C,3,FALSE)","v":"B"}]
["37810","TN","Y","remote",{"$f":"VLOOKUP(B34320,ceva_zone!A:B,2,FALSE)","v":"F"},{"$f":"VLOOKUP(B34320,ceva_zone!A:C,3,FALSE)","v":"B"}]
["37841","TN","Z","remote",{"$f":"VLOOKUP(B34339,ceva_zone!A:B,2,FALSE)","v":"F"},{"$f":"VLOOKUP(B34339,ceva_zone!A:C,3,FALSE)","v":"B"}]
["37868","TN","Y","remote",{"$f":"VLOOKUP(B34343,ceva_zone!A:B,2,FALSE)","v":"F"},{"$f":"VLOOKUP(B34343,ceva_zone!A:C,3,FALSE)","v":"B"}]
["37877","TN","Y","remote",{"$f":"VLOOKUP(B34365,ceva_zone!A:B,2,FALSE)","v":"F"},{"$f":"VLOOKUP(B34365,ceva_zone!A:C,3,FALSE)","v":"B"}]
["37919","TN","Y","remote",{"$f":"VLOOKUP(B34384,ceva_zone!A:B,2,FALSE)","v":"F"},{"$f":"VLOOKUP(B34384,ceva_zone!A:C,3,FALSE)","v":"B"}]
["38002","TN","C","standard",{"$f":"VLOOKUP(B34409,ceva_zone!A:B,2,FALSE)","v":"F"},{"$f":"VLOOKUP(B34409,ceva_zone!A:C,3,FALSE)","v":"B"}]
["38039","TN","D","standard",{"$f":"VLOOKUP(B34436,ceva_zone!A:B,2,FALSE)","v":"F"},{"$f":"VLOOKUP(B34436,ceva_zone!A:C,3,FALSE)","v":"B"}]
["38059","TN","Y","remote",{"$f":"VLOOKUP(B34454,ceva_zone!A:B,2,FALSE)","v":"F"},{"$f":"VLOOKUP(B34454,ceva_zone!A:C,3,FALSE)","v":"B"}]
["38138","TN","B","standard",{"$f":"VLOOKUP(B34473,ceva_zone!A:B,2,FALSE)","v":"F"},{"$f":"VLOOKUP(B34473,ceva_zone!A:C,3,FALSE)","v":"B"}]
["38109","TN","A","standard",{"$f":"VLOOKUP(B34485,ceva_zone!A:B,2,FALSE)","v":"F"},{"$f":"VLOOKUP(B34485,ceva_zone!A:C,3,FALSE)","v":"B"}]
["38130","TN","B","standard",{"$f":"VLOOKUP(B34499,ceva_zone!A:B,2,FALSE)","v":"F"},{"$f":"VLOOKUP(B34499,ceva_zone!A:C,3,FALSE)","v":"B"}]
["38163","TN","B","standard",{"$f":"VLOOKUP(B34518,ceva_zone!A:B,2,FALSE)","v":"F"},{"$f":"VLOOKUP(B34518,ceva_zone!A:C,3,FALSE)","v":"B"}]
["38251","TN","Y","remote",{"$f":"VLOOKUP(B34554,ceva_zone!A:B,2,FALSE)","v":"F"},{"$f":"VLOOKUP(B34554,ceva_zone!A:C,3,FALSE)","v":"B"}]
["38261","TN","Y","remote",{"$f":"VLOOKUP(B34563,ceva_zone!A:B,2,FALSE)","v":"F"},{"$f":"VLOOKUP(B34563,ceva_zone!A:C,3,FALSE)","v":"B"}]
["38329","TN","Y","remote",{"$f":"VLOOKUP(B34582,ceva_zone!A:B,2,FALSE)","v":"F"},{"$f":"VLOOKUP(B34582,ceva_zone!A:C,3,FALSE)","v":"B"}]
["38352","TN","Y","remote",{"$f":"VLOOKUP(B34607,ceva_zone!A:B,2,FALSE)","v":"F"},{"$f":"VLOOKUP(B34607,ceva_zone!A:C,3,FALSE)","v":"B"}]
["38371","TN","Y","remote",{"$f":"VLOOKUP(B34623,ceva_zone!A:B,2,FALSE)","v":"F"},{"$f":"VLOOKUP(B34623,ceva_zone!A:C,3,FALSE)","v":"B"}]
["38454","TN","Y","remote",{"$f":"VLOOKUP(B34646,ceva_zone!A:B,2,FALSE)","v":"F"},{"$f":"VLOOKUP(B34646,ceva_zone!A:C,3,FALSE)","v":"B"}]
["38461","TN","Y","remote",{"$f":"VLOOKUP(B34652,ceva_zone!A:B,2,FALSE)","v":"F"},{"$f":"VLOOKUP(B34652,ceva_zone!A:C,3,FALSE)","v":"B"}]
["38487","TN","Y","remote",{"$f":"VLOOKUP(B34672,ceva_zone!A:B,2,FALSE)","v":"F"},{"$f":"VLOOKUP(B34672,ceva_zone!A:C,3,FALSE)","v":"B"}]
["38559","TN","Y","remote",{"$f":"VLOOKUP(B34697,ceva_zone!A:B,2,FALSE)","v":"F"},{"$f":"VLOOKUP(B34697,ceva_zone!A:C,3,FALSE)","v":"B"}]
["38582","TN","Y","remote",{"$f":"VLOOKUP(B34716,ceva_zone!A:B,2,FALSE)","v":"F"},{"$f":"VLOOKUP(B34716,ceva_zone!A:C,3,FALSE)","v":"B"}]
["38663","MS","Y","remote",{"$f":"VLOOKUP(B34741,ceva_zone!A:B,2,FALSE)","v":"F"},{"$f":"VLOOKUP(B34741,ceva_zone!A:C,3,FALSE)","v":"B"}]
["38634","MS","D","standard",{"$f":"VLOOKUP(B34761,ceva_zone!A:B,2,FALSE)","v":"F"},{"$f":"VLOOKUP(B34761,ceva_zone!A:C,3,FALSE)","v":"B"}]
["38672","MS","A","standard",{"$f":"VLOOKUP(B34780,ceva_zone!A:B,2,FALSE)","v":"F"},{"$f":"VLOOKUP(B34780,ceva_zone!A:C,3,FALSE)","v":"B"}]
["38733","MS","Y","remote",{"$f":"VLOOKUP(B34799,ceva_zone!A:B,2,FALSE)","v":"F"},{"$f":"VLOOKUP(B34799,ceva_zone!A:C,3,FALSE)","v":"B"}]
["38745","MS","Y","remote",{"$f":"VLOOKUP(B34810,ceva_zone!A:B,2,FALSE)","v":"F"},{"$f":"VLOOKUP(B34810,ceva_zone!A:C,3,FALSE)","v":"B"}]
["38768","MS","Y","remote",{"$f":"VLOOKUP(B34825,ceva_zone!A:B,2,FALSE)","v":"F"},{"$f":"VLOOKUP(B34825,ceva_zone!A:C,3,FALSE)","v":"B"}]
["38838","MS","Y","remote",{"$f":"VLOOKUP(B34850,ceva_zone!A:B,2,FALSE)","v":"F"},{"$f":"VLOOKUP(B34850,ceva_zone!A:C,3,FALSE)","v":"B"}]
["38877","MS","Y","remote",{"$f":"VLOOKUP(B34879,ceva_zone!A:B,2,FALSE)","v":"F"},{"$f":"VLOOKUP(B34879,ceva_zone!A:C,3,FALSE)","v":"B"}]
["38963","MS","Y","remote",{"$f":"VLOOKUP(B34889,ceva_zone!A:B,2,FALSE)","v":"F"},{"$f":"VLOOKUP(B34889,ceva_zone!A:C,3,FALSE)","v":"B"}]
["38961","MS","Y","remote",{"$f":"VLOOKUP(B34914,ceva_zone!A:B,2,FALSE)","v":"F"},{"$f":"VLOOKUP(B34914,ceva_zone!A:C,3,FALSE)","v":"B"}]
["39043","MS","Y","remote",{"$f":"VLOOKUP(B34933,ceva_zone!A:B,2,FALSE)","v":"F"},{"$f":"VLOOKUP(B34933,ceva_zone!A:C,3,FALSE)","v":"B"}]
["39063","MS","Y","remote",{"$f":"VLOOKUP(B34948,ceva_zone!A:B,2,FALSE)","v":"F"},{"$f":"VLOOKUP(B34948,ceva_zone!A:C,3,FALSE)","v":"B"}]
["39109","MS","Y","remote",{"$f":"VLOOKUP(B34978,ceva_zone!A:B,2,FALSE)","v":"F"},{"$f":"VLOOKUP(B34978,ceva_zone!A:C,3,FALSE)","v":"B"}]
["39148","MS","Y","remote",{"$f":"VLOOKUP(B34997,ceva_zone!A:B,2,FALSE)","v":"F"},{"$f":"VLOOKUP(B34997,ceva_zone!A:C,3,FALSE)","v":"B"}]
["39171","MS","Y","remote",{"$f":"VLOOKUP(B35017,ceva_zone!A:B,2,FALSE)","v":"F"},{"$f":"VLOOKUP(B35017,ceva_zone!A:C,3,FALSE)","v":"B"}]
["39183","MS","Y","remote",{"$f":"VLOOKUP(B35023,ceva_zone!A:B,2,FALSE)","v":"F"},{"$f":"VLOOKUP(B35023,ceva_zone!A:C,3,FALSE)","v":"B"}]
["39217","MS","Y","remote",{"$f":"VLOOKUP(B35042,ceva_zone!A:B,2,FALSE)","v":"F"},{"$f":"VLOOKUP(B35042,ceva_zone!A:C,3,FALSE)","v":"B"}]
["39323","MS","Y","remote",{"$f":"VLOOKUP(B35066,ceva_zone!A:B,2,FALSE)","v":"F"},{"$f":"VLOOKUP(B35066,ceva_zone!A:C,3,FALSE)","v":"B"}]
["39345","MS","Y","remote",{"$f":"VLOOKUP(B35087,ceva_zone!A:B,2,FALSE)","v":"F"},{"$f":"VLOOKUP(B35087,ceva_zone!A:C,3,FALSE)","v":"B"}]
["39422","MS","Y","remote",{"$f":"VLOOKUP(B35112,ceva_zone!A:B,2,FALSE)","v":"F"},{"$f":"VLOOKUP(B35112,ceva_zone!A:C,3,FALSE)","v":"B"}]
["39404","MS","Y","remote",{"$f":"VLOOKUP(B35131,ceva_zone!A:B,2,FALSE)","v":"F"},{"$f":"VLOOKUP(B35131,ceva_zone!A:C,3,FALSE)","v":"B"}]
["39474","MS","Y","remote",{"$f":"VLOOKUP(B35139,ceva_zone!A:B,2,FALSE)","v":"F"},{"$f":"VLOOKUP(B35139,ceva_zone!A:C,3,FALSE)","v":"B"}]
["39572","MS","H","remote",{"$f":"VLOOKUP(B35157,ceva_zone!A:B,2,FALSE)","v":"F"},{"$f":"VLOOKUP(B35157,ceva_zone!A:C,3,FALSE)","v":"B"}]
["39507","MS","Y","remote",{"$f":"VLOOKUP(B35176,ceva_zone!A:B,2,FALSE)","v":"F"},{"$f":"VLOOKUP(B35176,ceva_zone!A:C,3,FALSE)","v":"B"}]
["39643","MS","Y","remote",{"$f":"VLOOKUP(B35208,ceva_zone!A:B,2,FALSE)","v":"F"},{"$f":"VLOOKUP(B35208,ceva_zone!A:C,3,FALSE)","v":"B"}]
["39773","MS","Y","remote",{"$f":"VLOOKUP(B35221,ceva_zone!A:B,2,FALSE)","v":"F"},{"$f":"VLOOKUP(B35221,ceva_zone!A:C,3,FALSE)","v":"B"}]
["39702","MS","Y","remote",{"$f":"VLOOKUP(B35240,ceva_zone!A:B,2,FALSE)","v":"F"},{"$f":"VLOOKUP(B35240,ceva_zone!A:C,3,FALSE)","v":"B"}]
["39756","MS","Y","remote",{"$f":"VLOOKUP(B35253,ceva_zone!A:B,2,FALSE)","v":"F"},{"$f":"VLOOKUP(B35253,ceva_zone!A:C,3,FALSE)","v":"B"}]
["39870","GA","Y","remote",{"$f":"VLOOKUP(B35285,ceva_zone!A:B,2,FALSE)","v":"F"},{"$f":"VLOOKUP(B35285,ceva_zone!A:C,3,FALSE)","v":"B"}]
["40013","KY","C","standard",{"$f":"VLOOKUP(B35304,ceva_zone!A:B,2,FALSE)","v":"E"},{"$f":"VLOOKUP(B35304,ceva_zone!A:C,3,FALSE)","v":"C"}]
["40023","KY","C","standard",{"$f":"VLOOKUP(B35310,ceva_zone!A:B,2,FALSE)","v":"E"},{"$f":"VLOOKUP(B35310,ceva_zone!A:C,3,FALSE)","v":"C"}]
["40047","KY","C","standard",{"$f":"VLOOKUP(B35326,ceva_zone!A:B,2,FALSE)","v":"E"},{"$f":"VLOOKUP(B35326,ceva_zone!A:C,3,FALSE)","v":"C"}]
["40177","KY","C","standard",{"$f":"VLOOKUP(B35355,ceva_zone!A:B,2,FALSE)","v":"E"},{"$f":"VLOOKUP(B35355,ceva_zone!A:C,3,FALSE)","v":"C"}]
["40176","KY","Y","remote",{"$f":"VLOOKUP(B35374,ceva_zone!A:B,2,FALSE)","v":"E"},{"$f":"VLOOKUP(B35374,ceva_zone!A:C,3,FALSE)","v":"C"}]
["40214","KY","A","standard",{"$f":"VLOOKUP(B35395,ceva_zone!A:B,2,FALSE)","v":"E"},{"$f":"VLOOKUP(B35395,ceva_zone!A:C,3,FALSE)","v":"C"}]
["40259","KY","A","standard",{"$f":"VLOOKUP(B35419,ceva_zone!A:B,2,FALSE)","v":"E"},{"$f":"VLOOKUP(B35419,ceva_zone!A:C,3,FALSE)","v":"C"}]
["40293","KY","A","standard",{"$f":"VLOOKUP(B35438,ceva_zone!A:B,2,FALSE)","v":"E"},{"$f":"VLOOKUP(B35438,ceva_zone!A:C,3,FALSE)","v":"C"}]
["40319","KY","Y","remote",{"$f":"VLOOKUP(B35457,ceva_zone!A:B,2,FALSE)","v":"E"},{"$f":"VLOOKUP(B35457,ceva_zone!A:C,3,FALSE)","v":"C"}]
["40337","KY","Y","remote",{"$f":"VLOOKUP(B35464,ceva_zone!A:B,2,FALSE)","v":"E"},{"$f":"VLOOKUP(B35464,ceva_zone!A:C,3,FALSE)","v":"C"}]
["40380","KY","F","remote",{"$f":"VLOOKUP(B35483,ceva_zone!A:B,2,FALSE)","v":"E"},{"$f":"VLOOKUP(B35483,ceva_zone!A:C,3,FALSE)","v":"C"}]
["40440","KY","Y","remote",{"$f":"VLOOKUP(B35508,ceva_zone!A:B,2,FALSE)","v":"E"},{"$f":"VLOOKUP(B35508,ceva_zone!A:C,3,FALSE)","v":"C"}]
["40508","KY","F","remote",{"$f":"VLOOKUP(B35533,ceva_zone!A:B,2,FALSE)","v":"E"},{"$f":"VLOOKUP(B35533,ceva_zone!A:C,3,FALSE)","v":"C"}]
["40533","KY","F","remote",{"$f":"VLOOKUP(B35547,ceva_zone!A:B,2,FALSE)","v":"E"},{"$f":"VLOOKUP(B35547,ceva_zone!A:C,3,FALSE)","v":"C"}]
["40618","KY","F","remote",{"$f":"VLOOKUP(B35572,ceva_zone!A:B,2,FALSE)","v":"E"},{"$f":"VLOOKUP(B35572,ceva_zone!A:C,3,FALSE)","v":"C"}]
["40740","KY","Y","remote",{"$f":"VLOOKUP(B35582,ceva_zone!A:B,2,FALSE)","v":"E"},{"$f":"VLOOKUP(B35582,ceva_zone!A:C,3,FALSE)","v":"C"}]
["40847","KY","Y","remote",{"$f":"VLOOKUP(B35598,ceva_zone!A:B,2,FALSE)","v":"E"},{"$f":"VLOOKUP(B35598,ceva_zone!A:C,3,FALSE)","v":"C"}]
["40849","KY","Y","remote",{"$f":"VLOOKUP(B35617,ceva_zone!A:B,2,FALSE)","v":"E"},{"$f":"VLOOKUP(B35617,ceva_zone!A:C,3,FALSE)","v":"C"}]
["40914","KY","Y","remote",{"$f":"VLOOKUP(B35636,ceva_zone!A:B,2,FALSE)","v":"E"},{"$f":"VLOOKUP(B35636,ceva_zone!A:C,3,FALSE)","v":"C"}]
["41093","KY","E","remote",{"$f":"VLOOKUP(B35671,ceva_zone!A:B,2,FALSE)","v":"E"},{"$f":"VLOOKUP(B35671,ceva_zone!A:C,3,FALSE)","v":"C"}]
["41016","KY","A","standard",{"$f":"VLOOKUP(B35681,ceva_zone!A:B,2,FALSE)","v":"E"},{"$f":"VLOOKUP(B35681,ceva_zone!A:C,3,FALSE)","v":"C"}]
["41033","KY","E","remote",{"$f":"VLOOKUP(B35700,ceva_zone!A:B,2,FALSE)","v":"E"},{"$f":"VLOOKUP(B35700,ceva_zone!A:C,3,FALSE)","v":"C"}]
["41099","KY","B","standard",{"$f":"VLOOKUP(B35720,ceva_zone!A:B,2,FALSE)","v":"E"},{"$f":"VLOOKUP(B35720,ceva_zone!A:C,3,FALSE)","v":"C"}]
["41132","KY","Y","remote",{"$f":"VLOOKUP(B35745,ceva_zone!A:B,2,FALSE)","v":"E"},{"$f":"VLOOKUP(B35745,ceva_zone!A:C,3,FALSE)","v":"C"}]
["41142","KY","Y","remote",{"$f":"VLOOKUP(B35751,ceva_zone!A:B,2,FALSE)","v":"E"},{"$f":"VLOOKUP(B35751,ceva_zone!A:C,3,FALSE)","v":"C"}]
["41271","KY","Y","remote",{"$f":"VLOOKUP(B35789,ceva_zone!A:B,2,FALSE)","v":"E"},{"$f":"VLOOKUP(B35789,ceva_zone!A:C,3,FALSE)","v":"C"}]
["41274","KY","Y","remote",{"$f":"VLOOKUP(B35790,ceva_zone!A:B,2,FALSE)","v":"E"},{"$f":"VLOOKUP(B35790,ceva_zone!A:C,3,FALSE)","v":"C"}]
["41390","KY","Y","remote",{"$f":"VLOOKUP(B35815,ceva_zone!A:B,2,FALSE)","v":"E"},{"$f":"VLOOKUP(B35815,ceva_zone!A:C,3,FALSE)","v":"C"}]
["41528","KY","Y","remote",{"$f":"VLOOKUP(B35834,ceva_zone!A:B,2,FALSE)","v":"E"},{"$f":"VLOOKUP(B35834,ceva_zone!A:C,3,FALSE)","v":"C"}]
["41554","KY","Y","remote",{"$f":"VLOOKUP(B35862,ceva_zone!A:B,2,FALSE)","v":"E"},{"$f":"VLOOKUP(B35862,ceva_zone!A:C,3,FALSE)","v":"C"}]
["41607","KY","Y","remote",{"$f":"VLOOKUP(B35879,ceva_zone!A:B,2,FALSE)","v":"E"},{"$f":"VLOOKUP(B35879,ceva_zone!A:C,3,FALSE)","v":"C"}]
["41651","KY","Y","remote",{"$f":"VLOOKUP(B35898,ceva_zone!A:B,2,FALSE)","v":"E"},{"$f":"VLOOKUP(B35898,ceva_zone!A:C,3,FALSE)","v":"C"}]
["41759","KY","Y","remote",{"$f":"VLOOKUP(B35907,ceva_zone!A:B,2,FALSE)","v":"E"},{"$f":"VLOOKUP(B35907,ceva_zone!A:C,3,FALSE)","v":"C"}]
["41836","KY","Y","remote",{"$f":"VLOOKUP(B35943,ceva_zone!A:B,2,FALSE)","v":"E"},{"$f":"VLOOKUP(B35943,ceva_zone!A:C,3,FALSE)","v":"C"}]
["41826","KY","Y","remote",{"$f":"VLOOKUP(B35962,ceva_zone!A:B,2,FALSE)","v":"E"},{"$f":"VLOOKUP(B35962,ceva_zone!A:C,3,FALSE)","v":"C"}]
["42020","KY","Y","remote",{"$f":"VLOOKUP(B35976,ceva_zone!A:B,2,FALSE)","v":"E"},{"$f":"VLOOKUP(B35976,ceva_zone!A:C,3,FALSE)","v":"C"}]
["42086","KY","Y","remote",{"$f":"VLOOKUP(B35988,ceva_zone!A:B,2,FALSE)","v":"E"},{"$f":"VLOOKUP(B35988,ceva_zone!A:C,3,FALSE)","v":"C"}]
["42061","KY","Y","remote",{"$f":"VLOOKUP(B36013,ceva_zone!A:B,2,FALSE)","v":"E"},{"$f":"VLOOKUP(B36013,ceva_zone!A:C,3,FALSE)","v":"C"}]
["42122","KY","H","remote",{"$f":"VLOOKUP(B36032,ceva_zone!A:B,2,FALSE)","v":"E"},{"$f":"VLOOKUP(B36032,ceva_zone!A:C,3,FALSE)","v":"C"}]
["42171","KY","H","remote",{"$f":"VLOOKUP(B36049,ceva_zone!A:B,2,FALSE)","v":"E"},{"$f":"VLOOKUP(B36049,ceva_zone!A:C,3,FALSE)","v":"C"}]
["42241","KY","G","remote",{"$f":"VLOOKUP(B36077,ceva_zone!A:B,2,FALSE)","v":"E"},{"$f":"VLOOKUP(B36077,ceva_zone!A:C,3,FALSE)","v":"C"}]
["42266","KY","Y","remote",{"$f":"VLOOKUP(B36096,ceva_zone!A:B,2,FALSE)","v":"E"},{"$f":"VLOOKUP(B36096,ceva_zone!A:C,3,FALSE)","v":"C"}]
["42283","KY","Y","remote",{"$f":"VLOOKUP(B36098,ceva_zone!A:B,2,FALSE)","v":"E"},{"$f":"VLOOKUP(B36098,ceva_zone!A:C,3,FALSE)","v":"C"}]
["42347","KY","Y","remote",{"$f":"VLOOKUP(B36122,ceva_zone!A:B,2,FALSE)","v":"E"},{"$f":"VLOOKUP(B36122,ceva_zone!A:C,3,FALSE)","v":"C"}]
["42372","KY","Y","remote",{"$f":"VLOOKUP(B36141,ceva_zone!A:B,2,FALSE)","v":"E"},{"$f":"VLOOKUP(B36141,ceva_zone!A:C,3,FALSE)","v":"C"}]
["42451","KY","Y","remote",{"$f":"VLOOKUP(B36166,ceva_zone!A:B,2,FALSE)","v":"E"},{"$f":"VLOOKUP(B36166,ceva_zone!A:C,3,FALSE)","v":"C"}]
["42528","KY","Y","remote",{"$f":"VLOOKUP(B36187,ceva_zone!A:B,2,FALSE)","v":"E"},{"$f":"VLOOKUP(B36187,ceva_zone!A:C,3,FALSE)","v":"C"}]
["42638","KY","Y","remote",{"$f":"VLOOKUP(B36205,ceva_zone!A:B,2,FALSE)","v":"E"},{"$f":"VLOOKUP(B36205,ceva_zone!A:C,3,FALSE)","v":"C"}]
["42701","KY","D","standard",{"$f":"VLOOKUP(B36230,ceva_zone!A:B,2,FALSE)","v":"E"},{"$f":"VLOOKUP(B36230,ceva_zone!A:C,3,FALSE)","v":"C"}]
["42746","KY","Y","remote",{"$f":"VLOOKUP(B36236,ceva_zone!A:B,2,FALSE)","v":"E"},{"$f":"VLOOKUP(B36236,ceva_zone!A:C,3,FALSE)","v":"C"}]
["43062","OH","B","standard",{"$f":"VLOOKUP(B36269,ceva_zone!A:B,2,FALSE)","v":"E"},{"$f":"VLOOKUP(B36269,ceva_zone!A:C,3,FALSE)","v":"C"}]
["43071","OH","D","standard",{"$f":"VLOOKUP(B36275,ceva_zone!A:B,2,FALSE)","v":"E"},{"$f":"VLOOKUP(B36275,ceva_zone!A:C,3,FALSE)","v":"C"}]
["43065","OH","C","standard",{"$f":"VLOOKUP(B36305,ceva_zone!A:B,2,FALSE)","v":"E"},{"$f":"VLOOKUP(B36305,ceva_zone!A:C,3,FALSE)","v":"C"}]
["43143","OH","C","standard",{"$f":"VLOOKUP(B36320,ceva_zone!A:B,2,FALSE)","v":"E"},{"$f":"VLOOKUP(B36320,ceva_zone!A:C,3,FALSE)","v":"C"}]
["43160","OH","D","standard",{"$f":"VLOOKUP(B36339,ceva_zone!A:B,2,FALSE)","v":"E"},{"$f":"VLOOKUP(B36339,ceva_zone!A:C,3,FALSE)","v":"C"}]
["43147","OH","B","standard",{"$f":"VLOOKUP(B36358,ceva_zone!A:B,2,FALSE)","v":"E"},{"$f":"VLOOKUP(B36358,ceva_zone!A:C,3,FALSE)","v":"C"}]
["43224","OH","B","standard",{"$f":"VLOOKUP(B36374,ceva_zone!A:B,2,FALSE)","v":"E"},{"$f":"VLOOKUP(B36374,ceva_zone!A:C,3,FALSE)","v":"C"}]
["43287","OH","B","standard",{"$f":"VLOOKUP(B36403,ceva_zone!A:B,2,FALSE)","v":"E"},{"$f":"VLOOKUP(B36403,ceva_zone!A:C,3,FALSE)","v":"C"}]
["43206","OH","A","standard",{"$f":"VLOOKUP(B36409,ceva_zone!A:B,2,FALSE)","v":"E"},{"$f":"VLOOKUP(B36409,ceva_zone!A:C,3,FALSE)","v":"C"}]
["43349","OH","F","remote",{"$f":"VLOOKUP(B36443,ceva_zone!A:B,2,FALSE)","v":"E"},{"$f":"VLOOKUP(B36443,ceva_zone!A:C,3,FALSE)","v":"C"}]
["43336","OH","F","remote",{"$f":"VLOOKUP(B36448,ceva_zone!A:B,2,FALSE)","v":"E"},{"$f":"VLOOKUP(B36448,ceva_zone!A:C,3,FALSE)","v":"C"}]
["43420","OH","G","remote",{"$f":"VLOOKUP(B36473,ceva_zone!A:B,2,FALSE)","v":"E"},{"$f":"VLOOKUP(B36473,ceva_zone!A:C,3,FALSE)","v":"C"}]
["43451","OH","F","remote",{"$f":"VLOOKUP(B36492,ceva_zone!A:B,2,FALSE)","v":"E"},{"$f":"VLOOKUP(B36492,ceva_zone!A:C,3,FALSE)","v":"C"}]
["43515","OH","F","remote",{"$f":"VLOOKUP(B36512,ceva_zone!A:B,2,FALSE)","v":"E"},{"$f":"VLOOKUP(B36512,ceva_zone!A:C,3,FALSE)","v":"C"}]
["43542","OH","E","remote",{"$f":"VLOOKUP(B36537,ceva_zone!A:B,2,FALSE)","v":"E"},{"$f":"VLOOKUP(B36537,ceva_zone!A:C,3,FALSE)","v":"C"}]
["43570","OH","H","remote",{"$f":"VLOOKUP(B36556,ceva_zone!A:B,2,FALSE)","v":"E"},{"$f":"VLOOKUP(B36556,ceva_zone!A:C,3,FALSE)","v":"C"}]
["43618","OH","E","remote",{"$f":"VLOOKUP(B36561,ceva_zone!A:B,2,FALSE)","v":"E"},{"$f":"VLOOKUP(B36561,ceva_zone!A:C,3,FALSE)","v":"C"}]
["43661","OH","D","standard",{"$f":"VLOOKUP(B36582,ceva_zone!A:B,2,FALSE)","v":"E"},{"$f":"VLOOKUP(B36582,ceva_zone!A:C,3,FALSE)","v":"C"}]
["43724","OH","Y","remote",{"$f":"VLOOKUP(B36601,ceva_zone!A:B,2,FALSE)","v":"E"},{"$f":"VLOOKUP(B36601,ceva_zone!A:C,3,FALSE)","v":"C"}]
["43735","OH","E","remote",{"$f":"VLOOKUP(B36630,ceva_zone!A:B,2,FALSE)","v":"E"},{"$f":"VLOOKUP(B36630,ceva_zone!A:C,3,FALSE)","v":"C"}]
["43759","OH","Y","remote",{"$f":"VLOOKUP(B36646,ceva_zone!A:B,2,FALSE)","v":"E"},{"$f":"VLOOKUP(B36646,ceva_zone!A:C,3,FALSE)","v":"C"}]
["43842","OH","F","remote",{"$f":"VLOOKUP(B36671,ceva_zone!A:B,2,FALSE)","v":"E"},{"$f":"VLOOKUP(B36671,ceva_zone!A:C,3,FALSE)","v":"C"}]
["43908","OH","Y","remote",{"$f":"VLOOKUP(B36679,ceva_zone!A:B,2,FALSE)","v":"E"},{"$f":"VLOOKUP(B36679,ceva_zone!A:C,3,FALSE)","v":"C"}]
["43939","OH","Y","remote",{"$f":"VLOOKUP(B36710,ceva_zone!A:B,2,FALSE)","v":"E"},{"$f":"VLOOKUP(B36710,ceva_zone!A:C,3,FALSE)","v":"C"}]
["43942","OH","Y","remote",{"$f":"VLOOKUP(B36716,ceva_zone!A:B,2,FALSE)","v":"E"},{"$f":"VLOOKUP(B36716,ceva_zone!A:C,3,FALSE)","v":"C"}]
["44005","OH","G","remote",{"$f":"VLOOKUP(B36735,ceva_zone!A:B,2,FALSE)","v":"E"},{"$f":"VLOOKUP(B36735,ceva_zone!A:C,3,FALSE)","v":"C"}]
["44053","OH","C","standard",{"$f":"VLOOKUP(B36772,ceva_zone!A:B,2,FALSE)","v":"E"},{"$f":"VLOOKUP(B36772,ceva_zone!A:C,3,FALSE)","v":"C"}]
["44064","OH","E","remote",{"$f":"VLOOKUP(B36780,ceva_zone!A:B,2,FALSE)","v":"E"},{"$f":"VLOOKUP(B36780,ceva_zone!A:C,3,FALSE)","v":"C"}]
["44122","OH","B","standard",{"$f":"VLOOKUP(B36799,ceva_zone!A:B,2,FALSE)","v":"E"},{"$f":"VLOOKUP(B36799,ceva_zone!A:C,3,FALSE)","v":"C"}]
["44123","OH","B","standard",{"$f":"VLOOKUP(B36817,ceva_zone!A:B,2,FALSE)","v":"E"},{"$f":"VLOOKUP(B36817,ceva_zone!A:C,3,FALSE)","v":"C"}]
["44103","OH","B","standard",{"$f":"VLOOKUP(B36844,ceva_zone!A:B,2,FALSE)","v":"E"},{"$f":"VLOOKUP(B36844,ceva_zone!A:C,3,FALSE)","v":"C"}]
["44266","OH","N","remote",{"$f":"VLOOKUP(B36863,ceva_zone!A:B,2,FALSE)","v":"E"},{"$f":"VLOOKUP(B36863,ceva_zone!A:C,3,FALSE)","v":"C"}]
["44243","OH","D","standard",{"$f":"VLOOKUP(B36888,ceva_zone!A:B,2,FALSE)","v":"E"},{"$f":"VLOOKUP(B36888,ceva_zone!A:C,3,FALSE)","v":"C"}]
["44240","OH","D","standard",{"$f":"VLOOKUP(B36890,ceva_zone!A:B,2,FALSE)","v":"E"},{"$f":"VLOOKUP(B36890,ceva_zone!A:C,3,FALSE)","v":"C"}]
["44319","OH","E","remote",{"$f":"VLOOKUP(B36927,ceva_zone!A:B,2,FALSE)","v":"E"},{"$f":"VLOOKUP(B36927,ceva_zone!A:C,3,FALSE)","v":"C"}]
["44328","OH","D","standard",{"$f":"VLOOKUP(B36933,ceva_zone!A:B,2,FALSE)","v":"E"},{"$f":"VLOOKUP(B36933,ceva_zone!A:C,3,FALSE)","v":"C"}]
["44416","OH","K","remote",{"$f":"VLOOKUP(B36959,ceva_zone!A:B,2,FALSE)","v":"E"},{"$f":"VLOOKUP(B36959,ceva_zone!A:C,3,FALSE)","v":"C"}]
["44441","OH","J","remote",{"$f":"VLOOKUP(B36978,ceva_zone!A:B,2,FALSE)","v":"E"},{"$f":"VLOOKUP(B36978,ceva_zone!A:C,3,FALSE)","v":"C"}]
["44492","OH","J","remote",{"$f":"VLOOKUP(B36997,ceva_zone!A:B,2,FALSE)","v":"E"},{"$f":"VLOOKUP(B36997,ceva_zone!A:C,3,FALSE)","v":"C"}]
["44505","OH","J","remote",{"$f":"VLOOKUP(B37008,ceva_zone!A:B,2,FALSE)","v":"E"},{"$f":"VLOOKUP(B37008,ceva_zone!A:C,3,FALSE)","v":"C"}]
["44625","OH","N","remote",{"$f":"VLOOKUP(B37042,ceva_zone!A:B,2,FALSE)","v":"E"},{"$f":"VLOOKUP(B37042,ceva_zone!A:C,3,FALSE)","v":"C"}]
["44656","OH","G","remote",{"$f":"VLOOKUP(B37061,ceva_zone!A:B,2,FALSE)","v":"E"},{"$f":"VLOOKUP(B37061,ceva_zone!A:C,3,FALSE)","v":"C"}]
["44647","OH","E","remote",{"$f":"VLOOKUP(B37067,ceva_zone!A:B,2,FALSE)","v":"E"},{"$f":"VLOOKUP(B37067,ceva_zone!A:C,3,FALSE)","v":"C"}]
["44707","OH","F","remote",{"$f":"VLOOKUP(B37097,ceva_zone!A:B,2,FALSE)","v":"E"},{"$f":"VLOOKUP(B37097,ceva_zone!A:C,3,FALSE)","v":"C"}]
["44718","OH","F","remote",{"$f":"VLOOKUP(B37106,ceva_zone!A:B,2,FALSE)","v":"E"},{"$f":"VLOOKUP(B37106,ceva_zone!A:C,3,FALSE)","v":"C"}]
["44890","OH","Y","remote",{"$f":"VLOOKUP(B37131,ceva_zone!A:B,2,FALSE)","v":"E"},{"$f":"VLOOKUP(B37131,ceva_zone!A:C,3,FALSE)","v":"C"}]
["44830","OH","Y","remote",{"$f":"VLOOKUP(B37146,ceva_zone!A:B,2,FALSE)","v":"E"},{"$f":"VLOOKUP(B37146,ceva_zone!A:C,3,FALSE)","v":"C"}]
["44867","OH","H","remote",{"$f":"VLOOKUP(B37170,ceva_zone!A:B,2,FALSE)","v":"E"},{"$f":"VLOOKUP(B37170,ceva_zone!A:C,3,FALSE)","v":"C"}]
["45052","OH","C","standard",{"$f":"VLOOKUP(B37195,ceva_zone!A:B,2,FALSE)","v":"E"},{"$f":"VLOOKUP(B37195,ceva_zone!A:C,3,FALSE)","v":"C"}]
["45054","OH","E","remote",{"$f":"VLOOKUP(B37215,ceva_zone!A:B,2,FALSE)","v":"E"},{"$f":"VLOOKUP(B37215,ceva_zone!A:C,3,FALSE)","v":"C"}]
["45065","OH","E","remote",{"$f":"VLOOKUP(B37221,ceva_zone!A:B,2,FALSE)","v":"E"},{"$f":"VLOOKUP(B37221,ceva_zone!A:C,3,FALSE)","v":"C"}]
["45111","OH","D","standard",{"$f":"VLOOKUP(B37240,ceva_zone!A:B,2,FALSE)","v":"E"},{"$f":"VLOOKUP(B37240,ceva_zone!A:C,3,FALSE)","v":"C"}]
["45142","OH","Y","remote",{"$f":"VLOOKUP(B37259,ceva_zone!A:B,2,FALSE)","v":"E"},{"$f":"VLOOKUP(B37259,ceva_zone!A:C,3,FALSE)","v":"C"}]
["45247","OH","D","standard",{"$f":"VLOOKUP(B37284,ceva_zone!A:B,2,FALSE)","v":"E"},{"$f":"VLOOKUP(B37284,ceva_zone!A:C,3,FALSE)","v":"C"}]
["45217","OH","B","standard",{"$f":"VLOOKUP(B37304,ceva_zone!A:B,2,FALSE)","v":"E"},{"$f":"VLOOKUP(B37304,ceva_zone!A:C,3,FALSE)","v":"C"}]
["45246","OH","C","standard",{"$f":"VLOOKUP(B37323,ceva_zone!A:B,2,FALSE)","v":"E"},{"$f":"VLOOKUP(B37323,ceva_zone!A:C,3,FALSE)","v":"C"}]
["45269","OH","C","standard",{"$f":"VLOOKUP(B37333,ceva_zone!A:B,2,FALSE)","v":"E"},{"$f":"VLOOKUP(B37333,ceva_zone!A:C,3,FALSE)","v":"C"}]
["45319","OH","Y","remote",{"$f":"VLOOKUP(B37368,ceva_zone!A:B,2,FALSE)","v":"E"},{"$f":"VLOOKUP(B37368,ceva_zone!A:C,3,FALSE)","v":"C"}]
["45325","OH","Y","remote",{"$f":"VLOOKUP(B37374,ceva_zone!A:B,2,FALSE)","v":"E"},{"$f":"VLOOKUP(B37374,ceva_zone!A:C,3,FALSE)","v":"C"}]
["45344","OH","Y","remote",{"$f":"VLOOKUP(B37393,ceva_zone!A:B,2,FALSE)","v":"E"},{"$f":"VLOOKUP(B37393,ceva_zone!A:C,3,FALSE)","v":"C"}]
["45387","OH","Y","remote",{"$f":"VLOOKUP(B37426,ceva_zone!A:B,2,FALSE)","v":"E"},{"$f":"VLOOKUP(B37426,ceva_zone!A:C,3,FALSE)","v":"C"}]
["45413","OH","Y","remote",{"$f":"VLOOKUP(B37438,ceva_zone!A:B,2,FALSE)","v":"E"},{"$f":"VLOOKUP(B37438,ceva_zone!A:C,3,FALSE)","v":"C"}]
["45454","OH","Y","remote",{"$f":"VLOOKUP(B37457,ceva_zone!A:B,2,FALSE)","v":"E"},{"$f":"VLOOKUP(B37457,ceva_zone!A:C,3,FALSE)","v":"C"}]
["45475","OH","Y","remote",{"$f":"VLOOKUP(B37471,ceva_zone!A:B,2,FALSE)","v":"E"},{"$f":"VLOOKUP(B37471,ceva_zone!A:C,3,FALSE)","v":"C"}]
["45646","OH","H","remote",{"$f":"VLOOKUP(B37502,ceva_zone!A:B,2,FALSE)","v":"E"},{"$f":"VLOOKUP(B37502,ceva_zone!A:C,3,FALSE)","v":"C"}]
["45629","OH","Y","remote",{"$f":"VLOOKUP(B37521,ceva_zone!A:B,2,FALSE)","v":"E"},{"$f":"VLOOKUP(B37521,ceva_zone!A:C,3,FALSE)","v":"C"}]
["45677","OH","Y","remote",{"$f":"VLOOKUP(B37540,ceva_zone!A:B,2,FALSE)","v":"E"},{"$f":"VLOOKUP(B37540,ceva_zone!A:C,3,FALSE)","v":"C"}]
["45695","OH","G","remote",{"$f":"VLOOKUP(B37547,ceva_zone!A:B,2,FALSE)","v":"E"},{"$f":"VLOOKUP(B37547,ceva_zone!A:C,3,FALSE)","v":"C"}]
["45724","OH","Y","remote",{"$f":"VLOOKUP(B37566,ceva_zone!A:B,2,FALSE)","v":"E"},{"$f":"VLOOKUP(B37566,ceva_zone!A:C,3,FALSE)","v":"C"}]
["45742","OH","Y","remote",{"$f":"VLOOKUP(B37591,ceva_zone!A:B,2,FALSE)","v":"E"},{"$f":"VLOOKUP(B37591,ceva_zone!A:C,3,FALSE)","v":"C"}]
["45822","OH","Y","remote",{"$f":"VLOOKUP(B37613,ceva_zone!A:B,2,FALSE)","v":"E"},{"$f":"VLOOKUP(B37613,ceva_zone!A:C,3,FALSE)","v":"C"}]
["45809","OH","Y","remote",{"$f":"VLOOKUP(B37636,ceva_zone!A:B,2,FALSE)","v":"E"},{"$f":"VLOOKUP(B37636,ceva_zone!A:C,3,FALSE)","v":"C"}]
["45864","OH","Y","remote",{"$f":"VLOOKUP(B37655,ceva_zone!A:B,2,FALSE)","v":"E"},{"$f":"VLOOKUP(B37655,ceva_zone!A:C,3,FALSE)","v":"C"}]
["45870","OH","F","remote",{"$f":"VLOOKUP(B37662,ceva_zone!A:B,2,FALSE)","v":"E"},{"$f":"VLOOKUP(B37662,ceva_zone!A:C,3,FALSE)","v":"C"}]
["45893","OH","Y","remote",{"$f":"VLOOKUP(B37681,ceva_zone!A:B,2,FALSE)","v":"E"},{"$f":"VLOOKUP(B37681,ceva_zone!A:C,3,FALSE)","v":"C"}]
["46031","IN","E","remote",{"$f":"VLOOKUP(B37700,ceva_zone!A:B,2,FALSE)","v":"E"},{"$f":"VLOOKUP(B37700,ceva_zone!A:C,3,FALSE)","v":"C"}]
["46058","IN","D","standard",{"$f":"VLOOKUP(B37727,ceva_zone!A:B,2,FALSE)","v":"E"},{"$f":"VLOOKUP(B37727,ceva_zone!A:C,3,FALSE)","v":"C"}]
["46151","IN","C","standard",{"$f":"VLOOKUP(B37745,ceva_zone!A:B,2,FALSE)","v":"E"},{"$f":"VLOOKUP(B37745,ceva_zone!A:C,3,FALSE)","v":"C"}]
["46143","IN","C","standard",{"$f":"VLOOKUP(B37764,ceva_zone!A:B,2,FALSE)","v":"E"},{"$f":"VLOOKUP(B37764,ceva_zone!A:C,3,FALSE)","v":"C"}]
["46162","IN","C","standard",{"$f":"VLOOKUP(B37789,ceva_zone!A:B,2,FALSE)","v":"E"},{"$f":"VLOOKUP(B37789,ceva_zone!A:C,3,FALSE)","v":"C"}]
["46180","IN","D","standard",{"$f":"VLOOKUP(B37800,ceva_zone!A:B,2,FALSE)","v":"E"},{"$f":"VLOOKUP(B37800,ceva_zone!A:C,3,FALSE)","v":"C"}]
["46235","IN","A","standard",{"$f":"VLOOKUP(B37828,ceva_zone!A:B,2,FALSE)","v":"E"},{"$f":"VLOOKUP(B37828,ceva_zone!A:C,3,FALSE)","v":"C"}]
["46268","IN","C","standard",{"$f":"VLOOKUP(B37853,ceva_zone!A:B,2,FALSE)","v":"E"},{"$f":"VLOOKUP(B37853,ceva_zone!A:C,3,FALSE)","v":"C"}]
["46303","IN","F","remote",{"$f":"VLOOKUP(B37869,ceva_zone!A:B,2,FALSE)","v":"E"},{"$f":"VLOOKUP(B37869,ceva_zone!A:C,3,FALSE)","v":"C"}]
["46323","IN","F","remote",{"$f":"VLOOKUP(B37879,ceva_zone!A:B,2,FALSE)","v":"E"},{"$f":"VLOOKUP(B37879,ceva_zone!A:C,3,FALSE)","v":"C"}]
["46360","IN","C","standard",{"$f":"VLOOKUP(B37898,ceva_zone!A:B,2,FALSE)","v":"E"},{"$f":"VLOOKUP(B37898,ceva_zone!A:C,3,FALSE)","v":"C"}]
["46393","IN","F","remote",{"$f":"VLOOKUP(B37918,ceva_zone!A:B,2,FALSE)","v":"E"},{"$f":"VLOOKUP(B37918,ceva_zone!A:C,3,FALSE)","v":"C"}]
["46517","IN","B","standard",{"$f":"VLOOKUP(B37943,ceva_zone!A:B,2,FALSE)","v":"E"},{"$f":"VLOOKUP(B37943,ceva_zone!A:C,3,FALSE)","v":"C"}]
["46546","IN","A","standard",{"$f":"VLOOKUP(B37962,ceva_zone!A:B,2,FALSE)","v":"E"},{"$f":"VLOOKUP(B37962,ceva_zone!A:C,3,FALSE)","v":"C"}]
["46595","IN","E","remote",{"$f":"VLOOKUP(B37981,ceva_zone!A:B,2,FALSE)","v":"E"},{"$f":"VLOOKUP(B37981,ceva_zone!A:C,3,FALSE)","v":"C"}]
["46704","IN","Y","remote",{"$f":"VLOOKUP(B38007,ceva_zone!A:B,2,FALSE)","v":"E"},{"$f":"VLOOKUP(B38007,ceva_zone!A:C,3,FALSE)","v":"C"}]
["46787","IN","E","remote",{"$f":"VLOOKUP(B38026,ceva_zone!A:B,2,FALSE)","v":"E"},{"$f":"VLOOKUP(B38026,ceva_zone!A:C,3,FALSE)","v":"C"}]
["46741","IN","Y","remote",{"$f":"VLOOKUP(B38032,ceva_zone!A:B,2,FALSE)","v":"E"},{"$f":"VLOOKUP(B38032,ceva_zone!A:C,3,FALSE)","v":"C"}]
["46783","IN","Y","remote",{"$f":"VLOOKUP(B38056,ceva_zone!A:B,2,FALSE)","v":"E"},{"$f":"VLOOKUP(B38056,ceva_zone!A:C,3,FALSE)","v":"C"}]
["46806","IN","Y","remote",{"$f":"VLOOKUP(B38071,ceva_zone!A:B,2,FALSE)","v":"E"},{"$f":"VLOOKUP(B38071,ceva_zone!A:C,3,FALSE)","v":"C"}]
["46802","IN","Y","remote",{"$f":"VLOOKUP(B38096,ceva_zone!A:B,2,FALSE)","v":"E"},{"$f":"VLOOKUP(B38096,ceva_zone!A:C,3,FALSE)","v":"C"}]
["46919","IN","F","remote",{"$f":"VLOOKUP(B38115,ceva_zone!A:B,2,FALSE)","v":"E"},{"$f":"VLOOKUP(B38115,ceva_zone!A:C,3,FALSE)","v":"C"}]
["46932","IN","X","remote",{"$f":"VLOOKUP(B38125,ceva_zone!A:B,2,FALSE)","v":"E"},{"$f":"VLOOKUP(B38125,ceva_zone!A:C,3,FALSE)","v":"C"}]
["46977","IN","X","remote",{"$f":"VLOOKUP(B38160,ceva_zone!A:B,2,FALSE)","v":"E"},{"$f":"VLOOKUP(B38160,ceva_zone!A:C,3,FALSE)","v":"C"}]
["47011","IN","E","remote",{"$f":"VLOOKUP(B38179,ceva_zone!A:B,2,FALSE)","v":"E"},{"$f":"VLOOKUP(B38179,ceva_zone!A:C,3,FALSE)","v":"C"}]
["47030","IN","E","remote",{"$f":"VLOOKUP(B38194,ceva_zone!A:B,2,FALSE)","v":"E"},{"$f":"VLOOKUP(B38194,ceva_zone!A:C,3,FALSE)","v":"C"}]
["47042","IN","E","remote",{"$f":"VLOOKUP(B38205,ceva_zone!A:B,2,FALSE)","v":"E"},{"$f":"VLOOKUP(B38205,ceva_zone!A:C,3,FALSE)","v":"C"}]
["47114","IN","C","standard",{"$f":"VLOOKUP(B38224,ceva_zone!A:B,2,FALSE)","v":"E"},{"$f":"VLOOKUP(B38224,ceva_zone!A:C,3,FALSE)","v":"C"}]
["47144","IN","B","standard",{"$f":"VLOOKUP(B38243,ceva_zone!A:B,2,FALSE)","v":"E"},{"$f":"VLOOKUP(B38243,ceva_zone!A:C,3,FALSE)","v":"C"}]
["47224","IN","E","remote",{"$f":"VLOOKUP(B38269,ceva_zone!A:B,2,FALSE)","v":"E"},{"$f":"VLOOKUP(B38269,ceva_zone!A:C,3,FALSE)","v":"C"}]
["47263","IN","E","remote",{"$f":"VLOOKUP(B38294,ceva_zone!A:B,2,FALSE)","v":"E"},{"$f":"VLOOKUP(B38294,ceva_zone!A:C,3,FALSE)","v":"C"}]
["47353","IN","Y","remote",{"$f":"VLOOKUP(B38313,ceva_zone!A:B,2,FALSE)","v":"E"},{"$f":"VLOOKUP(B38313,ceva_zone!A:C,3,FALSE)","v":"C"}]
["47393","IN","Y","remote",{"$f":"VLOOKUP(B38336,ceva_zone!A:B,2,FALSE)","v":"E"},{"$f":"VLOOKUP(B38336,ceva_zone!A:C,3,FALSE)","v":"C"}]
["47383","IN","E","remote",{"$f":"VLOOKUP(B38339,ceva_zone!A:B,2,FALSE)","v":"E"},{"$f":"VLOOKUP(B38339,ceva_zone!A:C,3,FALSE)","v":"C"}]
["47375","IN","Y","remote",{"$f":"VLOOKUP(B38358,ceva_zone!A:B,2,FALSE)","v":"E"},{"$f":"VLOOKUP(B38358,ceva_zone!A:C,3,FALSE)","v":"C"}]
["47403","IN","D","standard",{"$f":"VLOOKUP(B38381,ceva_zone!A:B,2,FALSE)","v":"E"},{"$f":"VLOOKUP(B38381,ceva_zone!A:C,3,FALSE)","v":"C"}]
["47456","IN","E","remote",{"$f":"VLOOKUP(B38403,ceva_zone!A:B,2,FALSE)","v":"E"},{"$f":"VLOOKUP(B38403,ceva_zone!A:C,3,FALSE)","v":"C"}]
["47513","IN","Y","remote",{"$f":"VLOOKUP(B38422,ceva_zone!A:B,2,FALSE)","v":"E"},{"$f":"VLOOKUP(B38422,ceva_zone!A:C,3,FALSE)","v":"C"}]
["47537","IN","Y","remote",{"$f":"VLOOKUP(B38450,ceva_zone!A:B,2,FALSE)","v":"E"},{"$f":"VLOOKUP(B38450,ceva_zone!A:C,3,FALSE)","v":"C"}]
["47578","IN","X","remote",{"$f":"VLOOKUP(B38467,ceva_zone!A:B,2,FALSE)","v":"E"},{"$f":"VLOOKUP(B38467,ceva_zone!A:C,3,FALSE)","v":"C"}]
["47616","IN","X","remote",{"$f":"VLOOKUP(B38486,ceva_zone!A:B,2,FALSE)","v":"E"},{"$f":"VLOOKUP(B38486,ceva_zone!A:C,3,FALSE)","v":"C"}]
["47654","IN","X","remote",{"$f":"VLOOKUP(B38492,ceva_zone!A:B,2,FALSE)","v":"E"},{"$f":"VLOOKUP(B38492,ceva_zone!A:C,3,FALSE)","v":"C"}]
["47730","IN","X","remote",{"$f":"VLOOKUP(B38523,ceva_zone!A:B,2,FALSE)","v":"E"},{"$f":"VLOOKUP(B38523,ceva_zone!A:C,3,FALSE)","v":"C"}]
["47872","IN","E","remote",{"$f":"VLOOKUP(B38537,ceva_zone!A:B,2,FALSE)","v":"E"},{"$f":"VLOOKUP(B38537,ceva_zone!A:C,3,FALSE)","v":"C"}]
["47838","IN","X","remote",{"$f":"VLOOKUP(B38556,ceva_zone!A:B,2,FALSE)","v":"E"},{"$f":"VLOOKUP(B38556,ceva_zone!A:C,3,FALSE)","v":"C"}]
["47855","IN","X","remote",{"$f":"VLOOKUP(B38572,ceva_zone!A:B,2,FALSE)","v":"E"},{"$f":"VLOOKUP(B38572,ceva_zone!A:C,3,FALSE)","v":"C"}]
["47924","IN","X","remote",{"$f":"VLOOKUP(B38601,ceva_zone!A:B,2,FALSE)","v":"E"},{"$f":"VLOOKUP(B38601,ceva_zone!A:C,3,FALSE)","v":"C"}]
["47984","IN","F","remote",{"$f":"VLOOKUP(B38620,ceva_zone!A:B,2,FALSE)","v":"E"},{"$f":"VLOOKUP(B38620,ceva_zone!A:C,3,FALSE)","v":"C"}]
["47957","IN","F","remote",{"$f":"VLOOKUP(B38641,ceva_zone!A:B,2,FALSE)","v":"E"},{"$f":"VLOOKUP(B38641,ceva_zone!A:C,3,FALSE)","v":"C"}]
["47964","IN","F","remote",{"$f":"VLOOKUP(B38646,ceva_zone!A:B,2,FALSE)","v":"E"},{"$f":"VLOOKUP(B38646,ceva_zone!A:C,3,FALSE)","v":"C"}]
["47990","IN","F","remote",{"$f":"VLOOKUP(B38665,ceva_zone!A:B,2,FALSE)","v":"E"},{"$f":"VLOOKUP(B38665,ceva_zone!A:C,3,FALSE)","v":"C"}]
["48051","MI","E","remote",{"$f":"VLOOKUP(B38690,ceva_zone!A:B,2,FALSE)","v":"E"},{"$f":"VLOOKUP(B38690,ceva_zone!A:C,3,FALSE)","v":"C"}]
["48032","MI","H","remote",{"$f":"VLOOKUP(B38710,ceva_zone!A:B,2,FALSE)","v":"E"},{"$f":"VLOOKUP(B38710,ceva_zone!A:C,3,FALSE)","v":"C"}]
["48096","MI","D","standard",{"$f":"VLOOKUP(B38729,ceva_zone!A:B,2,FALSE)","v":"E"},{"$f":"VLOOKUP(B38729,ceva_zone!A:C,3,FALSE)","v":"C"}]
["48157","MI","C","standard",{"$f":"VLOOKUP(B38754,ceva_zone!A:B,2,FALSE)","v":"E"},{"$f":"VLOOKUP(B38754,ceva_zone!A:C,3,FALSE)","v":"C"}]
["48130","MI","C","standard",{"$f":"VLOOKUP(B38779,ceva_zone!A:B,2,FALSE)","v":"E"},{"$f":"VLOOKUP(B38779,ceva_zone!A:C,3,FALSE)","v":"C"}]
["48150","MI","B","standard",{"$f":"VLOOKUP(B38799,ceva_zone!A:B,2,FALSE)","v":"E"},{"$f":"VLOOKUP(B38799,ceva_zone!A:C,3,FALSE)","v":"C"}]
["48177","MI","D","standard",{"$f":"VLOOKUP(B38818,ceva_zone!A:B,2,FALSE)","v":"E"},{"$f":"VLOOKUP(B38818,ceva_zone!A:C,3,FALSE)","v":"C"}]
["48206","MI","B","standard",{"$f":"VLOOKUP(B38837,ceva_zone!A:B,2,FALSE)","v":"E"},{"$f":"VLOOKUP(B38837,ceva_zone!A:C,3,FALSE)","v":"C"}]
["48218","MI","B","standard",{"$f":"VLOOKUP(B38848,ceva_zone!A:B,2,FALSE)","v":"E"},{"$f":"VLOOKUP(B38848,ceva_zone!A:C,3,FALSE)","v":"C"}]
["48233","MI","B","standard",{"$f":"VLOOKUP(B38863,ceva_zone!A:B,2,FALSE)","v":"E"},{"$f":"VLOOKUP(B38863,ceva_zone!A:C,3,FALSE)","v":"C"}]
["48272","MI","B","standard",{"$f":"VLOOKUP(B38882,ceva_zone!A:B,2,FALSE)","v":"E"},{"$f":"VLOOKUP(B38882,ceva_zone!A:C,3,FALSE)","v":"C"}]
["48303","MI","D","standard",{"$f":"VLOOKUP(B38897,ceva_zone!A:B,2,FALSE)","v":"E"},{"$f":"VLOOKUP(B38897,ceva_zone!A:C,3,FALSE)","v":"C"}]
["48375","MI","C","standard",{"$f":"VLOOKUP(B38927,ceva_zone!A:B,2,FALSE)","v":"E"},{"$f":"VLOOKUP(B38927,ceva_zone!A:C,3,FALSE)","v":"C"}]
["48329","MI","D","standard",{"$f":"VLOOKUP(B38952,ceva_zone!A:B,2,FALSE)","v":"E"},{"$f":"VLOOKUP(B38952,ceva_zone!A:C,3,FALSE)","v":"C"}]
["48462","MI","H","remote",{"$f":"VLOOKUP(B38966,ceva_zone!A:B,2,FALSE)","v":"E"},{"$f":"VLOOKUP(B38966,ceva_zone!A:C,3,FALSE)","v":"C"}]
["48450","MI","H","remote",{"$f":"VLOOKUP(B38991,ceva_zone!A:B,2,FALSE)","v":"E"},{"$f":"VLOOKUP(B38991,ceva_zone!A:C,3,FALSE)","v":"C"}]
["48472","MI","Y","remote",{"$f":"VLOOKUP(B38997,ceva_zone!A:B,2,FALSE)","v":"E"},{"$f":"VLOOKUP(B38997,ceva_zone!A:C,3,FALSE)","v":"C"}]
["48475","MI","Y","remote",{"$f":"VLOOKUP(B39016,ceva_zone!A:B,2,FALSE)","v":"E"},{"$f":"VLOOKUP(B39016,ceva_zone!A:C,3,FALSE)","v":"C"}]
["48610","MI","Y","remote",{"$f":"VLOOKUP(B39039,ceva_zone!A:B,2,FALSE)","v":"E"},{"$f":"VLOOKUP(B39039,ceva_zone!A:C,3,FALSE)","v":"C"}]
["48632","MI","Y","remote",{"$f":"VLOOKUP(B39061,ceva_zone!A:B,2,FALSE)","v":"E"},{"$f":"VLOOKUP(B39061,ceva_zone!A:C,3,FALSE)","v":"C"}]
["48652","MI","Y","remote",{"$f":"VLOOKUP(B39080,ceva_zone!A:B,2,FALSE)","v":"E"},{"$f":"VLOOKUP(B39080,ceva_zone!A:C,3,FALSE)","v":"C"}]
["48707","MI","Y","remote",{"$f":"VLOOKUP(B39104,ceva_zone!A:B,2,FALSE)","v":"E"},{"$f":"VLOOKUP(B39104,ceva_zone!A:C,3,FALSE)","v":"C"}]
["48736","MI","Y","remote",{"$f":"VLOOKUP(B39125,ceva_zone!A:B,2,FALSE)","v":"E"},{"$f":"VLOOKUP(B39125,ceva_zone!A:C,3,FALSE)","v":"C"}]
["48758","MI","Y","remote",{"$f":"VLOOKUP(B39144,ceva_zone!A:B,2,FALSE)","v":"E"},{"$f":"VLOOKUP(B39144,ceva_zone!A:C,3,FALSE)","v":"C"}]
["48768","MI","Y","remote",{"$f":"VLOOKUP(B39153,ceva_zone!A:B,2,FALSE)","v":"E"},{"$f":"VLOOKUP(B39153,ceva_zone!A:C,3,FALSE)","v":"C"}]
["48819","MI","Y","remote",{"$f":"VLOOKUP(B39170,ceva_zone!A:B,2,FALSE)","v":"E"},{"$f":"VLOOKUP(B39170,ceva_zone!A:C,3,FALSE)","v":"C"}]
["48845","MI","D","standard",{"$f":"VLOOKUP(B39195,ceva_zone!A:B,2,FALSE)","v":"E"},{"$f":"VLOOKUP(B39195,ceva_zone!A:C,3,FALSE)","v":"C"}]
["48864","MI","Y","remote",{"$f":"VLOOKUP(B39214,ceva_zone!A:B,2,FALSE)","v":"E"},{"$f":"VLOOKUP(B39214,ceva_zone!A:C,3,FALSE)","v":"C"}]
["48878","MI","Y","remote",{"$f":"VLOOKUP(B39226,ceva_zone!A:B,2,FALSE)","v":"E"},{"$f":"VLOOKUP(B39226,ceva_zone!A:C,3,FALSE)","v":"C"}]
["48922","MI","Y","remote",{"$f":"VLOOKUP(B39259,ceva_zone!A:B,2,FALSE)","v":"E"},{"$f":"VLOOKUP(B39259,ceva_zone!A:C,3,FALSE)","v":"C"}]
["49019","MI","F","remote",{"$f":"VLOOKUP(B39278,ceva_zone!A:B,2,FALSE)","v":"E"},{"$f":"VLOOKUP(B39278,ceva_zone!A:C,3,FALSE)","v":"C"}]
["49038","MI","E","remote",{"$f":"VLOOKUP(B39295,ceva_zone!A:B,2,FALSE)","v":"E"},{"$f":"VLOOKUP(B39295,ceva_zone!A:C,3,FALSE)","v":"C"}]
["49050","MI","Y","remote",{"$f":"VLOOKUP(B39304,ceva_zone!A:B,2,FALSE)","v":"E"},{"$f":"VLOOKUP(B39304,ceva_zone!A:C,3,FALSE)","v":"C"}]
["49048","MI","E","remote",{"$f":"VLOOKUP(B39323,ceva_zone!A:B,2,FALSE)","v":"E"},{"$f":"VLOOKUP(B39323,ceva_zone!A:C,3,FALSE)","v":"C"}]
["49085","MI","E","remote",{"$f":"VLOOKUP(B39348,ceva_zone!A:B,2,FALSE)","v":"E"},{"$f":"VLOOKUP(B39348,ceva_zone!A:C,3,FALSE)","v":"C"}]
["49103","MI","C","standard",{"$f":"VLOOKUP(B39364,ceva_zone!A:B,2,FALSE)","v":"E"},{"$f":"VLOOKUP(B39364,ceva_zone!A:C,3,FALSE)","v":"C"}]
["49228","MI","E","remote",{"$f":"VLOOKUP(B39387,ceva_zone!A:B,2,FALSE)","v":"E"},{"$f":"VLOOKUP(B39387,ceva_zone!A:C,3,FALSE)","v":"C"}]
["49252","MI","E","remote",{"$f":"VLOOKUP(B39412,ceva_zone!A:B,2,FALSE)","v":"E"},{"$f":"VLOOKUP(B39412,ceva_zone!A:C,3,FALSE)","v":"C"}]
["49276","MI","E","remote",{"$f":"VLOOKUP(B39433,ceva_zone!A:B,2,FALSE)","v":"E"},{"$f":"VLOOKUP(B39433,ceva_zone!A:C,3,FALSE)","v":"C"}]
["49283","MI","F","remote",{"$f":"VLOOKUP(B39438,ceva_zone!A:B,2,FALSE)","v":"E"},{"$f":"VLOOKUP(B39438,ceva_zone!A:C,3,FALSE)","v":"C"}]
["49311","MI","C","standard",{"$f":"VLOOKUP(B39457,ceva_zone!A:B,2,FALSE)","v":"E"},{"$f":"VLOOKUP(B39457,ceva_zone!A:C,3,FALSE)","v":"C"}]
["49339","MI","D","standard",{"$f":"VLOOKUP(B39482,ceva_zone!A:B,2,FALSE)","v":"E"},{"$f":"VLOOKUP(B39482,ceva_zone!A:C,3,FALSE)","v":"C"}]
["49406","MI","D","standard",{"$f":"VLOOKUP(B39502,ceva_zone!A:B,2,FALSE)","v":"E"},{"$f":"VLOOKUP(B39502,ceva_zone!A:C,3,FALSE)","v":"C"}]
["49425","MI","E","remote",{"$f":"VLOOKUP(B39521,ceva_zone!A:B,2,FALSE)","v":"E"},{"$f":"VLOOKUP(B39521,ceva_zone!A:C,3,FALSE)","v":"C"}]
["49451","MI","D","standard",{"$f":"VLOOKUP(B39540,ceva_zone!A:B,2,FALSE)","v":"E"},{"$f":"VLOOKUP(B39540,ceva_zone!A:C,3,FALSE)","v":"C"}]
["49550","MI","A","standard",{"$f":"VLOOKUP(B39571,ceva_zone!A:B,2,FALSE)","v":"E"},{"$f":"VLOOKUP(B39571,ceva_zone!A:C,3,FALSE)","v":"C"}]
["49615","MI","Y","remote",{"$f":"VLOOKUP(B39585,ceva_zone!A:B,2,FALSE)","v":"E"},{"$f":"VLOOKUP(B39585,ceva_zone!A:C,3,FALSE)","v":"C"}]
["49601","MI","Y","remote",{"$f":"VLOOKUP(B39591,ceva_zone!A:B,2,FALSE)","v":"E"},{"$f":"VLOOKUP(B39591,ceva_zone!A:C,3,FALSE)","v":"C"}]
["49653","MI","Y","remote",{"$f":"VLOOKUP(B39620,ceva_zone!A:B,2,FALSE)","v":"E"},{"$f":"VLOOKUP(B39620,ceva_zone!A:C,3,FALSE)","v":"C"}]
["49657","MI","Y","remote",{"$f":"VLOOKUP(B39630,ceva_zone!A:B,2,FALSE)","v":"E"},{"$f":"VLOOKUP(B39630,ceva_zone!A:C,3,FALSE)","v":"C"}]
["49770","MI","Y","remote",{"$f":"VLOOKUP(B39655,ceva_zone!A:B,2,FALSE)","v":"E"},{"$f":"VLOOKUP(B39655,ceva_zone!A:C,3,FALSE)","v":"C"}]
["49723","MI","Y","remote",{"$f":"VLOOKUP(B39669,ceva_zone!A:B,2,FALSE)","v":"E"},{"$f":"VLOOKUP(B39669,ceva_zone!A:C,3,FALSE)","v":"C"}]
["49788","MI","Y","remote",{"$f":"VLOOKUP(B39694,ceva_zone!A:B,2,FALSE)","v":"E"},{"$f":"VLOOKUP(B39694,ceva_zone!A:C,3,FALSE)","v":"C"}]
["49783","MI","Y","remote",{"$f":"VLOOKUP(B39719,ceva_zone!A:B,2,FALSE)","v":"E"},{"$f":"VLOOKUP(B39719,ceva_zone!A:C,3,FALSE)","v":"C"}]
["49816","MI","Y","remote",{"$f":"VLOOKUP(B39738,ceva_zone!A:B,2,FALSE)","v":"E"},{"$f":"VLOOKUP(B39738,ceva_zone!A:C,3,FALSE)","v":"C"}]
["49841","MI","Y","remote",{"$f":"VLOOKUP(B39758,ceva_zone!A:B,2,FALSE)","v":"E"},{"$f":"VLOOKUP(B39758,ceva_zone!A:C,3,FALSE)","v":"C"}]
["49880","MI","Y","remote",{"$f":"VLOOKUP(B39783,ceva_zone!A:B,2,FALSE)","v":"E"},{"$f":"VLOOKUP(B39783,ceva_zone!A:C,3,FALSE)","v":"C"}]
["49911","MI","Y","remote",{"$f":"VLOOKUP(B39802,ceva_zone!A:B,2,FALSE)","v":"E"},{"$f":"VLOOKUP(B39802,ceva_zone!A:C,3,FALSE)","v":"C"}]
["49915","MI","Y","remote",{"$f":"VLOOKUP(B39807,ceva_zone!A:B,2,FALSE)","v":"E"},{"$f":"VLOOKUP(B39807,ceva_zone!A:C,3,FALSE)","v":"C"}]
["49953","MI","Y","remote",{"$f":"VLOOKUP(B39828,ceva_zone!A:B,2,FALSE)","v":"E"},{"$f":"VLOOKUP(B39828,ceva_zone!A:C,3,FALSE)","v":"C"}]
["50012","IA","Y","remote",{"$f":"VLOOKUP(B39853,ceva_zone!A:B,2,FALSE)","v":"E"},{"$f":"VLOOKUP(B39853,ceva_zone!A:C,3,FALSE)","v":"C"}]
["50039","IA","Y","remote",{"$f":"VLOOKUP(B39876,ceva_zone!A:B,2,FALSE)","v":"E"},{"$f":"VLOOKUP(B39876,ceva_zone!A:C,3,FALSE)","v":"C"}]
["50059","IA","E","remote",{"$f":"VLOOKUP(B39892,ceva_zone!A:B,2,FALSE)","v":"E"},{"$f":"VLOOKUP(B39892,ceva_zone!A:C,3,FALSE)","v":"C"}]
["50115","IA","E","remote",{"$f":"VLOOKUP(B39917,ceva_zone!A:B,2,FALSE)","v":"E"},{"$f":"VLOOKUP(B39917,ceva_zone!A:C,3,FALSE)","v":"C"}]
["50174","IA","E","remote",{"$f":"VLOOKUP(B39936,ceva_zone!A:B,2,FALSE)","v":"E"},{"$f":"VLOOKUP(B39936,ceva_zone!A:C,3,FALSE)","v":"C"}]
["50136","IA","F","remote",{"$f":"VLOOKUP(B39949,ceva_zone!A:B,2,FALSE)","v":"E"},{"$f":"VLOOKUP(B39949,ceva_zone!A:C,3,FALSE)","v":"C"}]
["50151","IA","E","remote",{"$f":"VLOOKUP(B39962,ceva_zone!A:B,2,FALSE)","v":"E"},{"$f":"VLOOKUP(B39962,ceva_zone!A:C,3,FALSE)","v":"C"}]
["50258","IA","E","remote",{"$f":"VLOOKUP(B39981,ceva_zone!A:B,2,FALSE)","v":"E"},{"$f":"VLOOKUP(B39981,ceva_zone!A:C,3,FALSE)","v":"C"}]
["50235","IA","Y","remote",{"$f":"VLOOKUP(B40014,ceva_zone!A:B,2,FALSE)","v":"E"},{"$f":"VLOOKUP(B40014,ceva_zone!A:C,3,FALSE)","v":"C"}]
["50252","IA","F","remote",{"$f":"VLOOKUP(B40026,ceva_zone!A:B,2,FALSE)","v":"E"},{"$f":"VLOOKUP(B40026,ceva_zone!A:C,3,FALSE)","v":"C"}]
["50310","IA","F","remote",{"$f":"VLOOKUP(B40045,ceva_zone!A:B,2,FALSE)","v":"E"},{"$f":"VLOOKUP(B40045,ceva_zone!A:C,3,FALSE)","v":"C"}]
["50335","IA","F","remote",{"$f":"VLOOKUP(B40070,ceva_zone!A:B,2,FALSE)","v":"E"},{"$f":"VLOOKUP(B40070,ceva_zone!A:C,3,FALSE)","v":"C"}]
["50391","IA","F","remote",{"$f":"VLOOKUP(B40087,ceva_zone!A:B,2,FALSE)","v":"E"},{"$f":"VLOOKUP(B40087,ceva_zone!A:C,3,FALSE)","v":"C"}]
["50307","IA","F","remote",{"$f":"VLOOKUP(B40096,ceva_zone!A:B,2,FALSE)","v":"E"},{"$f":"VLOOKUP(B40096,ceva_zone!A:C,3,FALSE)","v":"C"}]
["50434","IA","F","remote",{"$f":"VLOOKUP(B40115,ceva_zone!A:B,2,FALSE)","v":"E"},{"$f":"VLOOKUP(B40115,ceva_zone!A:C,3,FALSE)","v":"C"}]
["50472","IA","F","remote",{"$f":"VLOOKUP(B40136,ceva_zone!A:B,2,FALSE)","v":"E"},{"$f":"VLOOKUP(B40136,ceva_zone!A:C,3,FALSE)","v":"C"}]
["50514","IA","F","remote",{"$f":"VLOOKUP(B40160,ceva_zone!A:B,2,FALSE)","v":"E"},{"$f":"VLOOKUP(B40160,ceva_zone!A:C,3,FALSE)","v":"C"}]
["50529","IA","E","remote",{"$f":"VLOOKUP(B40179,ceva_zone!A:B,2,FALSE)","v":"E"},{"$f":"VLOOKUP(B40179,ceva_zone!A:C,3,FALSE)","v":"C"}]
["50559","IA","G","remote",{"$f":"VLOOKUP(B40205,ceva_zone!A:B,2,FALSE)","v":"E"},{"$f":"VLOOKUP(B40205,ceva_zone!A:C,3,FALSE)","v":"C"}]
["50586","IA","F","remote",{"$f":"VLOOKUP(B40224,ceva_zone!A:B,2,FALSE)","v":"E"},{"$f":"VLOOKUP(B40224,ceva_zone!A:C,3,FALSE)","v":"C"}]
["50645","IA","F","remote",{"$f":"VLOOKUP(B40243,ceva_zone!A:B,2,FALSE)","v":"E"},{"$f":"VLOOKUP(B40243,ceva_zone!A:C,3,FALSE)","v":"C"}]
["50612","IA","Y","remote",{"$f":"VLOOKUP(B40249,ceva_zone!A:B,2,FALSE)","v":"E"},{"$f":"VLOOKUP(B40249,ceva_zone!A:C,3,FALSE)","v":"C"}]
["50638","IA","F","remote",{"$f":"VLOOKUP(B40274,ceva_zone!A:B,2,FALSE)","v":"E"},{"$f":"VLOOKUP(B40274,ceva_zone!A:C,3,FALSE)","v":"C"}]
["50661","IA","Y","remote",{"$f":"VLOOKUP(B40288,ceva_zone!A:B,2,FALSE)","v":"E"},{"$f":"VLOOKUP(B40288,ceva_zone!A:C,3,FALSE)","v":"C"}]
["50835","IA","G","remote",{"$f":"VLOOKUP(B40313,ceva_zone!A:B,2,FALSE)","v":"E"},{"$f":"VLOOKUP(B40313,ceva_zone!A:C,3,FALSE)","v":"C"}]
["50982","IA","Y","remote",{"$f":"VLOOKUP(B40343,ceva_zone!A:B,2,FALSE)","v":"E"},{"$f":"VLOOKUP(B40343,ceva_zone!A:C,3,FALSE)","v":"C"}]
["51060","IA","E","remote",{"$f":"VLOOKUP(B40352,ceva_zone!A:B,2,FALSE)","v":"E"},{"$f":"VLOOKUP(B40352,ceva_zone!A:C,3,FALSE)","v":"C"}]
["51052","IA","F","remote",{"$f":"VLOOKUP(B40377,ceva_zone!A:B,2,FALSE)","v":"E"},{"$f":"VLOOKUP(B40377,ceva_zone!A:C,3,FALSE)","v":"C"}]
["51051","IA","Y","remote",{"$f":"VLOOKUP(B40392,ceva_zone!A:B,2,FALSE)","v":"E"},{"$f":"VLOOKUP(B40392,ceva_zone!A:C,3,FALSE)","v":"C"}]
["51102","IA","Y","remote",{"$f":"VLOOKUP(B40403,ceva_zone!A:B,2,FALSE)","v":"E"},{"$f":"VLOOKUP(B40403,ceva_zone!A:C,3,FALSE)","v":"C"}]
["51240","IA","Y","remote",{"$f":"VLOOKUP(B40422,ceva_zone!A:B,2,FALSE)","v":"E"},{"$f":"VLOOKUP(B40422,ceva_zone!A:C,3,FALSE)","v":"C"}]
["51347","IA","Y","remote",{"$f":"VLOOKUP(B40441,ceva_zone!A:B,2,FALSE)","v":"E"},{"$f":"VLOOKUP(B40441,ceva_zone!A:C,3,FALSE)","v":"C"}]
["51439","IA","F","remote",{"$f":"VLOOKUP(B40461,ceva_zone!A:B,2,FALSE)","v":"E"},{"$f":"VLOOKUP(B40461,ceva_zone!A:C,3,FALSE)","v":"C"}]
["51521","IA","B","standard",{"$f":"VLOOKUP(B40486,ceva_zone!A:B,2,FALSE)","v":"E"},{"$f":"VLOOKUP(B40486,ceva_zone!A:C,3,FALSE)","v":"C"}]
["51546","IA","B","standard",{"$f":"VLOOKUP(B40511,ceva_zone!A:B,2,FALSE)","v":"E"},{"$f":"VLOOKUP(B40511,ceva_zone!A:C,3,FALSE)","v":"C"}]
["51566","IA","C","standard",{"$f":"VLOOKUP(B40530,ceva_zone!A:B,2,FALSE)","v":"E"},{"$f":"VLOOKUP(B40530,ceva_zone!A:C,3,FALSE)","v":"C"}]
["51647","IA","E","remote",{"$f":"VLOOKUP(B40550,ceva_zone!A:B,2,FALSE)","v":"E"},{"$f":"VLOOKUP(B40550,ceva_zone!A:C,3,FALSE)","v":"C"}]
["51601","IA","F","remote",{"$f":"VLOOKUP(B40556,ceva_zone!A:B,2,FALSE)","v":"E"},{"$f":"VLOOKUP(B40556,ceva_zone!A:C,3,FALSE)","v":"C"}]
["52038","IA","E","remote",{"$f":"VLOOKUP(B40579,ceva_zone!A:B,2,FALSE)","v":"E"},{"$f":"VLOOKUP(B40579,ceva_zone!A:C,3,FALSE)","v":"C"}]
["52056","IA","E","remote",{"$f":"VLOOKUP(B40595,ceva_zone!A:B,2,FALSE)","v":"E"},{"$f":"VLOOKUP(B40595,ceva_zone!A:C,3,FALSE)","v":"C"}]
["52066","IA","F","remote",{"$f":"VLOOKUP(B40596,ceva_zone!A:B,2,FALSE)","v":"E"},{"$f":"VLOOKUP(B40596,ceva_zone!A:C,3,FALSE)","v":"C"}]
["52065","IA","F","remote",{"$f":"VLOOKUP(B40597,ceva_zone!A:B,2,FALSE)","v":"E"},{"$f":"VLOOKUP(B40597,ceva_zone!A:C,3,FALSE)","v":"C"}]
["52079","IA","F","remote",{"$f":"VLOOKUP(B40598,ceva_zone!A:B,2,FALSE)","v":"E"},{"$f":"VLOOKUP(B40598,ceva_zone!A:C,3,FALSE)","v":"C"}]
["52069","IA","F","remote",{"$f":"VLOOKUP(B40599,ceva_zone!A:B,2,FALSE)","v":"E"},{"$f":"VLOOKUP(B40599,ceva_zone!A:C,3,FALSE)","v":"C"}]
["52070","IA","E","remote",{"$f":"VLOOKUP(B40600,ceva_zone!A:B,2,FALSE)","v":"E"},{"$f":"VLOOKUP(B40600,ceva_zone!A:C,3,FALSE)","v":"C"}]
["52071","IA","F","remote",{"$f":"VLOOKUP(B40601,ceva_zone!A:B,2,FALSE)","v":"E"},{"$f":"VLOOKUP(B40601,ceva_zone!A:C,3,FALSE)","v":"C"}]
["52072","IA","F","remote",{"$f":"VLOOKUP(B40602,ceva_zone!A:B,2,FALSE)","v":"E"},{"$f":"VLOOKUP(B40602,ceva_zone!A:C,3,FALSE)","v":"C"}]
["52074","IA","F","remote",{"$f":"VLOOKUP(B40603,ceva_zone!A:B,2,FALSE)","v":"E"},{"$f":"VLOOKUP(B40603,ceva_zone!A:C,3,FALSE)","v":"C"}]
["52075","IA","F","remote",{"$f":"VLOOKUP(B40604,ceva_zone!A:B,2,FALSE)","v":"E"},{"$f":"VLOOKUP(B40604,ceva_zone!A:C,3,FALSE)","v":"C"}]
["52076","IA","E","remote",{"$f":"VLOOKUP(B40605,ceva_zone!A:B,2,FALSE)","v":"E"},{"$f":"VLOOKUP(B40605,ceva_zone!A:C,3,FALSE)","v":"C"}]
["52077","IA","F","remote",{"$f":"VLOOKUP(B40606,ceva_zone!A:B,2,FALSE)","v":"E"},{"$f":"VLOOKUP(B40606,ceva_zone!A:C,3,FALSE)","v":"C"}]
["52078","IA","F","remote",{"$f":"VLOOKUP(B40607,ceva_zone!A:B,2,FALSE)","v":"E"},{"$f":"VLOOKUP(B40607,ceva_zone!A:C,3,FALSE)","v":"C"}]
["52142","IA","F","remote",{"$f":"VLOOKUP(B40608,ceva_zone!A:B,2,FALSE)","v":"E"},{"$f":"VLOOKUP(B40608,ceva_zone!A:C,3,FALSE)","v":"C"}]
["52171","IA","F","remote",{"$f":"VLOOKUP(B40609,ceva_zone!A:B,2,FALSE)","v":"E"},{"$f":"VLOOKUP(B40609,ceva_zone!A:C,3,FALSE)","v":"C"}]
["52175","IA","F","remote",{"$f":"VLOOKUP(B40610,ceva_zone!A:B,2,FALSE)","v":"E"},{"$f":"VLOOKUP(B40610,ceva_zone!A:C,3,FALSE)","v":"C"}]
["52101","IA","F","remote",{"$f":"VLOOKUP(B40611,ceva_zone!A:B,2,FALSE)","v":"E"},{"$f":"VLOOKUP(B40611,ceva_zone!A:C,3,FALSE)","v":"C"}]
["52155","IA","F","remote",{"$f":"VLOOKUP(B40612,ceva_zone!A:B,2,FALSE)","v":"E"},{"$f":"VLOOKUP(B40612,ceva_zone!A:C,3,FALSE)","v":"C"}]
["52141","IA","F","remote",{"$f":"VLOOKUP(B40613,ceva_zone!A:B,2,FALSE)","v":"E"},{"$f":"VLOOKUP(B40613,ceva_zone!A:C,3,FALSE)","v":"C"}]
["52132","IA","F","remote",{"$f":"VLOOKUP(B40614,ceva_zone!A:B,2,FALSE)","v":"E"},{"$f":"VLOOKUP(B40614,ceva_zone!A:C,3,FALSE)","v":"C"}]
["52133","IA","F","remote",{"$f":"VLOOKUP(B40615,ceva_zone!A:B,2,FALSE)","v":"E"},{"$f":"VLOOKUP(B40615,ceva_zone!A:C,3,FALSE)","v":"C"}]
["52134","IA","F","remote",{"$f":"VLOOKUP(B40616,ceva_zone!A:B,2,FALSE)","v":"E"},{"$f":"VLOOKUP(B40616,ceva_zone!A:C,3,FALSE)","v":"C"}]
["52151","IA","F","remote",{"$f":"VLOOKUP(B40617,ceva_zone!A:B,2,FALSE)","v":"E"},{"$f":"VLOOKUP(B40617,ceva_zone!A:C,3,FALSE)","v":"C"}]
["52135","IA","F","remote",{"$f":"VLOOKUP(B40618,ceva_zone!A:B,2,FALSE)","v":"E"},{"$f":"VLOOKUP(B40618,ceva_zone!A:C,3,FALSE)","v":"C"}]
["52136","IA","F","remote",{"$f":"VLOOKUP(B40619,ceva_zone!A:B,2,FALSE)","v":"E"},{"$f":"VLOOKUP(B40619,ceva_zone!A:C,3,FALSE)","v":"C"}]
["52170","IA","F","remote",{"$f":"VLOOKUP(B40620,ceva_zone!A:B,2,FALSE)","v":"E"},{"$f":"VLOOKUP(B40620,ceva_zone!A:C,3,FALSE)","v":"C"}]
["52140","IA","F","remote",{"$f":"VLOOKUP(B40621,ceva_zone!A:B,2,FALSE)","v":"E"},{"$f":"VLOOKUP(B40621,ceva_zone!A:C,3,FALSE)","v":"C"}]
["52146","IA","F","remote",{"$f":"VLOOKUP(B40622,ceva_zone!A:B,2,FALSE)","v":"E"},{"$f":"VLOOKUP(B40622,ceva_zone!A:C,3,FALSE)","v":"C"}]
["52144","IA","F","remote",{"$f":"VLOOKUP(B40623,ceva_zone!A:B,2,FALSE)","v":"E"},{"$f":"VLOOKUP(B40623,ceva_zone!A:C,3,FALSE)","v":"C"}]
["52162","IA","F","remote",{"$f":"VLOOKUP(B40624,ceva_zone!A:B,2,FALSE)","v":"E"},{"$f":"VLOOKUP(B40624,ceva_zone!A:C,3,FALSE)","v":"C"}]
["52157","IA","F","remote",{"$f":"VLOOKUP(B40625,ceva_zone!A:B,2,FALSE)","v":"E"},{"$f":"VLOOKUP(B40625,ceva_zone!A:C,3,FALSE)","v":"C"}]
["52172","IA","F","remote",{"$f":"VLOOKUP(B40626,ceva_zone!A:B,2,FALSE)","v":"E"},{"$f":"VLOOKUP(B40626,ceva_zone!A:C,3,FALSE)","v":"C"}]
["52156","IA","F","remote",{"$f":"VLOOKUP(B40627,ceva_zone!A:B,2,FALSE)","v":"E"},{"$f":"VLOOKUP(B40627,ceva_zone!A:C,3,FALSE)","v":"C"}]
["52147","IA","F","remote",{"$f":"VLOOKUP(B40628,ceva_zone!A:B,2,FALSE)","v":"E"},{"$f":"VLOOKUP(B40628,ceva_zone!A:C,3,FALSE)","v":"C"}]
["52149","IA","F","remote",{"$f":"VLOOKUP(B40629,ceva_zone!A:B,2,FALSE)","v":"E"},{"$f":"VLOOKUP(B40629,ceva_zone!A:C,3,FALSE)","v":"C"}]
["52154","IA","F","remote",{"$f":"VLOOKUP(B40630,ceva_zone!A:B,2,FALSE)","v":"E"},{"$f":"VLOOKUP(B40630,ceva_zone!A:C,3,FALSE)","v":"C"}]
["52158","IA","F","remote",{"$f":"VLOOKUP(B40631,ceva_zone!A:B,2,FALSE)","v":"E"},{"$f":"VLOOKUP(B40631,ceva_zone!A:C,3,FALSE)","v":"C"}]
["52159","IA","F","remote",{"$f":"VLOOKUP(B40632,ceva_zone!A:B,2,FALSE)","v":"E"},{"$f":"VLOOKUP(B40632,ceva_zone!A:C,3,FALSE)","v":"C"}]
["52160","IA","F","remote",{"$f":"VLOOKUP(B40633,ceva_zone!A:B,2,FALSE)","v":"E"},{"$f":"VLOOKUP(B40633,ceva_zone!A:C,3,FALSE)","v":"C"}]
["52161","IA","F","remote",{"$f":"VLOOKUP(B40634,ceva_zone!A:B,2,FALSE)","v":"E"},{"$f":"VLOOKUP(B40634,ceva_zone!A:C,3,FALSE)","v":"C"}]
["52163","IA","F","remote",{"$f":"VLOOKUP(B40635,ceva_zone!A:B,2,FALSE)","v":"E"},{"$f":"VLOOKUP(B40635,ceva_zone!A:C,3,FALSE)","v":"C"}]
["52164","IA","F","remote",{"$f":"VLOOKUP(B40636,ceva_zone!A:B,2,FALSE)","v":"E"},{"$f":"VLOOKUP(B40636,ceva_zone!A:C,3,FALSE)","v":"C"}]
["52165","IA","F","remote",{"$f":"VLOOKUP(B40637,ceva_zone!A:B,2,FALSE)","v":"E"},{"$f":"VLOOKUP(B40637,ceva_zone!A:C,3,FALSE)","v":"C"}]
["52166","IA","F","remote",{"$f":"VLOOKUP(B40638,ceva_zone!A:B,2,FALSE)","v":"E"},{"$f":"VLOOKUP(B40638,ceva_zone!A:C,3,FALSE)","v":"C"}]
["52168","IA","F","remote",{"$f":"VLOOKUP(B40639,ceva_zone!A:B,2,FALSE)","v":"E"},{"$f":"VLOOKUP(B40639,ceva_zone!A:C,3,FALSE)","v":"C"}]
["52169","IA","F","remote",{"$f":"VLOOKUP(B40640,ceva_zone!A:B,2,FALSE)","v":"E"},{"$f":"VLOOKUP(B40640,ceva_zone!A:C,3,FALSE)","v":"C"}]
["52201","IA","F","remote",{"$f":"VLOOKUP(B40641,ceva_zone!A:B,2,FALSE)","v":"E"},{"$f":"VLOOKUP(B40641,ceva_zone!A:C,3,FALSE)","v":"C"}]
["52202","IA","Y","remote",{"$f":"VLOOKUP(B40642,ceva_zone!A:B,2,FALSE)","v":"E"},{"$f":"VLOOKUP(B40642,ceva_zone!A:C,3,FALSE)","v":"C"}]
["52203","IA","Y","remote",{"$f":"VLOOKUP(B40643,ceva_zone!A:B,2,FALSE)","v":"E"},{"$f":"VLOOKUP(B40643,ceva_zone!A:C,3,FALSE)","v":"C"}]
["52204","IA","Y","remote",{"$f":"VLOOKUP(B40644,ceva_zone!A:B,2,FALSE)","v":"E"},{"$f":"VLOOKUP(B40644,ceva_zone!A:C,3,FALSE)","v":"C"}]
["52205","IA","Y","remote",{"$f":"VLOOKUP(B40645,ceva_zone!A:B,2,FALSE)","v":"E"},{"$f":"VLOOKUP(B40645,ceva_zone!A:C,3,FALSE)","v":"C"}]
["52206","IA","Y","remote",{"$f":"VLOOKUP(B40646,ceva_zone!A:B,2,FALSE)","v":"E"},{"$f":"VLOOKUP(B40646,ceva_zone!A:C,3,FALSE)","v":"C"}]
["52207","IA","F","remote",{"$f":"VLOOKUP(B40647,ceva_zone!A:B,2,FALSE)","v":"E"},{"$f":"VLOOKUP(B40647,ceva_zone!A:C,3,FALSE)","v":"C"}]
["52208","IA","Y","remote",{"$f":"VLOOKUP(B40648,ceva_zone!A:B,2,FALSE)","v":"E"},{"$f":"VLOOKUP(B40648,ceva_zone!A:C,3,FALSE)","v":"C"}]
["52209","IA","Y","remote",{"$f":"VLOOKUP(B40649,ceva_zone!A:B,2,FALSE)","v":"E"},{"$f":"VLOOKUP(B40649,ceva_zone!A:C,3,FALSE)","v":"C"}]
["52210","IA","Y","remote",{"$f":"VLOOKUP(B40650,ceva_zone!A:B,2,FALSE)","v":"E"},{"$f":"VLOOKUP(B40650,ceva_zone!A:C,3,FALSE)","v":"C"}]
["52211","IA","F","remote",{"$f":"VLOOKUP(B40651,ceva_zone!A:B,2,FALSE)","v":"E"},{"$f":"VLOOKUP(B40651,ceva_zone!A:C,3,FALSE)","v":"C"}]
["52212","IA","Y","remote",{"$f":"VLOOKUP(B40652,ceva_zone!A:B,2,FALSE)","v":"E"},{"$f":"VLOOKUP(B40652,ceva_zone!A:C,3,FALSE)","v":"C"}]
["52213","IA","Y","remote",{"$f":"VLOOKUP(B40653,ceva_zone!A:B,2,FALSE)","v":"E"},{"$f":"VLOOKUP(B40653,ceva_zone!A:C,3,FALSE)","v":"C"}]
["52214","IA","Y","remote",{"$f":"VLOOKUP(B40654,ceva_zone!A:B,2,FALSE)","v":"E"},{"$f":"VLOOKUP(B40654,ceva_zone!A:C,3,FALSE)","v":"C"}]
["52215","IA","Y","remote",{"$f":"VLOOKUP(B40655,ceva_zone!A:B,2,FALSE)","v":"E"},{"$f":"VLOOKUP(B40655,ceva_zone!A:C,3,FALSE)","v":"C"}]
["52216","IA","Y","remote",{"$f":"VLOOKUP(B40656,ceva_zone!A:B,2,FALSE)","v":"E"},{"$f":"VLOOKUP(B40656,ceva_zone!A:C,3,FALSE)","v":"C"}]
["52248","IA","F","remote",{"$f":"VLOOKUP(B40657,ceva_zone!A:B,2,FALSE)","v":"E"},{"$f":"VLOOKUP(B40657,ceva_zone!A:C,3,FALSE)","v":"C"}]
["52217","IA","Y","remote",{"$f":"VLOOKUP(B40658,ceva_zone!A:B,2,FALSE)","v":"E"},{"$f":"VLOOKUP(B40658,ceva_zone!A:C,3,FALSE)","v":"C"}]
["52218","IA","Y","remote",{"$f":"VLOOKUP(B40659,ceva_zone!A:B,2,FALSE)","v":"E"},{"$f":"VLOOKUP(B40659,ceva_zone!A:C,3,FALSE)","v":"C"}]
["52220","IA","Y","remote",{"$f":"VLOOKUP(B40660,ceva_zone!A:B,2,FALSE)","v":"E"},{"$f":"VLOOKUP(B40660,ceva_zone!A:C,3,FALSE)","v":"C"}]
["52241","IA","Y","remote",{"$f":"VLOOKUP(B40661,ceva_zone!A:B,2,FALSE)","v":"E"},{"$f":"VLOOKUP(B40661,ceva_zone!A:C,3,FALSE)","v":"C"}]
["52244","IA","C","standard",{"$f":"VLOOKUP(B40662,ceva_zone!A:B,2,FALSE)","v":"E"},{"$f":"VLOOKUP(B40662,ceva_zone!A:C,3,FALSE)","v":"C"}]
["52222","IA","Y","remote",{"$f":"VLOOKUP(B40663,ceva_zone!A:B,2,FALSE)","v":"E"},{"$f":"VLOOKUP(B40663,ceva_zone!A:C,3,FALSE)","v":"C"}]
["52223","IA","Y","remote",{"$f":"VLOOKUP(B40664,ceva_zone!A:B,2,FALSE)","v":"E"},{"$f":"VLOOKUP(B40664,ceva_zone!A:C,3,FALSE)","v":"C"}]
["52224","IA","Y","remote",{"$f":"VLOOKUP(B40665,ceva_zone!A:B,2,FALSE)","v":"E"},{"$f":"VLOOKUP(B40665,ceva_zone!A:C,3,FALSE)","v":"C"}]
["52225","IA","Y","remote",{"$f":"VLOOKUP(B40666,ceva_zone!A:B,2,FALSE)","v":"E"},{"$f":"VLOOKUP(B40666,ceva_zone!A:C,3,FALSE)","v":"C"}]
["52227","IA","Y","remote",{"$f":"VLOOKUP(B40667,ceva_zone!A:B,2,FALSE)","v":"E"},{"$f":"VLOOKUP(B40667,ceva_zone!A:C,3,FALSE)","v":"C"}]
["52228","IA","Y","remote",{"$f":"VLOOKUP(B40668,ceva_zone!A:B,2,FALSE)","v":"E"},{"$f":"VLOOKUP(B40668,ceva_zone!A:C,3,FALSE)","v":"C"}]
["52229","IA","Y","remote",{"$f":"VLOOKUP(B40669,ceva_zone!A:B,2,FALSE)","v":"E"},{"$f":"VLOOKUP(B40669,ceva_zone!A:C,3,FALSE)","v":"C"}]
["52221","IA","F","remote",{"$f":"VLOOKUP(B40670,ceva_zone!A:B,2,FALSE)","v":"E"},{"$f":"VLOOKUP(B40670,ceva_zone!A:C,3,FALSE)","v":"C"}]
["52231","IA","F","remote",{"$f":"VLOOKUP(B40671,ceva_zone!A:B,2,FALSE)","v":"E"},{"$f":"VLOOKUP(B40671,ceva_zone!A:C,3,FALSE)","v":"C"}]
["52232","IA","Y","remote",{"$f":"VLOOKUP(B40672,ceva_zone!A:B,2,FALSE)","v":"E"},{"$f":"VLOOKUP(B40672,ceva_zone!A:C,3,FALSE)","v":"C"}]
["52233","IA","Y","remote",{"$f":"VLOOKUP(B40673,ceva_zone!A:B,2,FALSE)","v":"E"},{"$f":"VLOOKUP(B40673,ceva_zone!A:C,3,FALSE)","v":"C"}]
["52235","IA","Y","remote",{"$f":"VLOOKUP(B40674,ceva_zone!A:B,2,FALSE)","v":"E"},{"$f":"VLOOKUP(B40674,ceva_zone!A:C,3,FALSE)","v":"C"}]
["52236","IA","Y","remote",{"$f":"VLOOKUP(B40675,ceva_zone!A:B,2,FALSE)","v":"E"},{"$f":"VLOOKUP(B40675,ceva_zone!A:C,3,FALSE)","v":"C"}]
["52237","IA","Y","remote",{"$f":"VLOOKUP(B40676,ceva_zone!A:B,2,FALSE)","v":"E"},{"$f":"VLOOKUP(B40676,ceva_zone!A:C,3,FALSE)","v":"C"}]
["52242","IA","Y","remote",{"$f":"VLOOKUP(B40677,ceva_zone!A:B,2,FALSE)","v":"E"},{"$f":"VLOOKUP(B40677,ceva_zone!A:C,3,FALSE)","v":"C"}]
["52240","IA","Y","remote",{"$f":"VLOOKUP(B40678,ceva_zone!A:B,2,FALSE)","v":"E"},{"$f":"VLOOKUP(B40678,ceva_zone!A:C,3,FALSE)","v":"C"}]
["52243","IA","Y","remote",{"$f":"VLOOKUP(B40679,ceva_zone!A:B,2,FALSE)","v":"E"},{"$f":"VLOOKUP(B40679,ceva_zone!A:C,3,FALSE)","v":"C"}]
["52246","IA","Y","remote",{"$f":"VLOOKUP(B40680,ceva_zone!A:B,2,FALSE)","v":"E"},{"$f":"VLOOKUP(B40680,ceva_zone!A:C,3,FALSE)","v":"C"}]
["52245","IA","Y","remote",{"$f":"VLOOKUP(B40681,ceva_zone!A:B,2,FALSE)","v":"E"},{"$f":"VLOOKUP(B40681,ceva_zone!A:C,3,FALSE)","v":"C"}]
["52247","IA","Y","remote",{"$f":"VLOOKUP(B40682,ceva_zone!A:B,2,FALSE)","v":"E"},{"$f":"VLOOKUP(B40682,ceva_zone!A:C,3,FALSE)","v":"C"}]
["52249","IA","Y","remote",{"$f":"VLOOKUP(B40683,ceva_zone!A:B,2,FALSE)","v":"E"},{"$f":"VLOOKUP(B40683,ceva_zone!A:C,3,FALSE)","v":"C"}]
["52251","IA","Y","remote",{"$f":"VLOOKUP(B40684,ceva_zone!A:B,2,FALSE)","v":"E"},{"$f":"VLOOKUP(B40684,ceva_zone!A:C,3,FALSE)","v":"C"}]
["52252","IA","Y","remote",{"$f":"VLOOKUP(B40685,ceva_zone!A:B,2,FALSE)","v":"E"},{"$f":"VLOOKUP(B40685,ceva_zone!A:C,3,FALSE)","v":"C"}]
["52253","IA","Y","remote",{"$f":"VLOOKUP(B40686,ceva_zone!A:B,2,FALSE)","v":"E"},{"$f":"VLOOKUP(B40686,ceva_zone!A:C,3,FALSE)","v":"C"}]
["52254","IA","E","remote",{"$f":"VLOOKUP(B40687,ceva_zone!A:B,2,FALSE)","v":"E"},{"$f":"VLOOKUP(B40687,ceva_zone!A:C,3,FALSE)","v":"C"}]
["52255","IA","E","remote",{"$f":"VLOOKUP(B40688,ceva_zone!A:B,2,FALSE)","v":"E"},{"$f":"VLOOKUP(B40688,ceva_zone!A:C,3,FALSE)","v":"C"}]
["52257","IA","Y","remote",{"$f":"VLOOKUP(B40689,ceva_zone!A:B,2,FALSE)","v":"E"},{"$f":"VLOOKUP(B40689,ceva_zone!A:C,3,FALSE)","v":"C"}]
["52219","IA","Y","remote",{"$f":"VLOOKUP(B40690,ceva_zone!A:B,2,FALSE)","v":"E"},{"$f":"VLOOKUP(B40690,ceva_zone!A:C,3,FALSE)","v":"C"}]
["52309","IA","F","remote",{"$f":"VLOOKUP(B40691,ceva_zone!A:B,2,FALSE)","v":"E"},{"$f":"VLOOKUP(B40691,ceva_zone!A:C,3,FALSE)","v":"C"}]
["52347","IA","Y","remote",{"$f":"VLOOKUP(B40692,ceva_zone!A:B,2,FALSE)","v":"E"},{"$f":"VLOOKUP(B40692,ceva_zone!A:C,3,FALSE)","v":"C"}]
["52358","IA","Y","remote",{"$f":"VLOOKUP(B40693,ceva_zone!A:B,2,FALSE)","v":"E"},{"$f":"VLOOKUP(B40693,ceva_zone!A:C,3,FALSE)","v":"C"}]
["52322","IA","Y","remote",{"$f":"VLOOKUP(B40694,ceva_zone!A:B,2,FALSE)","v":"E"},{"$f":"VLOOKUP(B40694,ceva_zone!A:C,3,FALSE)","v":"C"}]
["52338","IA","Y","remote",{"$f":"VLOOKUP(B40695,ceva_zone!A:B,2,FALSE)","v":"E"},{"$f":"VLOOKUP(B40695,ceva_zone!A:C,3,FALSE)","v":"C"}]
["52324","IA","Y","remote",{"$f":"VLOOKUP(B40696,ceva_zone!A:B,2,FALSE)","v":"E"},{"$f":"VLOOKUP(B40696,ceva_zone!A:C,3,FALSE)","v":"C"}]
["52356","IA","Y","remote",{"$f":"VLOOKUP(B40697,ceva_zone!A:B,2,FALSE)","v":"E"},{"$f":"VLOOKUP(B40697,ceva_zone!A:C,3,FALSE)","v":"C"}]
["52301","IA","Y","remote",{"$f":"VLOOKUP(B40698,ceva_zone!A:B,2,FALSE)","v":"E"},{"$f":"VLOOKUP(B40698,ceva_zone!A:C,3,FALSE)","v":"C"}]
["52353","IA","F","remote",{"$f":"VLOOKUP(B40699,ceva_zone!A:B,2,FALSE)","v":"E"},{"$f":"VLOOKUP(B40699,ceva_zone!A:C,3,FALSE)","v":"C"}]
["52362","IA","F","remote",{"$f":"VLOOKUP(B40700,ceva_zone!A:B,2,FALSE)","v":"E"},{"$f":"VLOOKUP(B40700,ceva_zone!A:C,3,FALSE)","v":"C"}]
["52339","IA","Y","remote",{"$f":"VLOOKUP(B40701,ceva_zone!A:B,2,FALSE)","v":"E"},{"$f":"VLOOKUP(B40701,ceva_zone!A:C,3,FALSE)","v":"C"}]
["52325","IA","Y","remote",{"$f":"VLOOKUP(B40702,ceva_zone!A:B,2,FALSE)","v":"E"},{"$f":"VLOOKUP(B40702,ceva_zone!A:C,3,FALSE)","v":"C"}]
["52302","IA","Y","remote",{"$f":"VLOOKUP(B40703,ceva_zone!A:B,2,FALSE)","v":"E"},{"$f":"VLOOKUP(B40703,ceva_zone!A:C,3,FALSE)","v":"C"}]
["52310","IA","Y","remote",{"$f":"VLOOKUP(B40704,ceva_zone!A:B,2,FALSE)","v":"E"},{"$f":"VLOOKUP(B40704,ceva_zone!A:C,3,FALSE)","v":"C"}]
["52328","IA","Y","remote",{"$f":"VLOOKUP(B40705,ceva_zone!A:B,2,FALSE)","v":"E"},{"$f":"VLOOKUP(B40705,ceva_zone!A:C,3,FALSE)","v":"C"}]
["52305","IA","Y","remote",{"$f":"VLOOKUP(B40706,ceva_zone!A:B,2,FALSE)","v":"E"},{"$f":"VLOOKUP(B40706,ceva_zone!A:C,3,FALSE)","v":"C"}]
["52306","IA","Y","remote",{"$f":"VLOOKUP(B40707,ceva_zone!A:B,2,FALSE)","v":"E"},{"$f":"VLOOKUP(B40707,ceva_zone!A:C,3,FALSE)","v":"C"}]
["52307","IA","Y","remote",{"$f":"VLOOKUP(B40708,ceva_zone!A:B,2,FALSE)","v":"E"},{"$f":"VLOOKUP(B40708,ceva_zone!A:C,3,FALSE)","v":"C"}]
["52308","IA","Y","remote",{"$f":"VLOOKUP(B40709,ceva_zone!A:B,2,FALSE)","v":"E"},{"$f":"VLOOKUP(B40709,ceva_zone!A:C,3,FALSE)","v":"C"}]
["52312","IA","Y","remote",{"$f":"VLOOKUP(B40710,ceva_zone!A:B,2,FALSE)","v":"E"},{"$f":"VLOOKUP(B40710,ceva_zone!A:C,3,FALSE)","v":"C"}]
["52313","IA","Y","remote",{"$f":"VLOOKUP(B40711,ceva_zone!A:B,2,FALSE)","v":"E"},{"$f":"VLOOKUP(B40711,ceva_zone!A:C,3,FALSE)","v":"C"}]
["52314","IA","Y","remote",{"$f":"VLOOKUP(B40712,ceva_zone!A:B,2,FALSE)","v":"E"},{"$f":"VLOOKUP(B40712,ceva_zone!A:C,3,FALSE)","v":"C"}]
["52315","IA","Y","remote",{"$f":"VLOOKUP(B40713,ceva_zone!A:B,2,FALSE)","v":"E"},{"$f":"VLOOKUP(B40713,ceva_zone!A:C,3,FALSE)","v":"C"}]
["52316","IA","Y","remote",{"$f":"VLOOKUP(B40714,ceva_zone!A:B,2,FALSE)","v":"E"},{"$f":"VLOOKUP(B40714,ceva_zone!A:C,3,FALSE)","v":"C"}]
["52317","IA","Y","remote",{"$f":"VLOOKUP(B40715,ceva_zone!A:B,2,FALSE)","v":"E"},{"$f":"VLOOKUP(B40715,ceva_zone!A:C,3,FALSE)","v":"C"}]
["52318","IA","Y","remote",{"$f":"VLOOKUP(B40716,ceva_zone!A:B,2,FALSE)","v":"E"},{"$f":"VLOOKUP(B40716,ceva_zone!A:C,3,FALSE)","v":"C"}]
["52319","IA","C","standard",{"$f":"VLOOKUP(B40717,ceva_zone!A:B,2,FALSE)","v":"E"},{"$f":"VLOOKUP(B40717,ceva_zone!A:C,3,FALSE)","v":"C"}]
["52320","IA","Y","remote",{"$f":"VLOOKUP(B40718,ceva_zone!A:B,2,FALSE)","v":"E"},{"$f":"VLOOKUP(B40718,ceva_zone!A:C,3,FALSE)","v":"C"}]
["52321","IA","F","remote",{"$f":"VLOOKUP(B40719,ceva_zone!A:B,2,FALSE)","v":"E"},{"$f":"VLOOKUP(B40719,ceva_zone!A:C,3,FALSE)","v":"C"}]
["52323","IA","E","remote",{"$f":"VLOOKUP(B40720,ceva_zone!A:B,2,FALSE)","v":"E"},{"$f":"VLOOKUP(B40720,ceva_zone!A:C,3,FALSE)","v":"C"}]
["52336","IA","Y","remote",{"$f":"VLOOKUP(B40721,ceva_zone!A:B,2,FALSE)","v":"E"},{"$f":"VLOOKUP(B40721,ceva_zone!A:C,3,FALSE)","v":"C"}]
["52326","IA","Y","remote",{"$f":"VLOOKUP(B40722,ceva_zone!A:B,2,FALSE)","v":"E"},{"$f":"VLOOKUP(B40722,ceva_zone!A:C,3,FALSE)","v":"C"}]
["52327","IA","Y","remote",{"$f":"VLOOKUP(B40723,ceva_zone!A:B,2,FALSE)","v":"E"},{"$f":"VLOOKUP(B40723,ceva_zone!A:C,3,FALSE)","v":"C"}]
["52330","IA","Y","remote",{"$f":"VLOOKUP(B40724,ceva_zone!A:B,2,FALSE)","v":"E"},{"$f":"VLOOKUP(B40724,ceva_zone!A:C,3,FALSE)","v":"C"}]
["52329","IA","Y","remote",{"$f":"VLOOKUP(B40725,ceva_zone!A:B,2,FALSE)","v":"E"},{"$f":"VLOOKUP(B40725,ceva_zone!A:C,3,FALSE)","v":"C"}]
["52332","IA","Y","remote",{"$f":"VLOOKUP(B40726,ceva_zone!A:B,2,FALSE)","v":"E"},{"$f":"VLOOKUP(B40726,ceva_zone!A:C,3,FALSE)","v":"C"}]
["52333","IA","Y","remote",{"$f":"VLOOKUP(B40727,ceva_zone!A:B,2,FALSE)","v":"E"},{"$f":"VLOOKUP(B40727,ceva_zone!A:C,3,FALSE)","v":"C"}]
["52334","IA","Y","remote",{"$f":"VLOOKUP(B40728,ceva_zone!A:B,2,FALSE)","v":"E"},{"$f":"VLOOKUP(B40728,ceva_zone!A:C,3,FALSE)","v":"C"}]
["52335","IA","Y","remote",{"$f":"VLOOKUP(B40729,ceva_zone!A:B,2,FALSE)","v":"E"},{"$f":"VLOOKUP(B40729,ceva_zone!A:C,3,FALSE)","v":"C"}]
["52337","IA","Y","remote",{"$f":"VLOOKUP(B40730,ceva_zone!A:B,2,FALSE)","v":"E"},{"$f":"VLOOKUP(B40730,ceva_zone!A:C,3,FALSE)","v":"C"}]
["52340","IA","Y","remote",{"$f":"VLOOKUP(B40731,ceva_zone!A:B,2,FALSE)","v":"E"},{"$f":"VLOOKUP(B40731,ceva_zone!A:C,3,FALSE)","v":"C"}]
["52341","IA","Y","remote",{"$f":"VLOOKUP(B40732,ceva_zone!A:B,2,FALSE)","v":"E"},{"$f":"VLOOKUP(B40732,ceva_zone!A:C,3,FALSE)","v":"C"}]
["52342","IA","Y","remote",{"$f":"VLOOKUP(B40733,ceva_zone!A:B,2,FALSE)","v":"E"},{"$f":"VLOOKUP(B40733,ceva_zone!A:C,3,FALSE)","v":"C"}]
["52344","IA","Y","remote",{"$f":"VLOOKUP(B40734,ceva_zone!A:B,2,FALSE)","v":"E"},{"$f":"VLOOKUP(B40734,ceva_zone!A:C,3,FALSE)","v":"C"}]
["52345","IA","Y","remote",{"$f":"VLOOKUP(B40735,ceva_zone!A:B,2,FALSE)","v":"E"},{"$f":"VLOOKUP(B40735,ceva_zone!A:C,3,FALSE)","v":"C"}]
["52346","IA","Y","remote",{"$f":"VLOOKUP(B40736,ceva_zone!A:B,2,FALSE)","v":"E"},{"$f":"VLOOKUP(B40736,ceva_zone!A:C,3,FALSE)","v":"C"}]
["52348","IA","Y","remote",{"$f":"VLOOKUP(B40737,ceva_zone!A:B,2,FALSE)","v":"E"},{"$f":"VLOOKUP(B40737,ceva_zone!A:C,3,FALSE)","v":"C"}]
["52349","IA","Y","remote",{"$f":"VLOOKUP(B40738,ceva_zone!A:B,2,FALSE)","v":"E"},{"$f":"VLOOKUP(B40738,ceva_zone!A:C,3,FALSE)","v":"C"}]
["52350","IA","C","standard",{"$f":"VLOOKUP(B40739,ceva_zone!A:B,2,FALSE)","v":"E"},{"$f":"VLOOKUP(B40739,ceva_zone!A:C,3,FALSE)","v":"C"}]
["52351","IA","Y","remote",{"$f":"VLOOKUP(B40740,ceva_zone!A:B,2,FALSE)","v":"E"},{"$f":"VLOOKUP(B40740,ceva_zone!A:C,3,FALSE)","v":"C"}]
["52352","IA","Y","remote",{"$f":"VLOOKUP(B40741,ceva_zone!A:B,2,FALSE)","v":"E"},{"$f":"VLOOKUP(B40741,ceva_zone!A:C,3,FALSE)","v":"C"}]
["52354","IA","Y","remote",{"$f":"VLOOKUP(B40742,ceva_zone!A:B,2,FALSE)","v":"E"},{"$f":"VLOOKUP(B40742,ceva_zone!A:C,3,FALSE)","v":"C"}]
["52355","IA","Y","remote",{"$f":"VLOOKUP(B40743,ceva_zone!A:B,2,FALSE)","v":"E"},{"$f":"VLOOKUP(B40743,ceva_zone!A:C,3,FALSE)","v":"C"}]
["52359","IA","F","remote",{"$f":"VLOOKUP(B40744,ceva_zone!A:B,2,FALSE)","v":"E"},{"$f":"VLOOKUP(B40744,ceva_zone!A:C,3,FALSE)","v":"C"}]
["52361","IA","Y","remote",{"$f":"VLOOKUP(B40745,ceva_zone!A:B,2,FALSE)","v":"E"},{"$f":"VLOOKUP(B40745,ceva_zone!A:C,3,FALSE)","v":"C"}]
["52401","IA","Y","remote",{"$f":"VLOOKUP(B40746,ceva_zone!A:B,2,FALSE)","v":"E"},{"$f":"VLOOKUP(B40746,ceva_zone!A:C,3,FALSE)","v":"C"}]
["52409","IA","A","standard",{"$f":"VLOOKUP(B40747,ceva_zone!A:B,2,FALSE)","v":"E"},{"$f":"VLOOKUP(B40747,ceva_zone!A:C,3,FALSE)","v":"C"}]
["52406","IA","A","standard",{"$f":"VLOOKUP(B40748,ceva_zone!A:B,2,FALSE)","v":"E"},{"$f":"VLOOKUP(B40748,ceva_zone!A:C,3,FALSE)","v":"C"}]
["52405","IA","Y","remote",{"$f":"VLOOKUP(B40749,ceva_zone!A:B,2,FALSE)","v":"E"},{"$f":"VLOOKUP(B40749,ceva_zone!A:C,3,FALSE)","v":"C"}]
["52499","IA","Y","remote",{"$f":"VLOOKUP(B40750,ceva_zone!A:B,2,FALSE)","v":"E"},{"$f":"VLOOKUP(B40750,ceva_zone!A:C,3,FALSE)","v":"C"}]
["52408","IA","A","standard",{"$f":"VLOOKUP(B40751,ceva_zone!A:B,2,FALSE)","v":"E"},{"$f":"VLOOKUP(B40751,ceva_zone!A:C,3,FALSE)","v":"C"}]
["52410","IA","A","standard",{"$f":"VLOOKUP(B40752,ceva_zone!A:B,2,FALSE)","v":"E"},{"$f":"VLOOKUP(B40752,ceva_zone!A:C,3,FALSE)","v":"C"}]
["52411","IA","Y","remote",{"$f":"VLOOKUP(B40753,ceva_zone!A:B,2,FALSE)","v":"E"},{"$f":"VLOOKUP(B40753,ceva_zone!A:C,3,FALSE)","v":"C"}]
["52497","IA","Y","remote",{"$f":"VLOOKUP(B40754,ceva_zone!A:B,2,FALSE)","v":"E"},{"$f":"VLOOKUP(B40754,ceva_zone!A:C,3,FALSE)","v":"C"}]
["52498","IA","Y","remote",{"$f":"VLOOKUP(B40755,ceva_zone!A:B,2,FALSE)","v":"E"},{"$f":"VLOOKUP(B40755,ceva_zone!A:C,3,FALSE)","v":"C"}]
["52404","IA","Y","remote",{"$f":"VLOOKUP(B40756,ceva_zone!A:B,2,FALSE)","v":"E"},{"$f":"VLOOKUP(B40756,ceva_zone!A:C,3,FALSE)","v":"C"}]
["52403","IA","Y","remote",{"$f":"VLOOKUP(B40757,ceva_zone!A:B,2,FALSE)","v":"E"},{"$f":"VLOOKUP(B40757,ceva_zone!A:C,3,FALSE)","v":"C"}]
["52402","IA","Y","remote",{"$f":"VLOOKUP(B40758,ceva_zone!A:B,2,FALSE)","v":"E"},{"$f":"VLOOKUP(B40758,ceva_zone!A:C,3,FALSE)","v":"C"}]
["52407","IA","A","standard",{"$f":"VLOOKUP(B40759,ceva_zone!A:B,2,FALSE)","v":"E"},{"$f":"VLOOKUP(B40759,ceva_zone!A:C,3,FALSE)","v":"C"}]
["52533","IA","F","remote",{"$f":"VLOOKUP(B40760,ceva_zone!A:B,2,FALSE)","v":"E"},{"$f":"VLOOKUP(B40760,ceva_zone!A:C,3,FALSE)","v":"C"}]
["52530","IA","F","remote",{"$f":"VLOOKUP(B40761,ceva_zone!A:B,2,FALSE)","v":"E"},{"$f":"VLOOKUP(B40761,ceva_zone!A:C,3,FALSE)","v":"C"}]
["52531","IA","E","remote",{"$f":"VLOOKUP(B40762,ceva_zone!A:B,2,FALSE)","v":"E"},{"$f":"VLOOKUP(B40762,ceva_zone!A:C,3,FALSE)","v":"C"}]
["52534","IA","Y","remote",{"$f":"VLOOKUP(B40763,ceva_zone!A:B,2,FALSE)","v":"E"},{"$f":"VLOOKUP(B40763,ceva_zone!A:C,3,FALSE)","v":"C"}]
["52556","IA","Y","remote",{"$f":"VLOOKUP(B40764,ceva_zone!A:B,2,FALSE)","v":"E"},{"$f":"VLOOKUP(B40764,ceva_zone!A:C,3,FALSE)","v":"C"}]
["52537","IA","G","remote",{"$f":"VLOOKUP(B40765,ceva_zone!A:B,2,FALSE)","v":"E"},{"$f":"VLOOKUP(B40765,ceva_zone!A:C,3,FALSE)","v":"C"}]
["52565","IA","F","remote",{"$f":"VLOOKUP(B40766,ceva_zone!A:B,2,FALSE)","v":"E"},{"$f":"VLOOKUP(B40766,ceva_zone!A:C,3,FALSE)","v":"C"}]
["52535","IA","F","remote",{"$f":"VLOOKUP(B40767,ceva_zone!A:B,2,FALSE)","v":"E"},{"$f":"VLOOKUP(B40767,ceva_zone!A:C,3,FALSE)","v":"C"}]
["52501","IA","F","remote",{"$f":"VLOOKUP(B40768,ceva_zone!A:B,2,FALSE)","v":"E"},{"$f":"VLOOKUP(B40768,ceva_zone!A:C,3,FALSE)","v":"C"}]
["52536","IA","F","remote",{"$f":"VLOOKUP(B40769,ceva_zone!A:B,2,FALSE)","v":"E"},{"$f":"VLOOKUP(B40769,ceva_zone!A:C,3,FALSE)","v":"C"}]
["52574","IA","F","remote",{"$f":"VLOOKUP(B40770,ceva_zone!A:B,2,FALSE)","v":"E"},{"$f":"VLOOKUP(B40770,ceva_zone!A:C,3,FALSE)","v":"C"}]
["52553","IA","E","remote",{"$f":"VLOOKUP(B40771,ceva_zone!A:B,2,FALSE)","v":"E"},{"$f":"VLOOKUP(B40771,ceva_zone!A:C,3,FALSE)","v":"C"}]
["52540","IA","E","remote",{"$f":"VLOOKUP(B40772,ceva_zone!A:B,2,FALSE)","v":"E"},{"$f":"VLOOKUP(B40772,ceva_zone!A:C,3,FALSE)","v":"C"}]
["52573","IA","F","remote",{"$f":"VLOOKUP(B40773,ceva_zone!A:B,2,FALSE)","v":"E"},{"$f":"VLOOKUP(B40773,ceva_zone!A:C,3,FALSE)","v":"C"}]
["52542","IA","F","remote",{"$f":"VLOOKUP(B40774,ceva_zone!A:B,2,FALSE)","v":"E"},{"$f":"VLOOKUP(B40774,ceva_zone!A:C,3,FALSE)","v":"C"}]
["52543","IA","E","remote",{"$f":"VLOOKUP(B40775,ceva_zone!A:B,2,FALSE)","v":"E"},{"$f":"VLOOKUP(B40775,ceva_zone!A:C,3,FALSE)","v":"C"}]
["52544","IA","F","remote",{"$f":"VLOOKUP(B40776,ceva_zone!A:B,2,FALSE)","v":"E"},{"$f":"VLOOKUP(B40776,ceva_zone!A:C,3,FALSE)","v":"C"}]
["52548","IA","F","remote",{"$f":"VLOOKUP(B40777,ceva_zone!A:B,2,FALSE)","v":"E"},{"$f":"VLOOKUP(B40777,ceva_zone!A:C,3,FALSE)","v":"C"}]
["52549","IA","F","remote",{"$f":"VLOOKUP(B40778,ceva_zone!A:B,2,FALSE)","v":"E"},{"$f":"VLOOKUP(B40778,ceva_zone!A:C,3,FALSE)","v":"C"}]
["52569","IA","E","remote",{"$f":"VLOOKUP(B40779,ceva_zone!A:B,2,FALSE)","v":"E"},{"$f":"VLOOKUP(B40779,ceva_zone!A:C,3,FALSE)","v":"C"}]
["52572","IA","G","remote",{"$f":"VLOOKUP(B40780,ceva_zone!A:B,2,FALSE)","v":"E"},{"$f":"VLOOKUP(B40780,ceva_zone!A:C,3,FALSE)","v":"C"}]
["52550","IA","F","remote",{"$f":"VLOOKUP(B40781,ceva_zone!A:B,2,FALSE)","v":"E"},{"$f":"VLOOKUP(B40781,ceva_zone!A:C,3,FALSE)","v":"C"}]
["52551","IA","F","remote",{"$f":"VLOOKUP(B40782,ceva_zone!A:B,2,FALSE)","v":"E"},{"$f":"VLOOKUP(B40782,ceva_zone!A:C,3,FALSE)","v":"C"}]
["52552","IA","G","remote",{"$f":"VLOOKUP(B40783,ceva_zone!A:B,2,FALSE)","v":"E"},{"$f":"VLOOKUP(B40783,ceva_zone!A:C,3,FALSE)","v":"C"}]
["52554","IA","F","remote",{"$f":"VLOOKUP(B40784,ceva_zone!A:B,2,FALSE)","v":"E"},{"$f":"VLOOKUP(B40784,ceva_zone!A:C,3,FALSE)","v":"C"}]
["52577","IA","Y","remote",{"$f":"VLOOKUP(B40785,ceva_zone!A:B,2,FALSE)","v":"E"},{"$f":"VLOOKUP(B40785,ceva_zone!A:C,3,FALSE)","v":"C"}]
["52555","IA","F","remote",{"$f":"VLOOKUP(B40786,ceva_zone!A:B,2,FALSE)","v":"E"},{"$f":"VLOOKUP(B40786,ceva_zone!A:C,3,FALSE)","v":"C"}]
["52557","IA","Y","remote",{"$f":"VLOOKUP(B40787,ceva_zone!A:B,2,FALSE)","v":"E"},{"$f":"VLOOKUP(B40787,ceva_zone!A:C,3,FALSE)","v":"C"}]
["52563","IA","F","remote",{"$f":"VLOOKUP(B40788,ceva_zone!A:B,2,FALSE)","v":"E"},{"$f":"VLOOKUP(B40788,ceva_zone!A:C,3,FALSE)","v":"C"}]
["52560","IA","G","remote",{"$f":"VLOOKUP(B40789,ceva_zone!A:B,2,FALSE)","v":"E"},{"$f":"VLOOKUP(B40789,ceva_zone!A:C,3,FALSE)","v":"C"}]
["52561","IA","E","remote",{"$f":"VLOOKUP(B40790,ceva_zone!A:B,2,FALSE)","v":"E"},{"$f":"VLOOKUP(B40790,ceva_zone!A:C,3,FALSE)","v":"C"}]
["52562","IA","F","remote",{"$f":"VLOOKUP(B40791,ceva_zone!A:B,2,FALSE)","v":"E"},{"$f":"VLOOKUP(B40791,ceva_zone!A:C,3,FALSE)","v":"C"}]
["52571","IA","F","remote",{"$f":"VLOOKUP(B40792,ceva_zone!A:B,2,FALSE)","v":"E"},{"$f":"VLOOKUP(B40792,ceva_zone!A:C,3,FALSE)","v":"C"}]
["52566","IA","E","remote",{"$f":"VLOOKUP(B40793,ceva_zone!A:B,2,FALSE)","v":"E"},{"$f":"VLOOKUP(B40793,ceva_zone!A:C,3,FALSE)","v":"C"}]
["52591","IA","F","remote",{"$f":"VLOOKUP(B40794,ceva_zone!A:B,2,FALSE)","v":"E"},{"$f":"VLOOKUP(B40794,ceva_zone!A:C,3,FALSE)","v":"C"}]
["52567","IA","F","remote",{"$f":"VLOOKUP(B40795,ceva_zone!A:B,2,FALSE)","v":"E"},{"$f":"VLOOKUP(B40795,ceva_zone!A:C,3,FALSE)","v":"C"}]
["52580","IA","G","remote",{"$f":"VLOOKUP(B40796,ceva_zone!A:B,2,FALSE)","v":"E"},{"$f":"VLOOKUP(B40796,ceva_zone!A:C,3,FALSE)","v":"C"}]
["52568","IA","F","remote",{"$f":"VLOOKUP(B40797,ceva_zone!A:B,2,FALSE)","v":"E"},{"$f":"VLOOKUP(B40797,ceva_zone!A:C,3,FALSE)","v":"C"}]
["52570","IA","F","remote",{"$f":"VLOOKUP(B40798,ceva_zone!A:B,2,FALSE)","v":"E"},{"$f":"VLOOKUP(B40798,ceva_zone!A:C,3,FALSE)","v":"C"}]
["52576","IA","F","remote",{"$f":"VLOOKUP(B40799,ceva_zone!A:B,2,FALSE)","v":"E"},{"$f":"VLOOKUP(B40799,ceva_zone!A:C,3,FALSE)","v":"C"}]
["52581","IA","F","remote",{"$f":"VLOOKUP(B40800,ceva_zone!A:B,2,FALSE)","v":"E"},{"$f":"VLOOKUP(B40800,ceva_zone!A:C,3,FALSE)","v":"C"}]
["52583","IA","F","remote",{"$f":"VLOOKUP(B40801,ceva_zone!A:B,2,FALSE)","v":"E"},{"$f":"VLOOKUP(B40801,ceva_zone!A:C,3,FALSE)","v":"C"}]
["52584","IA","G","remote",{"$f":"VLOOKUP(B40802,ceva_zone!A:B,2,FALSE)","v":"E"},{"$f":"VLOOKUP(B40802,ceva_zone!A:C,3,FALSE)","v":"C"}]
["52585","IA","G","remote",{"$f":"VLOOKUP(B40803,ceva_zone!A:B,2,FALSE)","v":"E"},{"$f":"VLOOKUP(B40803,ceva_zone!A:C,3,FALSE)","v":"C"}]
["52586","IA","E","remote",{"$f":"VLOOKUP(B40804,ceva_zone!A:B,2,FALSE)","v":"E"},{"$f":"VLOOKUP(B40804,ceva_zone!A:C,3,FALSE)","v":"C"}]
["52588","IA","F","remote",{"$f":"VLOOKUP(B40805,ceva_zone!A:B,2,FALSE)","v":"E"},{"$f":"VLOOKUP(B40805,ceva_zone!A:C,3,FALSE)","v":"C"}]
["52590","IA","F","remote",{"$f":"VLOOKUP(B40806,ceva_zone!A:B,2,FALSE)","v":"E"},{"$f":"VLOOKUP(B40806,ceva_zone!A:C,3,FALSE)","v":"C"}]
["52593","IA","F","remote",{"$f":"VLOOKUP(B40807,ceva_zone!A:B,2,FALSE)","v":"E"},{"$f":"VLOOKUP(B40807,ceva_zone!A:C,3,FALSE)","v":"C"}]
["52594","IA","G","remote",{"$f":"VLOOKUP(B40808,ceva_zone!A:B,2,FALSE)","v":"E"},{"$f":"VLOOKUP(B40808,ceva_zone!A:C,3,FALSE)","v":"C"}]
["52595","IA","Y","remote",{"$f":"VLOOKUP(B40809,ceva_zone!A:B,2,FALSE)","v":"E"},{"$f":"VLOOKUP(B40809,ceva_zone!A:C,3,FALSE)","v":"C"}]
["52619","IA","F","remote",{"$f":"VLOOKUP(B40810,ceva_zone!A:B,2,FALSE)","v":"E"},{"$f":"VLOOKUP(B40810,ceva_zone!A:C,3,FALSE)","v":"C"}]
["52658","IA","Y","remote",{"$f":"VLOOKUP(B40811,ceva_zone!A:B,2,FALSE)","v":"E"},{"$f":"VLOOKUP(B40811,ceva_zone!A:C,3,FALSE)","v":"C"}]
["52655","IA","Y","remote",{"$f":"VLOOKUP(B40812,ceva_zone!A:B,2,FALSE)","v":"E"},{"$f":"VLOOKUP(B40812,ceva_zone!A:C,3,FALSE)","v":"C"}]
["52639","IA","Y","remote",{"$f":"VLOOKUP(B40813,ceva_zone!A:B,2,FALSE)","v":"E"},{"$f":"VLOOKUP(B40813,ceva_zone!A:C,3,FALSE)","v":"C"}]
["52620","IA","E","remote",{"$f":"VLOOKUP(B40814,ceva_zone!A:B,2,FALSE)","v":"E"},{"$f":"VLOOKUP(B40814,ceva_zone!A:C,3,FALSE)","v":"C"}]
["52601","IA","Y","remote",{"$f":"VLOOKUP(B40815,ceva_zone!A:B,2,FALSE)","v":"E"},{"$f":"VLOOKUP(B40815,ceva_zone!A:C,3,FALSE)","v":"C"}]
["52654","IA","E","remote",{"$f":"VLOOKUP(B40816,ceva_zone!A:B,2,FALSE)","v":"E"},{"$f":"VLOOKUP(B40816,ceva_zone!A:C,3,FALSE)","v":"C"}]
["52621","IA","F","remote",{"$f":"VLOOKUP(B40817,ceva_zone!A:B,2,FALSE)","v":"E"},{"$f":"VLOOKUP(B40817,ceva_zone!A:C,3,FALSE)","v":"C"}]
["52626","IA","F","remote",{"$f":"VLOOKUP(B40818,ceva_zone!A:B,2,FALSE)","v":"E"},{"$f":"VLOOKUP(B40818,ceva_zone!A:C,3,FALSE)","v":"C"}]
["52623","IA","Y","remote",{"$f":"VLOOKUP(B40819,ceva_zone!A:B,2,FALSE)","v":"E"},{"$f":"VLOOKUP(B40819,ceva_zone!A:C,3,FALSE)","v":"C"}]
["52624","IA","Y","remote",{"$f":"VLOOKUP(B40820,ceva_zone!A:B,2,FALSE)","v":"E"},{"$f":"VLOOKUP(B40820,ceva_zone!A:C,3,FALSE)","v":"C"}]
["52650","IA","Y","remote",{"$f":"VLOOKUP(B40821,ceva_zone!A:B,2,FALSE)","v":"E"},{"$f":"VLOOKUP(B40821,ceva_zone!A:C,3,FALSE)","v":"C"}]
["52625","IA","E","remote",{"$f":"VLOOKUP(B40822,ceva_zone!A:B,2,FALSE)","v":"E"},{"$f":"VLOOKUP(B40822,ceva_zone!A:C,3,FALSE)","v":"C"}]
["52653","IA","F","remote",{"$f":"VLOOKUP(B40823,ceva_zone!A:B,2,FALSE)","v":"E"},{"$f":"VLOOKUP(B40823,ceva_zone!A:C,3,FALSE)","v":"C"}]
["52627","IA","Y","remote",{"$f":"VLOOKUP(B40824,ceva_zone!A:B,2,FALSE)","v":"E"},{"$f":"VLOOKUP(B40824,ceva_zone!A:C,3,FALSE)","v":"C"}]
["52635","IA","E","remote",{"$f":"VLOOKUP(B40825,ceva_zone!A:B,2,FALSE)","v":"E"},{"$f":"VLOOKUP(B40825,ceva_zone!A:C,3,FALSE)","v":"C"}]
["52630","IA","E","remote",{"$f":"VLOOKUP(B40826,ceva_zone!A:B,2,FALSE)","v":"E"},{"$f":"VLOOKUP(B40826,ceva_zone!A:C,3,FALSE)","v":"C"}]
["52631","IA","E","remote",{"$f":"VLOOKUP(B40827,ceva_zone!A:B,2,FALSE)","v":"E"},{"$f":"VLOOKUP(B40827,ceva_zone!A:C,3,FALSE)","v":"C"}]
["52646","IA","Y","remote",{"$f":"VLOOKUP(B40828,ceva_zone!A:B,2,FALSE)","v":"E"},{"$f":"VLOOKUP(B40828,ceva_zone!A:C,3,FALSE)","v":"C"}]
["52632","IA","Y","remote",{"$f":"VLOOKUP(B40829,ceva_zone!A:B,2,FALSE)","v":"E"},{"$f":"VLOOKUP(B40829,ceva_zone!A:C,3,FALSE)","v":"C"}]
["52637","IA","Y","remote",{"$f":"VLOOKUP(B40830,ceva_zone!A:B,2,FALSE)","v":"E"},{"$f":"VLOOKUP(B40830,ceva_zone!A:C,3,FALSE)","v":"C"}]
["52645","IA","Y","remote",{"$f":"VLOOKUP(B40831,ceva_zone!A:B,2,FALSE)","v":"E"},{"$f":"VLOOKUP(B40831,ceva_zone!A:C,3,FALSE)","v":"C"}]
["52638","IA","Y","remote",{"$f":"VLOOKUP(B40832,ceva_zone!A:B,2,FALSE)","v":"E"},{"$f":"VLOOKUP(B40832,ceva_zone!A:C,3,FALSE)","v":"C"}]
["52640","IA","Y","remote",{"$f":"VLOOKUP(B40833,ceva_zone!A:B,2,FALSE)","v":"E"},{"$f":"VLOOKUP(B40833,ceva_zone!A:C,3,FALSE)","v":"C"}]
["52642","IA","Y","remote",{"$f":"VLOOKUP(B40834,ceva_zone!A:B,2,FALSE)","v":"E"},{"$f":"VLOOKUP(B40834,ceva_zone!A:C,3,FALSE)","v":"C"}]
["52641","IA","Y","remote",{"$f":"VLOOKUP(B40835,ceva_zone!A:B,2,FALSE)","v":"E"},{"$f":"VLOOKUP(B40835,ceva_zone!A:C,3,FALSE)","v":"C"}]
["52644","IA","E","remote",{"$f":"VLOOKUP(B40836,ceva_zone!A:B,2,FALSE)","v":"E"},{"$f":"VLOOKUP(B40836,ceva_zone!A:C,3,FALSE)","v":"C"}]
["52647","IA","E","remote",{"$f":"VLOOKUP(B40837,ceva_zone!A:B,2,FALSE)","v":"E"},{"$f":"VLOOKUP(B40837,ceva_zone!A:C,3,FALSE)","v":"C"}]
["52648","IA","E","remote",{"$f":"VLOOKUP(B40838,ceva_zone!A:B,2,FALSE)","v":"E"},{"$f":"VLOOKUP(B40838,ceva_zone!A:C,3,FALSE)","v":"C"}]
["52657","IA","E","remote",{"$f":"VLOOKUP(B40839,ceva_zone!A:B,2,FALSE)","v":"E"},{"$f":"VLOOKUP(B40839,ceva_zone!A:C,3,FALSE)","v":"C"}]
["52649","IA","E","remote",{"$f":"VLOOKUP(B40840,ceva_zone!A:B,2,FALSE)","v":"E"},{"$f":"VLOOKUP(B40840,ceva_zone!A:C,3,FALSE)","v":"C"}]
["52651","IA","E","remote",{"$f":"VLOOKUP(B40841,ceva_zone!A:B,2,FALSE)","v":"E"},{"$f":"VLOOKUP(B40841,ceva_zone!A:C,3,FALSE)","v":"C"}]
["52652","IA","E","remote",{"$f":"VLOOKUP(B40842,ceva_zone!A:B,2,FALSE)","v":"E"},{"$f":"VLOOKUP(B40842,ceva_zone!A:C,3,FALSE)","v":"C"}]
["52656","IA","Y","remote",{"$f":"VLOOKUP(B40843,ceva_zone!A:B,2,FALSE)","v":"E"},{"$f":"VLOOKUP(B40843,ceva_zone!A:C,3,FALSE)","v":"C"}]
["52659","IA","E","remote",{"$f":"VLOOKUP(B40844,ceva_zone!A:B,2,FALSE)","v":"E"},{"$f":"VLOOKUP(B40844,ceva_zone!A:C,3,FALSE)","v":"C"}]
["52660","IA","Y","remote",{"$f":"VLOOKUP(B40845,ceva_zone!A:B,2,FALSE)","v":"E"},{"$f":"VLOOKUP(B40845,ceva_zone!A:C,3,FALSE)","v":"C"}]
["52701","IA","F","remote",{"$f":"VLOOKUP(B40846,ceva_zone!A:B,2,FALSE)","v":"E"},{"$f":"VLOOKUP(B40846,ceva_zone!A:C,3,FALSE)","v":"C"}]
["52753","IA","F","remote",{"$f":"VLOOKUP(B40847,ceva_zone!A:B,2,FALSE)","v":"E"},{"$f":"VLOOKUP(B40847,ceva_zone!A:C,3,FALSE)","v":"C"}]
["52720","IA","F","remote",{"$f":"VLOOKUP(B40848,ceva_zone!A:B,2,FALSE)","v":"E"},{"$f":"VLOOKUP(B40848,ceva_zone!A:C,3,FALSE)","v":"C"}]
["52721","IA","F","remote",{"$f":"VLOOKUP(B40849,ceva_zone!A:B,2,FALSE)","v":"E"},{"$f":"VLOOKUP(B40849,ceva_zone!A:C,3,FALSE)","v":"C"}]
["52722","IA","F","remote",{"$f":"VLOOKUP(B40850,ceva_zone!A:B,2,FALSE)","v":"E"},{"$f":"VLOOKUP(B40850,ceva_zone!A:C,3,FALSE)","v":"C"}]
["52745","IA","F","remote",{"$f":"VLOOKUP(B40851,ceva_zone!A:B,2,FALSE)","v":"E"},{"$f":"VLOOKUP(B40851,ceva_zone!A:C,3,FALSE)","v":"C"}]
["52726","IA","F","remote",{"$f":"VLOOKUP(B40852,ceva_zone!A:B,2,FALSE)","v":"E"},{"$f":"VLOOKUP(B40852,ceva_zone!A:C,3,FALSE)","v":"C"}]
["52727","IA","F","remote",{"$f":"VLOOKUP(B40853,ceva_zone!A:B,2,FALSE)","v":"E"},{"$f":"VLOOKUP(B40853,ceva_zone!A:C,3,FALSE)","v":"C"}]
["52772","IA","E","remote",{"$f":"VLOOKUP(B40854,ceva_zone!A:B,2,FALSE)","v":"E"},{"$f":"VLOOKUP(B40854,ceva_zone!A:C,3,FALSE)","v":"C"}]
["52728","IA","F","remote",{"$f":"VLOOKUP(B40855,ceva_zone!A:B,2,FALSE)","v":"E"},{"$f":"VLOOKUP(B40855,ceva_zone!A:C,3,FALSE)","v":"C"}]
["52738","IA","F","remote",{"$f":"VLOOKUP(B40856,ceva_zone!A:B,2,FALSE)","v":"E"},{"$f":"VLOOKUP(B40856,ceva_zone!A:C,3,FALSE)","v":"C"}]
["52729","IA","E","remote",{"$f":"VLOOKUP(B40857,ceva_zone!A:B,2,FALSE)","v":"E"},{"$f":"VLOOKUP(B40857,ceva_zone!A:C,3,FALSE)","v":"C"}]
["52730","IA","F","remote",{"$f":"VLOOKUP(B40858,ceva_zone!A:B,2,FALSE)","v":"E"},{"$f":"VLOOKUP(B40858,ceva_zone!A:C,3,FALSE)","v":"C"}]
["52776","IA","E","remote",{"$f":"VLOOKUP(B40859,ceva_zone!A:B,2,FALSE)","v":"E"},{"$f":"VLOOKUP(B40859,ceva_zone!A:C,3,FALSE)","v":"C"}]
["52731","IA","F","remote",{"$f":"VLOOKUP(B40860,ceva_zone!A:B,2,FALSE)","v":"E"},{"$f":"VLOOKUP(B40860,ceva_zone!A:C,3,FALSE)","v":"C"}]
["52771","IA","F","remote",{"$f":"VLOOKUP(B40861,ceva_zone!A:B,2,FALSE)","v":"E"},{"$f":"VLOOKUP(B40861,ceva_zone!A:C,3,FALSE)","v":"C"}]
["52736","IA","F","remote",{"$f":"VLOOKUP(B40862,ceva_zone!A:B,2,FALSE)","v":"E"},{"$f":"VLOOKUP(B40862,ceva_zone!A:C,3,FALSE)","v":"C"}]
["52733","IA","C","standard",{"$f":"VLOOKUP(B40863,ceva_zone!A:B,2,FALSE)","v":"E"},{"$f":"VLOOKUP(B40863,ceva_zone!A:C,3,FALSE)","v":"C"}]
["52732","IA","F","remote",{"$f":"VLOOKUP(B40864,ceva_zone!A:B,2,FALSE)","v":"E"},{"$f":"VLOOKUP(B40864,ceva_zone!A:C,3,FALSE)","v":"C"}]
["52734","IA","F","remote",{"$f":"VLOOKUP(B40865,ceva_zone!A:B,2,FALSE)","v":"E"},{"$f":"VLOOKUP(B40865,ceva_zone!A:C,3,FALSE)","v":"C"}]
["52737","IA","F","remote",{"$f":"VLOOKUP(B40866,ceva_zone!A:B,2,FALSE)","v":"E"},{"$f":"VLOOKUP(B40866,ceva_zone!A:C,3,FALSE)","v":"C"}]
["52739","IA","F","remote",{"$f":"VLOOKUP(B40867,ceva_zone!A:B,2,FALSE)","v":"E"},{"$f":"VLOOKUP(B40867,ceva_zone!A:C,3,FALSE)","v":"C"}]
["52754","IA","E","remote",{"$f":"VLOOKUP(B40868,ceva_zone!A:B,2,FALSE)","v":"E"},{"$f":"VLOOKUP(B40868,ceva_zone!A:C,3,FALSE)","v":"C"}]
["52761","IA","F","remote",{"$f":"VLOOKUP(B40869,ceva_zone!A:B,2,FALSE)","v":"E"},{"$f":"VLOOKUP(B40869,ceva_zone!A:C,3,FALSE)","v":"C"}]
["52742","IA","F","remote",{"$f":"VLOOKUP(B40870,ceva_zone!A:B,2,FALSE)","v":"E"},{"$f":"VLOOKUP(B40870,ceva_zone!A:C,3,FALSE)","v":"C"}]
["52746","IA","F","remote",{"$f":"VLOOKUP(B40871,ceva_zone!A:B,2,FALSE)","v":"E"},{"$f":"VLOOKUP(B40871,ceva_zone!A:C,3,FALSE)","v":"C"}]
["52747","IA","F","remote",{"$f":"VLOOKUP(B40872,ceva_zone!A:B,2,FALSE)","v":"E"},{"$f":"VLOOKUP(B40872,ceva_zone!A:C,3,FALSE)","v":"C"}]
["52748","IA","F","remote",{"$f":"VLOOKUP(B40873,ceva_zone!A:B,2,FALSE)","v":"E"},{"$f":"VLOOKUP(B40873,ceva_zone!A:C,3,FALSE)","v":"C"}]
["52749","IA","F","remote",{"$f":"VLOOKUP(B40874,ceva_zone!A:B,2,FALSE)","v":"E"},{"$f":"VLOOKUP(B40874,ceva_zone!A:C,3,FALSE)","v":"C"}]
["52756","IA","F","remote",{"$f":"VLOOKUP(B40875,ceva_zone!A:B,2,FALSE)","v":"E"},{"$f":"VLOOKUP(B40875,ceva_zone!A:C,3,FALSE)","v":"C"}]
["52750","IA","F","remote",{"$f":"VLOOKUP(B40876,ceva_zone!A:B,2,FALSE)","v":"E"},{"$f":"VLOOKUP(B40876,ceva_zone!A:C,3,FALSE)","v":"C"}]
["52751","IA","F","remote",{"$f":"VLOOKUP(B40877,ceva_zone!A:B,2,FALSE)","v":"E"},{"$f":"VLOOKUP(B40877,ceva_zone!A:C,3,FALSE)","v":"C"}]
["52752","IA","E","remote",{"$f":"VLOOKUP(B40878,ceva_zone!A:B,2,FALSE)","v":"E"},{"$f":"VLOOKUP(B40878,ceva_zone!A:C,3,FALSE)","v":"C"}]
["52778","IA","F","remote",{"$f":"VLOOKUP(B40879,ceva_zone!A:B,2,FALSE)","v":"E"},{"$f":"VLOOKUP(B40879,ceva_zone!A:C,3,FALSE)","v":"C"}]
["52755","IA","Y","remote",{"$f":"VLOOKUP(B40880,ceva_zone!A:B,2,FALSE)","v":"E"},{"$f":"VLOOKUP(B40880,ceva_zone!A:C,3,FALSE)","v":"C"}]
["52757","IA","F","remote",{"$f":"VLOOKUP(B40881,ceva_zone!A:B,2,FALSE)","v":"E"},{"$f":"VLOOKUP(B40881,ceva_zone!A:C,3,FALSE)","v":"C"}]
["52773","IA","F","remote",{"$f":"VLOOKUP(B40882,ceva_zone!A:B,2,FALSE)","v":"E"},{"$f":"VLOOKUP(B40882,ceva_zone!A:C,3,FALSE)","v":"C"}]
["52758","IA","F","remote",{"$f":"VLOOKUP(B40883,ceva_zone!A:B,2,FALSE)","v":"E"},{"$f":"VLOOKUP(B40883,ceva_zone!A:C,3,FALSE)","v":"C"}]
["52759","IA","F","remote",{"$f":"VLOOKUP(B40884,ceva_zone!A:B,2,FALSE)","v":"E"},{"$f":"VLOOKUP(B40884,ceva_zone!A:C,3,FALSE)","v":"C"}]
["52760","IA","F","remote",{"$f":"VLOOKUP(B40885,ceva_zone!A:B,2,FALSE)","v":"E"},{"$f":"VLOOKUP(B40885,ceva_zone!A:C,3,FALSE)","v":"C"}]
["52765","IA","F","remote",{"$f":"VLOOKUP(B40886,ceva_zone!A:B,2,FALSE)","v":"E"},{"$f":"VLOOKUP(B40886,ceva_zone!A:C,3,FALSE)","v":"C"}]
["52766","IA","F","remote",{"$f":"VLOOKUP(B40887,ceva_zone!A:B,2,FALSE)","v":"E"},{"$f":"VLOOKUP(B40887,ceva_zone!A:C,3,FALSE)","v":"C"}]
["52767","IA","F","remote",{"$f":"VLOOKUP(B40888,ceva_zone!A:B,2,FALSE)","v":"E"},{"$f":"VLOOKUP(B40888,ceva_zone!A:C,3,FALSE)","v":"C"}]
["52768","IA","F","remote",{"$f":"VLOOKUP(B40889,ceva_zone!A:B,2,FALSE)","v":"E"},{"$f":"VLOOKUP(B40889,ceva_zone!A:C,3,FALSE)","v":"C"}]
["52769","IA","F","remote",{"$f":"VLOOKUP(B40890,ceva_zone!A:B,2,FALSE)","v":"E"},{"$f":"VLOOKUP(B40890,ceva_zone!A:C,3,FALSE)","v":"C"}]
["52774","IA","E","remote",{"$f":"VLOOKUP(B40891,ceva_zone!A:B,2,FALSE)","v":"E"},{"$f":"VLOOKUP(B40891,ceva_zone!A:C,3,FALSE)","v":"C"}]
["52777","IA","E","remote",{"$f":"VLOOKUP(B40892,ceva_zone!A:B,2,FALSE)","v":"E"},{"$f":"VLOOKUP(B40892,ceva_zone!A:C,3,FALSE)","v":"C"}]
["52801","IA","F","remote",{"$f":"VLOOKUP(B40893,ceva_zone!A:B,2,FALSE)","v":"E"},{"$f":"VLOOKUP(B40893,ceva_zone!A:C,3,FALSE)","v":"C"}]
["52808","IA","A","standard",{"$f":"VLOOKUP(B40894,ceva_zone!A:B,2,FALSE)","v":"E"},{"$f":"VLOOKUP(B40894,ceva_zone!A:C,3,FALSE)","v":"C"}]
["52804","IA","F","remote",{"$f":"VLOOKUP(B40895,ceva_zone!A:B,2,FALSE)","v":"E"},{"$f":"VLOOKUP(B40895,ceva_zone!A:C,3,FALSE)","v":"C"}]
["52809","IA","A","standard",{"$f":"VLOOKUP(B40896,ceva_zone!A:B,2,FALSE)","v":"E"},{"$f":"VLOOKUP(B40896,ceva_zone!A:C,3,FALSE)","v":"C"}]
["52806","IA","F","remote",{"$f":"VLOOKUP(B40897,ceva_zone!A:B,2,FALSE)","v":"E"},{"$f":"VLOOKUP(B40897,ceva_zone!A:C,3,FALSE)","v":"C"}]
["52807","IA","F","remote",{"$f":"VLOOKUP(B40898,ceva_zone!A:B,2,FALSE)","v":"E"},{"$f":"VLOOKUP(B40898,ceva_zone!A:C,3,FALSE)","v":"C"}]
["52803","IA","F","remote",{"$f":"VLOOKUP(B40899,ceva_zone!A:B,2,FALSE)","v":"E"},{"$f":"VLOOKUP(B40899,ceva_zone!A:C,3,FALSE)","v":"C"}]
["52802","IA","F","remote",{"$f":"VLOOKUP(B40900,ceva_zone!A:B,2,FALSE)","v":"E"},{"$f":"VLOOKUP(B40900,ceva_zone!A:C,3,FALSE)","v":"C"}]
["52805","IA","A","standard",{"$f":"VLOOKUP(B40901,ceva_zone!A:B,2,FALSE)","v":"E"},{"$f":"VLOOKUP(B40901,ceva_zone!A:C,3,FALSE)","v":"C"}]
["53001","WI","E","remote",{"$f":"VLOOKUP(B40902,ceva_zone!A:B,2,FALSE)","v":"E"},{"$f":"VLOOKUP(B40902,ceva_zone!A:C,3,FALSE)","v":"C"}]
["53002","WI","E","remote",{"$f":"VLOOKUP(B40903,ceva_zone!A:B,2,FALSE)","v":"E"},{"$f":"VLOOKUP(B40903,ceva_zone!A:C,3,FALSE)","v":"C"}]
["53003","WI","B","standard",{"$f":"VLOOKUP(B40904,ceva_zone!A:B,2,FALSE)","v":"E"},{"$f":"VLOOKUP(B40904,ceva_zone!A:C,3,FALSE)","v":"C"}]
["53004","WI","E","remote",{"$f":"VLOOKUP(B40905,ceva_zone!A:B,2,FALSE)","v":"E"},{"$f":"VLOOKUP(B40905,ceva_zone!A:C,3,FALSE)","v":"C"}]
["53008","WI","A","standard",{"$f":"VLOOKUP(B40906,ceva_zone!A:B,2,FALSE)","v":"E"},{"$f":"VLOOKUP(B40906,ceva_zone!A:C,3,FALSE)","v":"C"}]
["53045","WI","A","standard",{"$f":"VLOOKUP(B40907,ceva_zone!A:B,2,FALSE)","v":"E"},{"$f":"VLOOKUP(B40907,ceva_zone!A:C,3,FALSE)","v":"C"}]
["53005","WI","A","standard",{"$f":"VLOOKUP(B40908,ceva_zone!A:B,2,FALSE)","v":"E"},{"$f":"VLOOKUP(B40908,ceva_zone!A:C,3,FALSE)","v":"C"}]
["53006","WI","E","remote",{"$f":"VLOOKUP(B40909,ceva_zone!A:B,2,FALSE)","v":"E"},{"$f":"VLOOKUP(B40909,ceva_zone!A:C,3,FALSE)","v":"C"}]
["53007","WI","A","standard",{"$f":"VLOOKUP(B40910,ceva_zone!A:B,2,FALSE)","v":"E"},{"$f":"VLOOKUP(B40910,ceva_zone!A:C,3,FALSE)","v":"C"}]
["53010","WI","E","remote",{"$f":"VLOOKUP(B40911,ceva_zone!A:B,2,FALSE)","v":"E"},{"$f":"VLOOKUP(B40911,ceva_zone!A:C,3,FALSE)","v":"C"}]
["53011","WI","E","remote",{"$f":"VLOOKUP(B40912,ceva_zone!A:B,2,FALSE)","v":"E"},{"$f":"VLOOKUP(B40912,ceva_zone!A:C,3,FALSE)","v":"C"}]
["53013","WI","E","remote",{"$f":"VLOOKUP(B40913,ceva_zone!A:B,2,FALSE)","v":"E"},{"$f":"VLOOKUP(B40913,ceva_zone!A:C,3,FALSE)","v":"C"}]
["53012","WI","E","remote",{"$f":"VLOOKUP(B40914,ceva_zone!A:B,2,FALSE)","v":"E"},{"$f":"VLOOKUP(B40914,ceva_zone!A:C,3,FALSE)","v":"C"}]
["53014","WI","F","remote",{"$f":"VLOOKUP(B40915,ceva_zone!A:B,2,FALSE)","v":"E"},{"$f":"VLOOKUP(B40915,ceva_zone!A:C,3,FALSE)","v":"C"}]
["53015","WI","E","remote",{"$f":"VLOOKUP(B40916,ceva_zone!A:B,2,FALSE)","v":"E"},{"$f":"VLOOKUP(B40916,ceva_zone!A:C,3,FALSE)","v":"C"}]
["53016","WI","E","remote",{"$f":"VLOOKUP(B40917,ceva_zone!A:B,2,FALSE)","v":"E"},{"$f":"VLOOKUP(B40917,ceva_zone!A:C,3,FALSE)","v":"C"}]
["53017","WI","B","standard",{"$f":"VLOOKUP(B40918,ceva_zone!A:B,2,FALSE)","v":"E"},{"$f":"VLOOKUP(B40918,ceva_zone!A:C,3,FALSE)","v":"C"}]
["53018","WI","B","standard",{"$f":"VLOOKUP(B40919,ceva_zone!A:B,2,FALSE)","v":"E"},{"$f":"VLOOKUP(B40919,ceva_zone!A:C,3,FALSE)","v":"C"}]
["53019","WI","E","remote",{"$f":"VLOOKUP(B40920,ceva_zone!A:B,2,FALSE)","v":"E"},{"$f":"VLOOKUP(B40920,ceva_zone!A:C,3,FALSE)","v":"C"}]
["53020","WI","E","remote",{"$f":"VLOOKUP(B40921,ceva_zone!A:B,2,FALSE)","v":"E"},{"$f":"VLOOKUP(B40921,ceva_zone!A:C,3,FALSE)","v":"C"}]
["53082","WI","E","remote",{"$f":"VLOOKUP(B40922,ceva_zone!A:B,2,FALSE)","v":"E"},{"$f":"VLOOKUP(B40922,ceva_zone!A:C,3,FALSE)","v":"C"}]
["53021","WI","E","remote",{"$f":"VLOOKUP(B40923,ceva_zone!A:B,2,FALSE)","v":"E"},{"$f":"VLOOKUP(B40923,ceva_zone!A:C,3,FALSE)","v":"C"}]
["53022","WI","E","remote",{"$f":"VLOOKUP(B40924,ceva_zone!A:B,2,FALSE)","v":"E"},{"$f":"VLOOKUP(B40924,ceva_zone!A:C,3,FALSE)","v":"C"}]
["53023","WI","E","remote",{"$f":"VLOOKUP(B40925,ceva_zone!A:B,2,FALSE)","v":"E"},{"$f":"VLOOKUP(B40925,ceva_zone!A:C,3,FALSE)","v":"C"}]
["53024","WI","E","remote",{"$f":"VLOOKUP(B40926,ceva_zone!A:B,2,FALSE)","v":"E"},{"$f":"VLOOKUP(B40926,ceva_zone!A:C,3,FALSE)","v":"C"}]
["53026","WI","E","remote",{"$f":"VLOOKUP(B40927,ceva_zone!A:B,2,FALSE)","v":"E"},{"$f":"VLOOKUP(B40927,ceva_zone!A:C,3,FALSE)","v":"C"}]
["53027","WI","E","remote",{"$f":"VLOOKUP(B40928,ceva_zone!A:B,2,FALSE)","v":"E"},{"$f":"VLOOKUP(B40928,ceva_zone!A:C,3,FALSE)","v":"C"}]
["53029","WI","B","standard",{"$f":"VLOOKUP(B40929,ceva_zone!A:B,2,FALSE)","v":"E"},{"$f":"VLOOKUP(B40929,ceva_zone!A:C,3,FALSE)","v":"C"}]
["53052","WI","A","standard",{"$f":"VLOOKUP(B40930,ceva_zone!A:B,2,FALSE)","v":"E"},{"$f":"VLOOKUP(B40930,ceva_zone!A:C,3,FALSE)","v":"C"}]
["53083","WI","E","remote",{"$f":"VLOOKUP(B40931,ceva_zone!A:B,2,FALSE)","v":"E"},{"$f":"VLOOKUP(B40931,ceva_zone!A:C,3,FALSE)","v":"C"}]
["53031","WI","E","remote",{"$f":"VLOOKUP(B40932,ceva_zone!A:B,2,FALSE)","v":"E"},{"$f":"VLOOKUP(B40932,ceva_zone!A:C,3,FALSE)","v":"C"}]
["53032","WI","E","remote",{"$f":"VLOOKUP(B40933,ceva_zone!A:B,2,FALSE)","v":"E"},{"$f":"VLOOKUP(B40933,ceva_zone!A:C,3,FALSE)","v":"C"}]
["53033","WI","E","remote",{"$f":"VLOOKUP(B40934,ceva_zone!A:B,2,FALSE)","v":"E"},{"$f":"VLOOKUP(B40934,ceva_zone!A:C,3,FALSE)","v":"C"}]
["53034","WI","E","remote",{"$f":"VLOOKUP(B40935,ceva_zone!A:B,2,FALSE)","v":"E"},{"$f":"VLOOKUP(B40935,ceva_zone!A:C,3,FALSE)","v":"C"}]
["53035","WI","E","remote",{"$f":"VLOOKUP(B40936,ceva_zone!A:B,2,FALSE)","v":"E"},{"$f":"VLOOKUP(B40936,ceva_zone!A:C,3,FALSE)","v":"C"}]
["53036","WI","B","standard",{"$f":"VLOOKUP(B40937,ceva_zone!A:B,2,FALSE)","v":"E"},{"$f":"VLOOKUP(B40937,ceva_zone!A:C,3,FALSE)","v":"C"}]
["53037","WI","E","remote",{"$f":"VLOOKUP(B40938,ceva_zone!A:B,2,FALSE)","v":"E"},{"$f":"VLOOKUP(B40938,ceva_zone!A:C,3,FALSE)","v":"C"}]
["53038","WI","B","standard",{"$f":"VLOOKUP(B40939,ceva_zone!A:B,2,FALSE)","v":"E"},{"$f":"VLOOKUP(B40939,ceva_zone!A:C,3,FALSE)","v":"C"}]
["53039","WI","E","remote",{"$f":"VLOOKUP(B40940,ceva_zone!A:B,2,FALSE)","v":"E"},{"$f":"VLOOKUP(B40940,ceva_zone!A:C,3,FALSE)","v":"C"}]
["53040","WI","E","remote",{"$f":"VLOOKUP(B40941,ceva_zone!A:B,2,FALSE)","v":"E"},{"$f":"VLOOKUP(B40941,ceva_zone!A:C,3,FALSE)","v":"C"}]
["53042","WI","F","remote",{"$f":"VLOOKUP(B40942,ceva_zone!A:B,2,FALSE)","v":"E"},{"$f":"VLOOKUP(B40942,ceva_zone!A:C,3,FALSE)","v":"C"}]
["53048","WI","E","remote",{"$f":"VLOOKUP(B40943,ceva_zone!A:B,2,FALSE)","v":"E"},{"$f":"VLOOKUP(B40943,ceva_zone!A:C,3,FALSE)","v":"C"}]
["53044","WI","E","remote",{"$f":"VLOOKUP(B40944,ceva_zone!A:B,2,FALSE)","v":"E"},{"$f":"VLOOKUP(B40944,ceva_zone!A:C,3,FALSE)","v":"C"}]
["53046","WI","A","standard",{"$f":"VLOOKUP(B40945,ceva_zone!A:B,2,FALSE)","v":"E"},{"$f":"VLOOKUP(B40945,ceva_zone!A:C,3,FALSE)","v":"C"}]
["53047","WI","B","standard",{"$f":"VLOOKUP(B40946,ceva_zone!A:B,2,FALSE)","v":"E"},{"$f":"VLOOKUP(B40946,ceva_zone!A:C,3,FALSE)","v":"C"}]
["53049","WI","E","remote",{"$f":"VLOOKUP(B40947,ceva_zone!A:B,2,FALSE)","v":"E"},{"$f":"VLOOKUP(B40947,ceva_zone!A:C,3,FALSE)","v":"C"}]
["53050","WI","E","remote",{"$f":"VLOOKUP(B40948,ceva_zone!A:B,2,FALSE)","v":"E"},{"$f":"VLOOKUP(B40948,ceva_zone!A:C,3,FALSE)","v":"C"}]
["53051","WI","A","standard",{"$f":"VLOOKUP(B40949,ceva_zone!A:B,2,FALSE)","v":"E"},{"$f":"VLOOKUP(B40949,ceva_zone!A:C,3,FALSE)","v":"C"}]
["53097","WI","E","remote",{"$f":"VLOOKUP(B40950,ceva_zone!A:B,2,FALSE)","v":"E"},{"$f":"VLOOKUP(B40950,ceva_zone!A:C,3,FALSE)","v":"C"}]
["53092","WI","E","remote",{"$f":"VLOOKUP(B40951,ceva_zone!A:B,2,FALSE)","v":"E"},{"$f":"VLOOKUP(B40951,ceva_zone!A:C,3,FALSE)","v":"C"}]
["53056","WI","B","standard",{"$f":"VLOOKUP(B40952,ceva_zone!A:B,2,FALSE)","v":"E"},{"$f":"VLOOKUP(B40952,ceva_zone!A:C,3,FALSE)","v":"C"}]
["53057","WI","E","remote",{"$f":"VLOOKUP(B40953,ceva_zone!A:B,2,FALSE)","v":"E"},{"$f":"VLOOKUP(B40953,ceva_zone!A:C,3,FALSE)","v":"C"}]
["53058","WI","B","standard",{"$f":"VLOOKUP(B40954,ceva_zone!A:B,2,FALSE)","v":"E"},{"$f":"VLOOKUP(B40954,ceva_zone!A:C,3,FALSE)","v":"C"}]
["53059","WI","E","remote",{"$f":"VLOOKUP(B40955,ceva_zone!A:B,2,FALSE)","v":"E"},{"$f":"VLOOKUP(B40955,ceva_zone!A:C,3,FALSE)","v":"C"}]
["53061","WI","F","remote",{"$f":"VLOOKUP(B40956,ceva_zone!A:B,2,FALSE)","v":"E"},{"$f":"VLOOKUP(B40956,ceva_zone!A:C,3,FALSE)","v":"C"}]
["53062","WI","F","remote",{"$f":"VLOOKUP(B40957,ceva_zone!A:B,2,FALSE)","v":"E"},{"$f":"VLOOKUP(B40957,ceva_zone!A:C,3,FALSE)","v":"C"}]
["53060","WI","E","remote",{"$f":"VLOOKUP(B40958,ceva_zone!A:B,2,FALSE)","v":"E"},{"$f":"VLOOKUP(B40958,ceva_zone!A:C,3,FALSE)","v":"C"}]
["53063","WI","F","remote",{"$f":"VLOOKUP(B40959,ceva_zone!A:B,2,FALSE)","v":"E"},{"$f":"VLOOKUP(B40959,ceva_zone!A:C,3,FALSE)","v":"C"}]
["53064","WI","B","standard",{"$f":"VLOOKUP(B40960,ceva_zone!A:B,2,FALSE)","v":"E"},{"$f":"VLOOKUP(B40960,ceva_zone!A:C,3,FALSE)","v":"C"}]
["53065","WI","E","remote",{"$f":"VLOOKUP(B40961,ceva_zone!A:B,2,FALSE)","v":"E"},{"$f":"VLOOKUP(B40961,ceva_zone!A:C,3,FALSE)","v":"C"}]
["53066","WI","B","standard",{"$f":"VLOOKUP(B40962,ceva_zone!A:B,2,FALSE)","v":"E"},{"$f":"VLOOKUP(B40962,ceva_zone!A:C,3,FALSE)","v":"C"}]
["53069","WI","B","standard",{"$f":"VLOOKUP(B40963,ceva_zone!A:B,2,FALSE)","v":"E"},{"$f":"VLOOKUP(B40963,ceva_zone!A:C,3,FALSE)","v":"C"}]
["53070","WI","E","remote",{"$f":"VLOOKUP(B40964,ceva_zone!A:B,2,FALSE)","v":"E"},{"$f":"VLOOKUP(B40964,ceva_zone!A:C,3,FALSE)","v":"C"}]
["53072","WI","B","standard",{"$f":"VLOOKUP(B40965,ceva_zone!A:B,2,FALSE)","v":"E"},{"$f":"VLOOKUP(B40965,ceva_zone!A:C,3,FALSE)","v":"C"}]
["53073","WI","E","remote",{"$f":"VLOOKUP(B40966,ceva_zone!A:B,2,FALSE)","v":"E"},{"$f":"VLOOKUP(B40966,ceva_zone!A:C,3,FALSE)","v":"C"}]
["53074","WI","E","remote",{"$f":"VLOOKUP(B40967,ceva_zone!A:B,2,FALSE)","v":"E"},{"$f":"VLOOKUP(B40967,ceva_zone!A:C,3,FALSE)","v":"C"}]
["53075","WI","E","remote",{"$f":"VLOOKUP(B40968,ceva_zone!A:B,2,FALSE)","v":"E"},{"$f":"VLOOKUP(B40968,ceva_zone!A:C,3,FALSE)","v":"C"}]
["53076","WI","E","remote",{"$f":"VLOOKUP(B40969,ceva_zone!A:B,2,FALSE)","v":"E"},{"$f":"VLOOKUP(B40969,ceva_zone!A:C,3,FALSE)","v":"C"}]
["53078","WI","E","remote",{"$f":"VLOOKUP(B40970,ceva_zone!A:B,2,FALSE)","v":"E"},{"$f":"VLOOKUP(B40970,ceva_zone!A:C,3,FALSE)","v":"C"}]
["53079","WI","E","remote",{"$f":"VLOOKUP(B40971,ceva_zone!A:B,2,FALSE)","v":"E"},{"$f":"VLOOKUP(B40971,ceva_zone!A:C,3,FALSE)","v":"C"}]
["53080","WI","E","remote",{"$f":"VLOOKUP(B40972,ceva_zone!A:B,2,FALSE)","v":"E"},{"$f":"VLOOKUP(B40972,ceva_zone!A:C,3,FALSE)","v":"C"}]
["53081","WI","E","remote",{"$f":"VLOOKUP(B40973,ceva_zone!A:B,2,FALSE)","v":"E"},{"$f":"VLOOKUP(B40973,ceva_zone!A:C,3,FALSE)","v":"C"}]
["53085","WI","E","remote",{"$f":"VLOOKUP(B40974,ceva_zone!A:B,2,FALSE)","v":"E"},{"$f":"VLOOKUP(B40974,ceva_zone!A:C,3,FALSE)","v":"C"}]
["53086","WI","E","remote",{"$f":"VLOOKUP(B40975,ceva_zone!A:B,2,FALSE)","v":"E"},{"$f":"VLOOKUP(B40975,ceva_zone!A:C,3,FALSE)","v":"C"}]
["53088","WI","F","remote",{"$f":"VLOOKUP(B40976,ceva_zone!A:B,2,FALSE)","v":"E"},{"$f":"VLOOKUP(B40976,ceva_zone!A:C,3,FALSE)","v":"C"}]
["53089","WI","B","standard",{"$f":"VLOOKUP(B40977,ceva_zone!A:B,2,FALSE)","v":"E"},{"$f":"VLOOKUP(B40977,ceva_zone!A:C,3,FALSE)","v":"C"}]
["53090","WI","E","remote",{"$f":"VLOOKUP(B40978,ceva_zone!A:B,2,FALSE)","v":"E"},{"$f":"VLOOKUP(B40978,ceva_zone!A:C,3,FALSE)","v":"C"}]
["53091","WI","E","remote",{"$f":"VLOOKUP(B40979,ceva_zone!A:B,2,FALSE)","v":"E"},{"$f":"VLOOKUP(B40979,ceva_zone!A:C,3,FALSE)","v":"C"}]
["53093","WI","E","remote",{"$f":"VLOOKUP(B40980,ceva_zone!A:B,2,FALSE)","v":"E"},{"$f":"VLOOKUP(B40980,ceva_zone!A:C,3,FALSE)","v":"C"}]
["53094","WI","B","standard",{"$f":"VLOOKUP(B40981,ceva_zone!A:B,2,FALSE)","v":"E"},{"$f":"VLOOKUP(B40981,ceva_zone!A:C,3,FALSE)","v":"C"}]
["53098","WI","B","standard",{"$f":"VLOOKUP(B40982,ceva_zone!A:B,2,FALSE)","v":"E"},{"$f":"VLOOKUP(B40982,ceva_zone!A:C,3,FALSE)","v":"C"}]
["53095","WI","E","remote",{"$f":"VLOOKUP(B40983,ceva_zone!A:B,2,FALSE)","v":"E"},{"$f":"VLOOKUP(B40983,ceva_zone!A:C,3,FALSE)","v":"C"}]
["53099","WI","E","remote",{"$f":"VLOOKUP(B40984,ceva_zone!A:B,2,FALSE)","v":"E"},{"$f":"VLOOKUP(B40984,ceva_zone!A:C,3,FALSE)","v":"C"}]
["53101","WI","C","standard",{"$f":"VLOOKUP(B40985,ceva_zone!A:B,2,FALSE)","v":"E"},{"$f":"VLOOKUP(B40985,ceva_zone!A:C,3,FALSE)","v":"C"}]
["53196","WI","A","standard",{"$f":"VLOOKUP(B40986,ceva_zone!A:B,2,FALSE)","v":"E"},{"$f":"VLOOKUP(B40986,ceva_zone!A:C,3,FALSE)","v":"C"}]
["53102","WI","E","remote",{"$f":"VLOOKUP(B40987,ceva_zone!A:B,2,FALSE)","v":"E"},{"$f":"VLOOKUP(B40987,ceva_zone!A:C,3,FALSE)","v":"C"}]
["53103","WI","B","standard",{"$f":"VLOOKUP(B40988,ceva_zone!A:B,2,FALSE)","v":"E"},{"$f":"VLOOKUP(B40988,ceva_zone!A:C,3,FALSE)","v":"C"}]
["53104","WI","E","remote",{"$f":"VLOOKUP(B40989,ceva_zone!A:B,2,FALSE)","v":"E"},{"$f":"VLOOKUP(B40989,ceva_zone!A:C,3,FALSE)","v":"C"}]
["53105","WI","E","remote",{"$f":"VLOOKUP(B40990,ceva_zone!A:B,2,FALSE)","v":"E"},{"$f":"VLOOKUP(B40990,ceva_zone!A:C,3,FALSE)","v":"C"}]
["53108","WI","C","standard",{"$f":"VLOOKUP(B40991,ceva_zone!A:B,2,FALSE)","v":"E"},{"$f":"VLOOKUP(B40991,ceva_zone!A:C,3,FALSE)","v":"C"}]
["53109","WI","E","remote",{"$f":"VLOOKUP(B40992,ceva_zone!A:B,2,FALSE)","v":"E"},{"$f":"VLOOKUP(B40992,ceva_zone!A:C,3,FALSE)","v":"C"}]
["53110","WI","A","standard",{"$f":"VLOOKUP(B40993,ceva_zone!A:B,2,FALSE)","v":"E"},{"$f":"VLOOKUP(B40993,ceva_zone!A:C,3,FALSE)","v":"C"}]
["53114","WI","E","remote",{"$f":"VLOOKUP(B40994,ceva_zone!A:B,2,FALSE)","v":"E"},{"$f":"VLOOKUP(B40994,ceva_zone!A:C,3,FALSE)","v":"C"}]
["53115","WI","C","standard",{"$f":"VLOOKUP(B40995,ceva_zone!A:B,2,FALSE)","v":"E"},{"$f":"VLOOKUP(B40995,ceva_zone!A:C,3,FALSE)","v":"C"}]
["53118","WI","B","standard",{"$f":"VLOOKUP(B40996,ceva_zone!A:B,2,FALSE)","v":"E"},{"$f":"VLOOKUP(B40996,ceva_zone!A:C,3,FALSE)","v":"C"}]
["53119","WI","B","standard",{"$f":"VLOOKUP(B40997,ceva_zone!A:B,2,FALSE)","v":"E"},{"$f":"VLOOKUP(B40997,ceva_zone!A:C,3,FALSE)","v":"C"}]
["53120","WI","C","standard",{"$f":"VLOOKUP(B40998,ceva_zone!A:B,2,FALSE)","v":"E"},{"$f":"VLOOKUP(B40998,ceva_zone!A:C,3,FALSE)","v":"C"}]
["53121","WI","E","remote",{"$f":"VLOOKUP(B40999,ceva_zone!A:B,2,FALSE)","v":"E"},{"$f":"VLOOKUP(B40999,ceva_zone!A:C,3,FALSE)","v":"C"}]
["53122","WI","A","standard",{"$f":"VLOOKUP(B41000,ceva_zone!A:B,2,FALSE)","v":"E"},{"$f":"VLOOKUP(B41000,ceva_zone!A:C,3,FALSE)","v":"C"}]
["53125","WI","C","standard",{"$f":"VLOOKUP(B41001,ceva_zone!A:B,2,FALSE)","v":"E"},{"$f":"VLOOKUP(B41001,ceva_zone!A:C,3,FALSE)","v":"C"}]
["53132","WI","C","standard",{"$f":"VLOOKUP(B41002,ceva_zone!A:B,2,FALSE)","v":"E"},{"$f":"VLOOKUP(B41002,ceva_zone!A:C,3,FALSE)","v":"C"}]
["53126","WI","C","standard",{"$f":"VLOOKUP(B41003,ceva_zone!A:B,2,FALSE)","v":"E"},{"$f":"VLOOKUP(B41003,ceva_zone!A:C,3,FALSE)","v":"C"}]
["53127","WI","B","standard",{"$f":"VLOOKUP(B41004,ceva_zone!A:B,2,FALSE)","v":"E"},{"$f":"VLOOKUP(B41004,ceva_zone!A:C,3,FALSE)","v":"C"}]
["53128","WI","C","standard",{"$f":"VLOOKUP(B41005,ceva_zone!A:B,2,FALSE)","v":"E"},{"$f":"VLOOKUP(B41005,ceva_zone!A:C,3,FALSE)","v":"C"}]
["53129","WI","A","standard",{"$f":"VLOOKUP(B41006,ceva_zone!A:B,2,FALSE)","v":"E"},{"$f":"VLOOKUP(B41006,ceva_zone!A:C,3,FALSE)","v":"C"}]
["53130","WI","C","standard",{"$f":"VLOOKUP(B41007,ceva_zone!A:B,2,FALSE)","v":"E"},{"$f":"VLOOKUP(B41007,ceva_zone!A:C,3,FALSE)","v":"C"}]
["53137","WI","B","standard",{"$f":"VLOOKUP(B41008,ceva_zone!A:B,2,FALSE)","v":"E"},{"$f":"VLOOKUP(B41008,ceva_zone!A:C,3,FALSE)","v":"C"}]
["53138","WI","C","standard",{"$f":"VLOOKUP(B41009,ceva_zone!A:B,2,FALSE)","v":"E"},{"$f":"VLOOKUP(B41009,ceva_zone!A:C,3,FALSE)","v":"C"}]
["53139","WI","C","standard",{"$f":"VLOOKUP(B41010,ceva_zone!A:B,2,FALSE)","v":"E"},{"$f":"VLOOKUP(B41010,ceva_zone!A:C,3,FALSE)","v":"C"}]
["53144","WI","E","remote",{"$f":"VLOOKUP(B41011,ceva_zone!A:B,2,FALSE)","v":"E"},{"$f":"VLOOKUP(B41011,ceva_zone!A:C,3,FALSE)","v":"C"}]
["53143","WI","E","remote",{"$f":"VLOOKUP(B41012,ceva_zone!A:B,2,FALSE)","v":"E"},{"$f":"VLOOKUP(B41012,ceva_zone!A:C,3,FALSE)","v":"C"}]
["53142","WI","E","remote",{"$f":"VLOOKUP(B41013,ceva_zone!A:B,2,FALSE)","v":"E"},{"$f":"VLOOKUP(B41013,ceva_zone!A:C,3,FALSE)","v":"C"}]
["53140","WI","E","remote",{"$f":"VLOOKUP(B41014,ceva_zone!A:B,2,FALSE)","v":"E"},{"$f":"VLOOKUP(B41014,ceva_zone!A:C,3,FALSE)","v":"C"}]
["53141","WI","E","remote",{"$f":"VLOOKUP(B41015,ceva_zone!A:B,2,FALSE)","v":"E"},{"$f":"VLOOKUP(B41015,ceva_zone!A:C,3,FALSE)","v":"C"}]
["53147","WI","C","standard",{"$f":"VLOOKUP(B41016,ceva_zone!A:B,2,FALSE)","v":"E"},{"$f":"VLOOKUP(B41016,ceva_zone!A:C,3,FALSE)","v":"C"}]
["53148","WI","E","remote",{"$f":"VLOOKUP(B41017,ceva_zone!A:B,2,FALSE)","v":"E"},{"$f":"VLOOKUP(B41017,ceva_zone!A:C,3,FALSE)","v":"C"}]
["53149","WI","B","standard",{"$f":"VLOOKUP(B41018,ceva_zone!A:B,2,FALSE)","v":"E"},{"$f":"VLOOKUP(B41018,ceva_zone!A:C,3,FALSE)","v":"C"}]
["53150","WI","A","standard",{"$f":"VLOOKUP(B41019,ceva_zone!A:B,2,FALSE)","v":"E"},{"$f":"VLOOKUP(B41019,ceva_zone!A:C,3,FALSE)","v":"C"}]
["53146","WI","A","standard",{"$f":"VLOOKUP(B41020,ceva_zone!A:B,2,FALSE)","v":"E"},{"$f":"VLOOKUP(B41020,ceva_zone!A:C,3,FALSE)","v":"C"}]
["53151","WI","A","standard",{"$f":"VLOOKUP(B41021,ceva_zone!A:B,2,FALSE)","v":"E"},{"$f":"VLOOKUP(B41021,ceva_zone!A:C,3,FALSE)","v":"C"}]
["53152","WI","E","remote",{"$f":"VLOOKUP(B41022,ceva_zone!A:B,2,FALSE)","v":"E"},{"$f":"VLOOKUP(B41022,ceva_zone!A:C,3,FALSE)","v":"C"}]
["53153","WI","B","standard",{"$f":"VLOOKUP(B41023,ceva_zone!A:B,2,FALSE)","v":"E"},{"$f":"VLOOKUP(B41023,ceva_zone!A:C,3,FALSE)","v":"C"}]
["53154","WI","C","standard",{"$f":"VLOOKUP(B41024,ceva_zone!A:B,2,FALSE)","v":"E"},{"$f":"VLOOKUP(B41024,ceva_zone!A:C,3,FALSE)","v":"C"}]
["53156","WI","B","standard",{"$f":"VLOOKUP(B41025,ceva_zone!A:B,2,FALSE)","v":"E"},{"$f":"VLOOKUP(B41025,ceva_zone!A:C,3,FALSE)","v":"C"}]
["53157","WI","C","standard",{"$f":"VLOOKUP(B41026,ceva_zone!A:B,2,FALSE)","v":"E"},{"$f":"VLOOKUP(B41026,ceva_zone!A:C,3,FALSE)","v":"C"}]
["53158","WI","E","remote",{"$f":"VLOOKUP(B41027,ceva_zone!A:B,2,FALSE)","v":"E"},{"$f":"VLOOKUP(B41027,ceva_zone!A:C,3,FALSE)","v":"C"}]
["53159","WI","C","standard",{"$f":"VLOOKUP(B41028,ceva_zone!A:B,2,FALSE)","v":"E"},{"$f":"VLOOKUP(B41028,ceva_zone!A:C,3,FALSE)","v":"C"}]
["53199","WI","C","standard",{"$f":"VLOOKUP(B41029,ceva_zone!A:B,2,FALSE)","v":"E"},{"$f":"VLOOKUP(B41029,ceva_zone!A:C,3,FALSE)","v":"C"}]
["53167","WI","E","remote",{"$f":"VLOOKUP(B41030,ceva_zone!A:B,2,FALSE)","v":"E"},{"$f":"VLOOKUP(B41030,ceva_zone!A:C,3,FALSE)","v":"C"}]
["53168","WI","E","remote",{"$f":"VLOOKUP(B41031,ceva_zone!A:B,2,FALSE)","v":"E"},{"$f":"VLOOKUP(B41031,ceva_zone!A:C,3,FALSE)","v":"C"}]
["53170","WI","E","remote",{"$f":"VLOOKUP(B41032,ceva_zone!A:B,2,FALSE)","v":"E"},{"$f":"VLOOKUP(B41032,ceva_zone!A:C,3,FALSE)","v":"C"}]
["53171","WI","C","standard",{"$f":"VLOOKUP(B41033,ceva_zone!A:B,2,FALSE)","v":"E"},{"$f":"VLOOKUP(B41033,ceva_zone!A:C,3,FALSE)","v":"C"}]
["53172","WI","A","standard",{"$f":"VLOOKUP(B41034,ceva_zone!A:B,2,FALSE)","v":"E"},{"$f":"VLOOKUP(B41034,ceva_zone!A:C,3,FALSE)","v":"C"}]
["53176","WI","C","standard",{"$f":"VLOOKUP(B41035,ceva_zone!A:B,2,FALSE)","v":"E"},{"$f":"VLOOKUP(B41035,ceva_zone!A:C,3,FALSE)","v":"C"}]
["53177","WI","C","standard",{"$f":"VLOOKUP(B41036,ceva_zone!A:B,2,FALSE)","v":"E"},{"$f":"VLOOKUP(B41036,ceva_zone!A:C,3,FALSE)","v":"C"}]
["53178","WI","B","standard",{"$f":"VLOOKUP(B41037,ceva_zone!A:B,2,FALSE)","v":"E"},{"$f":"VLOOKUP(B41037,ceva_zone!A:C,3,FALSE)","v":"C"}]
["53179","WI","E","remote",{"$f":"VLOOKUP(B41038,ceva_zone!A:B,2,FALSE)","v":"E"},{"$f":"VLOOKUP(B41038,ceva_zone!A:C,3,FALSE)","v":"C"}]
["53181","WI","C","standard",{"$f":"VLOOKUP(B41039,ceva_zone!A:B,2,FALSE)","v":"E"},{"$f":"VLOOKUP(B41039,ceva_zone!A:C,3,FALSE)","v":"C"}]
["53182","WI","C","standard",{"$f":"VLOOKUP(B41040,ceva_zone!A:B,2,FALSE)","v":"E"},{"$f":"VLOOKUP(B41040,ceva_zone!A:C,3,FALSE)","v":"C"}]
["53183","WI","B","standard",{"$f":"VLOOKUP(B41041,ceva_zone!A:B,2,FALSE)","v":"E"},{"$f":"VLOOKUP(B41041,ceva_zone!A:C,3,FALSE)","v":"C"}]
["53184","WI","C","standard",{"$f":"VLOOKUP(B41042,ceva_zone!A:B,2,FALSE)","v":"E"},{"$f":"VLOOKUP(B41042,ceva_zone!A:C,3,FALSE)","v":"C"}]
["53185","WI","E","remote",{"$f":"VLOOKUP(B41043,ceva_zone!A:B,2,FALSE)","v":"E"},{"$f":"VLOOKUP(B41043,ceva_zone!A:C,3,FALSE)","v":"C"}]
["53189","WI","B","standard",{"$f":"VLOOKUP(B41044,ceva_zone!A:B,2,FALSE)","v":"E"},{"$f":"VLOOKUP(B41044,ceva_zone!A:C,3,FALSE)","v":"C"}]
["53187","WI","F","remote",{"$f":"VLOOKUP(B41045,ceva_zone!A:B,2,FALSE)","v":"E"},{"$f":"VLOOKUP(B41045,ceva_zone!A:C,3,FALSE)","v":"C"}]
["53186","WI","B","standard",{"$f":"VLOOKUP(B41046,ceva_zone!A:B,2,FALSE)","v":"E"},{"$f":"VLOOKUP(B41046,ceva_zone!A:C,3,FALSE)","v":"C"}]
["53188","WI","B","standard",{"$f":"VLOOKUP(B41047,ceva_zone!A:B,2,FALSE)","v":"E"},{"$f":"VLOOKUP(B41047,ceva_zone!A:C,3,FALSE)","v":"C"}]
["53190","WI","E","remote",{"$f":"VLOOKUP(B41048,ceva_zone!A:B,2,FALSE)","v":"E"},{"$f":"VLOOKUP(B41048,ceva_zone!A:C,3,FALSE)","v":"C"}]
["53191","WI","C","standard",{"$f":"VLOOKUP(B41049,ceva_zone!A:B,2,FALSE)","v":"E"},{"$f":"VLOOKUP(B41049,ceva_zone!A:C,3,FALSE)","v":"C"}]
["53192","WI","C","standard",{"$f":"VLOOKUP(B41050,ceva_zone!A:B,2,FALSE)","v":"E"},{"$f":"VLOOKUP(B41050,ceva_zone!A:C,3,FALSE)","v":"C"}]
["53194","WI","E","remote",{"$f":"VLOOKUP(B41051,ceva_zone!A:B,2,FALSE)","v":"E"},{"$f":"VLOOKUP(B41051,ceva_zone!A:C,3,FALSE)","v":"C"}]
["53195","WI","C","standard",{"$f":"VLOOKUP(B41052,ceva_zone!A:B,2,FALSE)","v":"E"},{"$f":"VLOOKUP(B41052,ceva_zone!A:C,3,FALSE)","v":"C"}]
["53207","WI","A","standard",{"$f":"VLOOKUP(B41053,ceva_zone!A:B,2,FALSE)","v":"E"},{"$f":"VLOOKUP(B41053,ceva_zone!A:C,3,FALSE)","v":"C"}]
["53217","WI","A","standard",{"$f":"VLOOKUP(B41054,ceva_zone!A:B,2,FALSE)","v":"E"},{"$f":"VLOOKUP(B41054,ceva_zone!A:C,3,FALSE)","v":"C"}]
["53223","WI","A","standard",{"$f":"VLOOKUP(B41055,ceva_zone!A:B,2,FALSE)","v":"E"},{"$f":"VLOOKUP(B41055,ceva_zone!A:C,3,FALSE)","v":"C"}]
["53209","WI","A","standard",{"$f":"VLOOKUP(B41056,ceva_zone!A:B,2,FALSE)","v":"E"},{"$f":"VLOOKUP(B41056,ceva_zone!A:C,3,FALSE)","v":"C"}]
["53211","WI","A","standard",{"$f":"VLOOKUP(B41057,ceva_zone!A:B,2,FALSE)","v":"E"},{"$f":"VLOOKUP(B41057,ceva_zone!A:C,3,FALSE)","v":"C"}]
["53219","WI","A","standard",{"$f":"VLOOKUP(B41058,ceva_zone!A:B,2,FALSE)","v":"E"},{"$f":"VLOOKUP(B41058,ceva_zone!A:C,3,FALSE)","v":"C"}]
["53220","WI","A","standard",{"$f":"VLOOKUP(B41059,ceva_zone!A:B,2,FALSE)","v":"E"},{"$f":"VLOOKUP(B41059,ceva_zone!A:C,3,FALSE)","v":"C"}]
["53221","WI","A","standard",{"$f":"VLOOKUP(B41060,ceva_zone!A:B,2,FALSE)","v":"E"},{"$f":"VLOOKUP(B41060,ceva_zone!A:C,3,FALSE)","v":"C"}]
["53228","WI","A","standard",{"$f":"VLOOKUP(B41061,ceva_zone!A:B,2,FALSE)","v":"E"},{"$f":"VLOOKUP(B41061,ceva_zone!A:C,3,FALSE)","v":"C"}]
["53213","WI","A","standard",{"$f":"VLOOKUP(B41062,ceva_zone!A:B,2,FALSE)","v":"E"},{"$f":"VLOOKUP(B41062,ceva_zone!A:C,3,FALSE)","v":"C"}]
["53214","WI","A","standard",{"$f":"VLOOKUP(B41063,ceva_zone!A:B,2,FALSE)","v":"E"},{"$f":"VLOOKUP(B41063,ceva_zone!A:C,3,FALSE)","v":"C"}]
["53215","WI","A","standard",{"$f":"VLOOKUP(B41064,ceva_zone!A:B,2,FALSE)","v":"E"},{"$f":"VLOOKUP(B41064,ceva_zone!A:C,3,FALSE)","v":"C"}]
["53216","WI","A","standard",{"$f":"VLOOKUP(B41065,ceva_zone!A:B,2,FALSE)","v":"E"},{"$f":"VLOOKUP(B41065,ceva_zone!A:C,3,FALSE)","v":"C"}]
["53218","WI","A","standard",{"$f":"VLOOKUP(B41066,ceva_zone!A:B,2,FALSE)","v":"E"},{"$f":"VLOOKUP(B41066,ceva_zone!A:C,3,FALSE)","v":"C"}]
["53222","WI","A","standard",{"$f":"VLOOKUP(B41067,ceva_zone!A:B,2,FALSE)","v":"E"},{"$f":"VLOOKUP(B41067,ceva_zone!A:C,3,FALSE)","v":"C"}]
["53224","WI","A","standard",{"$f":"VLOOKUP(B41068,ceva_zone!A:B,2,FALSE)","v":"E"},{"$f":"VLOOKUP(B41068,ceva_zone!A:C,3,FALSE)","v":"C"}]
["53225","WI","A","standard",{"$f":"VLOOKUP(B41069,ceva_zone!A:B,2,FALSE)","v":"E"},{"$f":"VLOOKUP(B41069,ceva_zone!A:C,3,FALSE)","v":"C"}]
["53226","WI","A","standard",{"$f":"VLOOKUP(B41070,ceva_zone!A:B,2,FALSE)","v":"E"},{"$f":"VLOOKUP(B41070,ceva_zone!A:C,3,FALSE)","v":"C"}]
["53227","WI","A","standard",{"$f":"VLOOKUP(B41071,ceva_zone!A:B,2,FALSE)","v":"E"},{"$f":"VLOOKUP(B41071,ceva_zone!A:C,3,FALSE)","v":"C"}]
["53233","WI","A","standard",{"$f":"VLOOKUP(B41072,ceva_zone!A:B,2,FALSE)","v":"E"},{"$f":"VLOOKUP(B41072,ceva_zone!A:C,3,FALSE)","v":"C"}]
["53234","WI","A","standard",{"$f":"VLOOKUP(B41073,ceva_zone!A:B,2,FALSE)","v":"E"},{"$f":"VLOOKUP(B41073,ceva_zone!A:C,3,FALSE)","v":"C"}]
["53235","WI","A","standard",{"$f":"VLOOKUP(B41074,ceva_zone!A:B,2,FALSE)","v":"E"},{"$f":"VLOOKUP(B41074,ceva_zone!A:C,3,FALSE)","v":"C"}]
["53237","WI","A","standard",{"$f":"VLOOKUP(B41075,ceva_zone!A:B,2,FALSE)","v":"E"},{"$f":"VLOOKUP(B41075,ceva_zone!A:C,3,FALSE)","v":"C"}]
["53259","WI","A","standard",{"$f":"VLOOKUP(B41076,ceva_zone!A:B,2,FALSE)","v":"E"},{"$f":"VLOOKUP(B41076,ceva_zone!A:C,3,FALSE)","v":"C"}]
["53263","WI","A","standard",{"$f":"VLOOKUP(B41077,ceva_zone!A:B,2,FALSE)","v":"E"},{"$f":"VLOOKUP(B41077,ceva_zone!A:C,3,FALSE)","v":"C"}]
["53267","WI","A","standard",{"$f":"VLOOKUP(B41078,ceva_zone!A:B,2,FALSE)","v":"E"},{"$f":"VLOOKUP(B41078,ceva_zone!A:C,3,FALSE)","v":"C"}]
["53268","WI","A","standard",{"$f":"VLOOKUP(B41079,ceva_zone!A:B,2,FALSE)","v":"E"},{"$f":"VLOOKUP(B41079,ceva_zone!A:C,3,FALSE)","v":"C"}]
["53274","WI","A","standard",{"$f":"VLOOKUP(B41080,ceva_zone!A:B,2,FALSE)","v":"E"},{"$f":"VLOOKUP(B41080,ceva_zone!A:C,3,FALSE)","v":"C"}]
["53278","WI","A","standard",{"$f":"VLOOKUP(B41081,ceva_zone!A:B,2,FALSE)","v":"E"},{"$f":"VLOOKUP(B41081,ceva_zone!A:C,3,FALSE)","v":"C"}]
["53288","WI","A","standard",{"$f":"VLOOKUP(B41082,ceva_zone!A:B,2,FALSE)","v":"E"},{"$f":"VLOOKUP(B41082,ceva_zone!A:C,3,FALSE)","v":"C"}]
["53290","WI","A","standard",{"$f":"VLOOKUP(B41083,ceva_zone!A:B,2,FALSE)","v":"E"},{"$f":"VLOOKUP(B41083,ceva_zone!A:C,3,FALSE)","v":"C"}]
["53293","WI","A","standard",{"$f":"VLOOKUP(B41084,ceva_zone!A:B,2,FALSE)","v":"E"},{"$f":"VLOOKUP(B41084,ceva_zone!A:C,3,FALSE)","v":"C"}]
["53212","WI","A","standard",{"$f":"VLOOKUP(B41085,ceva_zone!A:B,2,FALSE)","v":"E"},{"$f":"VLOOKUP(B41085,ceva_zone!A:C,3,FALSE)","v":"C"}]
["53210","WI","A","standard",{"$f":"VLOOKUP(B41086,ceva_zone!A:B,2,FALSE)","v":"E"},{"$f":"VLOOKUP(B41086,ceva_zone!A:C,3,FALSE)","v":"C"}]
["53208","WI","A","standard",{"$f":"VLOOKUP(B41087,ceva_zone!A:B,2,FALSE)","v":"E"},{"$f":"VLOOKUP(B41087,ceva_zone!A:C,3,FALSE)","v":"C"}]
["53206","WI","A","standard",{"$f":"VLOOKUP(B41088,ceva_zone!A:B,2,FALSE)","v":"E"},{"$f":"VLOOKUP(B41088,ceva_zone!A:C,3,FALSE)","v":"C"}]
["53205","WI","A","standard",{"$f":"VLOOKUP(B41089,ceva_zone!A:B,2,FALSE)","v":"E"},{"$f":"VLOOKUP(B41089,ceva_zone!A:C,3,FALSE)","v":"C"}]
["53204","WI","A","standard",{"$f":"VLOOKUP(B41090,ceva_zone!A:B,2,FALSE)","v":"E"},{"$f":"VLOOKUP(B41090,ceva_zone!A:C,3,FALSE)","v":"C"}]
["53203","WI","A","standard",{"$f":"VLOOKUP(B41091,ceva_zone!A:B,2,FALSE)","v":"E"},{"$f":"VLOOKUP(B41091,ceva_zone!A:C,3,FALSE)","v":"C"}]
["53295","WI","A","standard",{"$f":"VLOOKUP(B41092,ceva_zone!A:B,2,FALSE)","v":"E"},{"$f":"VLOOKUP(B41092,ceva_zone!A:C,3,FALSE)","v":"C"}]
["53201","WI","A","standard",{"$f":"VLOOKUP(B41093,ceva_zone!A:B,2,FALSE)","v":"E"},{"$f":"VLOOKUP(B41093,ceva_zone!A:C,3,FALSE)","v":"C"}]
["53202","WI","A","standard",{"$f":"VLOOKUP(B41094,ceva_zone!A:B,2,FALSE)","v":"E"},{"$f":"VLOOKUP(B41094,ceva_zone!A:C,3,FALSE)","v":"C"}]

{"sheet":"ceva_base_rate","index":2,"n_rows":902,"n_cols":15,"rows_kept":902}
["CEVA","A","B","C","D","E","F","Remote area surcharge",{"$nulls":4},"CA_Sur",18.24,"CA区开始或结束都有"]
[101,140,148,148,156,156,156,123,{"$f":"G2+$H2","v":279},{"$f":"ROUND(_xlfn.MAXIFS(A:A,I:I,I2)*453.6,0)","v":73030},{"$f":"_xlfn.CONCAT(J2,\"|\",I2)","v":"73030|279"},"73030|279","NY_Sur",37.99,"邮编前三位在100-104或110-114"]
[102,140,148,148,156,156,156,123,{"$f":"G3+$H3","v":279},{"$f":"ROUND(_xlfn.MAXIFS(A:A,I:I,I3)*453.6,0)","v":73030},{"$f":"_xlfn.CONCAT(J3,\"|\",I3)","v":"73030|279"},"73483|281","Extra Man",30,">=250lbs or  >=75in"]
[103,140,148,148,156,156,156,123,279,73030,"73030|279","73937|282","Oversized 1",131.04,"最长边96inch-119.9"]
[104,140,148,148,156,156,156,123,279,73030,"73030|279","74390|283",null,303,"120-191.9"]
[105,140,148,148,156,156,156,123,279,73030,"73030|279","75298|284",null,303,"192-239.9"]
[106,140,148,148,156,156,156,123,279,73030,"73030|279","75751|285",null,532,"240-"]
[107,140,148,148,156,156,156,123,279,73030,"73030|279","76205|287"]
[108,140,148,148,156,156,156,123,279,73030,"73030|279","76658|288"]
[109,140,148,148,156,156,156,123,279,73030,"73030|279","77112|289"]
[110,140,148,148,156,156,156,123,279,73030,"73030|279","78019|290"]
[111,140,148,148,156,156,156,123,279,73030,"73030|279","78473|291"]
[112,140,148,148,156,156,156,123,279,73030,"73030|279","78926|292"]
[113,140,148,148,156,156,156,123,279,73030,"73030|279","79380|294"]
[114,140,148,148,156,156,156,123,279,73030,"73030|279","80287|295"]
[115,140,148,148,156,156,156,123,279,73030,"73030|279","80741|296"]
[116,140,148,148,156,156,156,123,279,73030,"73030|279","81194|297"]
[117,140,148,148,156,156,156,123,279,73030,"73030|279","81648|298"]
[118,140,148,148,156,156,156,123,279,73030,"73030|279","82102|299"]
[119,140,148,148,156,156,156,123,279,73030,"73030|279","83009|301"]
[120,140,148,148,156,156,156,123,279,73030,"73030|279","83462|302"]
[121,140,148,148,156,156,156,123,279,73030,"73030|279","83916|303"]
[122,140,148,148,156,156,156,123,279,73030,"73030|279","84370|304"]
[123,140,148,148,156,156,156,123,279,73030,"73030|279","84823|305"]
[124,140,148,148,156,156,156,123,279,73030,"73030|279","85730|307"]
[125,140,148,148,156,156,156,123,279,73030,"73030|279","86184|308"]
[126,140,148,148,156,156,156,123,279,73030,"73030|279","86638|309"]
[127,140,148,148,156,156,156,123,279,73030,"73030|279","87091|310"]
[128,140,148,148,156,156,156,123,279,73030,"73030|279","87998|311"]
[129,140,148,148,156,156,156,123,279,73030,"73030|279","88452|312"]
[130,140,148,148,156,156,156,123,279,73030,"73030|279","88906|314"]
[131,140,148,148,156,156,156,123,279,73030,"73030|279","89359|315"]
[132,140,148,148,156,156,156,123,279,73030,"73030|279","89813|316"]
[133,140,148,148,156,156,156,123,279,73030,"73030|279","100699|317"]
[134,140,148,148,156,156,156,123,279,73030,"73030|279","101606|318"]
[135,140,148,148,156,156,156,123,279,73030,"73030|279","102060|319"]
[136,140,148,148,156,156,156,123,279,73030,"73030|279","102514|321"]
[137,140,148,148,156,156,156,123,279,73030,"73030|279","103421|322"]
[138,140,148,148,156,156,156,123,279,73030,"73030|279","103874|323"]
[139,140,148,148,156,156,156,123,279,73030,"73030|279","104328|324"]
[140,140,148,148,156,156,156,123,279,73030,"73030|279","105235|325"]
[141,140,148,148,156,156,156,123,279,73030,"73030|279","105689|327"]
[142,140,148,148,156,156,156,123,279,73030,"73030|279","106142|328"]
[143,140,148,148,156,156,156,123,279,73030,"73030|279","107050|329"]
[144,140,148,148,156,156,156,123,279,73030,"73030|279","107503|330"]
[145,140,148,148,156,156,156,123,279,73030,"73030|279","107957|331"]
[146,140,148,148,156,156,156,123,279,73030,"73030|279","108864|332"]
[147,140,148,148,156,156,156,123,279,73030,"73030|279","109318|334"]
[148,140,148,148,156,156,156,123,279,73030,"73030|279","109771|335"]
[149,140,148,148,156,156,156,123,279,73030,"73030|279","110678|336"]
[150,140,148,148,156,156,156,123,279,73030,"73030|279","111132|337"]
[151,140,148,148,156,156,156,123,279,73030,"73030|279","112039|338"]
[152,140,148,148,156,156,156,123,279,73030,"73030|279","112493|339"]
[153,140,148,148,156,156,156,123,279,73030,"73030|279","112946|341"]
[154,140,148,148,156,156,156,123,279,73030,"73030|279","113854|342"]
[155,140,148,148,156,156,156,123,279,73030,"73030|279","114307|343"]
[156,140,148,148,156,156,156,123,279,73030,"73030|279","114761|344"]
[157,140,148,148,156,156,156,123,279,73030,"73030|279","115668|345"]
[158,140,148,148,156,156,156,123,279,73030,"73030|279","116122|347"]
[159,140,148,148,156,156,156,123,279,73030,"73030|279","116575|348"]
[160,140,148,148,156,156,156,123,279,73030,"73030|279","117482|349"]
[161,140,148,148,156,156,156,123,279,73030,"73030|279","117936|350"]
[162,140,148,148,156,156,158,123,281,73483,"73483|281","118390|351"]
[163,140,148,148,156,156,159,123,282,73937,"73937|282","119297|352"]
[164,140,148,148,156,156,160,123,283,74390,"74390|283","119750|354"]
[165,140,148,148,156,156,161,123,284,75298,"75298|284","120204|355"]
[166,140,148,148,156,156,161,123,{"$f":"G67+$H67","v":284},{"$f":"ROUND(_xlfn.MAXIFS(A:A,I:I,I67)*453.6,0)","v":75298},{"$f":"_xlfn.CONCAT(J67,\"|\",I67)","v":"75298|284"},"121111|356"]
[167,140,148,148,156,156,162,123,285,75751,"75751|285","121565|357"]
[168,140,148,148,156,156,164,123,287,76205,"76205|287","122018|358"]
[169,140,148,148,156,156,165,123,288,76658,"76658|288","122926|359"]
[170,140,148,148,156,156,166,123,289,77112,"77112|289","123379|361"]
[171,140,148,148,156,156,167,123,290,78019,"78019|290","124286|362"]
[172,140,148,148,156,156,167,123,290,78019,"78019|290","124740|363"]
[173,140,148,148,156,156,168,123,291,78473,"78473|291","125194|364"]
[174,140,148,148,156,156,169,123,292,78926,"78926|292","126101|365"]
[175,140,148,148,156,156,171,123,294,79380,"79380|294","126554|367"]
[176,140,148,148,156,156,172,123,295,80287,"80287|295","127008|368"]
[177,140,148,148,156,158,172,123,295,80287,"80287|295","127915|369"]
[178,140,148,148,156,159,173,123,296,80741,"80741|296","128369|370"]
[179,140,148,148,156,160,174,123,297,81194,"81194|297","128822|371"]
[180,140,148,148,156,160,175,123,298,81648,"81648|298","129730|372"]
[181,140,148,148,156,161,176,123,299,82102,"82102|299","130183|374"]
[182,140,148,148,156,162,178,123,301,83009,"83009|301","130637|375"]
[183,140,148,148,158,164,178,123,301,83009,"83009|301","131544|376"]
[184,140,148,148,158,164,179,123,302,83462,"83462|302","131998|377"]
[185,140,148,148,159,165,180,123,303,83916,"83916|303","132451|378"]
[186,140,148,148,160,166,181,123,304,84370,"84370|304","133358|379"]
[187,140,148,148,160,167,182,123,305,84823,"84823|305","133812|381"]
[188,140,148,149,161,167,184,123,307,85730,"85730|307","134266|382"]
[189,140,148,149,162,168,184,123,307,85730,"85730|307","135173|383"]
[190,140,148,151,164,169,185,123,308,86184,"86184|308","135626|384"]
[191,140,148,152,164,171,186,123,309,86638,"86638|309","136080|385"]
[192,140,148,152,165,171,187,123,310,87091,"87091|310","136987|386"]
[193,140,148,153,166,172,188,123,311,87998,"87998|311","138348|387"]
[194,140,148,154,167,173,188,123,311,87998,"87998|311","139255|388"]
[195,140,148,154,167,174,189,123,312,88452,"88452|312","140616|389"]
[196,140,149,155,168,174,191,123,314,88906,"88906|314","141523|390"]
[197,140,149,156,169,175,192,123,315,89359,"89359|315","142884|391"]
[198,140,151,156,169,176,193,123,316,89813,"89813|316","143791|392"]
[199,140,151,158,171,178,194,123,317,100699,"100699|317","144698|393"]
[200,140,152,159,172,178,194,123,317,100699,"100699|317","146059|394"]
[201,140,152,159,172,178,194,123,317,100699,"100699|317","146966|395"]
[202,140,152,159,172,178,194,123,317,100699,"100699|317","148327|396"]
[203,140,152,159,172,178,194,123,317,100699,"100699|317","149234|397"]
[204,140,152,159,172,178,194,123,317,100699,"100699|317","150595|398"]
[205,140,152,159,172,178,194,123,317,100699,"100699|317","151049|401"]
[206,140,152,159,172,178,194,123,317,100699,"100699|317","151502|402"]
[207,140,152,159,172,178,194,123,317,100699,"100699|317","151956|403"]
[208,140,152,159,172,178,194,123,317,100699,"100699|317","152410|404"]
[209,140,152,159,172,178,194,123,317,100699,"100699|317","153317|406"]
[210,140,152,159,172,178,194,123,317,100699,"100699|317","153770|407"]
[211,140,152,159,172,178,194,123,317,100699,"100699|317","154678|409"]
[212,140,152,159,172,178,194,123,317,100699,"100699|317","155131|412"]
[213,140,152,159,172,178,194,123,317,100699,"100699|317","156038|413"]
[214,140,152,159,172,178,194,123,317,100699,"100699|317","156492|415"]
[215,140,152,159,172,178,194,123,317,100699,"100699|317","156946|416"]
[216,140,152,159,172,178,194,123,317,100699,"100699|317","157399|417"]
[217,140,152,159,172,179,194,123,317,100699,"100699|317","157853|418"]
[218,140,152,159,173,180,194,123,317,100699,"100699|317","158306|419"]
[219,140,152,159,173,181,194,123,317,100699,"100699|317","158760|420"]
[220,140,153,160,174,181,194,123,317,100699,"100699|317","159214|422"]
[221,140,153,160,175,182,194,123,317,100699,"100699|317","160121|424"]
[222,140,154,161,175,184,194,123,317,100699,"100699|317","160574|425"]
[223,140,154,162,176,184,195,123,318,101606,"101606|318","161482|427"]
[224,140,155,162,178,185,195,123,318,101606,"101606|318","161935|429"]
[225,140,156,164,178,186,196,123,319,102060,"102060|319","162389|431"]
[226,140,156,164,179,186,198,123,321,102514,"102514|321","162842|432"]
[227,140,158,165,180,187,199,123,322,103421,"103421|322","163296|433"]
[228,140,158,166,180,188,199,123,322,103421,"103421|322","163750|434"]
[229,140,159,166,181,189,200,123,323,103874,"103874|323","164203|435"]
[230,140,160,167,182,189,201,123,{"$f":"G131+$H131","v":324},{"$f":"ROUND(_xlfn.MAXIFS(A:A,I:I,I131)*453.6,0)","v":104328},{"$f":"_xlfn.CONCAT(J131,\"|\",I131)","v":"104328|324"},"164657|436"]
[231,140,160,168,182,191,202,123,325,105235,"105235|325","165564|438"]
[232,140,161,168,184,192,202,123,325,105235,"105235|325","166018|439"]
[233,140,161,169,185,192,204,123,327,105689,"105689|327","166925|442"]
[234,140,162,169,185,193,205,123,328,106142,"106142|328","167378|444"]
[235,140,162,171,186,194,206,123,329,107050,"107050|329","168286|445"]
[236,140,164,172,187,194,206,123,329,107050,"107050|329","168739|447"]
[237,140,165,172,188,195,207,123,330,107503,"107503|330","169193|448"]
[238,140,165,173,188,196,208,123,331,107957,"107957|331","169646|449"]
[239,140,166,173,189,198,209,123,332,108864,"108864|332","170100|450"]
[240,140,166,174,191,198,209,123,332,108864,"108864|332","170554|452"]
[241,140,167,175,191,199,211,123,334,109318,"109318|334","171007|453"]
[242,140,168,175,192,200,212,123,335,109771,"109771|335","171461|454"]
[243,140,168,176,193,200,213,123,336,110678,"110678|336","172368|456"]
[244,140,169,178,193,201,213,123,336,110678,"110678|336","172822|458"]
[245,140,169,178,194,202,214,123,337,111132,"111132|337","173729|459"]
[246,140,171,179,195,202,215,123,338,112039,"112039|338","174182|462"]
[247,140,171,179,195,204,215,123,338,112039,"112039|338","174636|463"]
[248,140,172,180,196,205,216,123,339,112493,"112493|339","175090|464"]
[249,140,173,181,198,206,218,123,341,112946,"112946|341","175543|465"]
[250,140,173,181,198,206,219,123,342,113854,"113854|342","175997|466"]
[251,140,174,182,199,207,219,123,342,113854,"113854|342","176450|467"]
[252,140,174,182,200,208,220,123,343,114307,"114307|343","176904|468"]
[253,140,175,184,200,208,221,123,344,114761,"114761|344","177811|470"]
[254,140,176,185,201,209,222,123,345,115668,"115668|345","178265|472"]
[255,140,176,185,202,211,222,123,345,115668,"115668|345","178718|474"]
[256,140,178,186,202,211,224,123,347,116122,"116122|347","179172|475"]
[257,140,178,187,204,212,225,123,348,116575,"116575|348","179626|476"]
[258,140,179,187,205,213,226,123,349,117482,"117482|349","180079|477"]
[259,140,180,188,205,214,226,123,349,117482,"117482|349","180533|478"]
[260,140,180,188,206,214,227,123,350,117936,"117936|350","180986|479"]
[261,140,181,189,207,215,228,123,351,118390,"118390|351","181440|480"]
[262,140,181,191,207,216,229,123,352,119297,"119297|352","182347|481"]
[263,140,182,191,208,216,229,123,352,119297,"119297|352","183708|482"]
[264,140,182,192,209,218,231,123,354,119750,"119750|354","184615|483"]
[265,140,184,192,209,219,232,123,355,120204,"120204|355","185976|484"]
[266,140,185,193,211,219,233,123,356,121111,"121111|356","186883|485"]
[267,141,185,194,212,220,233,123,356,121111,"121111|356","188244|486"]
[268,141,186,194,212,221,234,123,357,121565,"121565|357","189151|487"]
[269,142,186,195,213,221,235,123,358,122018,"122018|358","189605|488"]
[270,142,187,196,214,222,236,123,359,122926,"122926|359","190058|490"]
[271,144,188,196,214,224,236,123,359,122926,"122926|359","190512|491"]
[272,144,188,198,215,225,238,123,361,123379,"123379|361","190966|492"]
[273,145,189,198,216,225,239,123,362,124286,"124286|362","191419|493"]
[274,145,189,199,216,226,239,123,362,124286,"124286|362","191873|494"]
[275,145,191,200,218,227,240,123,363,124740,"124740|363","192326|495"]
[276,146,192,200,219,227,241,123,364,125194,"125194|364","193234|497"]
[277,146,192,201,219,228,242,123,365,126101,"126101|365","193687|499"]
[278,147,193,201,220,229,242,123,365,126101,"126101|365","194594|501"]
[279,147,193,202,221,229,244,123,367,126554,"126554|367","195048|503"]
[280,148,194,204,221,231,245,123,368,127008,"127008|368","195955|504"]
[281,148,194,204,222,232,246,123,369,127915,"127915|369","196409|506"]
[282,149,195,205,224,233,246,123,369,127915,"127915|369","196862|507"]
[283,149,196,206,224,233,247,123,370,128369,"128369|370","197316|508"]
[284,151,196,206,225,234,248,123,371,128822,"128822|371","198223|510"]
[285,151,198,207,226,235,249,123,372,129730,"129730|372","198677|512"]
[286,151,198,207,226,235,249,123,372,129730,"129730|372","199130|513"]
[287,152,199,208,227,236,251,123,374,130183,"130183|374","199584|514"]
[288,152,200,209,228,238,252,123,375,130637,"130637|375","200038|515"]
[289,153,200,209,228,238,253,123,376,131544,"131544|376","200491|516"]
[290,153,201,211,229,239,253,123,376,131544,"131544|376","200945|517"]
[291,154,201,211,231,240,254,123,377,131998,"131998|377","201398|518"]
[292,154,202,212,231,241,255,123,378,132451,"132451|378","202306|521"]
[293,155,204,213,232,241,256,123,379,133358,"133358|379","202759|523"]
[294,155,204,213,233,242,256,123,{"$f":"G195+$H195","v":379},{"$f":"ROUND(_xlfn.MAXIFS(A:A,I:I,I195)*453.6,0)","v":133358},{"$f":"_xlfn.CONCAT(J195,\"|\",I195)","v":"133358|379"},"203666|524"]
[295,155,205,214,233,244,258,123,381,133812,"133812|381","204574|526"]
[296,156,205,215,234,244,259,123,382,134266,"134266|382","205027|528"]
[297,156,206,215,235,245,260,123,383,135173,"135173|383","205934|530"]
[298,158,206,216,235,246,260,123,383,135173,"135173|383","206388|532"]
[299,158,207,216,236,246,261,123,384,135626,"135626|384","206842|533"]
[300,159,208,218,238,247,262,123,385,136080,"136080|385","207295|534"]
[301,159,208,218,238,247,262,124,386,136987,"136987|386","207749|535"]
[302,159,208,218,238,247,262,124,386,136987,"136987|386","208202|536"]
[303,159,208,218,238,247,262,125,387,138348,"138348|387","208656|537"]
[304,159,208,218,238,247,262,125,387,138348,"138348|387","209110|538"]
[305,159,208,218,238,247,262,125,387,138348,"138348|387","210017|541"]
[306,159,208,218,238,247,262,126,388,139255,"139255|388","210924|543"]
[307,159,208,218,238,247,262,126,388,139255,"139255|388","211378|544"]
[308,159,208,218,238,247,262,127,389,140616,"140616|389","212285|546"]
[309,159,208,218,238,247,262,127,389,140616,"140616|389","212738|548"]
[310,159,208,218,238,247,262,127,389,140616,"140616|389","213646|549"]
[311,159,208,218,238,247,262,128,390,141523,"141523|390","214099|552"]
[312,159,208,218,238,247,262,128,390,141523,"141523|390","214553|553"]
[313,159,208,218,238,247,262,129,391,142884,"142884|391","215006|554"]
[314,159,208,218,238,247,262,129,391,142884,"142884|391","215460|555"]
[315,159,208,218,238,247,262,129,391,142884,"142884|391","215914|556"]
[316,159,208,218,238,247,262,130,392,143791,"143791|392","216367|557"]
[317,159,208,218,238,247,262,130,392,143791,"143791|392","216821|558"]
[318,159,208,218,238,247,262,131,393,144698,"144698|393","217274|559"]
[319,159,208,218,238,247,262,131,393,144698,"144698|393","217728|561"]
[320,159,208,218,238,247,262,132,394,146059,"146059|394","218182|562"]
[321,159,208,218,238,247,262,132,394,146059,"146059|394","218635|563"]
[322,159,208,218,238,247,262,132,394,146059,"146059|394","219089|564"]
[323,159,208,218,238,247,262,133,395,146966,"146966|395","219996|566"]
[324,159,208,218,238,247,262,133,395,146966,"146966|395","220450|568"]
[325,159,208,218,238,247,262,134,396,148327,"148327|396","221357|569"]
[326,159,208,218,238,247,262,134,396,148327,"148327|396","221810|572"]
[327,159,208,218,238,247,262,134,396,148327,"148327|396","222264|573"]
[328,159,208,218,238,247,262,135,397,149234,"149234|397","222718|574"]
[329,159,208,218,238,247,262,135,397,149234,"149234|397","223625|575"]
[330,159,208,218,238,247,262,136,398,150595,"150595|398","224078|577"]
[331,159,208,218,238,247,262,136,398,150595,"150595|398","224532|578"]
[332,159,208,218,238,247,262,136,398,150595,"150595|398","224986|579"]
[333,159,208,218,238,247,264,137,401,151049,"151049|401","225439|580"]
[334,159,208,218,238,247,265,137,402,151502,"151502|402","225893|582"]
[335,159,208,218,238,247,265,138,403,151956,"151956|403","226346|583"]
[336,159,208,218,238,247,266,138,404,152410,"152410|404","226800|584"]
[337,159,208,218,238,247,267,139,406,153317,"153317|406","228161|585"]
[338,159,208,218,238,247,267,139,406,153317,"153317|406","229068|586"]
[339,159,208,218,238,247,268,139,407,153770,"153770|407","229975|587"]
[340,159,208,219,238,247,269,140,409,154678,"154678|409","231336|588"]
[341,159,208,219,238,247,269,140,409,154678,"154678|409","232243|589"]
[342,159,208,220,238,248,271,141,412,155131,"155131|412","233604|590"]
[343,159,208,220,238,248,272,141,413,156038,"156038|413","234511|591"]
[344,159,208,221,238,249,272,141,413,156038,"156038|413","235872|592"]
[345,160,208,222,239,251,273,142,415,156492,"156492|415","236779|593"]
[346,160,208,222,240,251,274,142,416,156946,"156946|416","238140|594"]
[347,160,208,224,240,252,274,143,417,157399,"157399|417","239047|595"]
[348,161,208,224,241,253,275,143,418,157853,"157853|418","239954|596"]
[349,161,208,225,241,253,276,143,419,158306,"158306|419","241315|597"]
[350,161,208,225,242,254,276,144,420,158760,"158760|420","242222|598"]
[351,162,208,226,244,254,278,144,422,159214,"159214|422","243583|599"]
[352,162,209,226,244,255,279,145,424,160121,"160121|424","244490|600"]
[353,164,209,227,245,256,279,145,424,160121,"160121|424","245851|601"]
[354,164,211,227,245,256,280,145,425,160574,"160574|425","246758|602"]
[355,164,211,228,246,258,281,146,427,161482,"161482|427","248119|603"]
[356,165,212,229,246,258,281,146,427,161482,"161482|427","249026|604"]
[357,165,212,229,247,259,282,147,429,161935,"161935|429","249934|605"]
[358,166,213,231,248,260,284,147,{"$f":"G259+$H259","v":431},{"$f":"ROUND(_xlfn.MAXIFS(A:A,I:I,I259)*453.6,0)","v":162389},{"$f":"_xlfn.CONCAT(J259,\"|\",I259)","v":"162389|431"},"251294|606"]
[359,166,213,231,248,260,284,148,432,162842,"162842|432","252202|607"]
[360,166,214,232,249,261,285,148,433,163296,"163296|433","253562|608"]
[361,167,214,232,249,262,286,148,434,163750,"163750|434","254470|609"]
[362,167,215,233,251,262,286,149,435,164203,"164203|435","255830|610"]
[363,168,215,233,252,264,287,149,436,164657,"164657|436","256738|611"]
[364,168,216,234,252,264,288,150,438,165564,"165564|438","257645|612"]
[365,168,216,234,253,265,288,150,438,165564,"165564|438","259006|613"]
[366,169,218,235,253,266,289,150,439,166018,"166018|439","259913|614"]
[367,169,218,236,254,266,291,151,442,166925,"166925|442","261274|615"]
[368,171,219,236,255,267,291,151,442,166925,"166925|442","262181|616"]
[369,171,219,238,255,267,292,152,444,167378,"167378|444","263542|617"]
[370,171,220,238,256,268,293,152,445,168286,"168286|445","264449|618"]
[371,172,220,239,256,269,293,152,445,168286,"168286|445","265810|619"]
[372,172,221,239,258,269,294,153,447,168739,"168739|447","266717|620"]
[373,172,221,240,258,271,295,153,448,169193,"169193|448","267624|621"]
[374,173,222,240,259,272,295,154,449,169646,"169646|449","268985|622"]
[375,173,222,241,260,272,296,154,450,170100,"170100|450","269892|623"]
[376,174,224,241,260,273,298,154,452,170554,"170554|452","271253|624"]
[377,174,224,242,261,273,298,155,453,171007,"171007|453","272160|625"]
[378,174,225,244,261,274,299,155,454,171461,"171461|454","273521|626"]
[379,175,225,244,262,275,300,156,456,172368,"172368|456","274428|627"]
[380,175,226,245,264,275,300,156,456,172368,"172368|456","275789|628"]
[381,176,226,245,264,276,301,157,458,172822,"172822|458","276696|629"]
[382,176,227,246,265,276,302,157,459,173729,"173729|459","277603|630"]
[383,176,227,246,265,278,302,157,459,173729,"173729|459","278964|631"]
[384,178,228,247,266,279,304,158,462,174182,"174182|462","279871|632"]
[385,178,228,247,267,279,305,158,463,174636,"174636|463","281232|633"]
[386,179,229,248,267,280,305,159,464,175090,"175090|464","282139|634"]
[387,179,229,248,268,281,306,159,465,175543,"175543|465","283046|636"]
[388,179,231,249,268,281,307,159,466,175997,"175997|466","283500|637"]
[389,180,231,251,269,282,307,160,467,176450,"176450|467","283954|638"]
[390,180,232,251,269,282,308,160,468,176904,"176904|468","284407|639"]
[391,181,232,252,271,284,309,161,470,177811,"177811|470","284861|640"]
[392,181,233,252,272,285,309,161,470,177811,"177811|470","285768|642"]
[393,181,233,253,272,285,311,161,472,178265,"178265|472","286675|644"]
[394,182,234,253,273,286,312,162,474,178718,"178718|474","287582|646"]
[395,182,234,254,273,286,313,162,475,179172,"179172|475","288490|648"]
[396,182,235,254,274,287,313,163,476,179626,"179626|476","288943|649"]
[397,184,235,255,275,288,314,163,477,180079,"180079|477","289397|650"]
[398,184,236,255,275,288,315,163,478,180533,"180533|478","289850|651"]
[399,185,236,256,276,289,315,164,479,180986,"180986|479","290304|652"]
[400,185,238,258,276,289,316,164,480,181440,"181440|480","290758|654"]
[401,185,238,258,276,289,316,165,481,182347,"182347|481","291211|655"]
[402,185,238,258,276,289,316,165,481,182347,"182347|481","291665|656"]
[403,185,238,258,276,289,316,166,482,183708,"183708|482","292118|657"]
[404,185,238,258,276,289,316,166,482,183708,"183708|482","292572|658"]
[405,185,238,258,276,289,316,166,482,183708,"183708|482","293479|659"]
[406,185,238,258,276,289,316,167,483,184615,"184615|483","294386|661"]
[407,185,238,258,276,289,316,167,483,184615,"184615|483","295294|663"]
[408,185,238,258,276,289,316,168,484,185976,"185976|484","295747|665"]
[409,185,238,258,276,289,316,168,484,185976,"185976|484","296201|666"]
[410,185,238,258,276,289,316,168,484,185976,"185976|484","296654|667"]
[411,185,238,258,276,289,316,169,485,186883,"186883|485","297108|668"]
[412,185,238,258,276,289,316,169,485,186883,"186883|485","297562|669"]
[413,185,238,258,276,289,316,170,486,188244,"188244|486","298015|670"]
[414,185,238,258,276,289,316,170,486,188244,"188244|486","298922|671"]
[415,185,238,258,276,289,316,170,486,188244,"188244|486","299830|673"]
[416,185,238,258,276,289,316,171,487,189151,"189151|487","300737|676"]
[417,185,238,258,276,289,316,171,487,189151,"189151|487","301190|677"]
[418,185,238,258,276,289,316,172,488,189605,"189605|488","301644|678"]
[419,185,238,258,276,289,318,172,490,190058,"190058|490","302098|679"]
[420,185,238,258,276,289,319,172,491,190512,"190512|491","302551|680"]
[421,185,238,258,278,289,319,173,492,190966,"190966|492","303458|681"]
[422,185,238,258,278,289,320,173,{"$f":"G323+$H323","v":493},{"$f":"ROUND(_xlfn.MAXIFS(A:A,I:I,I323)*453.6,0)","v":191419},{"$f":"_xlfn.CONCAT(J323,\"|\",I323)","v":"191419|493"},"303912|683"]
[423,185,238,258,279,289,320,174,494,191873,"191873|494","304366|684"]
[424,185,238,258,280,289,321,174,495,192326,"192326|495","304819|685"]
[425,185,238,258,280,289,322,175,497,193234,"193234|497","305273|687"]
[426,185,238,258,281,289,322,175,497,193234,"193234|497","305726|688"]
[427,185,238,258,281,289,324,175,499,193687,"193687|499","306634|689"]
[428,185,238,258,282,289,325,176,501,194594,"194594|501","307541|691"]
[429,185,238,258,282,289,325,176,501,194594,"194594|501","308448|693"]
[430,185,238,258,284,291,326,177,503,195048,"195048|503","308902|694"]
[431,185,238,258,284,291,327,177,504,195955,"195955|504","309355|695"]
[432,185,238,258,285,292,327,177,504,195955,"195955|504","309809|696"]
[433,186,238,258,286,293,328,178,506,196409,"196409|506","310262|697"]
[434,186,238,258,286,293,329,178,507,196862,"196862|507","311170|699"]
[435,187,238,258,287,294,329,179,508,197316,"197316|508","312077|701"]
[436,187,238,259,287,294,331,179,510,198223,"198223|510","312984|703"]
[437,187,238,259,288,295,331,179,510,198223,"198223|510","313438|704"]
[438,188,238,260,288,295,332,180,512,198677,"198677|512","313891|705"]
[439,188,238,260,289,296,333,180,513,199130,"199130|513","314345|706"]
[440,188,238,261,289,298,333,181,514,199584,"199584|514","314798|707"]
[441,189,238,261,291,298,334,181,515,200038,"200038|515","315252|709"]
[442,189,238,262,292,299,335,181,516,200491,"200491|516","315706|710"]
[443,189,238,262,292,299,335,182,517,200945,"200945|517","316613|711"]
[444,191,238,264,293,300,336,182,518,201398,"201398|518","317066|713"]
[445,191,238,264,293,301,338,183,521,202306,"202306|521","317520|714"]
[446,192,238,265,294,301,338,183,521,202306,"202306|521","318881|715"]
[447,192,238,265,294,302,339,184,523,202759,"202759|523","319788|716"]
[448,192,238,266,295,302,340,184,524,203666,"203666|524","321149|717"]
[449,193,238,266,296,304,340,184,524,203666,"203666|524","322056|718"]
[450,193,238,267,296,304,341,185,526,204574,"204574|526","323417|719"]
[451,193,238,267,298,305,341,185,526,204574,"204574|526","324324|720"]
[452,194,239,268,298,306,342,186,528,205027,"205027|528","325231|721"]
[453,194,239,268,299,306,344,186,530,205934,"205934|530","326592|722"]
[454,194,240,269,299,307,344,186,530,205934,"205934|530","327046|723"]
[455,195,240,269,300,307,345,187,532,206388,"206388|532","327499|724"]
[456,195,240,271,300,308,346,187,533,206842,"206842|533","327953|725"]
[457,196,241,271,301,308,346,188,534,207295,"207295|534","328860|726"]
[458,196,241,272,302,309,347,188,535,207749,"207749|535","329767|729"]
[459,196,242,272,302,311,348,188,536,208202,"208202|536","330674|731"]
[460,198,242,273,304,311,348,189,537,208656,"208656|537","331128|732"]
[461,198,244,273,304,312,349,189,538,209110,"209110|538","331582|733"]
[462,198,244,274,305,312,351,190,541,210017,"210017|541","332035|734"]
[463,199,245,274,305,313,351,190,541,210017,"210017|541","332489|735"]
[464,199,245,275,306,313,352,191,543,210924,"210924|543","333396|736"]
[465,199,245,275,306,314,352,191,543,210924,"210924|543","334303|738"]
[466,200,246,276,307,315,353,191,544,211378,"211378|544","335210|741"]
[467,200,246,276,308,315,354,192,546,212285,"212285|546","336118|743"]
[468,201,247,278,308,316,354,192,546,212285,"212285|546","336571|744"]
[469,201,247,278,309,316,355,193,548,212738,"212738|548","337025|745"]
[470,201,248,279,309,318,356,193,549,213646,"213646|549","337478|746"]
[471,202,248,279,311,318,356,193,549,213646,"213646|549","337932|747"]
[472,202,249,280,311,319,358,194,552,214099,"214099|552","338839|748"]
[473,202,249,281,312,320,359,194,553,214553,"214553|553","339746|751"]
[474,204,251,281,313,320,359,195,554,215006,"215006|554","340654|753"]
[475,204,251,282,313,321,360,195,555,215460,"215460|555","341107|754"]
[476,204,251,282,314,321,361,195,556,215914,"215914|556","341561|755"]
[477,205,252,284,314,322,361,196,557,216367,"216367|557","342014|756"]
[478,205,252,284,315,322,362,196,558,216821,"216821|558","342468|757"]
[479,206,253,285,315,324,362,197,559,217274,"217274|559","343375|758"]
[480,206,253,285,316,325,364,197,561,217728,"217728|561","344282|760"]
[481,206,254,286,316,325,365,197,562,218182,"218182|562","345190|763"]
[482,207,254,286,318,326,365,198,563,218635,"218635|563","346097|765"]
[483,207,255,287,319,326,366,198,564,219089,"219089|564","346550|766"]
[484,207,255,287,319,327,367,199,566,219996,"219996|566","347004|767"]
[485,208,255,288,320,327,367,199,566,219996,"219996|566","347458|768"]
[486,208,256,288,320,328,368,200,{"$f":"G387+$H387","v":568},{"$f":"ROUND(_xlfn.MAXIFS(A:A,I:I,I387)*453.6,0)","v":220450},{"$f":"_xlfn.CONCAT(J387,\"|\",I387)","v":"220450|568"},"347911|769"]
[487,208,256,289,321,329,369,200,569,221357,"221357|569","348818|770"]
[488,209,258,289,321,329,369,200,569,221357,"221357|569","349726|772"]
[489,209,258,291,322,331,371,201,572,221810,"221810|572","350633|775"]
[490,211,259,291,322,331,372,201,573,222264,"222264|573","351086|776"]
[491,211,259,292,324,332,372,202,574,222718,"222718|574","351540|777"]
[492,211,260,292,325,332,373,202,575,223625,"223625|575","351994|778"]
[493,212,260,293,325,333,373,202,575,223625,"223625|575","352447|779"]
[494,212,260,293,326,334,374,203,577,224078,"224078|577","352901|780"]
[495,212,261,294,326,334,375,203,578,224532,"224532|578","353354|781"]
[496,213,261,294,327,335,375,204,579,224986,"224986|579","354262|782"]
[497,213,262,295,327,335,376,204,580,225439,"225439|580","355169|785"]
[498,213,262,295,328,336,378,204,582,225893,"225893|582","356076|787"]
[499,214,264,296,328,336,378,205,583,226346,"226346|583","356530|788"]
[500,214,264,296,329,338,379,205,584,226800,"226800|584","356983|789"]
[501,214,264,296,329,338,379,206,585,228161,"228161|585","357437|790"]
[502,214,264,296,329,338,379,206,585,228161,"228161|585","358344|792"]
[503,214,264,296,329,338,379,206,585,228161,"228161|585","358798|793"]
[504,214,264,296,329,338,379,207,586,229068,"229068|586","359251|794"]
[505,214,264,296,329,338,379,207,586,229068,"229068|586","359705|796"]
[506,214,264,296,329,338,379,208,587,229975,"229975|587","360158|797"]
[507,214,264,296,329,338,379,208,587,229975,"229975|587","361066|798"]
[508,214,264,296,329,338,379,209,588,231336,"231336|588","361973|800"]
[509,214,264,296,329,338,379,209,588,231336,"231336|588","362880|802"]
[510,214,264,296,329,338,379,209,588,231336,"231336|588","364241|803"]
[511,214,264,296,329,338,379,210,589,232243,"232243|589","365148|804"]
[512,214,264,296,329,338,379,210,589,232243,"232243|589","366509|805"]
[513,214,264,296,329,338,379,211,590,233604,"233604|590","367416|806"]
[514,214,264,296,329,338,379,211,590,233604,"233604|590","368777|807"]
[515,214,264,296,329,338,379,211,590,233604,"233604|590","369684|808"]
[516,214,264,296,329,338,379,212,591,234511,"234511|591","371045|809"]
[517,214,264,296,329,338,379,212,591,234511,"234511|591","371952|810"]
[518,214,264,296,329,338,379,213,592,235872,"235872|592","372859|811"]
[519,214,264,296,329,338,379,213,592,235872,"235872|592","373313|812"]
[520,214,264,296,329,338,379,213,592,235872,"235872|592","374220|813"]
[521,214,264,296,329,338,379,214,593,236779,"236779|593","375127|815"]
[522,214,264,296,329,338,379,214,593,236779,"236779|593","376034|818"]
[523,214,264,296,329,338,379,215,594,238140,"238140|594","376488|819"]
[524,214,264,296,329,338,379,215,594,238140,"238140|594","376942|820"]
[525,214,264,296,329,338,379,215,594,238140,"238140|594","377395|821"]
[526,214,264,296,329,338,379,216,595,239047,"239047|595","378302|822"]
[527,214,264,296,329,338,379,216,595,239047,"239047|595","378756|823"]
[528,214,264,296,329,338,379,217,596,239954,"239954|596","379210|824"]
[529,214,264,296,329,338,379,217,596,239954,"239954|596","379663|825"]
[530,214,264,296,329,338,379,218,597,241315,"241315|597","380117|826"]
[531,214,264,296,329,338,379,218,597,241315,"241315|597","381024|828"]
[532,214,264,296,329,338,379,218,597,241315,"241315|597","381931|830"]
[533,214,264,296,329,338,379,219,598,242222,"242222|598","382838|832"]
[534,214,264,296,329,338,379,219,598,242222,"242222|598","383746|834"]
[535,214,264,296,329,338,379,220,599,243583,"243583|599","384199|835"]
[536,214,264,296,329,338,379,220,599,243583,"243583|599","384653|836"]
[537,214,264,296,329,338,379,220,599,243583,"243583|599","385106|837"]
[538,214,264,296,329,338,379,221,600,244490,"244490|600","385560|838"]
[539,214,264,296,329,338,379,221,600,244490,"244490|600","386467|840"]
[540,214,264,296,329,338,379,222,601,245851,"245851|601","387374|842"]
[541,214,264,296,329,338,379,222,601,245851,"245851|601","388282|844"]
[542,214,264,296,329,338,379,222,601,245851,"245851|601","388735|845"]
[543,214,264,296,329,338,379,223,602,246758,"246758|602","389189|846"]
[544,214,264,296,329,338,379,223,602,246758,"246758|602","389642|847"]
[545,214,264,296,329,338,379,224,603,248119,"248119|603","390096|848"]
[546,214,264,296,329,338,379,224,603,248119,"248119|603","391003|849"]
[547,214,264,296,329,338,379,224,603,248119,"248119|603","391910|852"]
[548,214,264,296,329,338,379,225,604,249026,"249026|604","392818|854"]
[549,214,264,296,329,338,379,225,604,249026,"249026|604","393725|856"]
[550,214,264,296,329,338,379,226,{"$f":"G451+$H451","v":605},{"$f":"ROUND(_xlfn.MAXIFS(A:A,I:I,I451)*453.6,0)","v":249934},{"$f":"_xlfn.CONCAT(J451,\"|\",I451)","v":"249934|605"},"394178|857"]
[551,214,264,296,329,338,379,226,605,249934,"249934|605","394632|858"]
[552,214,264,296,329,338,379,227,606,251294,"251294|606","395086|859"]
[553,214,264,296,329,338,379,227,606,251294,"251294|606","395539|860"]
[554,214,264,296,329,338,379,227,606,251294,"251294|606","396446|862"]
[555,214,264,296,329,338,379,228,607,252202,"252202|607","397354|864"]
[556,214,264,296,329,338,379,228,607,252202,"252202|607","398261|866"]
[557,214,264,296,329,338,379,229,608,253562,"253562|608","398714|867"]
[558,214,264,296,329,338,379,229,608,253562,"253562|608","399622|868"]
[559,214,264,296,329,338,379,229,608,253562,"253562|608","400529|870"]
[560,214,264,296,329,338,379,230,609,254470,"254470|609","400982|871"]
[561,214,264,296,329,338,379,230,609,254470,"254470|609","401436|872"]
[562,214,264,296,329,338,379,231,610,255830,"255830|610","401890|874"]
[563,214,264,296,329,338,379,231,610,255830,"255830|610","402343|875"]
[564,214,264,296,329,338,379,231,610,255830,"255830|610","402797|876"]
[565,214,264,296,329,338,379,232,611,256738,"256738|611","403250|877"]
[566,214,264,296,329,338,379,232,611,256738,"256738|611","404158|878"]
[567,214,264,296,329,338,379,233,612,257645,"257645|612","405065|880"]
[568,214,264,296,329,338,379,233,612,257645,"257645|612","405972|882"]
[569,214,264,296,329,338,379,234,613,259006,"259006|613","406426|883"]
[570,214,264,296,329,338,379,234,613,259006,"259006|613","406879|884"]
[571,214,264,296,329,338,379,234,613,259006,"259006|613","407333|886"]
[572,214,264,296,329,338,379,235,614,259913,"259913|614","407786|887"]
[573,214,265,296,329,338,379,235,614,259913,"259913|614","408694|888"]
[574,214,265,296,329,338,379,236,615,261274,"261274|615","409601|889"]
[575,214,266,296,329,338,379,236,615,261274,"261274|615","410508|890"]
[576,214,266,296,329,338,379,236,615,261274,"261274|615","411869|891"]
[577,214,266,296,329,338,379,237,616,262181,"262181|616","412776|892"]
[578,214,267,296,329,338,379,237,616,262181,"262181|616","414137|893"]
[579,214,267,296,329,338,379,238,617,263542,"263542|617","415044|894"]
[580,214,267,296,329,338,379,238,617,263542,"263542|617","416405|895"]
[581,214,268,296,329,338,379,238,617,263542,"263542|617","417312|896"]
[582,214,268,298,329,338,379,239,618,264449,"264449|618","418673|897"]
[583,214,269,298,329,338,379,239,618,264449,"264449|618","419580|898"]
[584,214,269,299,329,338,379,240,619,265810,"265810|619","420487|899"]
[585,214,269,299,329,338,379,240,619,265810,"265810|619","421848|901"]
[586,214,271,299,329,338,379,240,619,265810,"265810|619","422755|903"]
[587,214,271,300,329,338,379,241,620,266717,"266717|620","423662|905"]
[588,214,272,300,329,338,379,241,620,266717,"266717|620","424116|907"]
[589,214,272,301,329,338,379,242,621,267624,"267624|621","424570|908"]
[590,214,272,301,329,338,379,242,621,267624,"267624|621","425023|909"]
[591,214,273,302,329,338,379,243,622,268985,"268985|622","425477|910"]
[592,214,273,302,329,338,379,243,622,268985,"268985|622","426384|911"]
[593,214,274,302,329,338,379,243,622,268985,"268985|622","427291|913"]
[594,214,274,304,329,338,379,244,623,269892,"269892|623","428198|915"]
[595,214,274,304,329,338,379,244,623,269892,"269892|623","428652|916"]
[596,214,275,305,329,338,379,245,624,271253,"271253|624","429106|917"]
[597,214,275,305,329,338,379,245,624,271253,"271253|624","429559|919"]
[598,214,276,306,329,338,379,245,624,271253,"271253|624","430466|920"]
[599,214,276,306,329,338,379,246,625,272160,"272160|625","431374|922"]
[600,214,276,306,329,338,379,246,625,272160,"272160|625","431827|923"]
[601,214,278,306,329,338,379,247,626,273521,"273521|626","432281|924"]
[602,214,278,306,329,338,379,247,626,273521,"273521|626","432734|925"]
[603,214,278,306,329,338,379,247,626,273521,"273521|626","433188|926"]
[604,214,279,306,329,338,379,248,627,274428,"274428|627","434095|927"]
[605,214,279,306,329,338,379,248,627,274428,"274428|627","435002|929"]
[606,214,280,306,329,338,379,249,628,275789,"275789|628","435910|932"]
[607,214,280,306,329,338,379,249,628,275789,"275789|628","436363|933"]
[608,214,280,306,329,338,379,249,628,275789,"275789|628","436817|934"]
[609,214,281,306,329,338,379,250,629,276696,"276696|629","437270|935"]
[610,214,281,306,329,338,379,250,629,276696,"276696|629","437724|936"]
[611,214,282,306,329,338,379,251,630,277603,"277603|630","438631|937"]
[612,214,282,306,329,338,379,251,630,277603,"277603|630","439538|939"]
[613,214,282,306,329,338,379,252,631,278964,"278964|631","439992|940"]
[614,214,284,306,329,338,379,252,{"$f":"G515+$H515","v":631},{"$f":"ROUND(_xlfn.MAXIFS(A:A,I:I,I515)*453.6,0)","v":278964},{"$f":"_xlfn.CONCAT(J515,\"|\",I515)","v":"278964|631"},"440446|942"]
[615,214,284,306,329,338,379,252,631,278964,"278964|631","440899|943"]
[616,214,285,306,329,338,379,253,632,279871,"279871|632","441806|944"]
[617,214,285,306,329,338,379,253,632,279871,"279871|632","442714|946"]
[618,214,285,306,329,338,379,254,633,281232,"281232|633","443621|948"]
[619,214,286,306,329,338,379,254,633,281232,"281232|633","444074|949"]
[620,214,286,306,329,338,379,254,633,281232,"281232|633","444528|950"]
[621,214,287,307,329,338,379,255,634,282139,"282139|634","444982|951"]
[622,214,287,307,329,338,379,255,634,282139,"282139|634","445435|952"]
[623,214,287,308,329,339,380,256,636,283046,"283046|636","446342|954"]
[624,214,288,308,329,339,380,256,636,283046,"283046|636","447250|956"]
[625,214,288,309,329,340,381,256,637,283500,"283500|637","448610|958"]
[626,214,288,309,329,340,381,257,638,283954,"283954|638","449518|960"]
[627,214,289,309,331,341,382,257,639,284407,"284407|639","450425|962"]
[628,214,289,311,331,341,382,258,640,284861,"284861|640","451332|964"]
[629,214,291,311,332,342,384,258,642,285768,"285768|642","451786|966"]
[630,214,291,312,332,342,384,258,642,285768,"285768|642","452239|967"]
[631,214,291,312,333,344,385,259,644,286675,"286675|644","452693|968"]
[632,214,292,313,333,344,385,259,644,286675,"286675|644","453146|969"]
[633,214,292,313,334,344,386,260,646,287582,"287582|646","453600|970"]
[634,214,293,313,334,345,386,260,646,287582,"287582|646","0|0.9652"]
[635,214,293,314,335,345,387,261,648,288490,"288490|648"]
[636,214,293,314,335,346,387,261,648,288490,"288490|648"]
[637,214,294,315,335,346,388,261,649,288943,"288943|649"]
[638,214,294,315,336,347,388,262,650,289397,"289397|650"]
[639,214,295,315,336,347,389,262,651,289850,"289850|651"]
[640,214,295,316,338,348,389,263,652,290304,"290304|652"]
[641,214,295,316,338,348,391,263,654,290758,"290758|654"]
[642,214,296,318,339,349,392,263,655,291211,"291211|655"]
[643,214,296,318,339,349,392,264,656,291665,"291665|656"]
[644,214,298,319,340,351,393,264,657,292118,"292118|657"]
[645,214,298,319,340,351,393,265,658,292572,"292572|658"]
[646,214,298,319,340,351,394,265,659,293479,"293479|659"]
[647,214,299,320,341,352,394,265,659,293479,"293479|659"]
[648,214,299,320,341,352,395,266,661,294386,"294386|661"]
[649,214,299,321,342,353,395,266,661,294386,"294386|661"]
[650,214,300,321,342,353,396,267,663,295294,"295294|663"]
[651,214,300,321,344,354,396,267,663,295294,"295294|663"]
[652,215,301,322,344,354,398,267,665,295747,"295747|665"]
[653,215,301,322,345,355,398,268,666,296201,"296201|666"]
[654,215,301,324,345,355,399,268,667,296654,"296654|667"]
[655,216,302,324,345,356,399,269,668,297108,"297108|668"]
[656,216,302,325,346,356,400,269,669,297562,"297562|669"]
[657,216,304,325,346,358,400,270,670,298015,"298015|670"]
[658,216,304,325,347,358,401,270,671,298922,"298922|671"]
[659,218,304,326,347,358,401,270,671,298922,"298922|671"]
[660,218,305,326,348,359,402,271,673,299830,"299830|673"]
[661,218,305,327,348,359,402,271,673,299830,"299830|673"]
[662,219,306,327,349,360,404,272,676,300737,"300737|676"]
[663,219,306,328,349,360,404,272,676,300737,"300737|676"]
[664,219,306,328,349,361,405,272,677,301190,"301190|677"]
[665,219,307,328,351,361,405,273,678,301644,"301644|678"]
[666,220,307,329,351,362,406,273,679,302098,"302098|679"]
[667,220,308,329,352,362,406,274,680,302551,"302551|680"]
[668,220,308,331,352,364,407,274,681,303458,"303458|681"]
[669,221,308,331,353,364,407,274,681,303458,"303458|681"]
[670,221,309,331,353,365,408,275,683,303912,"303912|683"]
[671,221,309,332,354,365,409,275,684,304366,"304366|684"]
[672,221,309,332,354,365,409,276,685,304819,"304819|685"]
[673,222,311,333,355,366,411,276,687,305273,"305273|687"]
[674,222,311,333,355,366,411,277,688,305726,"305726|688"]
[675,222,312,334,355,367,412,277,689,306634,"306634|689"]
[676,222,312,334,356,367,412,277,689,306634,"306634|689"]
[677,224,312,334,356,368,413,278,691,307541,"307541|691"]
[678,224,313,335,358,368,413,278,{"$f":"G579+$H579","v":691},{"$f":"ROUND(_xlfn.MAXIFS(A:A,I:I,I579)*453.6,0)","v":307541},{"$f":"_xlfn.CONCAT(J579,\"|\",I579)","v":"307541|691"}]
[679,224,313,335,358,369,414,279,693,308448,"308448|693"]
[680,225,314,336,359,369,414,279,693,308448,"308448|693"]
[681,225,314,336,359,371,415,279,694,308902,"308902|694"]
[682,225,314,336,360,371,415,280,695,309355,"309355|695"]
[683,225,315,338,360,372,416,280,696,309809,"309809|696"]
[684,226,315,338,360,372,416,281,697,310262,"310262|697"]
[685,226,316,339,361,372,418,281,699,311170,"311170|699"]
[686,226,316,339,361,373,418,281,699,311170,"311170|699"]
[687,227,316,340,362,373,419,282,701,312077,"312077|701"]
[688,227,318,340,362,374,419,282,701,312077,"312077|701"]
[689,227,318,340,364,374,420,283,703,312984,"312984|703"]
[690,227,319,341,364,375,420,283,703,312984,"312984|703"]
[691,228,319,341,365,375,421,283,704,313438,"313438|704"]
[692,228,319,342,365,376,421,284,705,313891,"313891|705"]
[693,228,320,342,365,376,422,284,706,314345,"314345|706"]
[694,229,320,344,366,378,422,285,707,314798,"314798|707"]
[695,229,320,344,366,378,424,285,709,315252,"315252|709"]
[696,229,321,344,367,379,424,286,710,315706,"315706|710"]
[697,229,321,345,367,379,425,286,711,316613,"316613|711"]
[698,231,322,345,368,379,425,286,711,316613,"316613|711"]
[699,231,322,346,368,380,426,287,713,317066,"317066|713"]
[700,231,322,346,369,380,427,287,714,317520,"317520|714"]
[701,231,322,346,369,380,427,288,715,318881,"318881|715"]
[702,231,322,346,369,380,427,288,715,318881,"318881|715"]
[703,231,322,346,369,380,427,288,715,318881,"318881|715"]
[704,231,322,346,369,380,427,289,716,319788,"319788|716"]
[705,231,322,346,369,380,427,289,716,319788,"319788|716"]
[706,231,322,346,369,380,427,290,717,321149,"321149|717"]
[707,231,322,346,369,380,427,290,717,321149,"321149|717"]
[708,231,322,346,369,380,427,290,717,321149,"321149|717"]
[709,231,322,346,369,380,427,291,718,322056,"322056|718"]
[710,231,322,346,369,380,427,291,718,322056,"322056|718"]
[711,231,322,346,369,380,427,292,719,323417,"323417|719"]
[712,231,322,346,369,380,427,292,719,323417,"323417|719"]
[713,231,322,346,369,380,427,292,719,323417,"323417|719"]
[714,231,322,346,369,380,427,293,720,324324,"324324|720"]
[715,231,322,346,369,380,427,293,720,324324,"324324|720"]
[716,231,322,346,369,380,427,294,721,325231,"325231|721"]
[717,231,322,346,369,380,427,294,721,325231,"325231|721"]
[718,231,322,346,369,380,427,295,722,326592,"326592|722"]
[719,231,322,346,369,380,427,295,722,326592,"326592|722"]
[720,231,322,346,369,380,427,295,722,326592,"326592|722"]
[721,231,322,346,369,380,427,296,723,327046,"327046|723"]
[722,231,322,346,369,380,428,296,724,327499,"327499|724"]
[723,231,322,346,369,381,428,297,725,327953,"327953|725"]
[724,231,322,346,369,381,429,297,726,328860,"328860|726"]
[725,231,322,346,371,382,429,297,726,328860,"328860|726"]
[726,231,322,347,371,382,431,298,729,329767,"329767|729"]
[727,231,322,347,372,384,431,298,729,329767,"329767|729"]
[728,231,322,348,372,384,432,299,731,330674,"330674|731"]
[729,231,322,348,372,385,432,299,731,330674,"330674|731"]
[730,231,322,348,373,385,433,299,732,331128,"331128|732"]
[731,231,322,349,373,385,433,300,733,331582,"331582|733"]
[732,231,322,349,374,386,434,300,734,332035,"332035|734"]
[733,231,322,351,374,386,434,301,735,332489,"332489|735"]
[734,231,322,351,375,387,435,301,736,333396,"333396|736"]
[735,231,322,351,375,387,435,301,736,333396,"333396|736"]
[736,231,322,352,375,388,436,302,738,334303,"334303|738"]
[737,231,322,352,376,388,436,302,738,334303,"334303|738"]
[738,231,322,353,376,389,438,303,741,335210,"335210|741"]
[739,232,322,353,378,389,438,303,741,335210,"335210|741"]
[740,232,322,353,378,389,439,304,743,336118,"336118|743"]
[741,232,322,354,379,391,439,304,743,336118,"336118|743"]
[742,233,322,354,379,391,440,304,{"$f":"G643+$H643","v":744},{"$f":"ROUND(_xlfn.MAXIFS(A:A,I:I,I643)*453.6,0)","v":336571},{"$f":"_xlfn.CONCAT(J643,\"|\",I643)","v":"336571|744"}]
[743,233,322,355,379,392,440,305,745,337025,"337025|745"]
[744,233,322,355,380,392,441,305,746,337478,"337478|746"]
[745,233,322,355,380,393,441,306,747,337932,"337932|747"]
[746,234,322,356,381,393,442,306,748,338839,"338839|748"]
[747,234,322,356,381,394,442,306,748,338839,"338839|748"]
[748,234,322,358,382,394,444,307,751,339746,"339746|751"]
[749,234,322,358,382,395,444,307,751,339746,"339746|751"]
[750,235,322,359,382,395,445,308,753,340654,"340654|753"]
[751,235,322,359,384,395,445,308,753,340654,"340654|753"]
[752,235,322,359,384,396,446,308,754,341107,"341107|754"]
[753,235,322,360,385,396,446,309,755,341561,"341561|755"]
[754,236,324,360,385,398,447,309,756,342014,"342014|756"]
[755,236,324,361,386,398,447,310,757,342468,"342468|757"]
[756,236,324,361,386,399,448,310,758,343375,"343375|758"]
[757,238,325,361,386,399,448,310,758,343375,"343375|758"]
[758,238,325,362,387,400,449,311,760,344282,"344282|760"]
[759,238,325,362,387,400,449,311,760,344282,"344282|760"]
[760,238,326,364,388,400,451,312,763,345190,"345190|763"]
[761,239,326,364,388,401,451,312,763,345190,"345190|763"]
[762,239,326,364,389,401,452,313,765,346097,"346097|765"]
[763,239,327,365,389,402,452,313,765,346097,"346097|765"]
[764,239,327,365,391,402,453,313,766,346550,"346550|766"]
[765,240,328,366,391,404,453,314,767,347004,"347004|767"]
[766,240,328,366,391,404,454,314,768,347458,"347458|768"]
[767,240,328,366,392,405,454,315,769,347911,"347911|769"]
[768,240,329,367,392,405,455,315,770,348818,"348818|770"]
[769,241,329,367,393,405,455,315,770,348818,"348818|770"]
[770,241,329,368,393,406,456,316,772,349726,"349726|772"]
[771,241,331,368,394,406,456,316,772,349726,"349726|772"]
[772,242,331,368,394,407,458,317,775,350633,"350633|775"]
[773,242,331,369,394,407,458,317,775,350633,"350633|775"]
[774,242,332,369,395,408,459,317,776,351086,"351086|776"]
[775,242,332,371,395,408,459,318,777,351540,"351540|777"]
[776,244,333,371,396,409,460,318,778,351994,"351994|778"]
[777,244,333,371,396,409,460,319,779,352447,"352447|779"]
[778,244,333,372,398,409,461,319,780,352901,"352901|780"]
[779,244,334,372,398,411,461,320,781,353354,"353354|781"]
[780,245,334,373,398,411,462,320,782,354262,"354262|782"]
[781,245,334,373,399,412,462,320,782,354262,"354262|782"]
[782,245,335,373,399,412,464,321,785,355169,"355169|785"]
[783,245,335,374,400,413,464,321,785,355169,"355169|785"]
[784,246,335,374,400,413,465,322,787,356076,"356076|787"]
[785,246,336,375,401,414,465,322,787,356076,"356076|787"]
[786,246,336,375,401,414,466,322,788,356530,"356530|788"]
[787,246,336,375,401,414,466,323,789,356983,"356983|789"]
[788,247,338,376,402,415,467,323,790,357437,"357437|790"]
[789,247,338,376,402,415,468,324,792,358344,"358344|792"]
[790,247,339,378,404,416,468,324,792,358344,"358344|792"]
[791,248,339,378,404,416,469,324,793,358798,"358798|793"]
[792,248,339,379,405,418,469,325,794,359251,"359251|794"]
[793,248,340,379,405,418,471,325,796,359705,"359705|796"]
[794,248,340,379,406,419,471,326,797,360158,"360158|797"]
[795,249,340,380,406,419,472,326,798,361066,"361066|798"]
[796,249,341,380,406,420,472,326,798,361066,"361066|798"]
[797,249,341,381,407,420,473,327,800,361973,"361973|800"]
[798,249,341,381,407,420,473,327,800,361973,"361973|800"]
[799,251,342,381,408,421,474,328,802,362880,"362880|802"]
[800,251,342,382,408,421,474,328,802,362880,"362880|802"]
[801,251,342,382,408,421,474,329,803,364241,"364241|803"]
[802,251,342,382,408,421,474,329,803,364241,"364241|803"]
[803,251,342,382,408,421,474,329,803,364241,"364241|803"]
[804,251,342,382,408,421,474,330,804,365148,"365148|804"]
[805,251,342,382,408,421,474,330,804,365148,"365148|804"]
[806,251,342,382,408,421,474,331,{"$f":"G707+$H707","v":805},{"$f":"ROUND(_xlfn.MAXIFS(A:A,I:I,I707)*453.6,0)","v":366509},{"$f":"_xlfn.CONCAT(J707,\"|\",I707)","v":"366509|805"}]
[807,251,342,382,408,421,474,331,805,366509,"366509|805"]
[808,251,342,382,408,421,474,331,805,366509,"366509|805"]
[809,251,342,382,408,421,474,332,806,367416,"367416|806"]
[810,251,342,382,408,421,474,332,806,367416,"367416|806"]
[811,251,342,382,408,421,474,333,807,368777,"368777|807"]
[812,251,342,382,408,421,474,333,807,368777,"368777|807"]
[813,251,342,382,408,421,474,333,807,368777,"368777|807"]
[814,251,342,382,408,421,474,334,808,369684,"369684|808"]
[815,251,342,382,408,421,474,334,808,369684,"369684|808"]
[816,251,342,382,408,421,474,335,809,371045,"371045|809"]
[817,251,342,382,408,421,474,335,809,371045,"371045|809"]
[818,251,342,382,408,421,474,335,809,371045,"371045|809"]
[819,251,342,382,408,421,474,336,810,371952,"371952|810"]
[820,251,342,382,408,421,474,336,810,371952,"371952|810"]
[821,251,342,382,408,421,474,337,811,372859,"372859|811"]
[822,251,342,382,408,421,474,337,811,372859,"372859|811"]
[823,251,342,382,408,421,474,338,812,373313,"373313|812"]
[824,251,342,382,408,421,475,338,813,374220,"374220|813"]
[825,251,342,382,408,421,475,338,813,374220,"374220|813"]
[826,251,342,382,408,421,476,339,815,375127,"375127|815"]
[827,251,342,382,408,422,476,339,815,375127,"375127|815"]
[828,251,342,382,409,422,478,340,818,376034,"376034|818"]
[829,251,342,382,409,424,478,340,818,376034,"376034|818"]
[830,251,342,382,411,424,479,340,819,376488,"376488|819"]
[831,251,342,384,411,425,479,341,820,376942,"376942|820"]
[832,251,342,384,411,425,480,341,821,377395,"377395|821"]
[833,251,344,385,412,425,480,342,822,378302,"378302|822"]
[834,251,344,385,412,426,480,342,822,378302,"378302|822"]
[835,251,344,385,413,426,481,342,823,378756,"378756|823"]
[836,251,345,386,413,427,481,343,824,379210,"379210|824"]
[837,251,345,386,413,427,482,343,825,379663,"379663|825"]
[838,251,345,386,414,428,482,344,826,380117,"380117|826"]
[839,251,346,387,414,428,484,344,828,381024,"381024|828"]
[840,251,346,387,415,428,484,344,828,381024,"381024|828"]
[841,251,346,388,415,429,485,345,830,381931,"381931|830"]
[842,251,347,388,416,429,485,345,830,381931,"381931|830"]
[843,251,347,388,416,431,486,346,832,382838,"382838|832"]
[844,251,347,389,416,431,486,346,832,382838,"382838|832"]
[845,251,348,389,418,432,487,347,834,383746,"383746|834"]
[846,251,348,391,418,432,487,347,834,383746,"383746|834"]
[847,252,348,391,419,432,488,347,835,384199,"384199|835"]
[848,252,349,391,419,433,488,348,836,384653,"384653|836"]
[849,252,349,392,419,433,489,348,837,385106,"385106|837"]
[850,252,351,392,420,434,489,349,838,385560,"385560|838"]
[851,253,351,393,420,434,491,349,840,386467,"386467|840"]
[852,253,351,393,421,435,491,349,840,386467,"386467|840"]
[853,253,352,393,421,435,492,350,842,387374,"387374|842"]
[854,253,352,394,422,436,492,350,842,387374,"387374|842"]
[855,254,352,394,422,436,493,351,844,388282,"388282|844"]
[856,254,353,395,422,436,493,351,844,388282,"388282|844"]
[857,254,353,395,424,438,494,351,845,388735,"388735|845"]
[858,254,353,395,424,438,494,352,846,389189,"389189|846"]
[859,255,354,396,425,439,495,352,847,389642,"389642|847"]
[860,255,354,396,425,439,495,353,848,390096,"390096|848"]
[861,255,354,396,426,440,496,353,849,391003,"391003|849"]
[862,255,355,398,426,440,496,353,849,391003,"391003|849"]
[863,256,355,398,426,440,498,354,852,391910,"391910|852"]
[864,256,355,399,427,441,498,354,852,391910,"391910|852"]
[865,256,356,399,427,441,499,355,854,392818,"392818|854"]
[866,256,356,399,428,442,499,355,854,392818,"392818|854"]
[867,258,356,400,428,442,500,356,856,393725,"393725|856"]
[868,258,358,400,428,444,500,356,856,393725,"393725|856"]
[869,258,358,401,429,444,501,356,857,394178,"394178|857"]
[870,258,359,401,429,444,501,357,{"$f":"G771+$H771","v":858},{"$f":"ROUND(_xlfn.MAXIFS(A:A,I:I,I771)*453.6,0)","v":394632},{"$f":"_xlfn.CONCAT(J771,\"|\",I771)","v":"394632|858"}]
[871,259,359,401,431,445,502,357,859,395086,"395086|859"]
[872,259,359,402,431,445,502,358,860,395539,"395539|860"]
[873,259,360,402,432,446,504,358,862,396446,"396446|862"]
[874,259,360,404,432,446,504,358,862,396446,"396446|862"]
[875,260,360,404,432,447,505,359,864,397354,"397354|864"]
[876,260,361,404,433,447,505,359,864,397354,"397354|864"]
[877,260,361,405,433,447,506,360,866,398261,"398261|866"]
[878,260,361,405,434,448,506,360,866,398261,"398261|866"]
[879,261,362,406,434,448,507,360,867,398714,"398714|867"]
[880,261,362,406,434,449,507,361,868,399622,"399622|868"]
[881,261,362,406,435,449,507,361,868,399622,"399622|868"]
[882,261,364,407,435,451,508,362,870,400529,"400529|870"]
[883,262,364,407,436,451,508,362,870,400529,"400529|870"]
[884,262,364,407,436,452,509,362,871,400982,"400982|871"]
[885,262,365,408,438,452,509,363,872,401436,"401436|872"]
[886,262,365,408,438,452,511,363,874,401890,"401890|874"]
[887,264,365,409,438,453,511,364,875,402343,"402343|875"]
[888,264,366,409,439,453,512,364,876,402797,"402797|876"]
[889,264,366,409,439,454,512,365,877,403250,"403250|877"]
[890,264,366,411,440,454,513,365,878,404158,"404158|878"]
[891,265,367,411,440,455,513,365,878,404158,"404158|878"]
[892,265,367,412,441,455,514,366,880,405065,"405065|880"]
[893,265,368,412,441,455,514,366,880,405065,"405065|880"]
[894,265,368,412,441,456,515,367,882,405972,"405972|882"]
[895,266,368,413,442,456,515,367,882,405972,"405972|882"]
[896,266,369,413,442,458,516,367,883,406426,"406426|883"]
[897,266,369,414,444,458,516,368,884,406879,"406879|884"]
[898,266,369,414,444,459,518,368,886,407333,"407333|886"]
[899,267,371,414,444,459,518,369,887,407786,"407786|887"]
[900,267,371,415,445,459,519,369,888,408694,"408694|888"]
[901,267,371,415,445,459,519,369,888,408694,"408694|888"]
[902,267,371,415,445,459,519,370,889,409601,"409601|889"]
[903,267,371,415,445,459,519,370,889,409601,"409601|889"]
[904,267,371,415,445,459,519,371,890,410508,"410508|890"]
[905,267,371,415,445,459,519,371,890,410508,"410508|890"]
[906,267,371,415,445,459,519,372,891,411869,"411869|891"]
[907,267,371,415,445,459,519,372,891,411869,"411869|891"]
[908,267,371,415,445,459,519,372,891,411869,"411869|891"]
[909,267,371,415,445,459,519,373,892,412776,"412776|892"]
[910,267,371,415,445,459,519,373,892,412776,"412776|892"]
[911,267,371,415,445,459,519,374,893,414137,"414137|893"]
[912,267,371,415,445,459,519,374,893,414137,"414137|893"]
[913,267,371,415,445,459,519,374,893,414137,"414137|893"]
[914,267,371,415,445,459,519,375,894,415044,"415044|894"]
[915,267,371,415,445,459,519,375,894,415044,"415044|894"]
[916,267,371,415,445,459,519,376,895,416405,"416405|895"]
[917,267,371,415,445,459,519,376,895,416405,"416405|895"]
[918,267,371,415,445,459,519,376,895,416405,"416405|895"]
[919,267,371,415,445,459,519,377,896,417312,"417312|896"]
[920,267,371,415,445,459,519,377,896,417312,"417312|896"]
[921,267,371,415,445,459,519,378,897,418673,"418673|897"]
[922,267,371,415,445,459,519,378,897,418673,"418673|897"]
[923,267,371,415,445,459,519,378,897,418673,"418673|897"]
[924,267,371,415,445,459,519,379,898,419580,"419580|898"]
[925,267,371,415,445,459,519,379,898,419580,"419580|898"]
[926,267,371,415,445,459,519,380,899,420487,"420487|899"]
[927,267,371,415,445,459,519,380,899,420487,"420487|899"]
[928,267,371,415,445,459,520,381,901,421848,"421848|901"]
[929,267,371,415,445,459,520,381,901,421848,"421848|901"]
[930,267,371,415,445,459,520,381,901,421848,"421848|901"]
[931,267,371,415,445,460,521,382,903,422755,"422755|903"]
[932,267,371,415,445,460,521,382,903,422755,"422755|903"]
[933,267,371,415,446,461,522,383,905,423662,"423662|905"]
[934,267,371,415,446,461,522,383,{"$f":"G835+$H835","v":905},{"$f":"ROUND(_xlfn.MAXIFS(A:A,I:I,I835)*453.6,0)","v":423662},{"$f":"_xlfn.CONCAT(J835,\"|\",I835)","v":"423662|905"}]
[935,267,371,415,446,462,524,383,907,424116,"424116|907"]
[936,267,371,416,447,462,524,384,908,424570,"424570|908"]
[937,267,371,416,447,462,525,384,909,425023,"425023|909"]
[938,267,371,416,448,464,525,385,910,425477,"425477|910"]
[939,267,371,418,448,464,526,385,911,426384,"426384|911"]
[940,267,372,418,449,465,526,385,911,426384,"426384|911"]
[941,267,372,419,449,465,527,386,913,427291,"427291|913"]
[942,267,372,419,449,465,527,386,913,427291,"427291|913"]
[943,267,373,419,451,466,528,387,915,428198,"428198|915"]
[944,267,373,420,451,466,528,387,915,428198,"428198|915"]
[945,267,373,420,452,467,529,387,916,428652,"428652|916"]
[946,267,374,421,452,467,529,388,917,429106,"429106|917"]
[947,267,374,421,452,468,531,388,919,429559,"429559|919"]
[948,267,375,421,453,468,531,389,920,430466,"430466|920"]
[949,267,375,422,453,468,531,389,920,430466,"430466|920"]
[950,267,375,422,454,469,532,390,922,431374,"431374|922"]
[951,267,376,422,454,469,532,390,922,431374,"431374|922"]
[952,267,376,424,454,471,533,390,923,431827,"431827|923"]
[953,267,376,424,455,471,533,391,924,432281,"432281|924"]
[954,267,378,425,455,472,534,391,925,432734,"432734|925"]
[955,267,378,425,456,472,534,392,926,433188,"433188|926"]
[956,268,378,425,456,472,535,392,927,434095,"434095|927"]
[957,268,379,426,456,473,535,392,927,434095,"434095|927"]
[958,268,379,426,458,473,536,393,929,435002,"435002|929"]
[959,268,379,426,458,474,536,393,929,435002,"435002|929"]
[960,269,380,427,459,474,538,394,932,435910,"435910|932"]
[961,269,380,427,459,474,538,394,932,435910,"435910|932"]
[962,269,380,428,459,475,539,394,933,436363,"436363|933"]
[963,269,381,428,460,475,539,395,934,436817,"436817|934"]
[964,271,381,428,460,476,540,395,935,437270,"437270|935"]
[965,271,381,429,461,476,540,396,936,437724,"437724|936"]
[966,271,382,429,461,478,541,396,937,438631,"438631|937"]
[967,271,382,429,461,478,541,396,937,438631,"438631|937"]
[968,272,382,431,462,478,542,397,939,439538,"439538|939"]
[969,272,384,431,462,479,542,397,939,439538,"439538|939"]
[970,272,384,432,464,479,542,398,940,439992,"439992|940"]
[971,272,384,432,464,480,544,398,942,440446,"440446|942"]
[972,272,385,432,464,480,544,399,943,440899,"440899|943"]
[973,273,385,433,465,480,545,399,944,441806,"441806|944"]
[974,273,385,433,465,481,545,399,944,441806,"441806|944"]
[975,273,386,433,466,481,546,400,946,442714,"442714|946"]
[976,273,386,434,466,482,546,400,946,442714,"442714|946"]
[977,274,386,434,467,482,547,401,948,443621,"443621|948"]
[978,274,387,435,467,484,547,401,948,443621,"443621|948"]
[979,274,387,435,467,484,548,401,949,444074,"444074|949"]
[980,274,387,435,468,484,548,402,950,444528,"444528|950"]
[981,275,388,436,468,485,549,402,951,444982,"444982|951"]
[982,275,388,436,469,485,549,403,952,445435,"445435|952"]
[983,275,388,436,469,486,551,403,954,446342,"446342|954"]
[984,275,389,438,469,486,551,403,954,446342,"446342|954"]
[985,276,389,438,471,487,552,404,956,447250,"447250|956"]
[986,276,389,439,471,487,552,404,956,447250,"447250|956"]
[987,276,391,439,472,487,553,405,958,448610,"448610|958"]
[988,276,391,439,472,488,553,405,958,448610,"448610|958"]
[989,276,391,440,472,488,553,405,958,448610,"448610|958"]
[990,278,392,440,473,489,554,406,960,449518,"449518|960"]
[991,278,392,440,473,489,554,406,960,449518,"449518|960"]
[992,278,392,441,474,489,555,407,962,450425,"450425|962"]
[993,278,393,441,474,491,555,407,962,450425,"450425|962"]
[994,279,393,442,474,491,556,408,964,451332,"451332|964"]
[995,279,393,442,475,492,556,408,964,451332,"451332|964"]
[996,279,394,442,475,492,558,408,966,451786,"451786|966"]
[997,279,394,444,476,493,558,409,967,452239,"452239|967"]
[998,280,394,444,476,493,559,409,{"$f":"G899+$H899","v":968},{"$f":"ROUND(_xlfn.MAXIFS(A:A,I:I,I899)*453.6,0)","v":452693},{"$f":"_xlfn.CONCAT(J899,\"|\",I899)","v":"452693|968"}]
[999,280,395,445,476,493,559,410,{"$f":"G900+$H900","v":969},{"$f":"ROUND(_xlfn.MAXIFS(A:A,I:I,I900)*453.6,0)","v":453146},{"$f":"_xlfn.CONCAT(J900,\"|\",I900)","v":"453146|969"}]
[1000,280,395,445,478,494,560,410,{"$f":"G901+$H901","v":970},{"$f":"ROUND(_xlfn.MAXIFS(A:A,I:I,I901)*453.6,0)","v":453600},{"$f":"_xlfn.CONCAT(J901,\"|\",I901)","v":"453600|970"}]
["1000+",0.2467,0.3782,0.4112,0.4605,0.4769,0.5427,0.4225,{"$f":"G902+$H902","v":0.9652},{"$f":"ROUND(_xlfn.MAXIFS(A:A,I:I,I902)*453.6,0)","v":0},{"$f":"_xlfn.CONCAT(J902,\"|\",I902)","v":"0|0.9652"}]

{"sheet":"ceva_zone","index":3,"n_rows":50,"n_cols":5,"rows_kept":50}
["To","CA","NJ","GA","TX"]
["CA","B","F","F","D"]
["AZ","C","E","D","B"]
["UT","C","E","D","B"]
["NM","C","E","D","B"]
["CO","C","E","D","B"]
["ID","C","F","F","D"]
["WA","C","F","F","D"]
["OR","C","F","F","D"]
["NV","C","F","F","D"]
["LA","D","C","C","A"]
["TX","D","C","C","A"]
["OK","D","C","C","A"]
["AR","E","C","C","B"]
["MO","E","C","C","B"]
["KS","E","C","C","B"]
["IA","E","C","C","B"]
["IL","E","C","C","C"]
["WI","E","C","C","C"]
["OH","E","C","C","C"]
["MN","E","C","C","C"]
["MI","E","C","C","C"]
["KY","E","C","C","C"]
["IN","E","C","C","C"]
["MT","E","F","F","F"]
["WY","E","F","F","F"]
["SD","E","F","F","F"]
["NE","E","F","F","F"]
["ND","E","F","F","F"]
["DC","F","A","B","C"]
["WV","F","A","B","C"]
["VA","F","A","B","C"]
["PA","F","A","B","C"]
["NY","F","A","B","C"]
["NJ","F","A","B","C"]
["MD","F","A","B","C"]
["DE","F","A","B","C"]
["AL","F","B","A","C"]
["TN","F","B","A","C"]
["SC","F","B","A","C"]
["NC","F","B","A","C"]
["MS","F","B","A","C"]
["GA","F","B","A","C"]
["FL","F","B","A","C"]
["CT","F","B","C","E"]
["VT","F","B","C","E"]
["RI","F","B","C","E"]
["NH","F","B","C","E"]
["ME","F","B","C","E"]
["MA","F","B","C","E"]

{"sheet":"Sheet2","index":4,"n_rows":0,"n_cols":0,"rows_kept":0}